{"text_format":"1","workbook":"xlsx","n_sheets":10,"sheets":["Enrollment & Allocations","Pivot Norm","Norm Enroll & FTEs","Position Simulator","Simulator Norming","ECAST Lookup","School List","Grade 6 and School Type","All Schools","High Needs"],"not_rendered":{"charts":0,"images":1,"macros":1,"external_links":0,"defined_names":22,"comments":3,"pivot_tables":4},"unopened":[],"bounds":{"document_bytes":16777216,"sheet_cells":100000,"rows_first":2000,"rows_last":500,"rows_between":2000,"halvings":0,"cell_chars":16384,"cell_head_chars":4096},"cells_cut":0,"cells_raw":0,"read":"whole","date_system":"1900"}

{"sheet":"Enrollment & Allocations","index":0,"n_rows":49,"n_cols":17,"rows_kept":49,"cut":false,"hidden":false,"merged":[[44,8,44,9],[41,13,41,14],[42,13,42,14],[43,13,43,14],[44,13,44,14],[49,5,49,10],[49,12,49,14],[48,2,48,17],[6,5,6,8],[7,5,7,16],[18,5,18,8],[18,9,18,12],[18,13,18,16],[8,5,8,9],[8,10,8,12],[8,13,8,15],[40,13,40,14],[45,13,45,14],[41,8,41,9],[42,8,42,9],[43,8,43,9],[37,5,37,14],[38,6,38,13],[1,3,1,17],[2,3,2,17],[3,3,3,17],[27,5,27,14],[29,11,29,13],[29,7,29,9]]}
[]
[null,null,null,"E-CAST ENROLLMENT & ALLOCATIONS"]
[null,null,null,"Instructions: enter or select a value for field highlighted in blue to populate the Norm Day enrollment and allocations for your school(s)."]
[null,null,null,"Use the Position Simulator to project allocations based on enrollment or school attribute changes."]
[]
[]
[null,null,null,"Cost Center","",{"$f":"IF(AND(D12=\"\",E7<>\"\"),\"Please check the cost center code\",\"\")","v":""}]
[null,null,null,null,null,"2021-22 E-CAST Enrollment "]
[null,null,null,null,null,"General Education",null,null,null,null,"Special Day Program",null,null,"Pre-Kindergarten"]
[]
[null,null,null,"Cost Center","School Name","K-3","4-5(6)","6-8","9-10","9-12","SDP\nK-5(6)","SDP\n6-8","SDP\n9-12","Pre-K\nSP ED","State\nPreschool","TE (ETK)","Total"]
[null,null,{"$f":"IF(OR(LEFT($E$7,7)=\"1766501\",LEFT($E$7,7)=\"1766601\"),\"18713\"&\"01\"&1,LEFT($E$7,5)&\"01\"&1)","v":"011"},{"$f":"IFERROR(INDEX('Norm Enroll & FTEs'!B:B, MATCH('Enrollment & Allocations'!$C12,'Norm Enroll & FTEs'!$AE:$AE,0)),\"\")","v":""},{"$f":"IF($D12=\"\",\"\",(VLOOKUP($D12,'Norm Enroll & FTEs'!$B:$AB,2,FALSE)))","v":""},{"$f":"IF($D12=\"\",\"\",(VLOOKUP($D12,'Norm Enroll & FTEs'!$B:$AB,4,FALSE)))","v":""},{"$f":"IF($D12=\"\",\"\",(VLOOKUP($D12,'Norm Enroll & FTEs'!$B:$AB,5,FALSE)))","v":""},{"$f":"IF($D12=\"\",\"\",(VLOOKUP($D12,'Norm Enroll & FTEs'!$B:$AB,6,FALSE)))","v":""},{"$f":"IF($D12=\"\",\"\",(VLOOKUP($D12,'Norm Enroll & FTEs'!$B:$AB,7,FALSE)))","v":""},{"$f":"IF($D12=\"\",\"\",(VLOOKUP($D12,'Norm Enroll & FTEs'!$B:$AB,8,FALSE)))","v":""},{"$f":"IF($D12=\"\",\"\",(VLOOKUP($D12,'Norm Enroll & FTEs'!$B:$AB,9,FALSE)))","v":""},{"$f":"IF($D12=\"\",\"\",(VLOOKUP($D12,'Norm Enroll & FTEs'!$B:$AB,10,FALSE)))","v":""},{"$f":"IF($D12=\"\",\"\",(VLOOKUP($D12,'Norm Enroll & FTEs'!$B:$AB,11,FALSE)))","v":""},{"$f":"IF($D12=\"\",\"\",(VLOOKUP($D12,'Norm Enroll & FTEs'!$B:$AB,12,FALSE)))","v":""},{"$f":"IF($D12=\"\",\"\",(VLOOKUP($D12,'Norm Enroll & FTEs'!$B:$AB,13,FALSE)))","v":""},{"$f":"IF($D12=\"\",\"\",(VLOOKUP($D12,'Norm Enroll & FTEs'!$B:$AB,14,FALSE)))","v":""},{"$f":"IF(D12=\"\",\"\",SUM(F12:H12)+SUM(J12:P12))","v":""}]
[null,null,{"$f":"IF(OR(LEFT($E$7,7)=\"1766501\",LEFT($E$7,7)=\"1766601\"),\"18713\"&\"01\"&2,LEFT($E$7,5)&\"01\"&2)","v":"012"},{"$f":"IFERROR(INDEX('Norm Enroll & FTEs'!B:B, MATCH('Enrollment & Allocations'!$C13,'Norm Enroll & FTEs'!$AE:$AE,0)),\"\")","v":""},{"$f":"IF($D13=\"\",\"\",(VLOOKUP($D13,'Norm Enroll & FTEs'!$B:$AB,2,FALSE)))","v":""},{"$f":"IF($D13=\"\",\"\",(VLOOKUP($D13,'Norm Enroll & FTEs'!$B:$AB,4,FALSE)))","v":""},{"$f":"IF($D13=\"\",\"\",(VLOOKUP($D13,'Norm Enroll & FTEs'!$B:$AB,5,FALSE)))","v":""},{"$f":"IF($D13=\"\",\"\",(VLOOKUP($D13,'Norm Enroll & FTEs'!$B:$AB,6,FALSE)))","v":""},{"$f":"IF($D13=\"\",\"\",(VLOOKUP($D13,'Norm Enroll & FTEs'!$B:$AB,7,FALSE)))","v":""},{"$f":"IF($D13=\"\",\"\",(VLOOKUP($D13,'Norm Enroll & FTEs'!$B:$AB,8,FALSE)))","v":""},{"$f":"IF($D13=\"\",\"\",(VLOOKUP($D13,'Norm Enroll & FTEs'!$B:$AB,9,FALSE)))","v":""},{"$f":"IF($D13=\"\",\"\",(VLOOKUP($D13,'Norm Enroll & FTEs'!$B:$AB,10,FALSE)))","v":""},{"$f":"IF($D13=\"\",\"\",(VLOOKUP($D13,'Norm Enroll & FTEs'!$B:$AB,11,FALSE)))","v":""},{"$f":"IF($D13=\"\",\"\",(VLOOKUP($D13,'Norm Enroll & FTEs'!$B:$AB,12,FALSE)))","v":""},{"$f":"IF($D13=\"\",\"\",(VLOOKUP($D13,'Norm Enroll & FTEs'!$B:$AB,13,FALSE)))","v":""},{"$f":"IF($D13=\"\",\"\",(VLOOKUP($D13,'Norm Enroll & FTEs'!$B:$AB,14,FALSE)))","v":""},{"$f":"IF(D13=\"\",\"\",SUM(F13:H13)+SUM(J13:P13))","v":""}]
[null,null,{"$f":"IF(OR(LEFT($E$7,7)=\"1766501\",LEFT($E$7,7)=\"1766601\"),\"18713\"&\"01\"&3,LEFT($E$7,5)&\"01\"&3)","v":"013"},{"$f":"IFERROR(INDEX('Norm Enroll & FTEs'!B:B, MATCH('Enrollment & Allocations'!$C14,'Norm Enroll & FTEs'!$AE:$AE,0)),\"\")","v":""},{"$f":"IF($D14=\"\",\"\",(VLOOKUP($D14,'Norm Enroll & FTEs'!$B:$AB,2,FALSE)))","v":""},{"$f":"IF($D14=\"\",\"\",(VLOOKUP($D14,'Norm Enroll & FTEs'!$B:$AB,4,FALSE)))","v":""},{"$f":"IF($D14=\"\",\"\",(VLOOKUP($D14,'Norm Enroll & FTEs'!$B:$AB,5,FALSE)))","v":""},{"$f":"IF($D14=\"\",\"\",(VLOOKUP($D14,'Norm Enroll & FTEs'!$B:$AB,6,FALSE)))","v":""},{"$f":"IF($D14=\"\",\"\",(VLOOKUP($D14,'Norm Enroll & FTEs'!$B:$AB,7,FALSE)))","v":""},{"$f":"IF($D14=\"\",\"\",(VLOOKUP($D14,'Norm Enroll & FTEs'!$B:$AB,8,FALSE)))","v":""},{"$f":"IF($D14=\"\",\"\",(VLOOKUP($D14,'Norm Enroll & FTEs'!$B:$AB,9,FALSE)))","v":""},{"$f":"IF($D14=\"\",\"\",(VLOOKUP($D14,'Norm Enroll & FTEs'!$B:$AB,10,FALSE)))","v":""},{"$f":"IF($D14=\"\",\"\",(VLOOKUP($D14,'Norm Enroll & FTEs'!$B:$AB,11,FALSE)))","v":""},{"$f":"IF($D14=\"\",\"\",(VLOOKUP($D14,'Norm Enroll & FTEs'!$B:$AB,12,FALSE)))","v":""},{"$f":"IF($D14=\"\",\"\",(VLOOKUP($D14,'Norm Enroll & FTEs'!$B:$AB,13,FALSE)))","v":""},{"$f":"IF($D14=\"\",\"\",(VLOOKUP($D14,'Norm Enroll & FTEs'!$B:$AB,14,FALSE)))","v":""},""]
[null,null,{"$f":"IF(OR(LEFT($E$7,7)=\"1766501\",LEFT($E$7,7)=\"1766601\"),\"18713\"&\"01\"&4,LEFT($E$7,5)&\"01\"&4)","v":"014"},{"$f":"IFERROR(INDEX('Norm Enroll & FTEs'!B:B, MATCH('Enrollment & Allocations'!$C15,'Norm Enroll & FTEs'!$AE:$AE,0)),\"\")","v":""},{"$f":"IF($D15=\"\",\"\",(VLOOKUP($D15,'Norm Enroll & FTEs'!$B:$AB,2,FALSE)))","v":""},{"$f":"IF($D15=\"\",\"\",(VLOOKUP($D15,'Norm Enroll & FTEs'!$B:$AB,4,FALSE)))","v":""},{"$f":"IF($D15=\"\",\"\",(VLOOKUP($D15,'Norm Enroll & FTEs'!$B:$AB,5,FALSE)))","v":""},{"$f":"IF($D15=\"\",\"\",(VLOOKUP($D15,'Norm Enroll & FTEs'!$B:$AB,6,FALSE)))","v":""},{"$f":"IF($D15=\"\",\"\",(VLOOKUP($D15,'Norm Enroll & FTEs'!$B:$AB,7,FALSE)))","v":""},{"$f":"IF($D15=\"\",\"\",(VLOOKUP($D15,'Norm Enroll & FTEs'!$B:$AB,8,FALSE)))","v":""},{"$f":"IF($D15=\"\",\"\",(VLOOKUP($D15,'Norm Enroll & FTEs'!$B:$AB,9,FALSE)))","v":""},{"$f":"IF($D15=\"\",\"\",(VLOOKUP($D15,'Norm Enroll & FTEs'!$B:$AB,10,FALSE)))","v":""},{"$f":"IF($D15=\"\",\"\",(VLOOKUP($D15,'Norm Enroll & FTEs'!$B:$AB,11,FALSE)))","v":""},{"$f":"IF($D15=\"\",\"\",(VLOOKUP($D15,'Norm Enroll & FTEs'!$B:$AB,12,FALSE)))","v":""},{"$f":"IF($D15=\"\",\"\",(VLOOKUP($D15,'Norm Enroll & FTEs'!$B:$AB,13,FALSE)))","v":""},{"$f":"IF($D15=\"\",\"\",(VLOOKUP($D15,'Norm Enroll & FTEs'!$B:$AB,14,FALSE)))","v":""},""]
[null,null,{"$f":"IF(OR(LEFT($E$7,7)=\"1766501\",LEFT($E$7,7)=\"1766601\"),\"18713\"&\"01\"&5,LEFT($E$7,5)&\"01\"&5)","v":"015"},{"$f":"IFERROR(INDEX('Norm Enroll & FTEs'!B:B, MATCH('Enrollment & Allocations'!$C16,'Norm Enroll & FTEs'!$AE:$AE,0)),\"\")","v":""},{"$f":"IF($D16=\"\",\"\",(VLOOKUP($D16,'Norm Enroll & FTEs'!$B:$AB,2,FALSE)))","v":""},{"$f":"IF($D16=\"\",\"\",(VLOOKUP($D16,'Norm Enroll & FTEs'!$B:$AB,4,FALSE)))","v":""},{"$f":"IF($D16=\"\",\"\",(VLOOKUP($D16,'Norm Enroll & FTEs'!$B:$AB,5,FALSE)))","v":""},{"$f":"IF($D16=\"\",\"\",(VLOOKUP($D16,'Norm Enroll & FTEs'!$B:$AB,6,FALSE)))","v":""},{"$f":"IF($D16=\"\",\"\",(VLOOKUP($D16,'Norm Enroll & FTEs'!$B:$AB,7,FALSE)))","v":""},{"$f":"IF($D16=\"\",\"\",(VLOOKUP($D16,'Norm Enroll & FTEs'!$B:$AB,8,FALSE)))","v":""},{"$f":"IF($D16=\"\",\"\",(VLOOKUP($D16,'Norm Enroll & FTEs'!$B:$AB,9,FALSE)))","v":""},{"$f":"IF($D16=\"\",\"\",(VLOOKUP($D16,'Norm Enroll & FTEs'!$B:$AB,10,FALSE)))","v":""},{"$f":"IF($D16=\"\",\"\",(VLOOKUP($D16,'Norm Enroll & FTEs'!$B:$AB,11,FALSE)))","v":""},{"$f":"IF($D16=\"\",\"\",(VLOOKUP($D16,'Norm Enroll & FTEs'!$B:$AB,12,FALSE)))","v":""},{"$f":"IF($D16=\"\",\"\",(VLOOKUP($D16,'Norm Enroll & FTEs'!$B:$AB,13,FALSE)))","v":""},{"$f":"IF($D16=\"\",\"\",(VLOOKUP($D16,'Norm Enroll & FTEs'!$B:$AB,14,FALSE)))","v":""},""]
[]
[]
[null,null,null,null,null,"2021-22 E-CAST Allocations",null,null,null,"2020-21 Norm Day Allocations",null,null,null,"Gain/Loss"]
[null,null,null,"Cost Center","School Name","Teacher","Admin ","Counselor ","Clerical ","Teacher","Admin ","Counselor ","Clerical ","Teacher","Admin ","Counselor ","Clerical "]
[null,null,null,{"$f":"D12","v":""},"",{"$f":"IF($D21=\"\",\"\",(VLOOKUP($D21,'Norm Enroll & FTEs'!$B:$AK,21,FALSE)))","v":""},{"$f":"IF($D21=\"\",\"\",(VLOOKUP($D21,'Norm Enroll & FTEs'!$B:$AK,31,FALSE)))","v":""},{"$f":"IF($D21=\"\",\"\",(VLOOKUP($D21,'Norm Enroll & FTEs'!$B:$AK,32,FALSE)))","v":""},{"$f":"IF($D21=\"\",\"\",(VLOOKUP($D21,'Norm Enroll & FTEs'!$B:$AK,33,FALSE)))","v":""},{"$f":"IF($D21=\"\",\"\",(VLOOKUP($D21,'Norm Enroll & FTEs'!$B:$AK,27,FALSE)))","v":""},{"$f":"IF($D21=\"\",\"\",(VLOOKUP($D21,'Norm Enroll & FTEs'!$B:$AK,34,FALSE)))","v":""},{"$f":"IF($D21=\"\",\"\",(VLOOKUP($D21,'Norm Enroll & FTEs'!$B:$AK,35,FALSE)))","v":""},{"$f":"IF($D21=\"\",\"\",(VLOOKUP($D21,'Norm Enroll & FTEs'!$B:$AK,36,FALSE)))","v":""},{"$f":"IF($D21=\"\",\"\",F21-J21)","v":""},"","",""]
[null,null,null,"","",{"$f":"IF($D22=\"\",\"\",(VLOOKUP($D22,'Norm Enroll & FTEs'!$B:$AK,21,FALSE)))","v":""},{"$f":"IF($D22=\"\",\"\",(VLOOKUP($D22,'Norm Enroll & FTEs'!$B:$AK,31,FALSE)))","v":""},{"$f":"IF($D22=\"\",\"\",(VLOOKUP($D22,'Norm Enroll & FTEs'!$B:$AK,32,FALSE)))","v":""},{"$f":"IF($D22=\"\",\"\",(VLOOKUP($D22,'Norm Enroll & FTEs'!$B:$AK,33,FALSE)))","v":""},{"$f":"IF($D22=\"\",\"\",(VLOOKUP($D22,'Norm Enroll & FTEs'!$B:$AK,27,FALSE)))","v":""},{"$f":"IF($D22=\"\",\"\",(VLOOKUP($D22,'Norm Enroll & FTEs'!$B:$AK,34,FALSE)))","v":""},{"$f":"IF($D22=\"\",\"\",(VLOOKUP($D22,'Norm Enroll & FTEs'!$B:$AK,35,FALSE)))","v":""},{"$f":"IF($D22=\"\",\"\",(VLOOKUP($D22,'Norm Enroll & FTEs'!$B:$AK,36,FALSE)))","v":""},"","","",""]
[null,null,null,"","",{"$f":"IF($D23=\"\",\"\",(VLOOKUP($D23,'Norm Enroll & FTEs'!$B:$AK,21,FALSE)))","v":""},{"$f":"IF($D23=\"\",\"\",(VLOOKUP($D23,'Norm Enroll & FTEs'!$B:$AK,31,FALSE)))","v":""},{"$f":"IF($D23=\"\",\"\",(VLOOKUP($D23,'Norm Enroll & FTEs'!$B:$AK,32,FALSE)))","v":""},{"$f":"IF($D23=\"\",\"\",(VLOOKUP($D23,'Norm Enroll & FTEs'!$B:$AK,33,FALSE)))","v":""},{"$f":"IF($D23=\"\",\"\",(VLOOKUP($D23,'Norm Enroll & FTEs'!$B:$AK,27,FALSE)))","v":""},{"$f":"IF($D23=\"\",\"\",(VLOOKUP($D23,'Norm Enroll & FTEs'!$B:$AK,34,FALSE)))","v":""},{"$f":"IF($D23=\"\",\"\",(VLOOKUP($D23,'Norm Enroll & FTEs'!$B:$AK,35,FALSE)))","v":""},{"$f":"IF($D23=\"\",\"\",(VLOOKUP($D23,'Norm Enroll & FTEs'!$B:$AK,36,FALSE)))","v":""},"","","",""]
[null,null,null,"","",{"$f":"IF($D24=\"\",\"\",(VLOOKUP($D24,'Norm Enroll & FTEs'!$B:$AK,21,FALSE)))","v":""},{"$f":"IF($D24=\"\",\"\",(VLOOKUP($D24,'Norm Enroll & FTEs'!$B:$AK,31,FALSE)))","v":""},{"$f":"IF($D24=\"\",\"\",(VLOOKUP($D24,'Norm Enroll & FTEs'!$B:$AK,32,FALSE)))","v":""},{"$f":"IF($D24=\"\",\"\",(VLOOKUP($D24,'Norm Enroll & FTEs'!$B:$AK,33,FALSE)))","v":""},{"$f":"IF($D24=\"\",\"\",(VLOOKUP($D24,'Norm Enroll & FTEs'!$B:$AK,27,FALSE)))","v":""},{"$f":"IF($D24=\"\",\"\",(VLOOKUP($D24,'Norm Enroll & FTEs'!$B:$AK,34,FALSE)))","v":""},{"$f":"IF($D24=\"\",\"\",(VLOOKUP($D24,'Norm Enroll & FTEs'!$B:$AK,35,FALSE)))","v":""},{"$f":"IF($D24=\"\",\"\",(VLOOKUP($D24,'Norm Enroll & FTEs'!$B:$AK,36,FALSE)))","v":""},{"$f":"IF($D24=\"\",\"\",F24-J24)","v":""},{"$f":"IF($D24=\"\",\"\",G24-K24)","v":""},{"$f":"IF($D24=\"\",\"\",H24-L24)","v":""},{"$f":"IF($D24=\"\",\"\",I24-M24)","v":""}]
[null,null,null,"","",{"$f":"IF($D25=\"\",\"\",(VLOOKUP($D25,'Norm Enroll & FTEs'!$B:$AK,21,FALSE)))","v":""},{"$f":"IF($D25=\"\",\"\",(VLOOKUP($D25,'Norm Enroll & FTEs'!$B:$AK,31,FALSE)))","v":""},{"$f":"IF($D25=\"\",\"\",(VLOOKUP($D25,'Norm Enroll & FTEs'!$B:$AK,32,FALSE)))","v":""},{"$f":"IF($D25=\"\",\"\",(VLOOKUP($D25,'Norm Enroll & FTEs'!$B:$AK,33,FALSE)))","v":""},{"$f":"IF($D25=\"\",\"\",(VLOOKUP($D25,'Norm Enroll & FTEs'!$B:$AK,27,FALSE)))","v":""},{"$f":"IF($D25=\"\",\"\",(VLOOKUP($D25,'Norm Enroll & FTEs'!$B:$AK,34,FALSE)))","v":""},{"$f":"IF($D25=\"\",\"\",(VLOOKUP($D25,'Norm Enroll & FTEs'!$B:$AK,35,FALSE)))","v":""},{"$f":"IF($D25=\"\",\"\",(VLOOKUP($D25,'Norm Enroll & FTEs'!$B:$AK,36,FALSE)))","v":""},"","","",""]
[]
[]
[null,null,null,null,null,"Off Norm Approvals"]
[]
[null,null,null,null,null,null,null,"2021-22 ECAST",null,null,null,"2020-21 Norm Day"]
[null,null,null,null,null,null,null,null,"Teacher",null,null,"Teacher",null,"Counselor "]
[null,null,null,null,null,null,null,null,{"$f":"IFERROR(IF($D12=\"\",\"\",VLOOKUP(LEFT($E$7,5)&\"01\",'Pivot Norm'!$M:$N,2,FALSE)),0)","v":""},null,null,{"$f":"IFERROR(IF($D12=\"\",\"\",VLOOKUP(LEFT($E$7,5)&\"01\",'Pivot Norm'!$D:$G,4,FALSE)),0)","v":""},null,{"$f":"IFERROR(IF($D12=\"\",\"\",VLOOKUP(LEFT($E$7,5)&\"01\",'Pivot Norm'!$I:$J,2,FALSE)),0)","v":""}]
[]
[]
[]
[]
[]
[null,null,null,null,null,"E-CAST Campus Summary"]
[null,null,null,null,null,null,"(total enrollment and FTEs, including off norm, for all sites within the campus)"]
[]
[null,null,null,null,null,"Enrollment Group",null,null,"E-CAST Enrollment",null,null,"Allocations",null,"E-CAST FTEs"]
[null,null,null,null,null,"Total K-12 General Ed ",null,null,{"$f":"IF($D12=\"\",\"\",SUMIF(F12:H16,\"<>\",F12:H16)+SUMIF(J12:J16,\"<>\",J12:J16))","v":""},null,null,"Teacher",null,{"$f":"IF($D12=\"\",\"\",SUMIF(F21:F25,\"<>\",F21:F25)+SUMIF(I32,\"<>\",I32))","v":""}]
[null,null,null,null,null,"Total K-12 SDP",null,null,{"$f":"IF($D12=\"\",\"\",SUMIF(K12:M16,\"<>\",K12:M16))","v":""},null,null,"Administrator",null,{"$f":"IF($D12=\"\",\"\",SUMIF(G21:G25,\"<>\",G21:G25))","v":""}]
[null,null,null,null,null,"Total Pre-Kindergarten",null,null,{"$f":"IF($D12=\"\",\"\",SUMIF(N12:P16,\"<>\",N12:P16))","v":""},null,null,"Counselor",null,{"$f":"IF($D12=\"\",\"\",SUMIF(H21:H25,\"<>\",H21:H25))","v":""}]
[null,null,null,null,null,"Grand Total",null,null,{"$f":"IF($D12=\"\",\"\",SUM(I42:I44))","v":""},null,null,"Clerical Support",null,{"$f":"IF($D12=\"\",\"\",SUMIF(I21:I25,\"<>\",I21:I25))","v":""}]
[null,null,null,null,null,null,null,null,null,null,null,"Grand Total",null,{"$f":"IF($D12=\"\",\"\",SUM(N42:N45))","v":""}]
[]
[]
[null,null,"SUBJECT TO CHANGE"]

{"sheet":"Pivot Norm","index":1,"n_rows":719,"n_cols":14,"rows_kept":719,"cut":false,"hidden":true,"merged":[]}
[]
[]
["Home School","Count of Cost Center",null,"Home School","Sum of 20-21 ND Hold Harmless","Sum of 20-21 ND Mitigation Positions","Total",null,"Home School","Sum of 20-21 ND Counselors (Plus 17)",null,null,"Home School","Sum of 21-22 ECAST Tchr Appeals"]
["1194901",1,null,"1194901",1,0,{"$f":"E4+F4","v":1},null,"1194901",0,null,null,"1194901",0]
["1201401",1,null,"1201401",0,0,{"$f":"E5+F5","v":0},null,"1201401",0,null,null,"1201401",0]
["1202701",2,null,"1202701",1,1,2,null,"1202701",0,null,null,"1202701",0]
["1204101",2,null,"1204101",1,0,1,null,"1204101",0,null,null,"1204101",0]
["1204201",2,null,"1204201",0,0,0,null,"1204201",0,null,null,"1204201",0]
["1206801",2,null,"1206801",0,0,0,null,"1206801",0,null,null,"1206801",0]
["1208201",2,null,"1208201",0,0,0,null,"1208201",0,null,null,"1208201",0]
["1208901",3,null,"1208901",1,0,1,null,"1208901",0,null,null,"1208901",0]
["1209601",3,null,"1209601",0,0,0,null,"1209601",0,null,null,"1209601",0]
["1211001",1,null,"1211001",0,0,0,null,"1211001",0,null,null,"1211001",0]
["1211701",1,null,"1211701",1,0,1,null,"1211701",0,null,null,"1211701",0]
["1212301",2,null,"1212301",0,0,0,null,"1212301",0,null,null,"1212301",0]
["1213701",1,null,"1213701",1,0,1,null,"1213701",0,null,null,"1213701",0]
["1214601",2,null,"1214601",0,0,0,null,"1214601",0,null,null,"1214601",0]
["1215101",1,null,"1215101",0,0,0,null,"1215101",0,null,null,"1215101",0]
["1216401",1,null,"1216401",0,0,0,null,"1216401",0,null,null,"1216401",0]
["1217801",1,null,"1217801",0,0,0,null,"1217801",0,null,null,"1217801",0]
["1219201",2,null,"1219201",1,0,1,null,"1219201",0,null,null,"1219201",0]
["1220501",1,null,"1220501",0,0,0,null,"1220501",0,null,null,"1220501",1]
["1221901",1,null,"1221901",1,0,1,null,"1221901",0,null,null,"1221901",0]
["1223301",2,null,"1223301",1,0,1,null,"1223301",0,null,null,"1223301",0]
["1224701",1,null,"1224701",0,0,0,null,"1224701",0,null,null,"1224701",0]
["1225001",1,null,"1225001",0,0,0,null,"1225001",0,null,null,"1225001",0]
["1226901",1,null,"1226901",0,0,0,null,"1226901",0,null,null,"1226901",0]
["1227401",2,null,"1227401",0,0,0,null,"1227401",0,null,null,"1227401",0]
["1228801",2,null,"1228801",0,0,0,null,"1228801",0,null,null,"1228801",0]
["1230101",2,null,"1230101",0,0,0,null,"1230101",0,null,null,"1230101",0]
["1230201",1,null,"1230201",0,1,1,null,"1230201",0,null,null,"1230201",0]
["1230301",2,null,"1230301",0,0,0,null,"1230301",0,null,null,"1230301",0]
["1230601",1,null,"1230601",1,2,3,null,"1230601",0,null,null,"1230601",0]
["1230701",1,null,"1230701",0,0,0,null,"1230701",0,null,null,"1230701",0]
["1230801",1,null,"1230801",0,0,0,null,"1230801",0,null,null,"1230801",0]
["1230901",2,null,"1230901",0,0,0,null,"1230901",0,null,null,"1230901",0]
["1231101",1,null,"1231101",1,0,1,null,"1231101",0,null,null,"1231101",0]
["1231201",1,null,"1231201",1,0,1,null,"1231201",0,null,null,"1231201",0]
["1231301",1,null,"1231301",0,0,0,null,"1231301",0,null,null,"1231301",0]
["1231501",2,null,"1231501",1,0,1,null,"1231501",0,null,null,"1231501",0]
["1232301",2,null,"1232301",1,1,2,null,"1232301",0,null,null,"1232301",0]
["1232901",1,null,"1232901",0,0,0,null,"1232901",0,null,null,"1232901",0]
["1233501",1,null,"1233501",1,0,1,null,"1233501",0,null,null,"1233501",1]
["1234201",1,null,"1234201",1,1,2,null,"1234201",0,null,null,"1234201",0]
["1236901",3,null,"1236901",0,0,0,null,"1236901",0,null,null,"1236901",0]
["1237201",2,null,"1237201",1,0,1,null,"1237201",0,null,null,"1237201",0]
["1237501",2,null,"1237501",0,0,0,null,"1237501",0,null,null,"1237501",0]
["1237801",2,null,"1237801",2,0,2,null,"1237801",0,null,null,"1237801",0]
["1238101",2,null,"1238101",0,0,0,null,"1238101",0,null,null,"1238101",0]
["1238301",1,null,"1238301",0,1,1,null,"1238301",0,null,null,"1238301",0]
["1238401",1,null,"1238401",0,0,0,null,"1238401",0,null,null,"1238401",0]
["1238501",2,null,"1238501",0,1,1,null,"1238501",0,null,null,"1238501",0]
["1238601",1,null,"1238601",0,0,0,null,"1238601",0,null,null,"1238601",0]
["1239101",2,null,"1239101",0,0,0,null,"1239101",0,null,null,"1239101",0]
["1239201",1,null,"1239201",0,0,0,null,"1239201",0,null,null,"1239201",0]
["1239301",1,null,"1239301",1,0,1,null,"1239301",0,null,null,"1239301",0]
["1239701",1,null,"1239701",2,0,2,null,"1239701",0,null,null,"1239701",0]
["1243801",1,null,"1243801",0,0,0,null,"1243801",0,null,null,"1243801",0]
["1247001",1,null,"1247001",1,0,1,null,"1247001",0,null,null,"1247001",0]
["1247301",1,null,"1247301",0,0,0,null,"1247301",0,null,null,"1247301",1]
["1247901",3,null,"1247901",1,0,1,null,"1247901",0,null,null,"1247901",1]
["1248601",1,null,"1248601",0,0,0,null,"1248601",0,null,null,"1248601",0]
["1249301",1,null,"1249301",1,0,1,null,"1249301",0,null,null,"1249301",0]
["1250701",1,null,"1250701",0,0,0,null,"1250701",0,null,null,"1250701",0]
["1252101",1,null,"1252101",1,0,1,null,"1252101",0,null,null,"1252101",0]
["1252701",2,null,"1252701",0,0,0,null,"1252701",0,null,null,"1252701",0]
["1253001",2,null,"1253001",1,0,1,null,"1253001",0,null,null,"1253001",0]
["1253401",3,null,"1253401",1,0,1,null,"1253401",0,null,null,"1253401",0]
["1254201",2,null,"1254201",0,0,{"$f":"E69+F69","v":0},null,"1254201",0,null,null,"1254201",0]
["1254301",1,null,"1254301",0,0,0,null,"1254301",0,null,null,"1254301",0]
["1254401",2,null,"1254401",2,0,2,null,"1254401",0,null,null,"1254401",0]
["1254801",1,null,"1254801",0,0,0,null,"1254801",0,null,null,"1254801",0]
["1256201",1,null,"1256201",1,0,1,null,"1256201",0,null,null,"1256201",0]
["1258901",2,null,"1258901",1,0,1,null,"1258901",0,null,null,"1258901",0]
["1260301",3,null,"1260301",0,0,0,null,"1260301",0,null,null,"1260301",0]
["1261601",1,null,"1261601",1,1,2,null,"1261601",0,null,null,"1261601",0]
["1261901",1,null,"1261901",0,0,0,null,"1261901",0,null,null,"1261901",0]
["1263001",2,null,"1263001",0,0,0,null,"1263001",0,null,null,"1263001",0]
["1264401",2,null,"1264401",0,0,0,null,"1264401",0,null,null,"1264401",0]
["1265801",1,null,"1265801",1,0,1,null,"1265801",0,null,null,"1265801",0]
["1267101",2,null,"1267101",1,0,1,null,"1267101",0,null,null,"1267101",0]
["1268501",2,null,"1268501",0,0,0,null,"1268501",0,null,null,"1268501",0]
["1269901",3,null,"1269901",2,0,2,null,"1269901",0,null,null,"1269901",0]
["1270101",3,null,"1270101",0,0,0,null,"1270101",0,null,null,"1270101",0]
["1270401",1,null,"1270401",0,0,0,null,"1270401",0,null,null,"1270401",0]
["1270601",1,null,"1270601",0,0,0,null,"1270601",0,null,null,"1270601",0]
["1271201",1,null,"1271201",2,0,2,null,"1271201",0,null,null,"1271201",0]
["1272601",2,null,"1272601",0,0,0,null,"1272601",0,null,null,"1272601",0]
["1274001",1,null,"1274001",1,0,1,null,"1274001",0,null,null,"1274001",0]
["1274101",1,null,"1274101",0,0,0,null,"1274101",0,null,null,"1274101",0]
["1275301",1,null,"1275301",0,0,0,null,"1275301",0,null,null,"1275301",0]
["1276701",2,null,"1276701",1,0,1,null,"1276701",0,null,null,"1276701",0]
["1278101",2,null,"1278101",2,0,2,null,"1278101",0,null,null,"1278101",0]
["1279501",1,null,"1279501",1,0,1,null,"1279501",0,null,null,"1279501",0]
["1280201",1,null,"1280201",0,0,0,null,"1280201",0,null,null,"1280201",0]
["1281501",1,null,"1281501",0,2,2,null,"1281501",0,null,null,"1281501",0]
["1282201",1,null,"1282201",2,2,4,null,"1282201",0,null,null,"1282201",3]
["1283601",1,null,"1283601",0,0,0,null,"1283601",0,null,null,"1283601",1]
["1284901",1,null,"1284901",0,0,0,null,"1284901",0,null,null,"1284901",0]
["1286301",2,null,"1286301",1,0,1,null,"1286301",0,null,null,"1286301",0]
["1287701",2,null,"1287701",0,0,0,null,"1287701",0,null,null,"1287701",0]
["1288101",1,null,"1288101",2,0,2,null,"1288101",0,null,null,"1288101",0]
["1289001",2,null,"1289001",2,0,2,null,"1289001",0,null,null,"1289001",0]
["1293901",2,null,"1293901",0,0,0,null,"1293901",0,null,null,"1293901",0]
["1294201",1,null,"1294201",0,1,1,null,"1294201",0,null,null,"1294201",0]
["1294301",1,null,"1294301",0,0,0,null,"1294301",0,null,null,"1294301",0]
["1294401",1,null,"1294401",0,0,0,null,"1294401",0,null,null,"1294401",0]
["1294501",1,null,"1294501",0,0,0,null,"1294501",0,null,null,"1294501",0]
["1295901",1,null,"1295901",1,0,1,null,"1295901",0,null,null,"1295901",1]
["1298601",2,null,"1298601",2,0,2,null,"1298601",0,null,null,"1298601",0]
["1300201",1,null,"1300201",0,0,0,null,"1300201",0,null,null,"1300201",0]
["1301401",1,null,"1301401",1,0,1,null,"1301401",0,null,null,"1301401",0]
["1302701",1,null,"1302701",0,0,0,null,"1302701",0,null,null,"1302701",0]
["1304101",1,null,"1304101",0,0,0,null,"1304101",0,null,null,"1304101",0]
["1306801",2,null,"1306801",1,0,1,null,"1306801",0,null,null,"1306801",0]
["1308201",2,null,"1308201",0,0,0,null,"1308201",0,null,null,"1308201",0]
["1309601",2,null,"1309601",1,0,1,null,"1309601",0,null,null,"1309601",0]
["1311001",1,null,"1311001",0,0,0,null,"1311001",0,null,null,"1311001",0]
["1312301",1,null,"1312301",0,1,1,null,"1312301",0,null,null,"1312301",2]
["1313701",2,null,"1313701",0,0,0,null,"1313701",0,null,null,"1313701",0]
["1315101",2,null,"1315101",1,0,1,null,"1315101",0,null,null,"1315101",0]
["1316401",1,null,"1316401",1,0,1,null,"1316401",0,null,null,"1316401",1]
["1317801",1,null,"1317801",0,0,0,null,"1317801",0,null,null,"1317801",0]
["1319201",2,null,"1319201",1,0,1,null,"1319201",0,null,null,"1319201",0]
["1320501",1,null,"1320501",0,0,0,null,"1320501",0,null,null,"1320501",0]
["1321001",2,null,"1321001",1,0,1,null,"1321001",0,null,null,"1321001",0]
["1321901",1,null,"1321901",0,0,0,null,"1321901",0,null,null,"1321901",0]
["1322001",1,null,"1322001",1,1,2,null,"1322001",0,null,null,"1322001",0]
["1324701",2,null,"1324701",1,0,1,null,"1324701",0,null,null,"1324701",0]
["1326001",3,null,"1326001",0,0,0,null,"1326001",0,null,null,"1326001",0]
["1328801",1,null,"1328801",0,2,2,null,"1328801",0,null,null,"1328801",1]
["1330201",1,null,"1330201",1,0,1,null,"1330201",0,null,null,"1330201",0]
["1331101",1,null,"1331101",0,0,{"$f":"E133+F133","v":0},null,"1331101",0,null,null,"1331101",0]
["1331501",1,null,"1331501",0,0,0,null,"1331501",0,null,null,"1331501",1]
["1332901",1,null,"1332901",0,0,0,null,"1332901",0,null,null,"1332901",0]
["1333501",1,null,"1333501",1,0,1,null,"1333501",0,null,null,"1333501",0]
["1334001",1,null,"1334001",1,0,1,null,"1334001",0,null,null,"1334001",0]
["1335601",2,null,"1335601",0,0,0,null,"1335601",0,null,null,"1335601",0]
["1337701",1,null,"1337701",0,0,0,null,"1337701",0,null,null,"1337701",0]
["1338401",1,null,"1338401",0,0,0,null,"1338401",0,null,null,"1338401",0]
["1339701",1,null,"1339701",1,0,1,null,"1339701",0,null,null,"1339701",0]
["1342501",2,null,"1342501",1,1,2,null,"1342501",0,null,null,"1342501",0]
["1342601",1,null,"1342601",0,0,0,null,"1342601",0,null,null,"1342601",0]
["1343801",1,null,"1343801",1,0,1,null,"1343801",0,null,null,"1343801",1]
["1345201",1,null,"1345201",1,0,1,null,"1345201",0,null,null,"1345201",0]
["1346601",2,null,"1346601",0,0,0,null,"1346601",0,null,null,"1346601",1]
["1347901",1,null,"1347901",0,0,0,null,"1347901",0,null,null,"1347901",0]
["1349301",1,null,"1349301",0,0,0,null,"1349301",0,null,null,"1349301",0]
["1350001",1,null,"1350001",1,0,1,null,"1350001",0,null,null,"1350001",0]
["1350701",3,null,"1350701",0,1,1,null,"1350701",0,null,null,"1350701",0]
["1352101",2,null,"1352101",1,0,1,null,"1352101",0,null,null,"1352101",0]
["1354101",1,null,"1354101",1,0,1,null,"1354101",0,null,null,"1354101",0]
["1354501",1,null,"1354501",1,0,1,null,"1354501",0,null,null,"1354501",0]
["1354801",2,null,"1354801",2,0,2,null,"1354801",0,null,null,"1354801",0]
["1356201",1,null,"1356201",0,0,0,null,"1356201",0,null,null,"1356201",0]
["1357401",2,null,"1357401",1,0,1,null,"1357401",0,null,null,"1357401",0]
["1357501",1,null,"1357501",0,0,0,null,"1357501",0,null,null,"1357501",0]
["1357601",1,null,"1357601",0,0,0,null,"1357601",0,null,null,"1357601",0]
["1357701",1,null,"1357701",1,0,1,null,"1357701",0,null,null,"1357701",0]
["1358901",1,null,"1358901",0,0,0,null,"1358901",0,null,null,"1358901",1]
["1361001",1,null,"1361001",0,0,0,null,"1361001",0,null,null,"1361001",0]
["1361601",1,null,"1361601",1,0,1,null,"1361601",0,null,null,"1361601",2]
["1363001",1,null,"1363001",0,1,1,null,"1363001",0,null,null,"1363001",1]
["1364001",1,null,"1364001",0,0,0,null,"1364001",0,null,null,"1364001",0]
["1367101",3,null,"1367101",0,0,0,null,"1367101",0,null,null,"1367101",0]
["1369901",1,null,"1369901",1,1,2,null,"1369901",0,null,null,"1369901",0]
["1371201",1,null,"1371201",0,1,1,null,"1371201",0,null,null,"1371201",1]
["1372601",1,null,"1372601",1,0,1,null,"1372601",0,null,null,"1372601",0]
["1374001",2,null,"1374001",0,0,0,null,"1374001",0,null,null,"1374001",0]
["1375301",2,null,"1375301",1,0,1,null,"1375301",0,null,null,"1375301",0]
["1376701",1,null,"1376701",1,0,1,null,"1376701",0,null,null,"1376701",0]
["1378101",1,null,"1378101",0,0,0,null,"1378101",0,null,null,"1378101",0]
["1379501",1,null,"1379501",0,0,0,null,"1379501",0,null,null,"1379501",0]
["1380801",1,null,"1380801",0,0,0,null,"1380801",0,null,null,"1380801",0]
["1382201",1,null,"1382201",0,0,0,null,"1382201",0,null,null,"1382201",0]
["1382901",2,null,"1382901",0,0,0,null,"1382901",0,null,null,"1382901",0]
["1383601",1,null,"1383601",1,0,1,null,"1383601",0,null,null,"1383601",0]
["1384901",2,null,"1384901",0,0,0,null,"1384901",0,null,null,"1384901",0]
["1387701",2,null,"1387701",0,1,1,null,"1387701",0,null,null,"1387701",1]
["1389001",2,null,"1389001",2,1,3,null,"1389001",0,null,null,"1389001",0]
["1391801",2,null,"1391801",1,1,2,null,"1391801",0,null,null,"1391801",0]
["1393201",1,null,"1393201",0,0,0,null,"1393201",0,null,null,"1393201",0]
["1395901",2,null,"1395901",0,0,0,null,"1395901",0,null,null,"1395901",0]
["1397301",2,null,"1397301",0,0,0,null,"1397301",0,null,null,"1397301",0]
["1397401",2,null,"1397401",0,0,0,null,"1397401",0,null,null,"1397401",0]
["1398601",1,null,"1398601",0,0,0,null,"1398601",0,null,null,"1398601",0]
["1401401",1,null,"1401401",0,0,0,null,"1401401",0,null,null,"1401401",0]
["1402001",1,null,"1402001",0,0,0,null,"1402001",0,null,null,"1402001",0]
["1402701",2,null,"1402701",3,0,3,null,"1402701",0,null,null,"1402701",1]
["1404101",2,null,"1404101",0,0,0,null,"1404101",0,null,null,"1404101",0]
["1405501",1,null,"1405501",1,1,2,null,"1405501",0,null,null,"1405501",0]
["1406801",1,null,"1406801",0,0,0,null,"1406801",0,null,null,"1406801",0]
["1408201",1,null,"1408201",0,0,0,null,"1408201",0,null,null,"1408201",0]
["1409601",3,null,"1409601",1,0,1,null,"1409601",0,null,null,"1409601",0]
["1411001",1,null,"1411001",0,0,0,null,"1411001",0,null,null,"1411001",0]
["1411701",1,null,"1411701",0,2,2,null,"1411701",0,null,null,"1411701",0]
["1412301",1,null,"1412301",0,0,{"$f":"E197+F197","v":0},null,"1412301",0,null,null,"1412301",0]
["1413001",2,null,"1413001",0,0,0,null,"1413001",0,null,null,"1413001",0]
["1413701",1,null,"1413701",0,0,0,null,"1413701",0,null,null,"1413701",0]
["1416401",1,null,"1416401",2,0,2,null,"1416401",0,null,null,"1416401",0]
["1419201",1,null,"1419201",0,0,0,null,"1419201",0,null,null,"1419201",0]
["1421901",2,null,"1421901",0,0,0,null,"1421901",0,null,null,"1421901",0]
["1423301",1,null,"1423301",1,0,1,null,"1423301",0,null,null,"1423301",0]
["1424701",2,null,"1424701",1,0,1,null,"1424701",0,null,null,"1424701",0]
["1426001",2,null,"1426001",1,0,1,null,"1426001",0,null,null,"1426001",0]
["1427401",1,null,"1427401",0,0,0,null,"1427401",0,null,null,"1427401",0]
["1429501",2,null,"1429501",0,0,0,null,"1429501",0,null,null,"1429501",0]
["1430101",1,null,"1430101",1,0,1,null,"1430101",0,null,null,"1430101",0]
["1431501",2,null,"1431501",0,0,0,null,"1431501",0,null,null,"1431501",0]
["1432201",1,null,"1432201",0,0,0,null,"1432201",0,null,null,"1432201",0]
["1432901",2,null,"1432901",0,0,0,null,"1432901",0,null,null,"1432901",0]
["1434201",1,null,"1434201",0,0,0,null,"1434201",0,null,null,"1434201",0]
["1434901",1,null,"1434901",1,0,1,null,"1434901",0,null,null,"1434901",0]
["1435601",2,null,"1435601",0,0,0,null,"1435601",0,null,null,"1435601",0]
["1439701",1,null,"1439701",0,2,2,null,"1439701",0,null,null,"1439701",0]
["1442501",1,null,"1442501",1,0,1,null,"1442501",0,null,null,"1442501",0]
["1443101",1,null,"1443101",1,0,1,null,"1443101",0,null,null,"1443101",0]
["1443801",2,null,"1443801",0,0,0,null,"1443801",0,null,null,"1443801",0]
["1444501",1,null,"1444501",1,0,1,null,"1444501",0,null,null,"1444501",0]
["1445201",1,null,"1445201",0,0,0,null,"1445201",0,null,null,"1445201",0]
["1446601",2,null,"1446601",0,0,0,null,"1446601",0,null,null,"1446601",0]
["1447301",1,null,"1447301",0,0,0,null,"1447301",0,null,null,"1447301",0]
["1449301",2,null,"1449301",1,0,1,null,"1449301",0,null,null,"1449301",0]
["1450701",1,null,"1450701",0,0,0,null,"1450701",0,null,null,"1450701",0]
["1451501",1,null,"1451501",0,0,0,null,"1451501",0,null,null,"1451501",0]
["1452101",1,null,"1452101",0,0,0,null,"1452101",0,null,null,"1452101",0]
["1452801",3,null,"1452801",3,0,3,null,"1452801",0,null,null,"1452801",0]
["1453401",1,null,"1453401",0,0,0,null,"1453401",0,null,null,"1453401",0]
["1454801",2,null,"1454801",0,0,0,null,"1454801",0,null,null,"1454801",0]
["1456201",1,null,"1456201",0,0,0,null,"1456201",0,null,null,"1456201",0]
["1457501",2,null,"1457501",1,0,1,null,"1457501",0,null,null,"1457501",0]
["1457601",2,null,"1457601",0,1,1,null,"1457601",0,null,null,"1457601",0]
["1458901",1,null,"1458901",2,0,2,null,"1458901",0,null,null,"1458901",0]
["1460301",2,null,"1460301",0,0,0,null,"1460301",0,null,null,"1460301",0]
["1461601",3,null,"1461601",1,0,1,null,"1461601",0,null,null,"1461601",0]
["1463001",2,null,"1463001",1,0,1,null,"1463001",0,null,null,"1463001",0]
["1464001",2,null,"1464001",0,0,0,null,"1464001",0,null,null,"1464001",0]
["1464101",2,null,"1464101",0,0,0,null,"1464101",0,null,null,"1464101",0]
["1464201",2,null,"1464201",0,0,0,null,"1464201",0,null,null,"1464201",0]
["1465801",1,null,"1465801",1,0,1,null,"1465801",0,null,null,"1465801",0]
["1467101",1,null,"1467101",0,0,0,null,"1467101",0,null,null,"1467101",0]
["1468001",2,null,"1468001",1,0,1,null,"1468001",0,null,null,"1468001",0]
["1468101",2,null,"1468101",0,0,0,null,"1468101",0,null,null,"1468101",0]
["1468501",2,null,"1468501",0,0,0,null,"1468501",0,null,null,"1468501",0]
["1469201",1,null,"1469201",1,0,1,null,"1469201",0,null,null,"1469201",0]
["1469601",1,null,"1469601",0,0,0,null,"1469601",0,null,null,"1469601",0]
["1469901",1,null,"1469901",0,1,1,null,"1469901",0,null,null,"1469901",2]
["1471201",1,null,"1471201",0,0,0,null,"1471201",0,null,null,"1471201",0]
["1472601",2,null,"1472601",1,0,1,null,"1472601",0,null,null,"1472601",2]
["1476001",3,null,"1476001",1,0,1,null,"1476001",0,null,null,"1476001",0]
["1476201",1,null,"1476201",1,0,1,null,"1476201",0,null,null,"1476201",0]
["1476401",1,null,"1476401",1,0,1,null,"1476401",0,null,null,"1476401",1]
["1476701",1,null,"1476701",0,0,0,null,"1476701",0,null,null,"1476701",0]
["1477501",1,null,"1477501",0,0,0,null,"1477501",0,null,null,"1477501",0]
["1477601",1,null,"1477601",1,0,1,null,"1477601",0,null,null,"1477601",0]
["1478101",1,null,"1478101",0,0,0,null,"1478101",0,null,null,"1478101",0]
["1478601",2,null,"1478601",1,0,1,null,"1478601",0,null,null,"1478601",1]
["1479001",2,null,"1479001",0,0,0,null,"1479001",0,null,null,"1479001",0]
["1479501",2,null,"1479501",0,0,0,null,"1479501",0,null,null,"1479501",0]
["1480801",1,null,"1480801",0,0,0,null,"1480801",0,null,null,"1480801",0]
["1482901",1,null,"1482901",1,0,{"$f":"E261+F261","v":1},null,"1482901",0,null,null,"1482901",0]
["1483601",2,null,"1483601",0,0,0,null,"1483601",0,null,null,"1483601",0]
["1484901",1,null,"1484901",0,0,0,null,"1484901",0,null,null,"1484901",0]
["1486301",1,null,"1486301",0,0,0,null,"1486301",0,null,null,"1486301",0]
["1487001",1,null,"1487001",0,0,0,null,"1487001",0,null,null,"1487001",1]
["1487701",1,null,"1487701",0,0,0,null,"1487701",0,null,null,"1487701",0]
["1488101",2,null,"1488101",0,0,0,null,"1488101",0,null,null,"1488101",1]
["1488701",1,null,"1488701",1,0,1,null,"1488701",0,null,null,"1488701",1]
["1489001",1,null,"1489001",1,0,1,null,"1489001",0,null,null,"1489001",0]
["1490401",2,null,"1490401",1,0,1,null,"1490401",0,null,null,"1490401",0]
["1491801",2,null,"1491801",1,0,1,null,"1491801",0,null,null,"1491801",0]
["1493201",1,null,"1493201",1,0,1,null,"1493201",0,null,null,"1493201",1]
["1494501",2,null,"1494501",0,0,0,null,"1494501",0,null,null,"1494501",0]
["1495901",2,null,"1495901",0,0,0,null,"1495901",0,null,null,"1495901",0]
["1497301",2,null,"1497301",0,1,1,null,"1497301",0,null,null,"1497301",1]
["1498001",1,null,"1498001",1,0,1,null,"1498001",0,null,null,"1498001",0]
["1498201",1,null,"1498201",0,0,0,null,"1498201",0,null,null,"1498201",0]
["1498301",1,null,"1498301",0,0,0,null,"1498301",0,null,null,"1498301",0]
["1498601",1,null,"1498601",1,0,1,null,"1498601",0,null,null,"1498601",0]
["1501401",1,null,"1501401",0,2,2,null,"1501401",0,null,null,"1501401",0]
["1501601",1,null,"1501601",1,0,1,null,"1501601",0,null,null,"1501601",0]
["1505501",2,null,"1505501",2,0,2,null,"1505501",0,null,null,"1505501",0]
["1506801",2,null,"1506801",1,0,1,null,"1506801",0,null,null,"1506801",0]
["1508201",2,null,"1508201",0,0,0,null,"1508201",0,null,null,"1508201",0]
["1509601",2,null,"1509601",0,0,0,null,"1509601",0,null,null,"1509601",1]
["1511001",1,null,"1511001",0,0,0,null,"1511001",0,null,null,"1511001",0]
["1511101",2,null,"1511101",0,0,0,null,"1511101",0,null,null,"1511101",0]
["1511201",1,null,"1511201",1,0,1,null,"1511201",0,null,null,"1511201",0]
["1511301",2,null,"1511301",0,1,1,null,"1511301",0,null,null,"1511301",0]
["1513701",2,null,"1513701",1,0,1,null,"1513701",0,null,null,"1513701",0]
["1515301",1,null,"1515301",0,0,0,null,"1515301",0,null,null,"1515301",0]
["1515401",1,null,"1515401",0,0,0,null,"1515401",0,null,null,"1515401",0]
["1516401",1,null,"1516401",1,0,1,null,"1516401",0,null,null,"1516401",0]
["1517001",1,null,"1517001",0,0,0,null,"1517001",0,null,null,"1517001",0]
["1517301",1,null,"1517301",1,0,1,null,"1517301",0,null,null,"1517301",0]
["1517801",2,null,"1517801",0,1,1,null,"1517801",0,null,null,"1517801",1]
["1519201",1,null,"1519201",0,0,0,null,"1519201",0,null,null,"1519201",0]
["1519301",1,null,"1519301",0,0,0,null,"1519301",0,null,null,"1519301",0]
["1519801",1,null,"1519801",0,0,0,null,"1519801",0,null,null,"1519801",0]
["1520501",3,null,"1520501",1,0,1,null,"1520501",0,null,null,"1520501",0]
["1521901",1,null,"1521901",0,0,0,null,"1521901",0,null,null,"1521901",0]
["1523301",2,null,"1523301",0,0,0,null,"1523301",0,null,null,"1523301",0]
["1524001",1,null,"1524001",0,0,0,null,"1524001",0,null,null,"1524001",0]
["1524701",2,null,"1524701",0,0,0,null,"1524701",0,null,null,"1524701",0]
["1528801",2,null,"1528801",2,0,2,null,"1528801",0,null,null,"1528801",0]
["1530101",1,null,"1530101",0,1,1,null,"1530101",0,null,null,"1530101",0]
["1530201",1,null,"1530201",0,0,0,null,"1530201",0,null,null,"1530201",0]
["1531501",3,null,"1531501",1,0,1,null,"1531501",0,null,null,"1531501",0]
["1532101",1,null,"1532101",0,0,0,null,"1532101",0,null,null,"1532101",0]
["1532901",2,null,"1532901",0,0,0,null,"1532901",0,null,null,"1532901",0]
["1534201",2,null,"1534201",0,0,0,null,"1534201",0,null,null,"1534201",0]
["1538401",2,null,"1538401",0,0,0,null,"1538401",0,null,null,"1538401",0]
["1538501",2,null,"1538501",1,0,1,null,"1538501",0,null,null,"1538501",0]
["1539701",1,null,"1539701",0,0,0,null,"1539701",0,null,null,"1539701",0]
["1540401",2,null,"1540401",0,0,0,null,"1540401",0,null,null,"1540401",0]
["1541101",1,null,"1541101",0,0,0,null,"1541101",0,null,null,"1541101",1]
["1542501",3,null,"1542501",0,0,0,null,"1542501",0,null,null,"1542501",0]
["1543801",1,null,"1543801",0,0,0,null,"1543801",0,null,null,"1543801",0]
["1544601",2,null,"1544601",0,0,0,null,"1544601",0,null,null,"1544601",0]
["1545201",1,null,"1545201",0,0,0,null,"1545201",0,null,null,"1545201",0]
["1545901",2,null,"1545901",0,0,0,null,"1545901",0,null,null,"1545901",0]
["1546601",1,null,"1546601",0,0,0,null,"1546601",0,null,null,"1546601",0]
["1547901",1,null,"1547901",1,0,1,null,"1547901",0,null,null,"1547901",1]
["1550501",1,null,"1550501",2,1,3,null,"1550501",0,null,null,"1550501",0]
["1552101",1,null,"1552101",1,0,{"$f":"E325+F325","v":1},null,"1552101",0,null,null,"1552101",0]
["1553401",1,null,"1553401",0,0,0,null,"1553401",0,null,null,"1553401",0]
["1554801",1,null,"1554801",0,0,0,null,"1554801",0,null,null,"1554801",0]
["1556201",2,null,"1556201",0,0,0,null,"1556201",0,null,null,"1556201",0]
["1557501",2,null,"1557501",1,0,1,null,"1557501",0,null,null,"1557501",0]
["1558201",3,null,"1558201",1,0,1,null,"1558201",0,null,null,"1558201",0]
["1560301",1,null,"1560301",0,0,0,null,"1560301",0,null,null,"1560301",1]
["1560401",1,null,"1560401",0,0,0,null,"1560401",0,null,null,"1560401",0]
["1563001",2,null,"1563001",0,0,0,null,"1563001",0,null,null,"1563001",0]
["1564401",2,null,"1564401",0,0,0,null,"1564401",0,null,null,"1564401",0]
["1569901",1,null,"1569901",0,0,0,null,"1569901",0,null,null,"1569901",0]
["1572601",1,null,"1572601",1,0,1,null,"1572601",0,null,null,"1572601",1]
["1574001",2,null,"1574001",1,0,1,null,"1574001",0,null,null,"1574001",0]
["1575301",1,null,"1575301",1,0,1,null,"1575301",0,null,null,"1575301",1]
["1578101",3,null,"1578101",1,2,3,null,"1578101",0,null,null,"1578101",0]
["1580801",1,null,"1580801",1,0,1,null,"1580801",0,null,null,"1580801",0]
["1582201",2,null,"1582201",1,0,1,null,"1582201",0,null,null,"1582201",0]
["1583601",1,null,"1583601",1,0,1,null,"1583601",0,null,null,"1583601",0]
["1584901",2,null,"1584901",1,0,1,null,"1584901",0,null,null,"1584901",0]
["1585701",2,null,"1585701",0,0,0,null,"1585701",0,null,null,"1585701",1]
["1586301",2,null,"1586301",1,0,1,null,"1586301",0,null,null,"1586301",0]
["1587701",2,null,"1587701",0,0,0,null,"1587701",0,null,null,"1587701",0]
["1588401",1,null,"1588401",1,0,1,null,"1588401",0,null,null,"1588401",0]
["1588701",2,null,"1588701",0,0,0,null,"1588701",0,null,null,"1588701",0]
["1588901",1,null,"1588901",1,0,1,null,"1588901",0,null,null,"1588901",0]
["1589401",1,null,"1589401",1,0,1,null,"1589401",0,null,null,"1589401",0]
["1590401",1,null,"1590401",1,0,1,null,"1590401",0,null,null,"1590401",0]
["1591801",1,null,"1591801",1,0,1,null,"1591801",0,null,null,"1591801",0]
["1595901",1,null,"1595901",0,0,0,null,"1595901",0,null,null,"1595901",0]
["1598601",1,null,"1598601",0,0,0,null,"1598601",0,null,null,"1598601",0]
["1600501",2,null,"1600501",0,0,0,null,"1600501",0,null,null,"1600501",0]
["1601301",2,null,"1601301",1,0,1,null,"1601301",0,null,null,"1601301",0]
["1602101",2,null,"1602101",1,0,1,null,"1602101",0,null,null,"1602101",0]
["1602701",1,null,"1602701",1,0,1,null,"1602701",0,null,null,"1602701",1]
["1605201",1,null,"1605201",0,0,0,null,"1605201",0,null,null,"1605201",0]
["1606801",1,null,"1606801",1,0,1,null,"1606801",0,null,null,"1606801",0]
["1608701",1,null,"1608701",0,0,0,null,"1608701",0,null,null,"1608701",2]
["1609601",1,null,"1609601",0,0,0,null,"1609601",0,null,null,"1609601",0]
["1611001",1,null,"1611001",0,0,0,null,"1611001",0,null,null,"1611001",0]
["1612301",1,null,"1612301",0,0,0,null,"1612301",0,null,null,"1612301",0]
["1613701",1,null,"1613701",0,0,0,null,"1613701",0,null,null,"1613701",0]
["1614001",2,null,"1614001",1,1,2,null,"1614001",0,null,null,"1614001",1]
["1614801",2,null,"1614801",0,0,0,null,"1614801",0,null,null,"1614801",0]
["1615801",2,null,"1615801",0,0,0,null,"1615801",0,null,null,"1615801",0]
["1616401",2,null,"1616401",0,0,0,null,"1616401",0,null,null,"1616401",0]
["1617801",1,null,"1617801",0,0,0,null,"1617801",0,null,null,"1617801",0]
["1617901",2,null,"1617901",2,0,2,null,"1617901",0,null,null,"1617901",0]
["1619201",2,null,"1619201",0,0,0,null,"1619201",0,null,null,"1619201",0]
["1621901",1,null,"1621901",1,0,1,null,"1621901",0,null,null,"1621901",0]
["1623301",1,null,"1623301",1,0,1,null,"1623301",0,null,null,"1623301",1]
["1626001",2,null,"1626001",0,0,0,null,"1626001",0,null,null,"1626001",1]
["1627401",2,null,"1627401",1,0,1,null,"1627401",0,null,null,"1627401",0]
["1628801",1,null,"1628801",0,0,0,null,"1628801",0,null,null,"1628801",0]
["1630101",1,null,"1630101",1,0,1,null,"1630101",0,null,null,"1630101",1]
["1631501",1,null,"1631501",1,0,1,null,"1631501",0,null,null,"1631501",1]
["1632901",1,null,"1632901",1,0,1,null,"1632901",0,null,null,"1632901",0]
["1634201",1,null,"1634201",1,0,1,null,"1634201",0,null,null,"1634201",0]
["1635601",2,null,"1635601",1,0,1,null,"1635601",0,null,null,"1635601",0]
["1636301",1,null,"1636301",1,0,1,null,"1636301",0,null,null,"1636301",0]
["1637001",1,null,"1637001",0,0,0,null,"1637001",0,null,null,"1637001",0]
["1638401",1,null,"1638401",0,0,0,null,"1638401",0,null,null,"1638401",0]
["1642501",2,null,"1642501",0,0,0,null,"1642501",0,null,null,"1642501",0]
["1642601",1,null,"1642601",0,0,0,null,"1642601",0,null,null,"1642601",0]
["1643801",2,null,"1643801",0,0,0,null,"1643801",0,null,null,"1643801",0]
["1645201",2,null,"1645201",1,0,{"$f":"E389+F389","v":1},null,"1645201",0,null,null,"1645201",0]
["1646601",2,null,"1646601",0,0,0,null,"1646601",0,null,null,"1646601",0]
["1647901",2,null,"1647901",1,0,1,null,"1647901",0,null,null,"1647901",0]
["1649301",1,null,"1649301",0,0,0,null,"1649301",0,null,null,"1649301",0]
["1650101",1,null,"1650101",0,0,0,null,"1650101",0,null,null,"1650101",1]
["1650701",1,null,"1650701",1,0,1,null,"1650701",0,null,null,"1650701",0]
["1653401",2,null,"1653401",0,0,0,null,"1653401",0,null,null,"1653401",0]
["1654901",1,null,"1654901",0,0,0,null,"1654901",0,null,null,"1654901",0]
["1656501",2,null,"1656501",2,0,2,null,"1656501",0,null,null,"1656501",0]
["1657501",2,null,"1657501",1,0,1,null,"1657501",0,null,null,"1657501",0]
["1658901",1,null,"1658901",1,0,1,null,"1658901",0,null,null,"1658901",0]
["1660601",1,null,"1660601",2,0,2,null,"1660601",0,null,null,"1660601",0]
["1661601",1,null,"1661601",0,0,0,null,"1661601",0,null,null,"1661601",0]
["1663001",2,null,"1663001",0,0,0,null,"1663001",0,null,null,"1663001",0]
["1664401",2,null,"1664401",0,0,0,null,"1664401",0,null,null,"1664401",0]
["1665801",1,null,"1665801",0,0,0,null,"1665801",0,null,null,"1665801",0]
["1666501",1,null,"1666501",1,1,2,null,"1666501",0,null,null,"1666501",0]
["1667101",1,null,"1667101",0,0,0,null,"1667101",0,null,null,"1667101",0]
["1668501",2,null,"1668501",0,0,0,null,"1668501",0,null,null,"1668501",0]
["1669901",1,null,"1669901",1,1,2,null,"1669901",0,null,null,"1669901",0]
["1671201",1,null,"1671201",0,0,0,null,"1671201",0,null,null,"1671201",0]
["1674001",1,null,"1674001",0,0,0,null,"1674001",0,null,null,"1674001",0]
["1675301",1,null,"1675301",0,0,0,null,"1675301",0,null,null,"1675301",0]
["1676701",1,null,"1676701",0,0,0,null,"1676701",0,null,null,"1676701",0]
["1678101",2,null,"1678101",1,0,1,null,"1678101",0,null,null,"1678101",0]
["1679501",1,null,"1679501",1,0,1,null,"1679501",0,null,null,"1679501",0]
["1680801",2,null,"1680801",1,0,1,null,"1680801",0,null,null,"1680801",0]
["1682201",1,null,"1682201",1,0,1,null,"1682201",0,null,null,"1682201",0]
["1683601",1,null,"1683601",1,0,1,null,"1683601",0,null,null,"1683601",0]
["1684901",1,null,"1684901",1,0,1,null,"1684901",0,null,null,"1684901",0]
["1686301",2,null,"1686301",1,0,1,null,"1686301",0,null,null,"1686301",0]
["1686701",1,null,"1686701",0,0,0,null,"1686701",0,null,null,"1686701",0]
["1686801",2,null,"1686801",1,0,1,null,"1686801",0,null,null,"1686801",0]
["1686901",3,null,"1686901",1,0,1,null,"1686901",0,null,null,"1686901",0]
["1687001",1,null,"1687001",0,0,0,null,"1687001",0,null,null,"1687001",0]
["1687201",1,null,"1687201",1,0,1,null,"1687201",0,null,null,"1687201",0]
["1687301",1,null,"1687301",1,0,1,null,"1687301",0,null,null,"1687301",0]
["1687501",4,null,"1687501",3,1,4,null,"1687501",0,null,null,"1687501",0]
["1687801",3,null,"1687801",0,0,0,null,"1687801",0,null,null,"1687801",0]
["1688001",3,null,"1688001",2,0,2,null,"1688001",0,null,null,"1688001",0]
["1688401",3,null,"1688401",1,0,1,null,"1688401",0,null,null,"1688401",0]
["1688601",2,null,"1688601",0,0,0,null,"1688601",0,null,null,"1688601",0]
["1689001",1,null,"1689001",0,0,0,null,"1689001",0,null,null,"1689001",0]
["1690401",2,null,"1690401",0,1,1,null,"1690401",0,null,null,"1690401",0]
["1690501",2,null,"1690501",1,0,1,null,"1690501",0,null,null,"1690501",0]
["1691801",2,null,"1691801",0,0,0,null,"1691801",0,null,null,"1691801",0]
["1692001",1,null,"1692001",1,0,1,null,"1692001",0,null,null,"1692001",0]
["1693201",1,null,"1693201",1,0,1,null,"1693201",0,null,null,"1693201",0]
["1694501",1,null,"1694501",0,0,0,null,"1694501",0,null,null,"1694501",0]
["1695201",2,null,"1695201",1,0,1,null,"1695201",0,null,null,"1695201",1]
["1695901",1,null,"1695901",1,0,1,null,"1695901",0,null,null,"1695901",0]
["1697301",2,null,"1697301",1,0,1,null,"1697301",0,null,null,"1697301",0]
["1698601",3,null,"1698601",1,0,1,null,"1698601",0,null,null,"1698601",0]
["1698801",2,null,"1698801",0,0,0,null,"1698801",0,null,null,"1698801",0]
["1700701",1,null,"1700701",0,0,0,null,"1700701",0,null,null,"1700701",0]
["1701401",1,null,"1701401",0,1,1,null,"1701401",0,null,null,"1701401",0]
["1702701",1,null,"1702701",0,0,0,null,"1702701",0,null,null,"1702701",0]
["1703501",2,null,"1703501",0,0,0,null,"1703501",0,null,null,"1703501",1]
["1704101",1,null,"1704101",1,0,1,null,"1704101",0,null,null,"1704101",0]
["1706801",2,null,"1706801",1,0,1,null,"1706801",0,null,null,"1706801",1]
["1708201",1,null,"1708201",0,0,0,null,"1708201",0,null,null,"1708201",0]
["1711001",3,null,"1711001",0,0,0,null,"1711001",0,null,null,"1711001",0]
["1712301",1,null,"1712301",0,0,0,null,"1712301",0,null,null,"1712301",0]
["1713701",2,null,"1713701",0,0,0,null,"1713701",0,null,null,"1713701",0]
["1715101",1,null,"1715101",0,0,{"$f":"E453+F453","v":0},null,"1715101",0,null,null,"1715101",0]
["1716401",1,null,"1716401",2,0,2,null,"1716401",0,null,null,"1716401",0]
["1717801",1,null,"1717801",0,0,0,null,"1717801",0,null,null,"1717801",0]
["1719201",1,null,"1719201",0,0,0,null,"1719201",0,null,null,"1719201",0]
["1719801",1,null,"1719801",1,1,2,null,"1719801",0,null,null,"1719801",0]
["1720101",1,null,"1720101",0,0,0,null,"1720101",0,null,null,"1720101",0]
["1720501",1,null,"1720501",0,0,0,null,"1720501",0,null,null,"1720501",1]
["1721901",2,null,"1721901",0,0,0,null,"1721901",0,null,null,"1721901",0]
["1722001",2,null,"1722001",0,0,0,null,"1722001",0,null,null,"1722001",0]
["1724701",1,null,"1724701",1,0,1,null,"1724701",0,null,null,"1724701",0]
["1726001",2,null,"1726001",0,0,0,null,"1726001",0,null,null,"1726001",0]
["1727401",2,null,"1727401",1,0,1,null,"1727401",0,null,null,"1727401",0]
["1728801",2,null,"1728801",1,0,1,null,"1728801",0,null,null,"1728801",0]
["1730101",1,null,"1730101",0,0,0,null,"1730101",0,null,null,"1730101",0]
["1732901",2,null,"1732901",1,0,1,null,"1732901",0,null,null,"1732901",0]
["1734201",2,null,"1734201",0,0,0,null,"1734201",0,null,null,"1734201",0]
["1735601",1,null,"1735601",0,0,0,null,"1735601",0,null,null,"1735601",1]
["1737001",1,null,"1737001",0,0,0,null,"1737001",0,null,null,"1737001",0]
["1738401",1,null,"1738401",0,0,0,null,"1738401",0,null,null,"1738401",0]
["1739001",1,null,"1739001",0,0,0,null,"1739001",0.5,null,null,"1739001",0]
["1739701",1,null,"1739701",1,0,1,null,"1739701",0,null,null,"1739701",0]
["1739801",2,null,"1739801",0,0,0,null,"1739801",0,null,null,"1739801",0]
["1739901",1,null,"1739901",1,0,1,null,"1739901",0,null,null,"1739901",0]
["1740001",2,null,"1740001",0,0,0,null,"1740001",0,null,null,"1740001",0]
["1740101",1,null,"1740101",0,0,0,null,"1740101",0,null,null,"1740101",0]
["1740201",2,null,"1740201",1,0,1,null,"1740201",0,null,null,"1740201",1]
["1740401",2,null,"1740401",2,0,2,null,"1740401",0,null,null,"1740401",0]
["1740801",1,null,"1740801",0,0,0,null,"1740801",0,null,null,"1740801",0]
["1741101",1,null,"1741101",0,0,0,null,"1741101",0,null,null,"1741101",0]
["1741901",1,null,"1741901",1,0,1,null,"1741901",0,null,null,"1741901",0]
["1742201",1,null,"1742201",1,0,1,null,"1742201",0,null,null,"1742201",0]
["1742501",1,null,"1742501",0,0,0,null,"1742501",0,null,null,"1742501",0]
["1743201",1,null,"1743201",1,0,1,null,"1743201",0,null,null,"1743201",0]
["1743801",1,null,"1743801",2,0,2,null,"1743801",0,null,null,"1743801",0]
["1746601",2,null,"1746601",0,1,1,null,"1746601",0,null,null,"1746601",0]
["1747901",1,null,"1747901",1,0,1,null,"1747901",0,null,null,"1747901",0]
["1749301",1,null,"1749301",0,0,0,null,"1749301",0,null,null,"1749301",0]
["1750701",1,null,"1750701",1,0,1,null,"1750701",0,null,null,"1750701",0]
["1752101",2,null,"1752101",0,1,1,null,"1752101",0,null,null,"1752101",0]
["1753401",1,null,"1753401",0,0,0,null,"1753401",0,null,null,"1753401",0]
["1754801",1,null,"1754801",1,0,1,null,"1754801",0,null,null,"1754801",1]
["1756201",1,null,"1756201",0,0,0,null,"1756201",0,null,null,"1756201",0]
["1756601",1,null,"1756601",0,0,0,null,"1756601",0,null,null,"1756601",0]
["1756701",1,null,"1756701",1,0,1,null,"1756701",0,null,null,"1756701",0]
["1756901",1,null,"1756901",2,0,2,null,"1756901",0,null,null,"1756901",0]
["1757401",1,null,"1757401",0,0,0,null,"1757401",0,null,null,"1757401",0]
["1757501",2,null,"1757501",0,0,0,null,"1757501",0,null,null,"1757501",0]
["1758901",1,null,"1758901",1,0,1,null,"1758901",0,null,null,"1758901",0]
["1760301",1,null,"1760301",1,0,1,null,"1760301",0,null,null,"1760301",0]
["1760401",1,null,"1760401",0,0,0,null,"1760401",0.5,null,null,"1760401",0]
["1761401",1,null,"1761401",0,0,0,null,"1761401",0,null,null,"1761401",0]
["1761501",1,null,"1761501",1,0,1,null,"1761501",0,null,null,"1761501",0]
["1761601",1,null,"1761601",1,1,2,null,"1761601",0,null,null,"1761601",0]
["1763001",2,null,"1763001",0,0,0,null,"1763001",0,null,null,"1763001",0]
["1763401",1,null,"1763401",0,0,0,null,"1763401",0,null,null,"1763401",0]
["1763701",2,null,"1763701",0,0,0,null,"1763701",0,null,null,"1763701",0]
["1764001",1,null,"1764001",1,0,1,null,"1764001",0,null,null,"1764001",0]
["1764401",1,null,"1764401",2,0,2,null,"1764401",0,null,null,"1764401",0]
["1764901",1,null,"1764901",1,0,1,null,"1764901",0,null,null,"1764901",0]
["1765401",1,null,"1765401",0,0,0,null,"1765401",0,null,null,"1765401",0]
["1765601",1,null,"1765601",0,0,0,null,"1765601",0,null,null,"1765601",0]
["1765701",1,null,"1765701",1,0,1,null,"1765701",0,null,null,"1765701",0]
["1765801",1,null,"1765801",0,0,0,null,"1765801",0,null,null,"1765801",0]
["1766401",1,null,"1766401",1,0,1,null,"1766401",0,null,null,"1766401",0]
["1766701",2,null,"1766701",0,0,{"$f":"E517+F517","v":0},null,"1766701",0,null,null,"1766701",0]
["1766901",1,null,"1766901",0,0,0,null,"1766901",1,null,null,"1766901",0]
["1767101",1,null,"1767101",1,0,1,null,"1767101",0,null,null,"1767101",0]
["1769901",1,null,"1769901",1,0,1,null,"1769901",0,null,null,"1769901",0]
["1771201",1,null,"1771201",0,0,0,null,"1771201",0,null,null,"1771201",0]
["1771501",1,null,"1771501",0,0,0,null,"1771501",0,null,null,"1771501",0]
["1771601",1,null,"1771601",0,0,0,null,"1771601",0,null,null,"1771601",0]
["1771701",1,null,"1771701",0,0,0,null,"1771701",0,null,null,"1771701",0]
["1771801",1,null,"1771801",1,0,1,null,"1771801",0,null,null,"1771801",0]
["1771901",1,null,"1771901",0,0,0,null,"1771901",0,null,null,"1771901",0]
["1772101",1,null,"1772101",0,0,0,null,"1772101",0,null,null,"1772101",0]
["1772201",1,null,"1772201",0,0,0,null,"1772201",0,null,null,"1772201",1]
["1772501",1,null,"1772501",0,0,0,null,"1772501",1,null,null,"1772501",1]
["1773401",1,null,"1773401",0,0,0,null,"1773401",0,null,null,"1773401",0]
["1774001",1,null,"1774001",1,0,1,null,"1774001",0,null,null,"1774001",0]
["1774901",2,null,"1774901",0,0,0,null,"1774901",0,null,null,"1774901",0]
["1775101",1,null,"1775101",0,0,0,null,"1775101",0,null,null,"1775101",0]
["1775201",1,null,"1775201",0,0,0,null,"1775201",0,null,null,"1775201",0]
["1776701",1,null,"1776701",0,0,0,null,"1776701",0,null,null,"1776701",0]
["1777101",1,null,"1777101",0,0,0,null,"1777101",0,null,null,"1777101",0]
["1777201",1,null,"1777201",0,0,0,null,"1777201",0,null,null,"1777201",0]
["1777301",1,null,"1777301",0,0,0,null,"1777301",0,null,null,"1777301",0]
["1777401",1,null,"1777401",0,1,1,null,"1777401",0,null,null,"1777401",1]
["1777501",1,null,"1777501",0,0,0,null,"1777501",0,null,null,"1777501",0]
["1777701",1,null,"1777701",0,0,0,null,"1777701",0,null,null,"1777701",0]
["1778001",2,null,"1778001",0,0,0,null,"1778001",0,null,null,"1778001",1]
["1778101",1,null,"1778101",1,0,1,null,"1778101",0,null,null,"1778101",0]
["1778301",1,null,"1778301",1,0,1,null,"1778301",0,null,null,"1778301",0]
["1779501",2,null,"1779501",1,0,1,null,"1779501",0,null,null,"1779501",0]
["1780801",3,null,"1780801",1,0,1,null,"1780801",0,null,null,"1780801",0]
["1782201",1,null,"1782201",0,0,0,null,"1782201",0,null,null,"1782201",0]
["1783601",1,null,"1783601",0,0,0,null,"1783601",0,null,null,"1783601",0]
["1784901",2,null,"1784901",0,0,0,null,"1784901",0,null,null,"1784901",0]
["1786301",1,null,"1786301",0,0,0,null,"1786301",0,null,null,"1786301",0]
["1787701",1,null,"1787701",0,0,0,null,"1787701",0,null,null,"1787701",0]
["1789001",1,null,"1789001",0,0,0,null,"1789001",0,null,null,"1789001",0]
["1789501",1,null,"1789501",0,0,0,null,"1789501",0.5,null,null,"1789501",0]
["1790401",2,null,"1790401",0,0,0,null,"1790401",0,null,null,"1790401",0]
["1795901",1,null,"1795901",0,0,0,null,"1795901",0,null,null,"1795901",0]
["1800901",2,null,"1800901",0,0,0,null,"1800901",0,null,null,"1800901",0]
["1802801",2,null,"1802801",0,0,0,null,"1802801",0,null,null,"1802801",0]
["1803801",3,null,"1803801",1,0,1,null,"1803801",0,null,null,"1803801",0]
["1804501",1,null,"1804501",0,0,0,null,"1804501",0,null,null,"1804501",0]
["1804701",3,null,"1804701",0,0,0,null,"1804701",0,null,null,"1804701",0]
["1805701",1,null,"1805701",0,0,0,null,"1805701",0,null,null,"1805701",0]
["1805801",1,null,"1805801",0,0,0,null,"1805801",0,null,null,"1805801",0]
["1806001",2,null,"1806001",0,0,0,null,"1806001",0,null,null,"1806001",0]
["1806201",1,null,"1806201",1,0,1,null,"1806201",0,null,null,"1806201",0]
["1806401",1,null,"1806401",0,0,0,null,"1806401",0,null,null,"1806401",0]
["1806601",2,null,"1806601",0,0,0,null,"1806601",0,null,null,"1806601",0]
["1807501",2,null,"1807501",0,0,0,null,"1807501",0,null,null,"1807501",2]
["1808001",2,null,"1808001",0,0,0,null,"1808001",0,null,null,"1808001",0]
["1809001",2,null,"1809001",0,0,0,null,"1809001",0,null,null,"1809001",0]
["1809401",1,null,"1809401",0,0,0,null,"1809401",0,null,null,"1809401",0]
["1810201",3,null,"1810201",0,0,0,null,"1810201",0,null,null,"1810201",0]
["1810301",2,null,"1810301",0,0,0,null,"1810301",0,null,null,"1810301",0]
["1810401",2,null,"1810401",0,0,0,null,"1810401",0,null,null,"1810401",0]
["1810701",3,null,"1810701",0,0,0,null,"1810701",0,null,null,"1810701",0]
["1811001",3,null,"1811001",1,0,1,null,"1811001",0,null,null,"1811001",0]
["1811201",2,null,"1811201",0,0,0,null,"1811201",0,null,null,"1811201",0]
["1811301",1,null,"1811301",1,0,1,null,"1811301",0,null,null,"1811301",0]
["1811601",3,null,"1811601",0,0,0,null,"1811601",0,null,null,"1811601",0]
["1811701",4,null,"1811701",0,0,0,null,"1811701",0,null,null,"1811701",0]
["1811801",4,null,"1811801",0,0,0,null,"1811801",0,null,null,"1811801",0]
["1812301",1,null,"1812301",0,0,{"$f":"E581+F581","v":0},null,"1812301",0,null,null,"1812301",0]
["1812701",2,null,"1812701",0,0,0,null,"1812701",0,null,null,"1812701",0]
["1813201",1,null,"1813201",0,0,0,null,"1813201",0,null,null,"1813201",0]
["1813701",3,null,"1813701",0,0,0,null,"1813701",0,null,null,"1813701",0]
["1814201",2,null,"1814201",0,0,0,null,"1814201",0,null,null,"1814201",0]
["1815101",2,null,"1815101",0,0,0,null,"1815101",0,null,null,"1815101",0]
["1815301",2,null,"1815301",0,0,0,null,"1815301",0,null,null,"1815301",0]
["1816001",2,null,"1816001",0,0,0,null,"1816001",0,null,null,"1816001",0]
["1816801",1,null,"1816801",0,0,0,null,"1816801",0,null,null,"1816801",0]
["1816901",3,null,"1816901",0,0,0,null,"1816901",0,null,null,"1816901",4]
["1817001",1,null,"1817001",0,0,0,null,"1817001",0.5,null,null,"1817001",0]
["1817401",3,null,"1817401",0,0,0,null,"1817401",0,null,null,"1817401",0]
["1817901",3,null,"1817901",0,0,0,null,"1817901",0,null,null,"1817901",1]
["1818201",2,null,"1818201",1,0,1,null,"1818201",0,null,null,"1818201",0]
["1818901",1,null,"1818901",0,0,0,null,"1818901",1,null,null,"1818901",0]
["1820001",2,null,"1820001",0,0,0,null,"1820001",0,null,null,"1820001",0]
["1820601",1,null,"1820601",0,0,0,null,"1820601",0,null,null,"1820601",0]
["1820701",1,null,"1820701",0,0,0,null,"1820701",0,null,null,"1820701",0]
["1820801",3,null,"1820801",0,0,0,null,"1820801",0,null,null,"1820801",0]
["1821701",3,null,"1821701",1,0,1,null,"1821701",0,null,null,"1821701",0]
["1822601",3,null,"1822601",1,0,1,null,"1822601",0,null,null,"1822601",0]
["1822801",1,null,"1822801",0,0,0,null,"1822801",0,null,null,"1822801",0]
["1823001",3,null,"1823001",0,0,0,null,"1823001",0,null,null,"1823001",0]
["1823501",2,null,"1823501",1,0,1,null,"1823501",0,null,null,"1823501",0]
["1823701",3,null,"1823701",0,0,0,null,"1823701",0,null,null,"1823701",0]
["1823801",3,null,"1823801",0,0,0,null,"1823801",0,null,null,"1823801",0]
["1824001",3,null,"1824001",1,0,1,null,"1824001",0,null,null,"1824001",0]
["1824501",1,null,"1824501",0,0,0,null,"1824501",0,null,null,"1824501",0]
["1825501",2,null,"1825501",0,0,0,null,"1825501",0,null,null,"1825501",0]
["1825901",3,null,"1825901",0,0,0,null,"1825901",0,null,null,"1825901",0]
["1826401",4,null,"1826401",0,0,0,null,"1826401",0,null,null,"1826401",0]
["1826801",2,null,"1826801",0,0,0,null,"1826801",0,null,null,"1826801",0]
["1827201",2,null,"1827201",0,0,0,null,"1827201",0,null,null,"1827201",0]
["1828301",2,null,"1828301",0,0,0,null,"1828301",1,null,null,"1828301",0]
["1830601",2,null,"1830601",1,0,1,null,"1830601",0,null,null,"1830601",0]
["1832101",3,null,"1832101",0,0,0,null,"1832101",0,null,null,"1832101",0]
["1834001",3,null,"1834001",0,0,0,null,"1834001",0,null,null,"1834001",0]
["1834401",2,null,"1834401",1,0,1,null,"1834401",0,null,null,"1834401",0]
["1835201",3,null,"1835201",0,0,0,null,"1835201",0,null,null,"1835201",0]
["1835401",2,null,"1835401",0,0,0,null,"1835401",0,null,null,"1835401",0]
["1835501",1,null,"1835501",0,0,0,null,"1835501",0,null,null,"1835501",2]
["1835601",2,null,"1835601",0,0,0,null,"1835601",0,null,null,"1835601",0]
["1835801",1,null,"1835801",0,0,0,null,"1835801",0,null,null,"1835801",0]
["1836301",3,null,"1836301",0,0,0,null,"1836301",0,null,null,"1836301",0]
["1837701",2,null,"1837701",0,0,0,null,"1837701",1,null,null,"1837701",0]
["1838701",3,null,"1838701",1,0,1,null,"1838701",0,null,null,"1838701",0]
["1839001",1,null,"1839001",0,0,0,null,"1839001",0,null,null,"1839001",0]
["1839601",3,null,"1839601",3,0,3,null,"1839601",0,null,null,"1839601",0]
["1840601",2,null,"1840601",0,0,0,null,"1840601",0,null,null,"1840601",0]
["1842501",2,null,"1842501",0,0,0,null,"1842501",0,null,null,"1842501",0]
["1843401",2,null,"1843401",1,0,1,null,"1843401",0,null,null,"1843401",0]
["1846201",2,null,"1846201",0,0,0,null,"1846201",0,null,null,"1846201",0]
["1848101",2,null,"1848101",0,0,0,null,"1848101",0,null,null,"1848101",0]
["1848701",2,null,"1848701",0,0,0,null,"1848701",0,null,null,"1848701",0]
["1849001",1,null,"1849001",0,0,0,null,"1849001",1,null,null,"1849001",0]
["1849301",2,null,"1849301",2,0,2,null,"1849301",0,null,null,"1849301",0]
["1850101",1,null,"1850101",0,0,0,null,"1850101",0,null,null,"1850101",0]
["1851301",1,null,"1851301",0,0,0,null,"1851301",0,null,null,"1851301",0]
["1851601",1,null,"1851601",0,0,0,null,"1851601",0,null,null,"1851601",1]
["1851701",1,null,"1851701",0,0,0,null,"1851701",0,null,null,"1851701",0]
["1851801",1,null,"1851801",0,0,0,null,"1851801",0,null,null,"1851801",0]
["1852701",1,null,"1852701",0,0,0,null,"1852701",0,null,null,"1852701",0]
["1852901",5,null,"1852901",0,0,0,null,"1852901",0,null,null,"1852901",0]
["1853601",2,null,"1853601",0,0,0,null,"1853601",0,null,null,"1853601",0]
["1854301",1,null,"1854301",1,0,{"$f":"E645+F645","v":1},null,"1854301",0,null,null,"1854301",1]
["1854401",2,null,"1854401",1,0,1,null,"1854401",0,null,null,"1854401",0]
["1855801",1,null,"1855801",0,0,0,null,"1855801",0,null,null,"1855801",0]
["1857101",3,null,"1857101",0,0,0,null,"1857101",0,null,null,"1857101",0]
["1857501",2,null,"1857501",0,0,0,null,"1857501",0,null,null,"1857501",0]
["1857701",1,null,"1857701",0,0,0,null,"1857701",0,null,null,"1857701",0]
["1858301",2,null,"1858301",0,0,0,null,"1858301",0,null,null,"1858301",0]
["1859001",3,null,"1859001",0,0,0,null,"1859001",0,null,null,"1859001",0]
["1859601",1,null,"1859601",1,0,1,null,"1859601",0,null,null,"1859601",0]
["1860001",4,null,"1860001",1,0,1,null,"1860001",0,null,null,"1860001",0]
["1860601",1,null,"1860601",0,0,0,null,"1860601",0,null,null,"1860601",0]
["1860701",1,null,"1860701",0,0,0,null,"1860701",0,null,null,"1860701",0]
["1860901",1,null,"1860901",0,0,0,null,"1860901",0,null,null,"1860901",0]
["1861001",4,null,"1861001",1,0,1,null,"1861001",1,null,null,"1861001",0]
["1861101",1,null,"1861101",0,0,0,null,"1861101",0,null,null,"1861101",0]
["1861401",2,null,"1861401",0,0,0,null,"1861401",0,null,null,"1861401",1]
["1861801",4,null,"1861801",0,0,0,null,"1861801",0,null,null,"1861801",0]
["1862101",3,null,"1862101",0,0,0,null,"1862101",0,null,null,"1862101",0]
["1863601",2,null,"1863601",0,0,0,null,"1863601",0,null,null,"1863601",0]
["1864301",3,null,"1864301",0,0,0,null,"1864301",0,null,null,"1864301",0]
["1865001",2,null,"1865001",1,0,1,null,"1865001",1,null,null,"1865001",0]
["1866401",3,null,"1866401",0,0,0,null,"1866401",0,null,null,"1866401",0]
["1867901",2,null,"1867901",0,0,0,null,"1867901",0,null,null,"1867901",0]
["1868301",3,null,"1868301",0,0,0,null,"1868301",0,null,null,"1868301",0]
["1868601",3,null,"1868601",0,0,0,null,"1868601",0,null,null,"1868601",0]
["1869301",3,null,"1869301",0,0,0,null,"1869301",1,null,null,"1869301",1]
["1869601",2,null,"1869601",0,0,0,null,"1869601",0,null,null,"1869601",1]
["1870001",2,null,"1870001",0,0,0,null,"1870001",0,null,null,"1870001",1]
["1870101",1,null,"1870101",1,0,1,null,"1870101",0,null,null,"1870101",0]
["1871001",1,null,"1871001",0,0,0,null,"1871001",0,null,null,"1871001",1]
["1871301",3,null,"1871301",1,0,1,null,"1871301",0,null,null,"1871301",0]
["1871401",1,null,"1871401",0,0,0,null,"1871401",0,null,null,"1871401",1]
["1871601",1,null,"1871601",0,0,0,null,"1871601",0,null,null,"1871601",0]
["1872101",1,null,"1872101",0,0,0,null,"1872101",0,null,null,"1872101",0]
["1872501",4,null,"1872501",0,0,0,null,"1872501",0,null,null,"1872501",0]
["1872701",1,null,"1872701",0,0,0,null,"1872701",0,null,null,"1872701",0]
["1872901",3,null,"1872901",0,0,0,null,"1872901",0,null,null,"1872901",1]
["1873601",2,null,"1873601",0,0,0,null,"1873601",0,null,null,"1873601",1]
["1873801",2,null,"1873801",0,0,0,null,"1873801",0,null,null,"1873801",0]
["1874101",1,null,"1874101",0,0,0,null,"1874101",0,null,null,"1874101",0]
["1874301",2,null,"1874301",2,0,2,null,"1874301",0,null,null,"1874301",0]
["1874801",3,null,"1874801",0,0,0,null,"1874801",0,null,null,"1874801",0]
["1875001",2,null,"1875001",0,0,0,null,"1875001",0,null,null,"1875001",0]
["1875401",1,null,"1875401",0,0,0,null,"1875401",0,null,null,"1875401",0]
["1876001",1,null,"1876001",0,0,0,null,"1876001",0,null,null,"1876001",0]
["1876801",5,null,"1876801",1,0,1,null,"1876801",0,null,null,"1876801",0]
["1877401",1,null,"1877401",0,0,0,null,"1877401",0.5,null,null,"1877401",0]
["1877901",3,null,"1877901",1,0,1,null,"1877901",0,null,null,"1877901",0]
["1878601",4,null,"1878601",0,0,0,null,"1878601",0,null,null,"1878601",0]
["1881401",4,null,"1881401",0,0,0,null,"1881401",0,null,null,"1881401",0]
["1883801",1,null,"1883801",0,0,0,null,"1883801",0,null,null,"1883801",0]
["1884201",1,null,"1884201",0,0,0,null,"1884201",0,null,null,"1884201",0]
["1884301",2,null,"1884301",0,0,0,null,"1884301",1,null,null,"1884301",0]
["1885001",5,null,"1885001",0,0,0,null,"1885001",1,null,null,"1885001",0]
["1885301",1,null,"1885301",0,0,0,null,"1885301",0,null,null,"1885301",0]
["1886601",1,null,"1886601",0,0,0,null,"1886601",0,null,null,"1886601",0]
["1886701",1,null,"1886701",1,0,1,null,"1886701",0,null,null,"1886701",1]
["1886801",2,null,"1886801",0,0,0,null,"1886801",0,null,null,"1886801",1]
["1887101",2,null,"1887101",0,0,0,null,"1887101",1,null,null,"1887101",0]
["1887801",2,null,"1887801",0,0,0,null,"1887801",0,null,null,"1887801",0]
["1888001",2,null,"1888001",0,0,0,null,"1888001",0,null,null,"1888001",0]
["1888101",2,null,"1888101",0,0,0,null,"1888101",0,null,null,"1888101",0]
["1888201",1,null,"1888201",0,0,0,null,"1888201",0,null,null,"1888201",0]
["1888601",2,null,"1888601",0,0,0,null,"1888601",0,null,null,"1888601",0]
["1889301",4,null,"1889301",0,0,{"$f":"E709+F709","v":0},null,"1889301",0,null,null,"1889301",0]
["1889801",1,null,"1889801",0,0,0,null,"1889801",0,null,null,"1889801",0]
["1890101",1,null,"1890101",0,0,0,null,"1890101",0.5,null,null,"1890101",0]
["1890701",3,null,"1890701",0,0,0,null,"1890701",1,null,null,"1890701",0]
["1891401",3,null,"1891401",1,0,1,null,"1891401",0,null,null,"1891401",0]
["1891701",1,null,"1891701",0,0,0,null,"1891701",1,null,null,"1891701",0]
["1892101",1,null,"1892101",0,0,0,null,"1892101",0,null,null,"1892101",0]
["1892801",2,null,"1892801",0,0,0,null,"1892801",0,null,null,"1892801",0]
["1894301",3,null,"1894301",1,0,1,null,"1894301",0,null,null,"1894301",0]
["(blank)",null,null,"Grand Total",288,53,341,null,"Grand Total",17,null,null,"Grand Total",83]
["Grand Total",1133]

{"sheet":"Norm Enroll & FTEs","index":2,"n_rows":1143,"n_cols":42,"rows_kept":1143,"cut":false,"hidden":true,"merged":[]}
[null,1,2,3,4,5,6,7,8,9,10,11,12,13,14,15,16,17,18,19,20,21,22,23,24,25,26,27,28,29,30,31,32,33,34,35,36,37,38,39,40]
[]
["Home School","Cost Center","School Name","Norm Category","K-3","4-5 (6)","6-8","9-10","9-12","SDC K-5(6)","SDC 6-8","SDC 9-12","Pre-K SP ED","ST_PRE_SCH_PROG","TE","Grand Total","Total K-3 FTEs","Total 4-6 FTEs","Total 6-8 FTEs","Total 9-10 FTEs","Total 9-12 FTEs","Total FTEs","20-21 Norm Day Tchrs K-3","20-21 Norm Day Tchrs 4-6","20-21 Norm Day Tchrs 6-8","20-21 Norm Day Tchrs 9-10","20-21 Norm Day Tchrs 9-12","20-21 Norm Day Total Tchrs","Home School Count","Sort Count","Index","Admin FTEs","Counselor FTEs","Clerical FTEs","20-21 Norm Day Admin","20-21 Norm Day Counselors","20-21 Norm Day Clerical","20-21 ND Hold Harmless","20-21 ND Mitigation Positions","21-22 ECAST Tchr Appeals","20-21 ND Counselors (Plus 17)","Note"]
["1194901","1194901",{"$f":"VLOOKUP(B4, 'School List'!F:G,2,FALSE)","v":"Marlton"},"PHBAO",35,33,0,0,0,35,12,39,6,0,0,160,2,2,0,0,0,4,2,2,0,0,0,4,{"$f":"VLOOKUP(A4,'Pivot Norm'!A:B,2,FALSE)","v":1},1,{"$f":"A4&AD4","v":"11949011"},0,0,0,0,0,0,1,0,0,0]
["1201401","1201401",{"$f":"VLOOKUP(B5, 'School List'!F:G,2,FALSE)","v":"Albion El"},"PHBAO",76,64,0,0,0,10,null,null,11,0,0,161,4,3,0,0,0,7,4,3,0,0,0,7,{"$f":"VLOOKUP(A5,'Pivot Norm'!A:B,2,FALSE)","v":1},{"$f":"IF(A5=A4,AD4+1,1)","v":1},"12014011",1,0,2,1,0,2,0,0,0,0]
["1202701","1202701",{"$f":"VLOOKUP(B6, 'School List'!F:G,2,FALSE)","v":"Aldama El"},"PHBAO",107,52,0,0,0,9,null,null,0,0,12,180,5,2,0,0,0,7,5,3,0,0,0,8,{"$f":"VLOOKUP(A6,'Pivot Norm'!A:B,2,FALSE)","v":2},{"$f":"IF(A6=A5,AD5+1,1)","v":1},"12027011",1,0,2,1,0,2,0,0,0,0]
["1202701","1202702",{"$f":"VLOOKUP(B7, 'School List'!F:G,2,FALSE)","v":"Aldama El DTS"},"PHBAO",185,72,0,0,0,null,null,null,0,0,0,257,8,3,0,0,0,11,7,3,0,0,0,10,{"$f":"VLOOKUP(A7,'Pivot Norm'!A:B,2,FALSE)","v":2},2,"12027012",0,0,0,0,0,0,1,1,0,0]
["1204101","1204101",{"$f":"VLOOKUP(B8, 'School List'!F:G,2,FALSE)","v":"Alexandria El"},"PHBAO",215,172,0,0,0,19,null,null,13,0,18,437,9,7,0,0,0,16,11,7,0,0,0,18,{"$f":"VLOOKUP(A8,'Pivot Norm'!A:B,2,FALSE)","v":2},1,"12041011",1,0,2,1,0,2,1,0,0,0]
["1204101","1204102",{"$f":"VLOOKUP(B9, 'School List'!F:G,2,FALSE)","v":"Alexandria El DTS"},"PHBAO",79,0,0,0,0,null,null,null,0,0,0,79,4,0,0,0,0,4,3,0,0,0,0,3,{"$f":"VLOOKUP(A9,'Pivot Norm'!A:B,2,FALSE)","v":2},2,"12041012",0,0,0,0,0,0,0,0,0,0]
["1204201","1204201",{"$f":"VLOOKUP(B10, 'School List'!F:G,2,FALSE)","v":"Harvard El"},"PHBAO",111,99,0,0,0,12,null,null,12,0,0,234,5,4,0,0,0,9,7,4,0,0,0,11,{"$f":"VLOOKUP(A10,'Pivot Norm'!A:B,2,FALSE)","v":2},1,"12042011",1,0,2,1,0,2,0,0,0,0]
["1204201","1204202",{"$f":"VLOOKUP(B11, 'School List'!F:G,2,FALSE)","v":"Harvard El DTS"},"PHBAO",55,0,0,0,0,null,null,null,0,0,0,55,3,0,0,0,0,3,2,0,0,0,0,2,{"$f":"VLOOKUP(A11,'Pivot Norm'!A:B,2,FALSE)","v":2},2,"12042012",0,0,0,0,0,0,0,0,0,0]
["1206801","1206801",{"$f":"VLOOKUP(B12, 'School List'!F:G,2,FALSE)","v":"Allesandro El"},"PHBAO",155,46,0,0,0,8,null,null,0,20,19,248,7,2,0,0,0,9,7,2,0,0,0,9,{"$f":"VLOOKUP(A12,'Pivot Norm'!A:B,2,FALSE)","v":2},1,"12068011",1,0,2,1,0,2,0,0,0,0]
["1206801","1206802",{"$f":"VLOOKUP(B13, 'School List'!F:G,2,FALSE)","v":"Allesndro Coop Lr Mg"},"Magnet 2",64,77,0,0,0,null,null,null,0,0,0,141,3,3,0,0,0,6,3,3,0,0,0,6,{"$f":"VLOOKUP(A13,'Pivot Norm'!A:B,2,FALSE)","v":2},2,"12068012",0,0,0,0,0,0,0,0,0,0]
["1208201","1208201",{"$f":"VLOOKUP(B14, 'School List'!F:G,2,FALSE)","v":"Alta Loma El"},"PHBAO",144,96,0,0,0,25,null,null,8,0,14,287,6,4,0,0,0,10,8,4,0,0,0,12,{"$f":"VLOOKUP(A14,'Pivot Norm'!A:B,2,FALSE)","v":2},1,"12082011",1,0,2,1,0,2,0,0,0,0]
["1208201","1208202",{"$f":"VLOOKUP(B15, 'School List'!F:G,2,FALSE)","v":"Alta Loma El DTS"},"PHBAO",88,19,0,0,0,null,null,null,0,0,0,107,4,1,0,0,0,5,4,0,0,0,0,4,{"$f":"VLOOKUP(A15,'Pivot Norm'!A:B,2,FALSE)","v":2},2,"12082012",0,0,0,0,0,0,0,0,0,0]
["1208901","1208901",{"$f":"VLOOKUP(B16, 'School List'!F:G,2,FALSE)","v":"Ambler El"},"PHBAO",184,89,0,0,0,31,null,null,10,0,13,327,8,4,0,0,0,12,9,4,0,0,0,13,{"$f":"VLOOKUP(A16,'Pivot Norm'!A:B,2,FALSE)","v":3},1,"12089011",1,0,2,1,0,2,0,0,0,0]
["1208901","1208902",{"$f":"VLOOKUP(B17, 'School List'!F:G,2,FALSE)","v":"Ambler Av Gifted Mag"},"Magnet 2",65,80,0,0,0,null,null,null,0,0,0,145,3,3,0,0,0,6,3,3,0,0,0,6,{"$f":"VLOOKUP(A17,'Pivot Norm'!A:B,2,FALSE)","v":3},2,"12089012",0,0,0,0,0,0,1,0,0,0]
["1208901","1208903",{"$f":"VLOOKUP(B18, 'School List'!F:G,2,FALSE)","v":"Ambler El DTS"},"PHBAO",81,15,0,0,0,null,null,null,0,0,0,96,4,1,0,0,0,5,4,0,0,0,0,4,{"$f":"VLOOKUP(A18,'Pivot Norm'!A:B,2,FALSE)","v":3},3,"12089013",0,0,0,0,0,0,0,0,0,0]
["1209601","1209601",{"$f":"VLOOKUP(B19, 'School List'!F:G,2,FALSE)","v":"Amestoy El"},"PHBAO",346,195,0,0,0,25,null,null,0,20,0,586,15,8,0,0,0,23,17,7,0,0,0,24,{"$f":"VLOOKUP(A19,'Pivot Norm'!A:B,2,FALSE)","v":3},1,"12096011",1,0,2,1,0,3,0,0,0,0]
["1209601","1209602",{"$f":"VLOOKUP(B20, 'School List'!F:G,2,FALSE)","v":"Amestoy ES Ml/MC Mag"},"Magnet 2",93,54,0,0,0,null,null,null,0,0,0,147,4,2,0,0,0,6,4,2,0,0,0,6,{"$f":"VLOOKUP(A20,'Pivot Norm'!A:B,2,FALSE)","v":3},2,"12096012",0,0,0,0,0,0,0,0,0,0]
["1209601","1209603",{"$f":"VLOOKUP(B21, 'School List'!F:G,2,FALSE)","v":"Amestoy El DTJ"},"PHBAO",18,0,0,0,0,null,null,null,null,null,null,18,1,0,0,0,0,1,0,0,0,0,0,0,{"$f":"VLOOKUP(A21,'Pivot Norm'!A:B,2,FALSE)","v":3},3,"12096013",0,0,0,0,0,0,0,0,0,0]
["1211001","1211001",{"$f":"VLOOKUP(B22, 'School List'!F:G,2,FALSE)","v":"Anatola El"},"PHBAO",205,98,0,0,0,34,null,null,0,0,14,351,9,4,0,0,0,13,9,4,0,0,0,13,{"$f":"VLOOKUP(A22,'Pivot Norm'!A:B,2,FALSE)","v":1},1,"12110011",1,0,2,1,0,2,0,0,0,0]
["1211701","1211701",{"$f":"VLOOKUP(B23, 'School List'!F:G,2,FALSE)","v":"Andasol El"},"PHBAO",281,132,0,0,0,29,null,null,5,19,0,466,12,5,0,0,0,17,11,6,0,0,0,17,{"$f":"VLOOKUP(A23,'Pivot Norm'!A:B,2,FALSE)","v":1},1,"12117011",1,0,2,1,0,2,1,0,0,0]
["1212301","1212301",{"$f":"VLOOKUP(B24, 'School List'!F:G,2,FALSE)","v":"Angeles Mesa El"},"PHBAO",95,55,0,0,0,16,null,null,23,0,6,195,4,3,0,0,0,7,5,2,0,0,0,7,{"$f":"VLOOKUP(A24,'Pivot Norm'!A:B,2,FALSE)","v":2},1,"12123011",1,0,2,1,0,2,0,0,0,0]
["1212301","1212302",{"$f":"VLOOKUP(B25, 'School List'!F:G,2,FALSE)","v":"Angls Msa DREAMS Mg"},"Magnet 2",70,51,0,0,0,null,null,null,0,0,0,121,3,2,0,0,0,5,3,2,0,0,0,5,{"$f":"VLOOKUP(A25,'Pivot Norm'!A:B,2,FALSE)","v":2},2,"12123012",0,0,0,0,0,0,0,0,0,0]
["1213701","1213701",{"$f":"VLOOKUP(B26, 'School List'!F:G,2,FALSE)","v":"Ann El"},"PHBAO",52,28,0,0,0,null,null,null,0,0,0,80,3,2,0,0,0,5,2,2,0,0,0,4,{"$f":"VLOOKUP(A26,'Pivot Norm'!A:B,2,FALSE)","v":1},1,"12137011",1,0,2,1,0,2,1,0,0,0]
["1214601","1214601",{"$f":"VLOOKUP(B27, 'School List'!F:G,2,FALSE)","v":"Annalee El"},"PHBAO",112,45,0,0,0,10,null,null,0,3,0,170,5,2,0,0,0,7,5,2,0,0,0,7,{"$f":"VLOOKUP(A27,'Pivot Norm'!A:B,2,FALSE)","v":2},1,"12146011",1,0,2,1,0,2,0,0,0,0]
["1214601","1214602",{"$f":"VLOOKUP(B28, 'School List'!F:G,2,FALSE)","v":"Annalee Av STEAM Mag"},"Magnet 2",26,38,0,0,0,null,null,null,0,0,0,64,2,2,0,0,0,4,2,2,0,0,0,4,{"$f":"VLOOKUP(A28,'Pivot Norm'!A:B,2,FALSE)","v":2},2,"12146012",0,0,0,0,0,0,0,0,0,0]
["1215101","1215101",{"$f":"VLOOKUP(B29, 'School List'!F:G,2,FALSE)","v":"Annandale El"},"PHBAO",63,39,0,0,0,24,null,null,9,0,0,135,3,2,0,0,0,5,3,2,0,0,0,5,{"$f":"VLOOKUP(A29,'Pivot Norm'!A:B,2,FALSE)","v":1},1,"12151011",1,0,2,1,0,2,0,0,0,0]
["1216401","1216401",{"$f":"VLOOKUP(B30, 'School List'!F:G,2,FALSE)","v":"Apperson El"},"Non-PHBAO",257,117,0,0,0,5,null,null,6,0,15,400,11,4,0,0,0,15,12,4,0,0,0,16,{"$f":"VLOOKUP(A30,'Pivot Norm'!A:B,2,FALSE)","v":1},1,"12164011",1,0,2,1,0,2,0,0,0,0]
["1217801","1217801",{"$f":"VLOOKUP(B31, 'School List'!F:G,2,FALSE)","v":"Aragon El"},"PHBAO",141,63,0,0,0,4,null,null,0,0,3,211,6,3,0,0,0,9,7,3,0,0,0,10,{"$f":"VLOOKUP(A31,'Pivot Norm'!A:B,2,FALSE)","v":1},1,"12178011",1,0,2,1,0,2,0,0,0,0]
["1219201","1219201",{"$f":"VLOOKUP(B32, 'School List'!F:G,2,FALSE)","v":"Arlington Hts El"},"PHBAO",92,117,0,0,0,19,null,null,0,0,8,236,4,5,0,0,0,9,6,5,0,0,0,11,{"$f":"VLOOKUP(A32,'Pivot Norm'!A:B,2,FALSE)","v":2},1,"12192011",1,0,2,1,0,2,1,0,0,0]
["1219201","1219202",{"$f":"VLOOKUP(B33, 'School List'!F:G,2,FALSE)","v":"Arlington Hts DTS"},"PHBAO",65,0,0,0,0,null,null,null,0,0,0,65,3,0,0,0,0,3,2,0,0,0,0,2,{"$f":"VLOOKUP(A33,'Pivot Norm'!A:B,2,FALSE)","v":2},2,"12192012",0,0,0,0,0,0,0,0,0,0]
["1220501","1220501",{"$f":"VLOOKUP(B34, 'School List'!F:G,2,FALSE)","v":"Arminta El"},"PHBAO",205,137,0,0,0,22,null,null,11,0,12,387,9,6,0,0,0,15,11,5,0,0,0,16,{"$f":"VLOOKUP(A34,'Pivot Norm'!A:B,2,FALSE)","v":1},1,"12205011",1,0,2,1,0,2,0,0,1,0]
["1221901","1221901",{"$f":"VLOOKUP(B35, 'School List'!F:G,2,FALSE)","v":"Ascot El"},"PHBAO",437,241,0,0,0,71,null,null,0,0,26,775,19,9,0,0,0,28,19,9,0,0,0,28,{"$f":"VLOOKUP(A35,'Pivot Norm'!A:B,2,FALSE)","v":1},1,"12219011",1,0,3,1,0,3,1,0,0,0]
["1223301","1223301",{"$f":"VLOOKUP(B36, 'School List'!F:G,2,FALSE)","v":"Atwater El"},"PHBAO",60,63,0,0,0,43,null,null,8,0,15,189,3,3,0,0,0,6,3,3,0,0,0,6,{"$f":"VLOOKUP(A36,'Pivot Norm'!A:B,2,FALSE)","v":2},1,"12233011",1,0,2,1,0,2,0,0,0,0]
["1223301","1223302",{"$f":"VLOOKUP(B37, 'School List'!F:G,2,FALSE)","v":"Atwater El DTS"},"PHBAO",138,19,0,0,0,null,null,null,0,0,0,157,6,1,0,0,0,7,5,0,0,0,0,5,{"$f":"VLOOKUP(A37,'Pivot Norm'!A:B,2,FALSE)","v":2},2,"12233012",0,0,0,0,0,0,1,0,0,0]
["1224701","1224701",{"$f":"VLOOKUP(B38, 'School List'!F:G,2,FALSE)","v":"Avalon Gardens El"},"PHBAO",79,65,0,0,0,21,null,null,6,0,0,171,4,3,0,0,0,7,4,3,0,0,0,7,{"$f":"VLOOKUP(A38,'Pivot Norm'!A:B,2,FALSE)","v":1},1,"12247011",1,0,2,1,0,2,0,0,0,0]
["1225001","1225001",{"$f":"VLOOKUP(B39, 'School List'!F:G,2,FALSE)","v":"Acad For Enrch Sci"},"Magnet 1",185,112,0,0,0,10,null,null,0,0,0,307,8,4,0,0,0,12,8,4,0,0,0,12,{"$f":"VLOOKUP(A39,'Pivot Norm'!A:B,2,FALSE)","v":1},1,"12250011",1,0,2,1,0,2,0,0,0,0]
["1226901","1226901",{"$f":"VLOOKUP(B40, 'School List'!F:G,2,FALSE)","v":"Balboa G/HA Mag"},"Magnet 1",404,300,0,0,0,null,null,null,0,0,0,704,17,10,0,0,0,27,17,10,0,0,0,27,{"$f":"VLOOKUP(A40,'Pivot Norm'!A:B,2,FALSE)","v":1},1,"12269011",1,0,2,1,0,2,0,0,0,0]
["1227401","1227401",{"$f":"VLOOKUP(B41, 'School List'!F:G,2,FALSE)","v":"Baldwin Hills El"},"PHBAO",192,53,0,0,0,12,null,null,0,0,0,257,8,2,0,0,0,10,9,2,0,0,0,11,{"$f":"VLOOKUP(A41,'Pivot Norm'!A:B,2,FALSE)","v":2},1,"12274011",1,0,2,1,0,2,0,0,0,0]
["1227401","1227402",{"$f":"VLOOKUP(B42, 'School List'!F:G,2,FALSE)","v":"Bldwn Hls Gifted Mag"},"Magnet 2",85,98,0,0,0,null,null,null,0,0,0,183,4,4,0,0,0,8,4,4,0,0,0,8,{"$f":"VLOOKUP(A42,'Pivot Norm'!A:B,2,FALSE)","v":2},2,"12274012",0,0,0,0,0,0,0,0,0,0]
["1228801","1228801",{"$f":"VLOOKUP(B43, 'School List'!F:G,2,FALSE)","v":"Bandini El"},"PHBAO",125,59,0,0,0,13,null,null,6,0,13,216,6,3,0,0,0,9,6,3,0,0,0,9,{"$f":"VLOOKUP(A43,'Pivot Norm'!A:B,2,FALSE)","v":2},1,"12288011",1,0,2,1,0,2,0,0,0,0]
["1228801","1228802",{"$f":"VLOOKUP(B44, 'School List'!F:G,2,FALSE)","v":"Bandini St El DTS"},"PHBAO",30,0,0,0,0,null,null,null,0,0,0,30,2,0,0,0,0,2,1,0,0,0,0,1,{"$f":"VLOOKUP(A44,'Pivot Norm'!A:B,2,FALSE)","v":2},2,"12288012",0,0,0,0,0,0,0,0,0,0]
["1230101","1230101",{"$f":"VLOOKUP(B45, 'School List'!F:G,2,FALSE)","v":"De La Torre Jr El"},"PHBAO",247,100,203,0,0,21,null,null,0,20,0,591,11,4,8,0,0,23,11,5,5,0,0,21,{"$f":"VLOOKUP(A45,'Pivot Norm'!A:B,2,FALSE)","v":2},1,"12301011",2,0.5,2,1,0.5,2,0,0,0,0]
["1230101","1230102",{"$f":"VLOOKUP(B46, 'School List'!F:G,2,FALSE)","v":"De La Torre STEAM Mg"},"Magnet 2",64,52,0,0,0,null,null,null,0,0,0,116,3,2,0,0,0,5,3,2,0,0,0,5,{"$f":"VLOOKUP(A46,'Pivot Norm'!A:B,2,FALSE)","v":2},2,"12301012",0,0,0,0,0,0,0,0,0,0]
["1230201","1230201",{"$f":"VLOOKUP(B47, 'School List'!F:G,2,FALSE)","v":"Obama El"},"PHBAO",371,202,0,0,0,7,null,null,0,0,0,580,16,8,0,0,0,24,18,8,0,0,0,26,{"$f":"VLOOKUP(A47,'Pivot Norm'!A:B,2,FALSE)","v":1},1,"12302011",1,0,2,1,0,2,0,1,0,0]
["1230301","1230301",{"$f":"VLOOKUP(B48, 'School List'!F:G,2,FALSE)","v":"Porter Ranch School"},"Non-PHBAO",489,232,378,0,0,null,null,null,0,0,0,1099,21,8,13,0,0,42,20,7,13,0,0,40,{"$f":"VLOOKUP(A48,'Pivot Norm'!A:B,2,FALSE)","v":2},1,"12303011",2,1,4,2,0.5,3,0,0,0,0]
["1230301","1230302",{"$f":"VLOOKUP(B49, 'School List'!F:G,2,FALSE)","v":"Porter Ranch Sch DTK"},"PHBAO",96,46,0,0,0,null,null,null,0,0,0,142,4,2,0,0,0,6,5,2,0,0,0,7,{"$f":"VLOOKUP(A49,'Pivot Norm'!A:B,2,FALSE)","v":2},2,"12303012",0,0,0,0,0,0,0,0,0,0]
["1230601","1230601",{"$f":"VLOOKUP(B50, 'School List'!F:G,2,FALSE)","v":"Playa Vista El Sch"},"Non-PHBAO",353,151,0,0,0,null,null,null,0,0,0,504,15,5,0,0,0,20,16,5,0,0,0,21,{"$f":"VLOOKUP(A50,'Pivot Norm'!A:B,2,FALSE)","v":1},1,"12306011",1,0,2,1,0,2,1,2,0,0]
["1230701","1230701",{"$f":"VLOOKUP(B51, 'School List'!F:G,2,FALSE)","v":"Lee Med Hlth Mag"},"Magnet 2",461,223,0,0,0,null,null,null,0,0,0,684,20,9,0,0,0,29,19,8,0,0,0,27,{"$f":"VLOOKUP(A51,'Pivot Norm'!A:B,2,FALSE)","v":1},1,"12307011",1,0,2,1,0,2,0,0,0,0]
["1230801","1230801",{"$f":"VLOOKUP(B52, 'School List'!F:G,2,FALSE)","v":"Ride El Smart Acad"},"PHBAO",257,165,0,0,0,11,null,null,0,0,0,433,11,7,0,0,0,18,13,6,0,0,0,19,{"$f":"VLOOKUP(A52,'Pivot Norm'!A:B,2,FALSE)","v":1},1,"12308011",1,0,2,1,0,2,0,0,0,0]
["1230901","1230901",{"$f":"VLOOKUP(B53, 'School List'!F:G,2,FALSE)","v":"Willow El"},"PHBAO",139,72,0,0,0,11,null,null,12,0,0,234,6,3,0,0,0,9,6,4,0,0,0,10,{"$f":"VLOOKUP(A53,'Pivot Norm'!A:B,2,FALSE)","v":2},1,"12309011",1,0,2,1,0,2,0,0,0,0]
["1230901","1230902",{"$f":"VLOOKUP(B54, 'School List'!F:G,2,FALSE)","v":"Willow El DTS"},"PHBAO",184,79,0,0,0,null,null,null,0,0,0,263,8,3,0,0,0,11,8,3,0,0,0,11,{"$f":"VLOOKUP(A54,'Pivot Norm'!A:B,2,FALSE)","v":2},2,"12309012",0,0,0,0,0,0,0,0,0,0]
["1231101","1231101",{"$f":"VLOOKUP(B55, 'School List'!F:G,2,FALSE)","v":"Poindexter Lamotte El"},"PHBAO",273,191,0,0,0,26,null,null,0,0,0,490,12,8,0,0,0,20,12,8,0,0,0,20,{"$f":"VLOOKUP(A55,'Pivot Norm'!A:B,2,FALSE)","v":1},1,"12311011",1,0,2,1,0,2,1,0,0,0]
["1231201","1231201",{"$f":"VLOOKUP(B56, 'School List'!F:G,2,FALSE)","v":"Lawson Acad A/M/S"},"PHBAO",257,207,0,0,0,24,null,null,0,0,0,488,11,8,0,0,0,19,12,9,0,0,0,21,{"$f":"VLOOKUP(A56,'Pivot Norm'!A:B,2,FALSE)","v":1},1,"12312011",1,0,2,1,0,2,1,0,0,0]
["1231301","1231301",{"$f":"VLOOKUP(B57, 'School List'!F:G,2,FALSE)","v":"Moore M/S/T Acad"},"PHBAO",338,192,0,0,0,10,null,null,0,0,0,540,15,8,0,0,0,23,16,8,0,0,0,24,{"$f":"VLOOKUP(A57,'Pivot Norm'!A:B,2,FALSE)","v":1},1,"12313011",1,0,2,1,0,2,0,0,0,0]
["1231501","1231501",{"$f":"VLOOKUP(B58, 'School List'!F:G,2,FALSE)","v":"Barton Hill El"},"PHBAO",215,94,0,0,0,19,null,null,7,8,7,350,9,4,0,0,0,13,9,5,0,0,0,14,{"$f":"VLOOKUP(A58,'Pivot Norm'!A:B,2,FALSE)","v":2},1,"12315011",1,0,2,1,0,2,1,0,0,0]
["1231501","1231502",{"$f":"VLOOKUP(B59, 'School List'!F:G,2,FALSE)","v":"Barton Hill M STEAM Mg"},"Magnet 2",72,54,0,0,0,null,null,null,0,0,0,126,3,2,0,0,0,5,3,2,0,0,0,5,{"$f":"VLOOKUP(A59,'Pivot Norm'!A:B,2,FALSE)","v":2},2,"12315012",0,0,0,0,0,0,0,0,0,0]
["1232301","1232301",{"$f":"VLOOKUP(B60, 'School List'!F:G,2,FALSE)","v":"Bassett El"},"PHBAO",300,120,0,0,0,31,null,null,16,0,27,494,13,5,0,0,0,18,16,7,0,0,0,23,{"$f":"VLOOKUP(A60,'Pivot Norm'!A:B,2,FALSE)","v":2},1,"12323011",1,0,2,1,0,2,1,1,0,0]
["1232301","1232302",{"$f":"VLOOKUP(B61, 'School List'!F:G,2,FALSE)","v":"Bassett ES STEM Mag"},"Magnet 2",88,50,0,0,0,null,null,null,null,null,null,138,4,2,0,0,0,6,0,0,0,0,0,0,{"$f":"VLOOKUP(A61,'Pivot Norm'!A:B,2,FALSE)","v":2},2,"12323012",0,0,0,0,0,0,0,0,0,0]
["1232901","1232901",{"$f":"VLOOKUP(B62, 'School List'!F:G,2,FALSE)","v":"Beachy El"},"PHBAO",282,124,0,0,0,31,null,null,18,10,7,472,12,5,0,0,0,17,12,5,0,0,0,17,{"$f":"VLOOKUP(A62,'Pivot Norm'!A:B,2,FALSE)","v":1},1,"12329011",1,0,2,1,0,2,0,0,0,0]
["1233501","1233501",{"$f":"VLOOKUP(B63, 'School List'!F:G,2,FALSE)","v":"Beckford Chtr Enr St"},"Non-PHBAO",405,189,0,0,0,null,null,null,0,0,0,594,17,6,0,0,0,23,17,6,0,0,0,23,{"$f":"VLOOKUP(A63,'Pivot Norm'!A:B,2,FALSE)","v":1},1,"12335011",1,0,2,1,0,2,1,0,1,0]
["1234201","1234201",{"$f":"VLOOKUP(B64, 'School List'!F:G,2,FALSE)","v":"Beethoven El"},"Non-PHBAO",224,124,0,0,0,null,null,null,7,0,0,355,10,4,0,0,0,14,10,4,0,0,0,14,{"$f":"VLOOKUP(A64,'Pivot Norm'!A:B,2,FALSE)","v":1},1,"12342011",1,0,2,1,0,2,1,1,0,0]
["1236901","1236901",{"$f":"VLOOKUP(B65, 'School List'!F:G,2,FALSE)","v":"RFK Ambsdr Glbl Edu"},"PHBAO",77,49,0,0,0,18,null,null,0,0,0,144,4,2,0,0,0,6,4,2,0,0,0,6,{"$f":"VLOOKUP(A65,'Pivot Norm'!A:B,2,FALSE)","v":3},1,"12369011",1,0,2,1,0,2,0,0,0,0]
["1236901","1236902",{"$f":"VLOOKUP(B66, 'School List'!F:G,2,FALSE)","v":"RFK Ambsdr Gbl DOS"},"PHBAO",74,43,0,0,0,null,null,null,0,0,0,117,4,2,0,0,0,6,4,2,0,0,0,6,{"$f":"VLOOKUP(A66,'Pivot Norm'!A:B,2,FALSE)","v":3},2,"12369012",0,0,0,0,0,0,0,0,0,0]
["1236901","1236903",{"$f":"VLOOKUP(B67, 'School List'!F:G,2,FALSE)","v":"RFK Ambsdr Gbl DTK"},"PHBAO",51,27,0,0,0,null,null,null,0,0,0,78,3,1,0,0,0,4,3,1,0,0,0,4,{"$f":"VLOOKUP(A67,'Pivot Norm'!A:B,2,FALSE)","v":3},3,"12369013",0,0,0,0,0,0,0,0,0,0]
["1237201","1237201",{"$f":"VLOOKUP(B68, 'School List'!F:G,2,FALSE)","v":"Ochoa LC"},"PHBAO",196,102,438,0,0,38,47,null,11,33,0,865,9,4,17,0,0,30,9,4,17,0,0,30,{"$f":"VLOOKUP(A68,'Pivot Norm'!A:B,2,FALSE)","v":2},1,{"$f":"A68&AD68","v":"12372011"},2,1,4,2,1,3,0,0,0,0]
["1237201","1237202",{"$f":"VLOOKUP(B69, 'School List'!F:G,2,FALSE)","v":"Ochoa LC DTS"},"PHBAO",284,123,0,0,0,null,null,null,0,0,0,407,12,5,0,0,0,17,12,5,0,0,0,17,{"$f":"VLOOKUP(A69,'Pivot Norm'!A:B,2,FALSE)","v":2},2,"12372012",0,0,0,0,0,0,1,0,0,0]
["1237501","1237501",{"$f":"VLOOKUP(B70, 'School List'!F:G,2,FALSE)","v":"Hughes El"},"PHBAO",288,190,0,0,0,36,null,null,3,12,0,529,12,8,0,0,0,20,13,8,0,0,0,21,{"$f":"VLOOKUP(A70,'Pivot Norm'!A:B,2,FALSE)","v":2},{"$f":"IF(A70=A69,AD69+1,1)","v":1},"12375011",1,0,2,1,0,2,0,0,0,0]
["1237501","1237502",{"$f":"VLOOKUP(B71, 'School List'!F:G,2,FALSE)","v":"Hughes El STEM Mag"},"Magnet 2",67,52,0,0,0,null,null,null,0,0,0,119,3,2,0,0,0,5,3,2,0,0,0,5,{"$f":"VLOOKUP(A71,'Pivot Norm'!A:B,2,FALSE)","v":2},2,"12375012",0,0,0,0,0,0,0,0,0,0]
["1237801","1237801",{"$f":"VLOOKUP(B72, 'School List'!F:G,2,FALSE)","v":"Nueva Vista El"},"PHBAO",375,196,0,0,0,21,null,null,10,0,17,619,16,8,0,0,0,24,17,8,0,0,0,25,{"$f":"VLOOKUP(A72,'Pivot Norm'!A:B,2,FALSE)","v":2},1,"12378011",1,0,2,1,0,3,1,0,0,0]
["1237801","1237802",{"$f":"VLOOKUP(B73, 'School List'!F:G,2,FALSE)","v":"Nueva Vista VAPA Mag"},"Magnet 2",40,83,0,0,0,null,null,null,0,0,0,123,2,4,0,0,0,6,2,3,0,0,0,5,{"$f":"VLOOKUP(A73,'Pivot Norm'!A:B,2,FALSE)","v":2},2,"12378012",0,0,0,0,0,0,1,0,0,0]
["1238101","1238101",{"$f":"VLOOKUP(B74, 'School List'!F:G,2,FALSE)","v":"Maywood El"},"PHBAO",286,86,0,0,0,16,null,null,0,0,21,409,12,4,0,0,0,16,13,4,0,0,0,17,{"$f":"VLOOKUP(A74,'Pivot Norm'!A:B,2,FALSE)","v":2},1,"12381011",1,0,2,1,0,2,0,0,0,0]
["1238101","1238102",{"$f":"VLOOKUP(B75, 'School List'!F:G,2,FALSE)","v":"Maywood CS Mag"},"Magnet 2",48,54,0,0,0,null,null,null,0,0,0,102,2,2,0,0,0,4,1,2,0,0,0,3,{"$f":"VLOOKUP(A75,'Pivot Norm'!A:B,2,FALSE)","v":2},2,"12381012",0,0,0,0,0,0,0,0,0,0]
["1238301","1238301",{"$f":"VLOOKUP(B76, 'School List'!F:G,2,FALSE)","v":"Esperanza El"},"PHBAO",380,244,0,0,0,25,null,null,4,0,24,677,16,10,0,0,0,26,17,11,0,0,0,28,{"$f":"VLOOKUP(A76,'Pivot Norm'!A:B,2,FALSE)","v":1},1,"12383011",1,0,2,1,0,2,0,1,0,0]
["1238401","1238401",{"$f":"VLOOKUP(B77, 'School List'!F:G,2,FALSE)","v":"Politi El"},"PHBAO",371,191,0,0,0,83,null,null,14,0,17,676,16,8,0,0,0,24,16,8,0,0,0,24,{"$f":"VLOOKUP(A77,'Pivot Norm'!A:B,2,FALSE)","v":1},1,"12384011",1,0,2,1,0,2,0,0,0,0]
["1238501","1238501",{"$f":"VLOOKUP(B78, 'School List'!F:G,2,FALSE)","v":"Gratts LA for YS"},"PHBAO",174,165,0,0,0,null,null,null,0,0,0,339,8,7,0,0,0,15,6,7,0,0,0,13,{"$f":"VLOOKUP(A78,'Pivot Norm'!A:B,2,FALSE)","v":2},1,"12385011",1,0,2,1,0,2,0,1,0,0]
["1238501","1238502",{"$f":"VLOOKUP(B79, 'School List'!F:G,2,FALSE)","v":"Gratts LA for YS DOS"},"PHBAO",44,41,0,0,0,null,null,null,0,0,0,85,2,2,0,0,0,4,3,0,0,0,0,3,{"$f":"VLOOKUP(A79,'Pivot Norm'!A:B,2,FALSE)","v":2},2,"12385012",0,0,0,0,0,0,0,0,0,0]
["1238601","1238601",{"$f":"VLOOKUP(B80, 'School List'!F:G,2,FALSE)","v":"Del Olmo El"},"PHBAO",376,168,0,0,0,24,null,null,14,0,34,616,16,7,0,0,0,23,16,7,0,0,0,23,{"$f":"VLOOKUP(A80,'Pivot Norm'!A:B,2,FALSE)","v":1},1,"12386011",1,0,2,1,0,2,0,0,0,0]
["1239101","1239101",{"$f":"VLOOKUP(B81, 'School List'!F:G,2,FALSE)","v":"Huntington Park El"},"PHBAO",155,97,0,0,0,10,null,null,0,19,0,281,7,4,0,0,0,11,7,5,0,0,0,12,{"$f":"VLOOKUP(A81,'Pivot Norm'!A:B,2,FALSE)","v":2},1,"12391011",1,0,2,1,0,2,0,0,0,0]
["1239101","1239102",{"$f":"VLOOKUP(B82, 'School List'!F:G,2,FALSE)","v":"Huntington Pk DTS"},"PHBAO",80,22,0,0,0,null,null,null,0,0,0,102,4,1,0,0,0,5,4,0,0,0,0,4,{"$f":"VLOOKUP(A82,'Pivot Norm'!A:B,2,FALSE)","v":2},2,"12391012",0,0,0,0,0,0,0,0,0,0]
["1239201","1239201",{"$f":"VLOOKUP(B83, 'School List'!F:G,2,FALSE)","v":"Olympic PC"},"PHBAO",100,0,0,0,0,null,null,null,23,0,30,153,5,0,0,0,0,5,5,0,0,0,0,5,{"$f":"VLOOKUP(A83,'Pivot Norm'!A:B,2,FALSE)","v":1},1,"12392011",1,0,2,1,0,2,0,0,0,0]
["1239301","1239301",{"$f":"VLOOKUP(B84, 'School List'!F:G,2,FALSE)","v":"Lake St Primary"},"PHBAO",122,0,0,0,0,17,null,null,37,0,7,183,6,0,0,0,0,6,6,0,0,0,0,6,{"$f":"VLOOKUP(A84,'Pivot Norm'!A:B,2,FALSE)","v":1},1,"12393011",1,0,2,1,0,2,1,0,0,0]
["1239701","1239701",{"$f":"VLOOKUP(B85, 'School List'!F:G,2,FALSE)","v":"Belvedere El"},"PHBAO",353,191,0,0,0,50,null,null,4,0,20,618,15,8,0,0,0,23,16,7,0,0,0,23,{"$f":"VLOOKUP(A85,'Pivot Norm'!A:B,2,FALSE)","v":1},1,"12397011",1,0,2,1,0,2,2,0,0,0]
["1243801","1243801",{"$f":"VLOOKUP(B86, 'School List'!F:G,2,FALSE)","v":"Bertrand El"},"PHBAO",215,103,0,0,0,4,null,null,22,0,11,355,9,4,0,0,0,13,10,4,0,0,0,14,{"$f":"VLOOKUP(A86,'Pivot Norm'!A:B,2,FALSE)","v":1},1,"12438011",1,0,2,1,0,2,0,0,0,0]
["1247001","1247001",{"$f":"VLOOKUP(B87, 'School List'!F:G,2,FALSE)","v":"Blythe El"},"PHBAO",173,96,0,0,0,null,null,null,21,0,17,307,8,4,0,0,0,12,8,4,0,0,0,12,{"$f":"VLOOKUP(A87,'Pivot Norm'!A:B,2,FALSE)","v":1},1,"12470011",1,0,2,1,0,2,1,0,0,0]
["1247301","1247301",{"$f":"VLOOKUP(B88, 'School List'!F:G,2,FALSE)","v":"Bonita El"},"PHBAO",229,127,0,0,0,32,null,null,0,0,17,405,10,5,0,0,0,15,11,5,0,0,0,16,{"$f":"VLOOKUP(A88,'Pivot Norm'!A:B,2,FALSE)","v":1},1,"12473011",1,0,2,1,0,2,0,0,1,0]
["1247901","1247901",{"$f":"VLOOKUP(B89, 'School List'!F:G,2,FALSE)","v":"Braddock Drive El"},"PHBAO",136,69,0,0,0,null,null,null,0,20,0,225,6,3,0,0,0,9,6,3,0,0,0,9,{"$f":"VLOOKUP(A89,'Pivot Norm'!A:B,2,FALSE)","v":3},1,"12479011",1,0,2,1,0,2,1,0,0,0]
["1247901","1247902",{"$f":"VLOOKUP(B90, 'School List'!F:G,2,FALSE)","v":"Braddock Gifted Mag"},"Magnet 1",40,60,0,0,0,null,null,null,0,0,0,100,2,2,0,0,0,4,2,2,0,0,0,4,{"$f":"VLOOKUP(A90,'Pivot Norm'!A:B,2,FALSE)","v":3},2,"12479012",0,0,0,0,0,0,0,0,0,0]
["1247901","1247903",{"$f":"VLOOKUP(B91, 'School List'!F:G,2,FALSE)","v":"Braddock Dr El DTM"},"PHBAO",191,78,0,0,0,null,null,null,0,0,0,269,8,3,0,0,0,11,8,2,0,0,0,10,{"$f":"VLOOKUP(A91,'Pivot Norm'!A:B,2,FALSE)","v":3},3,"12479013",0,0,0,0,0,0,0,0,1,0]
["1248601","1248601",{"$f":"VLOOKUP(B92, 'School List'!F:G,2,FALSE)","v":"Brainard El"},"PHBAO",95,41,0,0,0,23,null,null,5,0,0,164,4,2,0,0,0,6,4,2,0,0,0,6,{"$f":"VLOOKUP(A92,'Pivot Norm'!A:B,2,FALSE)","v":1},1,"12486011",1,0,2,1,0,2,0,0,0,0]
["1249301","1249301",{"$f":"VLOOKUP(B93, 'School List'!F:G,2,FALSE)","v":"Breed El"},"PHBAO",137,110,0,0,0,32,null,null,6,0,7,292,6,5,0,0,0,11,6,5,0,0,0,11,{"$f":"VLOOKUP(A93,'Pivot Norm'!A:B,2,FALSE)","v":1},1,"12493011",1,0,2,1,0,2,1,0,0,0]
["1250701","1250701",{"$f":"VLOOKUP(B94, 'School List'!F:G,2,FALSE)","v":"Brentwood Sci Mag"},"Magnet 2",180,163,0,0,0,17,null,null,0,0,0,360,8,7,0,0,0,15,8,6,0,0,0,14,{"$f":"VLOOKUP(A94,'Pivot Norm'!A:B,2,FALSE)","v":1},1,"12507011",1,0,2,1,0,2,0,0,0,0]
["1252101","1252101",{"$f":"VLOOKUP(B95, 'School List'!F:G,2,FALSE)","v":"Bridge El"},"PHBAO",101,39,0,0,0,47,null,null,0,0,7,194,5,2,0,0,0,7,4,2,0,0,0,6,{"$f":"VLOOKUP(A95,'Pivot Norm'!A:B,2,FALSE)","v":1},1,"12521011",1,0,2,1,0,2,1,0,0,0]
["1252701","1252701",{"$f":"VLOOKUP(B96, 'School List'!F:G,2,FALSE)","v":"Broad Ave El"},"PHBAO",228,146,0,0,0,52,null,null,12,15,17,470,10,6,0,0,0,16,10,6,0,0,0,16,{"$f":"VLOOKUP(A96,'Pivot Norm'!A:B,2,FALSE)","v":2},1,"12527011",1,0,2,1,0,2,0,0,0,0]
["1252701","1252702",{"$f":"VLOOKUP(B97, 'School List'!F:G,2,FALSE)","v":"Broad Ave El DTS"},"PHBAO",105,0,0,0,0,null,null,null,0,0,0,105,5,0,0,0,0,5,4,0,0,0,0,4,{"$f":"VLOOKUP(A97,'Pivot Norm'!A:B,2,FALSE)","v":2},2,"12527012",0,0,0,0,0,0,0,0,0,0]
["1253001","1253001",{"$f":"VLOOKUP(B98, 'School List'!F:G,2,FALSE)","v":"Broadacres El"},"PHBAO",140,81,0,0,0,19,null,null,0,0,11,251,6,3,0,0,0,9,7,3,0,0,0,10,{"$f":"VLOOKUP(A98,'Pivot Norm'!A:B,2,FALSE)","v":2},1,"12530011",1,0,2,1,0,2,1,0,0,0]
["1253001","1253002",{"$f":"VLOOKUP(B99, 'School List'!F:G,2,FALSE)","v":"Broadacres VAPA Mag"},"Magnet 2",44,0,0,0,0,null,null,null,null,null,null,44,2,0,0,0,0,2,0,0,0,0,0,0,{"$f":"VLOOKUP(A99,'Pivot Norm'!A:B,2,FALSE)","v":2},2,"12530012",0,0,0,0,0,0,0,0,0,0]
["1253401","1253401",{"$f":"VLOOKUP(B100, 'School List'!F:G,2,FALSE)","v":"Broadway El"},"PHBAO",0,0,0,0,0,null,null,null,0,0,0,0,0,0,0,0,0,0,0,0,0,0,0,0,{"$f":"VLOOKUP(A100,'Pivot Norm'!A:B,2,FALSE)","v":3},1,"12534011",1,0,2,1,0,2,0,0,0,0]
["1253401","1253402",{"$f":"VLOOKUP(B101, 'School List'!F:G,2,FALSE)","v":"Broadway El DTS"},"PHBAO",143,56,0,0,0,null,null,null,0,0,0,199,6,3,0,0,0,9,6,2,0,0,0,8,{"$f":"VLOOKUP(A101,'Pivot Norm'!A:B,2,FALSE)","v":3},2,"12534012",0,0,0,0,0,0,1,0,0,0]
["1253401","1253403",{"$f":"VLOOKUP(B102, 'School List'!F:G,2,FALSE)","v":"Broadway El DTM"},"Non-PHBAO",268,123,0,0,0,null,null,null,0,0,0,391,12,4,0,0,0,16,12,4,0,0,0,16,{"$f":"VLOOKUP(A102,'Pivot Norm'!A:B,2,FALSE)","v":3},3,"12534013",0,0,0,0,0,0,0,0,0,0]
["1254201","1254201",{"$f":"VLOOKUP(B103, 'School List'!F:G,2,FALSE)","v":"White El"},"PHBAO",77,93,0,0,0,10,null,null,0,0,0,180,4,4,0,0,0,8,5,5,0,0,0,10,{"$f":"VLOOKUP(A103,'Pivot Norm'!A:B,2,FALSE)","v":2},1,"12542011",1,0,2,1,0,2,0,0,0,0]
["1254201","1254202",{"$f":"VLOOKUP(B104, 'School List'!F:G,2,FALSE)","v":"White Es Vis Art Mag"},"Magnet 2",71,52,0,0,0,null,null,null,0,0,0,123,3,2,0,0,0,5,3,1,0,0,0,4,{"$f":"VLOOKUP(A104,'Pivot Norm'!A:B,2,FALSE)","v":2},2,"12542012",0,0,0,0,0,0,0,0,0,0]
["1254301","1254301",{"$f":"VLOOKUP(B105, 'School List'!F:G,2,FALSE)","v":"Lafayette Park PC"},"PHBAO",76,0,0,0,0,null,null,null,18,12,0,106,4,0,0,0,0,4,4,0,0,0,0,4,{"$f":"VLOOKUP(A105,'Pivot Norm'!A:B,2,FALSE)","v":1},1,"12543011",1,0,2,1,0,2,0,0,0,0]
["1254401","1254401",{"$f":"VLOOKUP(B106, 'School List'!F:G,2,FALSE)","v":"Macarthur Park VPA"},"PHBAO",137,78,0,0,0,null,null,null,0,0,9,224,6,3,0,0,0,9,6,4,0,0,0,10,{"$f":"VLOOKUP(A106,'Pivot Norm'!A:B,2,FALSE)","v":2},1,"12544011",1,0,2,1,0,2,1,0,0,0]
["1254401","1254402",{"$f":"VLOOKUP(B107, 'School List'!F:G,2,FALSE)","v":"Macarthur Pk VPA DTS"},"PHBAO",119,93,0,0,0,null,null,null,0,0,0,212,5,4,0,0,0,9,7,3,0,0,0,10,{"$f":"VLOOKUP(A107,'Pivot Norm'!A:B,2,FALSE)","v":2},2,"12544012",0,0,0,0,0,0,1,0,0,0]
["1254801","1254801",{"$f":"VLOOKUP(B108, 'School List'!F:G,2,FALSE)","v":"Brockton El"},"PHBAO",103,64,0,0,0,10,null,null,4,0,22,203,5,3,0,0,0,8,5,3,0,0,0,8,{"$f":"VLOOKUP(A108,'Pivot Norm'!A:B,2,FALSE)","v":1},1,"12548011",1,0,2,1,0,2,0,0,0,0]
["1256201","1256201",{"$f":"VLOOKUP(B109, 'School List'!F:G,2,FALSE)","v":"Brooklyn Ave El"},"PHBAO",189,100,165,0,0,25,7,null,0,0,0,486,8,4,7,0,0,19,9,4,6,0,0,19,{"$f":"VLOOKUP(A109,'Pivot Norm'!A:B,2,FALSE)","v":1},1,"12562011",1,0.5,2,1,0.5,2,1,0,0,0]
["1258901","1258901",{"$f":"VLOOKUP(B110, 'School List'!F:G,2,FALSE)","v":"Bryson El"},"PHBAO",342,136,0,0,0,36,null,null,0,0,24,538,15,6,0,0,0,21,13,6,0,0,0,19,{"$f":"VLOOKUP(A110,'Pivot Norm'!A:B,2,FALSE)","v":2},1,"12589011",1,0,3,1,0,3,1,0,0,0]
["1258901","1258902",{"$f":"VLOOKUP(B111, 'School List'!F:G,2,FALSE)","v":"Bryson Av El STEM Mag"},"Magnet 2",142,108,0,0,0,null,null,null,0,0,0,250,6,4,0,0,0,10,6,4,0,0,0,10,{"$f":"VLOOKUP(A111,'Pivot Norm'!A:B,2,FALSE)","v":2},2,"12589012",0,0,0,0,0,0,0,0,0,0]
["1260301","1260301",{"$f":"VLOOKUP(B112, 'School List'!F:G,2,FALSE)","v":"Buchanan El"},"PHBAO",67,44,0,0,0,20,null,null,0,0,18,149,3,2,0,0,0,5,4,2,0,0,0,6,{"$f":"VLOOKUP(A112,'Pivot Norm'!A:B,2,FALSE)","v":3},1,"12603011",1,0,2,1,0,2,0,0,0,0]
["1260301","1260302",{"$f":"VLOOKUP(B113, 'School List'!F:G,2,FALSE)","v":"Buchanan El STEM Mag"},"Magnet 2",82,50,0,0,0,null,null,null,0,0,0,132,4,2,0,0,0,6,4,2,0,0,0,6,{"$f":"VLOOKUP(A113,'Pivot Norm'!A:B,2,FALSE)","v":3},2,"12603012",0,0,0,0,0,0,0,0,0,0]
["1260301","1260303",{"$f":"VLOOKUP(B114, 'School List'!F:G,2,FALSE)","v":"Buchanan El DL "},"PHBAO",18,0,0,0,0,null,null,null,null,null,null,18,1,0,0,0,0,1,0,0,0,0,0,0,{"$f":"VLOOKUP(A114,'Pivot Norm'!A:B,2,FALSE)","v":3},3,"12603013",0,0,0,0,0,0,0,0,0,0]
["1261601","1261601",{"$f":"VLOOKUP(B115, 'School List'!F:G,2,FALSE)","v":"Budlong El"},"PHBAO",502,262,0,0,0,14,null,null,0,0,0,778,21,10,0,0,0,31,21,10,0,0,0,31,{"$f":"VLOOKUP(A115,'Pivot Norm'!A:B,2,FALSE)","v":1},1,"12616011",1,0,3,1,0,3,1,1,0,0]
["1261901","1261901",{"$f":"VLOOKUP(B116, 'School List'!F:G,2,FALSE)","v":"Wilshire Park El"},"PHBAO",228,127,0,0,0,19,null,null,0,0,0,374,10,5,0,0,0,15,11,5,0,0,0,16,{"$f":"VLOOKUP(A116,'Pivot Norm'!A:B,2,FALSE)","v":1},1,"12619011",1,0,2,1,0,2,0,0,0,0]
["1263001","1263001",{"$f":"VLOOKUP(B117, 'School List'!F:G,2,FALSE)","v":"Burbank El"},"PHBAO",183,59,0,0,0,null,null,null,12,20,0,274,8,3,0,0,0,11,8,3,0,0,0,11,{"$f":"VLOOKUP(A117,'Pivot Norm'!A:B,2,FALSE)","v":2},1,"12630011",1,0,2,1,0,2,0,0,0,0]
["1263001","1263002",{"$f":"VLOOKUP(B118, 'School List'!F:G,2,FALSE)","v":"Burbank Gifted/GL Mg"},"Magnet 1",40,51,0,0,0,null,null,null,0,0,0,91,2,2,0,0,0,4,2,2,0,0,0,4,{"$f":"VLOOKUP(A118,'Pivot Norm'!A:B,2,FALSE)","v":2},2,"12630012",0,0,0,0,0,0,0,0,0,0]
["1264401","1264401",{"$f":"VLOOKUP(B119, 'School List'!F:G,2,FALSE)","v":"Saturn El"},"PHBAO",84,24,0,0,0,41,null,null,12,0,9,170,4,1,0,0,0,5,4,1,0,0,0,5,{"$f":"VLOOKUP(A119,'Pivot Norm'!A:B,2,FALSE)","v":2},1,"12644011",1,0,2,1,0,2,0,0,0,0]
["1264401","1264402",{"$f":"VLOOKUP(B120, 'School List'!F:G,2,FALSE)","v":"Saturn Arts/Media Mag"},"Magnet 2",79,50,0,0,0,null,null,null,0,0,0,129,4,2,0,0,0,6,4,2,0,0,0,6,{"$f":"VLOOKUP(A120,'Pivot Norm'!A:B,2,FALSE)","v":2},2,"12644012",0,0,0,0,0,0,0,0,0,0]
["1265801","1265801",{"$f":"VLOOKUP(B121, 'School List'!F:G,2,FALSE)","v":"Burton El"},"PHBAO",180,77,0,0,0,28,null,null,13,0,8,306,8,3,0,0,0,11,8,3,0,0,0,11,{"$f":"VLOOKUP(A121,'Pivot Norm'!A:B,2,FALSE)","v":1},1,"12658011",1,0,2,1,0,2,1,0,0,0]
["1267101","1267101",{"$f":"VLOOKUP(B122, 'School List'!F:G,2,FALSE)","v":"Bushnell Way El"},"PHBAO",52,34,0,0,0,21,null,null,0,7,10,124,3,2,0,0,0,5,3,2,0,0,0,5,{"$f":"VLOOKUP(A122,'Pivot Norm'!A:B,2,FALSE)","v":2},1,"12671011",1,0,2,1,0,2,0,0,0,0]
["1267101","1267102",{"$f":"VLOOKUP(B123, 'School List'!F:G,2,FALSE)","v":"Bushnell Way DTS"},"PHBAO",54,0,0,0,0,null,null,null,0,0,0,54,3,0,0,0,0,3,2,0,0,0,0,2,{"$f":"VLOOKUP(A123,'Pivot Norm'!A:B,2,FALSE)","v":2},2,"12671012",0,0,0,0,0,0,1,0,0,0]
["1268501","1268501",{"$f":"VLOOKUP(B124, 'School List'!F:G,2,FALSE)","v":"Cabrillo El"},"PHBAO",131,62,0,0,0,null,null,null,9,0,0,202,6,3,0,0,0,9,7,3,0,0,0,10,{"$f":"VLOOKUP(A124,'Pivot Norm'!A:B,2,FALSE)","v":2},1,"12685011",1,0,2,1,0,2,0,0,0,0]
["1268501","1268502",{"$f":"VLOOKUP(B125, 'School List'!F:G,2,FALSE)","v":"Cabrillo STEAM Mag"},"Magnet 2",69,52,0,0,0,null,null,null,0,0,0,121,3,2,0,0,0,5,3,2,0,0,0,5,{"$f":"VLOOKUP(A125,'Pivot Norm'!A:B,2,FALSE)","v":2},2,"12685012",0,0,0,0,0,0,0,0,0,0]
["1269901","1269901",{"$f":"VLOOKUP(B126, 'School List'!F:G,2,FALSE)","v":"Cahuenga El"},"PHBAO",77,52,0,0,0,20,null,null,0,0,0,149,4,2,0,0,0,6,4,2,0,0,0,6,{"$f":"VLOOKUP(A126,'Pivot Norm'!A:B,2,FALSE)","v":3},1,"12699011",1,0,2,1,0,2,1,0,0,0]
["1269901","1269902",{"$f":"VLOOKUP(B127, 'School List'!F:G,2,FALSE)","v":"Cahuenga El DOS"},"PHBAO",85,34,0,0,0,null,null,null,0,0,0,119,4,2,0,0,0,6,4,2,0,0,0,6,{"$f":"VLOOKUP(A127,'Pivot Norm'!A:B,2,FALSE)","v":3},2,"12699012",0,0,0,0,0,0,0,0,0,0]
["1269901","1269903",{"$f":"VLOOKUP(B128, 'School List'!F:G,2,FALSE)","v":"Cahuenga El DTK"},"PHBAO",62,41,0,0,0,null,null,null,0,0,0,103,3,2,0,0,0,5,3,2,0,0,0,5,{"$f":"VLOOKUP(A128,'Pivot Norm'!A:B,2,FALSE)","v":3},3,"12699013",0,0,0,0,0,0,1,0,0,0]
["1270101","1270101",{"$f":"VLOOKUP(B129, 'School List'!F:G,2,FALSE)","v":"Kim El"},"PHBAO",129,88,0,0,0,14,null,null,9,0,0,240,6,4,0,0,0,10,7,4,0,0,0,11,{"$f":"VLOOKUP(A129,'Pivot Norm'!A:B,2,FALSE)","v":3},1,"12701011",1,0,2,1,0,2,0,0,0,0]
["1270101","1270102",{"$f":"VLOOKUP(B130, 'School List'!F:G,2,FALSE)","v":"Kim El DTS"},"PHBAO",75,43,0,0,0,null,null,null,0,0,0,118,4,2,0,0,0,6,4,2,0,0,0,6,{"$f":"VLOOKUP(A130,'Pivot Norm'!A:B,2,FALSE)","v":3},2,"12701012",0,0,0,0,0,0,0,0,0,0]
["1270101","1270103",{"$f":"VLOOKUP(B131, 'School List'!F:G,2,FALSE)","v":"Kim El DOK"},"PHBAO",163,48,0,0,0,null,null,null,0,0,0,211,7,2,0,0,0,9,7,2,0,0,0,9,{"$f":"VLOOKUP(A131,'Pivot Norm'!A:B,2,FALSE)","v":3},3,"12701013",0,0,0,0,0,0,0,0,0,0]
["1270401","1270401",{"$f":"VLOOKUP(B132, 'School List'!F:G,2,FALSE)","v":"Calabash CA"},"Non-PHBAO",312,119,0,0,0,null,null,null,0,0,0,431,13,4,0,0,0,17,13,4,0,0,0,17,{"$f":"VLOOKUP(A132,'Pivot Norm'!A:B,2,FALSE)","v":1},1,{"$f":"A132&AD132","v":"12704011"},1,0,2,1,0,2,0,0,0,0]
["1270601","1270601",{"$f":"VLOOKUP(B133, 'School List'!F:G,2,FALSE)","v":"Calahan St El"},"PHBAO",327,171,0,0,0,10,null,null,9,0,0,517,14,7,0,0,0,21,14,6,0,0,0,20,{"$f":"VLOOKUP(A133,'Pivot Norm'!A:B,2,FALSE)","v":1},1,"12706011",1,0,2,1,0,2,0,0,0,0]
["1271201","1271201",{"$f":"VLOOKUP(B134, 'School List'!F:G,2,FALSE)","v":"Calvert Chtr For ES"},"Non-PHBAO",215,94,0,0,0,22,null,null,0,12,0,343,9,3,0,0,0,12,9,3,0,0,0,12,{"$f":"VLOOKUP(A134,'Pivot Norm'!A:B,2,FALSE)","v":1},{"$f":"IF(A134=A133,AD133+1,1)","v":1},"12712011",1,0,2,1,0,2,2,0,0,0]
["1272601","1272601",{"$f":"VLOOKUP(B135, 'School List'!F:G,2,FALSE)","v":"Camellia El"},"PHBAO",226,139,0,0,0,27,null,null,14,0,16,422,10,6,0,0,0,16,10,6,0,0,0,16,{"$f":"VLOOKUP(A135,'Pivot Norm'!A:B,2,FALSE)","v":2},1,"12726011",1,0,2,1,0,2,0,0,0,0]
["1272601","1272602",{"$f":"VLOOKUP(B136, 'School List'!F:G,2,FALSE)","v":"Camellia El DTS"},"PHBAO",72,0,0,0,0,null,null,null,0,0,0,72,3,0,0,0,0,3,3,0,0,0,0,3,{"$f":"VLOOKUP(A136,'Pivot Norm'!A:B,2,FALSE)","v":2},2,"12726012",0,0,0,0,0,0,0,0,0,0]
["1274001","1274001",{"$f":"VLOOKUP(B137, 'School List'!F:G,2,FALSE)","v":"Canfield El"},"Non-PHBAO",287,121,0,0,0,16,null,null,12,0,0,436,12,4,0,0,0,16,12,4,0,0,0,16,{"$f":"VLOOKUP(A137,'Pivot Norm'!A:B,2,FALSE)","v":1},1,"12740011",1,0,2,1,0,2,1,0,0,0]
["1274101","1274101",{"$f":"VLOOKUP(B138, 'School List'!F:G,2,FALSE)","v":"Community El Mag CS"},"Magnet 1",282,169,0,0,0,null,null,null,0,0,0,451,12,6,0,0,0,18,12,6,0,0,0,18,{"$f":"VLOOKUP(A138,'Pivot Norm'!A:B,2,FALSE)","v":1},1,"12741011",1,0,2,1,0,2,0,0,0,0]
["1275301","1275301",{"$f":"VLOOKUP(B139, 'School List'!F:G,2,FALSE)","v":"Canoga Park El"},"PHBAO",331,163,0,0,0,48,null,null,17,0,22,581,14,7,0,0,0,21,14,7,0,0,0,21,{"$f":"VLOOKUP(A139,'Pivot Norm'!A:B,2,FALSE)","v":1},1,"12753011",1,0,2,1,0,2,0,0,0,0]
["1276701","1276701",{"$f":"VLOOKUP(B140, 'School List'!F:G,2,FALSE)","v":"Cantara El"},"PHBAO",221,71,0,0,0,25,null,null,10,0,19,346,10,3,0,0,0,13,9,3,0,0,0,12,{"$f":"VLOOKUP(A140,'Pivot Norm'!A:B,2,FALSE)","v":2},1,"12767011",1,0,2,1,0,2,1,0,0,0]
["1276701","1276702",{"$f":"VLOOKUP(B141, 'School List'!F:G,2,FALSE)","v":"Cantara VAPA Mag"},"Magnet 2",18,40,0,0,0,null,null,null,0,0,0,58,1,2,0,0,0,3,1,2,0,0,0,3,{"$f":"VLOOKUP(A141,'Pivot Norm'!A:B,2,FALSE)","v":2},2,"12767012",0,0,0,0,0,0,0,0,0,0]
["1278101","1278101",{"$f":"VLOOKUP(B142, 'School List'!F:G,2,FALSE)","v":"Canterbury El"},"PHBAO",289,119,0,0,0,20,null,null,5,0,22,455,13,5,0,0,0,18,13,6,0,0,0,19,{"$f":"VLOOKUP(A142,'Pivot Norm'!A:B,2,FALSE)","v":2},1,"12781011",1,0,2,1,0,2,1,0,0,0]
["1278101","1278102",{"$f":"VLOOKUP(B143, 'School List'!F:G,2,FALSE)","v":"Canterbury Gifted Mg"},"Magnet 2",115,105,0,0,0,null,null,null,0,0,0,220,5,4,0,0,0,9,5,4,0,0,0,9,{"$f":"VLOOKUP(A143,'Pivot Norm'!A:B,2,FALSE)","v":2},2,"12781012",0,0,0,0,0,0,1,0,0,0]
["1279501","1279501",{"$f":"VLOOKUP(B144, 'School List'!F:G,2,FALSE)","v":"Canyon El"},"Non-PHBAO",269,131,0,0,0,null,null,null,0,0,0,400,12,5,0,0,0,17,11,4,0,0,0,15,{"$f":"VLOOKUP(A144,'Pivot Norm'!A:B,2,FALSE)","v":1},1,"12795011",1,0,2,1,0,2,1,0,0,0]
["1280201","1280201",{"$f":"VLOOKUP(B145, 'School List'!F:G,2,FALSE)","v":"Capistrano El"},"PHBAO",253,119,0,0,0,42,null,null,0,20,0,434,11,5,0,0,0,16,11,5,0,0,0,16,{"$f":"VLOOKUP(A145,'Pivot Norm'!A:B,2,FALSE)","v":1},1,"12802011",1,0,2,1,0,2,0,0,0,0]
["1281501","1281501",{"$f":"VLOOKUP(B146, 'School List'!F:G,2,FALSE)","v":"Caroldale Lrng Comm"},"PHBAO",296,174,261,0,0,13,null,null,8,0,0,752,13,7,10,0,0,30,14,7,10,0,0,31,{"$f":"VLOOKUP(A146,'Pivot Norm'!A:B,2,FALSE)","v":1},1,"12815011",2,0.5,3,2,0.5,3,0,2,0,0]
["1282201","1282201",{"$f":"VLOOKUP(B147, 'School List'!F:G,2,FALSE)","v":"Carpenter Comm Ctr"},"Non-PHBAO",629,277,0,0,0,6,null,null,0,0,0,912,27,9,0,0,0,36,25,9,0,0,0,34,{"$f":"VLOOKUP(A147,'Pivot Norm'!A:B,2,FALSE)","v":1},1,"12822011",1,0,3,1,0,3,2,2,3,0]
["1283601","1283601",{"$f":"VLOOKUP(B148, 'School List'!F:G,2,FALSE)","v":"Carson El"},"PHBAO",408,238,0,0,0,9,null,null,6,0,21,682,17,9,0,0,0,26,18,8,0,0,0,26,{"$f":"VLOOKUP(A148,'Pivot Norm'!A:B,2,FALSE)","v":1},1,"12836011",1,0,2,1,0,2,0,0,1,0]
["1284901","1284901",{"$f":"VLOOKUP(B149, 'School List'!F:G,2,FALSE)","v":"Carthay El ES Mag"},"Magnet 2",222,118,0,0,0,null,null,null,0,0,18,358,10,5,0,0,0,15,10,5,0,0,0,15,{"$f":"VLOOKUP(A149,'Pivot Norm'!A:B,2,FALSE)","v":1},1,"12849011",1,0,2,1,0,2,0,0,0,0]
["1286301","1286301",{"$f":"VLOOKUP(B150, 'School List'!F:G,2,FALSE)","v":"Castelar El"},"PHBAO",192,111,48,0,0,null,null,null,0,0,0,351,8,5,2,0,0,15,8,4,1,0,0,13,{"$f":"VLOOKUP(A150,'Pivot Norm'!A:B,2,FALSE)","v":2},1,"12863011",1,0.5,2,1,0.5,2,1,0,0,0]
["1286301","1286302",{"$f":"VLOOKUP(B151, 'School List'!F:G,2,FALSE)","v":"Castelar St El DTM"},"PHBAO",200,101,0,0,0,null,null,null,0,0,0,301,9,4,0,0,0,13,9,4,0,0,0,13,{"$f":"VLOOKUP(A151,'Pivot Norm'!A:B,2,FALSE)","v":2},2,"12863012",0,0,0,0,0,0,0,0,0,0]
["1287701","1287701",{"$f":"VLOOKUP(B152, 'School List'!F:G,2,FALSE)","v":"Castle Hts El"},"Non-PHBAO",285,143,0,0,0,11,null,null,10,0,0,449,12,5,0,0,0,17,13,5,0,0,0,18,{"$f":"VLOOKUP(A152,'Pivot Norm'!A:B,2,FALSE)","v":2},1,"12877011",1,0,2,1,0,2,0,0,0,0]
["1287701","1287702",{"$f":"VLOOKUP(B153, 'School List'!F:G,2,FALSE)","v":"Castle Hts El DWS"},"Non-PHBAO",93,22,0,0,0,null,null,null,0,0,0,115,4,1,0,0,0,5,4,0,0,0,0,4,{"$f":"VLOOKUP(A153,'Pivot Norm'!A:B,2,FALSE)","v":2},2,"12877012",0,0,0,0,0,0,0,0,0,0]
["1288101","1288101",{"$f":"VLOOKUP(B154, 'School List'!F:G,2,FALSE)","v":"Castlebay Lane"},"Non-PHBAO",424,223,0,0,0,null,null,null,0,0,0,647,18,7,0,0,0,25,18,7,0,0,0,25,{"$f":"VLOOKUP(A154,'Pivot Norm'!A:B,2,FALSE)","v":1},1,"12881011",1,0,2,1,0,2,2,0,0,0]
["1289001","1289001",{"$f":"VLOOKUP(B155, 'School List'!F:G,2,FALSE)","v":"Catskill El"},"PHBAO",204,161,0,0,0,null,null,null,11,0,22,398,9,6,0,0,0,15,10,5,0,0,0,15,{"$f":"VLOOKUP(A155,'Pivot Norm'!A:B,2,FALSE)","v":2},1,"12890011",1,0,2,1,0,2,2,0,0,0]
["1289001","1289002",{"$f":"VLOOKUP(B156, 'School List'!F:G,2,FALSE)","v":"Catskill El DTS"},"PHBAO",92,0,0,0,0,null,null,null,0,0,0,92,4,0,0,0,0,4,3,0,0,0,0,3,{"$f":"VLOOKUP(A156,'Pivot Norm'!A:B,2,FALSE)","v":2},2,"12890012",0,0,0,0,0,0,0,0,0,0]
["1293901","1293901",{"$f":"VLOOKUP(B157, 'School List'!F:G,2,FALSE)","v":"Carson-Gore Academy"},"PHBAO",243,151,0,0,0,46,null,null,0,0,16,456,11,6,0,0,0,17,11,6,0,0,0,17,{"$f":"VLOOKUP(A157,'Pivot Norm'!A:B,2,FALSE)","v":2},1,"12939011",1,0,2,1,0,2,0,0,0,0]
["1293901","1293902",{"$f":"VLOOKUP(B158, 'School List'!F:G,2,FALSE)","v":"Carson-Gore DTS"},"PHBAO",54,0,0,0,0,null,null,null,0,0,0,54,3,0,0,0,0,3,2,0,0,0,0,2,{"$f":"VLOOKUP(A158,'Pivot Norm'!A:B,2,FALSE)","v":2},2,"12939012",0,0,0,0,0,0,0,0,0,0]
["1294201","1294201",{"$f":"VLOOKUP(B159, 'School List'!F:G,2,FALSE)","v":"Estrella El"},"PHBAO",343,154,0,0,0,12,null,null,0,0,0,509,15,6,0,0,0,21,15,6,0,0,0,21,{"$f":"VLOOKUP(A159,'Pivot Norm'!A:B,2,FALSE)","v":1},1,"12942011",1,0,2,1,0,2,0,1,0,0]
["1294301","1294301",{"$f":"VLOOKUP(B160, 'School List'!F:G,2,FALSE)","v":"Jones El"},"PHBAO",188,105,0,0,0,13,null,null,0,0,9,315,8,4,0,0,0,12,8,4,0,0,0,12,{"$f":"VLOOKUP(A160,'Pivot Norm'!A:B,2,FALSE)","v":1},1,"12943011",1,0,2,1,0,2,0,0,0,0]
["1294401","1294401",{"$f":"VLOOKUP(B161, 'School List'!F:G,2,FALSE)","v":"Huerta El"},"PHBAO",206,119,0,0,0,7,null,null,0,0,0,332,9,5,0,0,0,14,10,5,0,0,0,15,{"$f":"VLOOKUP(A161,'Pivot Norm'!A:B,2,FALSE)","v":1},1,"12944011",1,0,2,1,0,2,0,0,0,0]
["1294501","1294501",{"$f":"VLOOKUP(B162, 'School List'!F:G,2,FALSE)","v":"Century Park El"},"PHBAO",123,84,0,0,0,27,null,null,16,0,2,252,6,4,0,0,0,10,7,4,0,0,0,11,{"$f":"VLOOKUP(A162,'Pivot Norm'!A:B,2,FALSE)","v":1},1,"12945011",1,0,2,1,0,2,0,0,0,0]
["1295901","1295901",{"$f":"VLOOKUP(B163, 'School List'!F:G,2,FALSE)","v":"Chandler El"},"Non-PHBAO",262,132,0,0,0,9,null,null,7,0,0,410,11,5,0,0,0,16,13,4,0,0,0,17,{"$f":"VLOOKUP(A163,'Pivot Norm'!A:B,2,FALSE)","v":1},1,"12959011",1,0,2,1,0,2,1,0,1,0]
["1298601","1298601",{"$f":"VLOOKUP(B164, 'School List'!F:G,2,FALSE)","v":"Chapman El"},"PHBAO",204,104,0,0,0,17,null,null,0,0,12,337,9,4,0,0,0,13,9,4,0,0,0,13,{"$f":"VLOOKUP(A164,'Pivot Norm'!A:B,2,FALSE)","v":2},1,"12986011",1,0,2,1,0,2,1,0,0,0]
["1298601","1298602",{"$f":"VLOOKUP(B165, 'School List'!F:G,2,FALSE)","v":"Chapman El DTM"},"PHBAO",53,0,0,0,0,null,null,null,0,0,0,53,3,0,0,0,0,3,2,0,0,0,0,2,{"$f":"VLOOKUP(A165,'Pivot Norm'!A:B,2,FALSE)","v":2},2,"12986012",0,0,0,0,0,0,1,0,0,0]
["1300201","1300201",{"$f":"VLOOKUP(B166, 'School List'!F:G,2,FALSE)","v":"Charnock Road El"},"PHBAO",149,70,0,0,0,41,null,null,5,0,19,284,7,3,0,0,0,10,7,3,0,0,0,10,{"$f":"VLOOKUP(A166,'Pivot Norm'!A:B,2,FALSE)","v":1},1,"13002011",1,0,2,1,0,2,0,0,0,0]
["1301401","1301401",{"$f":"VLOOKUP(B167, 'School List'!F:G,2,FALSE)","v":"Chase El"},"PHBAO",302,127,0,0,0,41,null,null,13,0,14,497,13,5,0,0,0,18,13,5,0,0,0,18,{"$f":"VLOOKUP(A167,'Pivot Norm'!A:B,2,FALSE)","v":1},1,"13014011",1,0,2,1,0,2,1,0,0,0]
["1302701","1302701",{"$f":"VLOOKUP(B168, 'School List'!F:G,2,FALSE)","v":"Chatsworth UP/CD Mag"},"Magnet 2",286,162,0,0,0,null,null,null,0,0,0,448,12,6,0,0,0,18,12,6,0,0,0,18,{"$f":"VLOOKUP(A168,'Pivot Norm'!A:B,2,FALSE)","v":1},1,"13027011",1,0,2,1,0,2,0,0,0,0]
["1304101","1304101",{"$f":"VLOOKUP(B169, 'School List'!F:G,2,FALSE)","v":"Cheremoya El"},"Non-PHBAO",116,88,0,0,0,null,null,null,6,6,0,216,5,3,0,0,0,8,6,4,0,0,0,10,{"$f":"VLOOKUP(A169,'Pivot Norm'!A:B,2,FALSE)","v":1},1,"13041011",1,0,2,1,0,2,0,0,0,0]
["1306801","1306801",{"$f":"VLOOKUP(B170, 'School List'!F:G,2,FALSE)","v":"Cienega El"},"PHBAO",181,110,0,0,0,49,null,null,0,0,19,359,8,5,0,0,0,13,8,6,0,0,0,14,{"$f":"VLOOKUP(A170,'Pivot Norm'!A:B,2,FALSE)","v":2},1,"13068011",1,0,2,1,0,2,1,0,0,0]
["1306801","1306802",{"$f":"VLOOKUP(B171, 'School List'!F:G,2,FALSE)","v":"Cienega El DTS"},"PHBAO",56,18,0,0,0,null,null,null,0,0,0,74,3,1,0,0,0,4,3,0,0,0,0,3,{"$f":"VLOOKUP(A171,'Pivot Norm'!A:B,2,FALSE)","v":2},2,"13068012",0,0,0,0,0,0,0,0,0,0]
["1308201","1308201",{"$f":"VLOOKUP(B172, 'School List'!F:G,2,FALSE)","v":"Cimarron El"},"PHBAO",114,46,0,0,0,23,null,null,14,0,12,209,5,2,0,0,0,7,5,2,0,0,0,7,{"$f":"VLOOKUP(A172,'Pivot Norm'!A:B,2,FALSE)","v":2},1,"13082011",1,0,2,1,0,2,0,0,0,0]
["1308201","1308202",{"$f":"VLOOKUP(B173, 'School List'!F:G,2,FALSE)","v":"Cimarron STEAM Mag"},"Magnet 2",47,50,0,0,0,null,null,null,0,0,0,97,2,2,0,0,0,4,2,2,0,0,0,4,{"$f":"VLOOKUP(A173,'Pivot Norm'!A:B,2,FALSE)","v":2},2,"13082012",0,0,0,0,0,0,0,0,0,0]
["1309601","1309601",{"$f":"VLOOKUP(B174, 'School List'!F:G,2,FALSE)","v":"City Terrace El"},"PHBAO",142,72,0,0,0,15,null,null,0,0,9,238,6,3,0,0,0,9,6,3,0,0,0,9,{"$f":"VLOOKUP(A174,'Pivot Norm'!A:B,2,FALSE)","v":2},1,"13096011",1,0,2,1,0,2,1,0,0,0]
["1309601","1309602",{"$f":"VLOOKUP(B175, 'School List'!F:G,2,FALSE)","v":"City Terrace DTM"},"PHBAO",137,48,0,0,0,null,null,null,0,0,16,201,6,2,0,0,0,8,6,2,0,0,0,8,{"$f":"VLOOKUP(A175,'Pivot Norm'!A:B,2,FALSE)","v":2},2,"13096012",0,0,0,0,0,0,0,0,0,0]
["1311001","1311001",{"$f":"VLOOKUP(B176, 'School List'!F:G,2,FALSE)","v":"Clifford El"},"Magnet 2",77,46,0,0,0,null,null,null,0,0,0,123,4,2,0,0,0,6,4,2,0,0,0,6,{"$f":"VLOOKUP(A176,'Pivot Norm'!A:B,2,FALSE)","v":1},1,"13110011",1,0,2,1,0,2,0,0,0,0]
["1312301","1312301",{"$f":"VLOOKUP(B177, 'School List'!F:G,2,FALSE)","v":"Clover El"},"Non-PHBAO",327,124,0,0,0,null,null,null,5,0,0,456,14,4,0,0,0,18,15,6,0,0,0,21,{"$f":"VLOOKUP(A177,'Pivot Norm'!A:B,2,FALSE)","v":1},1,"13123011",1,0,2,1,0,2,0,1,2,0]
["1313701","1313701",{"$f":"VLOOKUP(B178, 'School List'!F:G,2,FALSE)","v":"Cohasset El"},"PHBAO",204,77,0,0,0,44,null,null,11,0,21,357,9,3,0,0,0,12,9,4,0,0,0,13,{"$f":"VLOOKUP(A178,'Pivot Norm'!A:B,2,FALSE)","v":2},1,"13137011",1,0,2,1,0,2,0,0,0,0]
["1313701","1313702",{"$f":"VLOOKUP(B179, 'School List'!F:G,2,FALSE)","v":"Cohasset St El DOS"},"PHBAO",83,41,0,0,0,null,null,null,0,0,0,124,4,2,0,0,0,6,4,2,0,0,0,6,{"$f":"VLOOKUP(A179,'Pivot Norm'!A:B,2,FALSE)","v":2},2,"13137012",0,0,0,0,0,0,0,0,0,0]
["1315101","1315101",{"$f":"VLOOKUP(B180, 'School List'!F:G,2,FALSE)","v":"Coldwater Cyn El"},"PHBAO",283,195,0,0,0,34,null,null,14,0,23,549,12,8,0,0,0,20,14,7,0,0,0,21,{"$f":"VLOOKUP(A180,'Pivot Norm'!A:B,2,FALSE)","v":2},1,"13151011",1,0,2,1,0,2,1,0,0,0]
["1315101","1315102",{"$f":"VLOOKUP(B181, 'School List'!F:G,2,FALSE)","v":"Coldwater Cyn DTS"},"PHBAO",69,0,0,0,0,null,null,null,0,0,0,69,3,0,0,0,0,3,2,0,0,0,0,2,{"$f":"VLOOKUP(A181,'Pivot Norm'!A:B,2,FALSE)","v":2},2,"13151012",0,0,0,0,0,0,0,0,0,0]
["1316401","1316401",{"$f":"VLOOKUP(B182, 'School List'!F:G,2,FALSE)","v":"Colfax Charter El"},"Non-PHBAO",478,182,0,0,0,null,null,null,0,0,0,660,20,6,0,0,0,26,19,6,0,0,0,25,{"$f":"VLOOKUP(A182,'Pivot Norm'!A:B,2,FALSE)","v":1},1,"13164011",1,0,2,1,0,2,1,0,1,0]
["1317801","1317801",{"$f":"VLOOKUP(B183, 'School List'!F:G,2,FALSE)","v":"Coliseum El"},"PHBAO",81,42,0,0,0,26,null,null,23,5,0,177,4,2,0,0,0,6,4,2,0,0,0,6,{"$f":"VLOOKUP(A183,'Pivot Norm'!A:B,2,FALSE)","v":1},1,"13178011",1,0,2,1,0,2,0,0,0,0]
["1319201","1319201",{"$f":"VLOOKUP(B184, 'School List'!F:G,2,FALSE)","v":"Commonwealth El"},"PHBAO",250,101,0,0,0,62,null,null,0,0,25,438,11,4,0,0,0,15,11,4,0,0,0,15,{"$f":"VLOOKUP(A184,'Pivot Norm'!A:B,2,FALSE)","v":2},1,"13192011",1,0,2,1,0,2,1,0,0,0]
["1319201","1319202",{"$f":"VLOOKUP(B185, 'School List'!F:G,2,FALSE)","v":"Commonwealth GAT Mag"},"Magnet 2",44,51,0,0,0,null,null,null,0,0,0,95,2,2,0,0,0,4,2,2,0,0,0,4,{"$f":"VLOOKUP(A185,'Pivot Norm'!A:B,2,FALSE)","v":2},2,"13192012",0,0,0,0,0,0,0,0,0,0]
["1320501","1320501",{"$f":"VLOOKUP(B186, 'School List'!F:G,2,FALSE)","v":"Compton El"},"PHBAO",166,93,0,0,0,23,null,null,0,0,5,287,7,4,0,0,0,11,8,4,0,0,0,12,{"$f":"VLOOKUP(A186,'Pivot Norm'!A:B,2,FALSE)","v":1},1,"13205011",1,0,2,1,0,2,0,0,0,0]
["1321001","1321001",{"$f":"VLOOKUP(B187, 'School List'!F:G,2,FALSE)","v":"Madison El"},"PHBAO",200,85,0,0,0,14,null,null,0,0,23,322,9,4,0,0,0,13,9,3,0,0,0,12,{"$f":"VLOOKUP(A187,'Pivot Norm'!A:B,2,FALSE)","v":2},1,"13210011",1,0,2,1,0,2,1,0,0,0]
["1321001","1321002",{"$f":"VLOOKUP(B188, 'School List'!F:G,2,FALSE)","v":"Madison El DTS"},"PHBAO",150,77,0,0,0,null,null,null,0,0,0,227,7,3,0,0,0,10,7,3,0,0,0,10,{"$f":"VLOOKUP(A188,'Pivot Norm'!A:B,2,FALSE)","v":2},2,"13210012",0,0,0,0,0,0,0,0,0,0]
["1321901","1321901",{"$f":"VLOOKUP(B189, 'School List'!F:G,2,FALSE)","v":"Corona El"},"PHBAO",368,299,0,0,0,32,null,null,14,18,0,731,16,12,0,0,0,28,17,11,0,0,0,28,{"$f":"VLOOKUP(A189,'Pivot Norm'!A:B,2,FALSE)","v":1},1,"13219011",1,0,2,1,0,2,0,0,0,0]
["1322001","1322001",{"$f":"VLOOKUP(B190, 'School List'!F:G,2,FALSE)","v":"Escutia PC"},"PHBAO",172,0,0,0,0,null,null,null,8,20,46,246,8,0,0,0,0,8,8,0,0,0,0,8,{"$f":"VLOOKUP(A190,'Pivot Norm'!A:B,2,FALSE)","v":1},1,"13220011",1,0,2,1,0,2,1,1,0,0]
["1324701","1324701",{"$f":"VLOOKUP(B191, 'School List'!F:G,2,FALSE)","v":"Plasencia El"},"PHBAO",121,67,0,0,0,34,null,null,12,0,21,255,6,3,0,0,0,9,5,3,0,0,0,8,{"$f":"VLOOKUP(A191,'Pivot Norm'!A:B,2,FALSE)","v":2},1,"13247011",1,0,2,1,0,2,1,0,0,0]
["1324701","1324702",{"$f":"VLOOKUP(B192, 'School List'!F:G,2,FALSE)","v":"Plasencia STEAM Mag"},"Magnet 2",175,105,0,0,0,null,null,null,0,0,0,280,8,4,0,0,0,12,8,4,0,0,0,12,{"$f":"VLOOKUP(A192,'Pivot Norm'!A:B,2,FALSE)","v":2},2,"13247012",0,0,0,0,0,0,0,0,0,0]
["1326001","1326001",{"$f":"VLOOKUP(B193, 'School List'!F:G,2,FALSE)","v":"Cowan El"},"PHBAO",131,45,0,0,0,9,null,null,0,0,0,185,6,2,0,0,0,8,6,2,0,0,0,8,{"$f":"VLOOKUP(A193,'Pivot Norm'!A:B,2,FALSE)","v":3},1,"13260011",1,0,2,1,0,2,0,0,0,0]
["1326001","1326002",{"$f":"VLOOKUP(B194, 'School List'!F:G,2,FALSE)","v":"Cowan Gifted/IH Mag"},"Magnet 2",64,69,0,0,0,null,null,null,0,0,0,133,3,3,0,0,0,6,3,3,0,0,0,6,{"$f":"VLOOKUP(A194,'Pivot Norm'!A:B,2,FALSE)","v":3},2,"13260012",0,0,0,0,0,0,0,0,0,0]
["1326001","1326003",{"$f":"VLOOKUP(B195, 'School List'!F:G,2,FALSE)","v":"Cowan El DWS"},"PHBAO",110,15,0,0,0,null,null,null,0,0,0,125,5,1,0,0,0,6,5,0,0,0,0,5,{"$f":"VLOOKUP(A195,'Pivot Norm'!A:B,2,FALSE)","v":3},3,"13260013",0,0,0,0,0,0,0,0,0,0]
["1328801","1328801",{"$f":"VLOOKUP(B196, 'School List'!F:G,2,FALSE)","v":"Crescent Hts L/A/S/J"},"Magnet 2",170,109,0,0,0,null,null,null,6,0,0,285,8,5,0,0,0,13,8,4,0,0,0,12,{"$f":"VLOOKUP(A196,'Pivot Norm'!A:B,2,FALSE)","v":1},1,{"$f":"A196&AD196","v":"13288011"},1,0,2,1,0,2,0,2,1,0]
["1330201","1330201",{"$f":"VLOOKUP(B197, 'School List'!F:G,2,FALSE)","v":"Crestwood STEAM Mag"},"Magnet 2",229,152,0,0,0,null,null,null,14,0,0,395,10,6,0,0,0,16,10,5,0,0,0,15,{"$f":"VLOOKUP(A197,'Pivot Norm'!A:B,2,FALSE)","v":1},1,"13302011",1,0,2,1,0,2,1,0,0,0]
["1331101","1331101",{"$f":"VLOOKUP(B198, 'School List'!F:G,2,FALSE)","v":"Westside Glbl Awr Mg"},"Magnet 2",73,51,214,0,0,null,null,null,0,0,0,338,4,2,9,0,0,15,4,2,9,0,0,15,{"$f":"VLOOKUP(A198,'Pivot Norm'!A:B,2,FALSE)","v":1},{"$f":"IF(A198=A197,AD197+1,1)","v":1},"13311011",1,0.5,2,1,0.5,2,0,0,0,0]
["1331501","1331501",{"$f":"VLOOKUP(B199, 'School List'!F:G,2,FALSE)","v":"Dena El"},"PHBAO",187,172,0,0,0,27,null,null,12,0,4,402,8,7,0,0,0,15,9,7,0,0,0,16,{"$f":"VLOOKUP(A199,'Pivot Norm'!A:B,2,FALSE)","v":1},1,"13315011",1,0,2,1,0,2,0,0,1,0]
["1332901","1332901",{"$f":"VLOOKUP(B200, 'School List'!F:G,2,FALSE)","v":"Dahlia Heights El"},"Non-PHBAO",242,162,0,0,0,6,null,null,0,0,0,410,11,5,0,0,0,16,11,5,0,0,0,16,{"$f":"VLOOKUP(A200,'Pivot Norm'!A:B,2,FALSE)","v":1},1,"13329011",1,0,2,1,0,2,0,0,0,0]
["1333501","1333501",{"$f":"VLOOKUP(B201, 'School List'!F:G,2,FALSE)","v":"Danube El"},"PHBAO",205,95,0,0,0,21,null,null,0,0,24,345,9,4,0,0,0,13,8,4,0,0,0,12,{"$f":"VLOOKUP(A201,'Pivot Norm'!A:B,2,FALSE)","v":1},1,"13335011",1,0,2,1,0,2,1,0,0,0]
["1334001","1334001",{"$f":"VLOOKUP(B202, 'School List'!F:G,2,FALSE)","v":"Darby Ave El"},"PHBAO",293,139,0,0,0,19,null,null,0,0,0,451,13,6,0,0,0,19,12,4,0,0,0,16,{"$f":"VLOOKUP(A202,'Pivot Norm'!A:B,2,FALSE)","v":1},1,"13340011",1,0,2,1,0,2,1,0,0,0]
["1335601","1335601",{"$f":"VLOOKUP(B203, 'School List'!F:G,2,FALSE)","v":"Dayton Heights El"},"PHBAO",81,35,0,0,0,33,null,null,16,0,0,165,4,2,0,0,0,6,7,3,0,0,0,10,{"$f":"VLOOKUP(A203,'Pivot Norm'!A:B,2,FALSE)","v":2},1,"13356011",1,0,2,1,0,2,0,0,0,0]
["1335601","1335602",{"$f":"VLOOKUP(B204, 'School List'!F:G,2,FALSE)","v":"Dayton Hts UES Mag"},"Magnet 2",92,52,0,0,0,null,null,null,0,0,0,144,4,2,0,0,0,6,1,2,0,0,0,3,{"$f":"VLOOKUP(A204,'Pivot Norm'!A:B,2,FALSE)","v":2},2,"13356012",0,0,0,0,0,0,0,0,0,0]
["1337701","1337701",{"$f":"VLOOKUP(B205, 'School List'!F:G,2,FALSE)","v":"Dearborn El CA"},"Non-PHBAO",386,143,0,0,0,19,null,null,0,0,0,548,17,5,0,0,0,22,16,5,0,0,0,21,{"$f":"VLOOKUP(A205,'Pivot Norm'!A:B,2,FALSE)","v":1},1,"13377011",1,0,2,1,0,2,0,0,0,0]
["1338401","1338401",{"$f":"VLOOKUP(B206, 'School List'!F:G,2,FALSE)","v":"Del Amo El"},"PHBAO",202,85,0,0,0,14,null,null,0,0,10,311,9,4,0,0,0,13,9,4,0,0,0,13,{"$f":"VLOOKUP(A206,'Pivot Norm'!A:B,2,FALSE)","v":1},1,"13384011",1,0,2,1,0,2,0,0,0,0]
["1339701","1339701",{"$f":"VLOOKUP(B207, 'School List'!F:G,2,FALSE)","v":"Delevan Drive El"},"PHBAO",299,154,0,0,0,26,null,null,0,0,18,497,13,6,0,0,0,19,12,6,0,0,0,18,{"$f":"VLOOKUP(A207,'Pivot Norm'!A:B,2,FALSE)","v":1},1,"13397011",1,0,2,1,0,2,1,0,0,0]
["1342501","1342501",{"$f":"VLOOKUP(B208, 'School List'!F:G,2,FALSE)","v":"Denker El"},"PHBAO",336,180,0,0,0,17,null,null,12,0,26,571,14,7,0,0,0,21,14,7,0,0,0,21,{"$f":"VLOOKUP(A208,'Pivot Norm'!A:B,2,FALSE)","v":2},1,"13425011",1,0,2,1,0,2,1,1,0,0]
["1342501","1342502",{"$f":"VLOOKUP(B209, 'School List'!F:G,2,FALSE)","v":"Denker Ave El DTK"},"PHBAO",96,42,0,0,0,null,null,null,0,0,0,138,4,2,0,0,0,6,4,2,0,0,0,6,{"$f":"VLOOKUP(A209,'Pivot Norm'!A:B,2,FALSE)","v":2},2,"13425012",0,0,0,0,0,0,0,0,0,0]
["1342601","1342601",{"$f":"VLOOKUP(B210, 'School List'!F:G,2,FALSE)","v":"Garza PC"},"PHBAO",96,0,0,0,0,null,null,null,17,0,9,122,4,0,0,0,0,4,4,0,0,0,0,4,{"$f":"VLOOKUP(A210,'Pivot Norm'!A:B,2,FALSE)","v":1},1,"13426011",1,0,2,1,0,2,0,0,0,0]
["1343801","1343801",{"$f":"VLOOKUP(B211, 'School List'!F:G,2,FALSE)","v":"Dixie Cyn Comm Chtr"},"Non-PHBAO",481,194,0,0,0,11,null,null,10,0,0,696,21,6,0,0,0,27,21,7,0,0,0,28,{"$f":"VLOOKUP(A211,'Pivot Norm'!A:B,2,FALSE)","v":1},1,"13438011",1,0,2,1,0,2,1,0,1,0]
["1345201","1345201",{"$f":"VLOOKUP(B212, 'School List'!F:G,2,FALSE)","v":"Dolores El"},"PHBAO",308,164,0,0,0,null,null,null,16,0,20,508,13,7,0,0,0,20,14,6,0,0,0,20,{"$f":"VLOOKUP(A212,'Pivot Norm'!A:B,2,FALSE)","v":1},1,"13452011",1,0,2,1,0,2,1,0,0,0]
["1346601","1346601",{"$f":"VLOOKUP(B213, 'School List'!F:G,2,FALSE)","v":"Dominguez El"},"PHBAO",216,131,0,0,0,null,null,null,0,0,24,371,9,5,0,0,0,14,9,6,0,0,0,15,{"$f":"VLOOKUP(A213,'Pivot Norm'!A:B,2,FALSE)","v":2},1,"13466011",1,0,2,1,0,2,0,0,1,0]
["1346601","1346602",{"$f":"VLOOKUP(B214, 'School List'!F:G,2,FALSE)","v":"Dominguez El DTS"},"PHBAO",107,15,0,0,0,null,null,null,0,0,0,122,5,1,0,0,0,6,5,0,0,0,0,5,{"$f":"VLOOKUP(A214,'Pivot Norm'!A:B,2,FALSE)","v":2},2,"13466012",0,0,0,0,0,0,0,0,0,0]
["1347901","1347901",{"$f":"VLOOKUP(B215, 'School List'!F:G,2,FALSE)","v":"Dorris Place El"},"PHBAO",166,100,0,0,0,5,null,null,0,6,18,295,7,4,0,0,0,11,7,4,0,0,0,11,{"$f":"VLOOKUP(A215,'Pivot Norm'!A:B,2,FALSE)","v":1},1,"13479011",1,0,2,1,0,2,0,0,0,0]
["1349301","1349301",{"$f":"VLOOKUP(B216, 'School List'!F:G,2,FALSE)","v":"Dyer El"},"PHBAO",422,181,0,0,0,29,null,null,13,0,23,668,18,7,0,0,0,25,18,8,0,0,0,26,{"$f":"VLOOKUP(A216,'Pivot Norm'!A:B,2,FALSE)","v":1},1,"13493011",1,0,2,1,0,2,0,0,0,0]
["1350001","1350001",{"$f":"VLOOKUP(B217, 'School List'!F:G,2,FALSE)","v":"Midcity Prescott Mag"},"Magnet 2",118,107,0,0,0,null,null,null,0,0,0,225,5,4,0,0,0,9,5,4,0,0,0,9,{"$f":"VLOOKUP(A217,'Pivot Norm'!A:B,2,FALSE)","v":1},1,"13500011",1,0,2,1,0,2,1,0,0,0]
["1350701","1350701",{"$f":"VLOOKUP(B218, 'School List'!F:G,2,FALSE)","v":"Eagle Rock El"},"PHBAO",358,219,0,0,0,38,null,null,0,0,19,634,15,9,0,0,0,24,15,8,0,0,0,23,{"$f":"VLOOKUP(A218,'Pivot Norm'!A:B,2,FALSE)","v":3},1,"13507011",1,0,3,1,0,3,0,1,0,0]
["1350701","1350702",{"$f":"VLOOKUP(B219, 'School List'!F:G,2,FALSE)","v":"Eagle Rock Hg El Mag"},"Magnet 1",4,34,0,0,0,null,null,null,0,0,0,38,1,2,0,0,0,3,1,2,0,0,0,3,{"$f":"VLOOKUP(A219,'Pivot Norm'!A:B,2,FALSE)","v":3},2,"13507012",0,0,0,0,0,0,0,0,0,0]
["1350701","1350703",{"$f":"VLOOKUP(B220, 'School List'!F:G,2,FALSE)","v":"Eagle Rck G/HA El Mg"},"Magnet 1",48,89,0,0,0,null,null,null,0,0,0,137,2,3,0,0,0,5,2,3,0,0,0,5,{"$f":"VLOOKUP(A220,'Pivot Norm'!A:B,2,FALSE)","v":3},3,"13507013",0,0,0,0,0,0,0,0,0,0]
["1352101","1352101",{"$f":"VLOOKUP(B221, 'School List'!F:G,2,FALSE)","v":"Eastman El"},"PHBAO",228,124,0,0,0,31,null,null,0,0,24,407,10,5,0,0,0,15,9,7,0,0,0,16,{"$f":"VLOOKUP(A221,'Pivot Norm'!A:B,2,FALSE)","v":2},1,"13521011",1,0,2,1,0,2,1,0,0,0]
["1352101","1352102",{"$f":"VLOOKUP(B222, 'School List'!F:G,2,FALSE)","v":"Eastman El DTS & DOS"},"PHBAO",207,70,0,0,0,null,null,null,0,0,0,277,9,3,0,0,0,12,9,2,0,0,0,11,{"$f":"VLOOKUP(A222,'Pivot Norm'!A:B,2,FALSE)","v":2},2,"13521012",0,0,0,0,0,0,0,0,0,0]
["1354101","1354101",{"$f":"VLOOKUP(B223, 'School List'!F:G,2,FALSE)","v":"El Dorado El"},"PHBAO",209,110,0,0,0,45,null,null,8,0,15,387,9,5,0,0,0,14,9,5,0,0,0,14,{"$f":"VLOOKUP(A223,'Pivot Norm'!A:B,2,FALSE)","v":1},1,"13541011",1,0,2,1,0,2,1,0,0,0]
["1354501","1354501",{"$f":"VLOOKUP(B224, 'School List'!F:G,2,FALSE)","v":"El Oro Way Chtr CES"},"Non-PHBAO",276,142,0,0,0,null,null,null,0,0,0,418,12,5,0,0,0,17,11,5,0,0,0,16,{"$f":"VLOOKUP(A224,'Pivot Norm'!A:B,2,FALSE)","v":1},1,"13545011",1,0,2,1,0,2,1,0,0,0]
["1354801","1354801",{"$f":"VLOOKUP(B225, 'School List'!F:G,2,FALSE)","v":"Elizabeth LC"},"PHBAO",265,152,262,361,643,4,16,61,0,0,12,1415,12,6,10,3,21,52,12,6,11,3,21,53,{"$f":"VLOOKUP(A225,'Pivot Norm'!A:B,2,FALSE)","v":2},1,"13548011",3,2,4,3,2,4,1,0,0,0]
["1354801","1354805",{"$f":"VLOOKUP(B226, 'School List'!F:G,2,FALSE)","v":"Elizabeth LC DTA"},"PHBAO",37,32,0,0,0,null,null,null,0,0,0,69,2,2,0,0,0,4,2,1,0,0,0,3,{"$f":"VLOOKUP(A226,'Pivot Norm'!A:B,2,FALSE)","v":2},2,"13548012",0,0,0,0,0,0,1,0,0,0]
["1356201","1356201",{"$f":"VLOOKUP(B227, 'School List'!F:G,2,FALSE)","v":"El Sereno El"},"PHBAO",191,120,0,0,0,null,null,null,6,18,0,335,8,5,0,0,0,13,8,5,0,0,0,13,{"$f":"VLOOKUP(A227,'Pivot Norm'!A:B,2,FALSE)","v":1},1,"13562011",1,0,2,1,0,2,0,0,0,0]
["1357401","1357401",{"$f":"VLOOKUP(B228, 'School List'!F:G,2,FALSE)","v":"Sendak El"},"PHBAO",161,64,0,0,0,16,null,null,0,0,24,265,7,3,0,0,0,10,8,3,0,0,0,11,{"$f":"VLOOKUP(A228,'Pivot Norm'!A:B,2,FALSE)","v":2},1,"13574011",1,0,2,1,0,2,1,0,0,0]
["1357401","1357402",{"$f":"VLOOKUP(B229, 'School List'!F:G,2,FALSE)","v":"Sendak A/C/T Mag"},"Magnet 2",90,53,0,0,0,null,null,null,0,0,0,143,4,2,0,0,0,6,3,2,0,0,0,5,{"$f":"VLOOKUP(A229,'Pivot Norm'!A:B,2,FALSE)","v":2},2,"13574012",0,0,0,0,0,0,0,0,0,0]
["1357501","1357501",{"$f":"VLOOKUP(B230, 'School List'!F:G,2,FALSE)","v":"Elysian Hts Arts Mag"},"Magnet 1",274,115,0,0,0,null,null,null,0,0,0,389,12,4,0,0,0,16,11,3,0,0,0,14,{"$f":"VLOOKUP(A230,'Pivot Norm'!A:B,2,FALSE)","v":1},1,"13575011",1,0,2,1,0,2,0,0,0,0]
["1357601","1357601",{"$f":"VLOOKUP(B231, 'School List'!F:G,2,FALSE)","v":"Parks LC"},"PHBAO",336,179,0,0,0,39,null,null,0,19,0,573,14,7,0,0,0,21,15,7,0,0,0,22,{"$f":"VLOOKUP(A231,'Pivot Norm'!A:B,2,FALSE)","v":1},1,"13576011",1,0,2,1,0,2,0,0,0,0]
["1357701","1357701",{"$f":"VLOOKUP(B232, 'School List'!F:G,2,FALSE)","v":"Bellingham El"},"PHBAO",238,139,0,0,0,29,null,null,9,0,13,428,10,6,0,0,0,16,11,5,0,0,0,16,{"$f":"VLOOKUP(A232,'Pivot Norm'!A:B,2,FALSE)","v":1},1,"13577011",1,0,2,1,0,2,1,0,0,0]
["1358901","1358901",{"$f":"VLOOKUP(B233, 'School List'!F:G,2,FALSE)","v":"Emelita St El"},"Non-PHBAO",153,70,0,0,0,23,null,null,0,0,0,246,7,3,0,0,0,10,8,3,0,0,0,11,{"$f":"VLOOKUP(A233,'Pivot Norm'!A:B,2,FALSE)","v":1},1,"13589011",1,0,2,1,0,2,0,0,1,0]
["1361001","1361001",{"$f":"VLOOKUP(B234, 'School List'!F:G,2,FALSE)","v":"Enadia Way"},"PHBAO",144,83,0,0,0,null,null,null,0,0,0,227,6,4,0,0,0,10,7,4,0,0,0,11,{"$f":"VLOOKUP(A234,'Pivot Norm'!A:B,2,FALSE)","v":1},1,"13610011",1,0,2,1,0,2,0,0,0,0]
["1361601","1361601",{"$f":"VLOOKUP(B235, 'School List'!F:G,2,FALSE)","v":"Encino Charter El"},"Non-PHBAO",356,165,0,0,0,null,null,null,0,0,0,521,15,6,0,0,0,21,16,6,0,0,0,22,{"$f":"VLOOKUP(A235,'Pivot Norm'!A:B,2,FALSE)","v":1},1,"13616011",1,0,2,1,0,2,1,0,2,0]
["1363001","1363001",{"$f":"VLOOKUP(B236, 'School List'!F:G,2,FALSE)","v":"Erwin El"},"Non-PHBAO",350,196,0,0,0,42,null,null,16,0,19,623,15,7,0,0,0,22,17,6,0,0,0,23,{"$f":"VLOOKUP(A236,'Pivot Norm'!A:B,2,FALSE)","v":1},1,"13630011",1,0,2,1,0,2,0,1,1,0]
["1364001","1364001",{"$f":"VLOOKUP(B237, 'School List'!F:G,2,FALSE)","v":"Eshelman El"},"PHBAO",270,131,0,0,0,17,null,null,0,0,24,442,12,5,0,0,0,17,12,6,0,0,0,18,{"$f":"VLOOKUP(A237,'Pivot Norm'!A:B,2,FALSE)","v":1},1,"13640011",1,0,2,1,0,2,0,0,0,0]
["1367101","1367101",{"$f":"VLOOKUP(B238, 'School List'!F:G,2,FALSE)","v":"Euclid El"},"PHBAO",235,85,0,0,0,31,null,null,0,0,21,372,10,4,0,0,0,14,9,4,0,0,0,13,{"$f":"VLOOKUP(A238,'Pivot Norm'!A:B,2,FALSE)","v":3},1,"13671011",1,0,3,1,0,3,0,0,0,0]
["1367101","1367102",{"$f":"VLOOKUP(B239, 'School List'!F:G,2,FALSE)","v":"Euclid ES GSTEAM Mag"},"Magnet 2",74,87,0,0,0,null,null,null,0,0,0,161,4,4,0,0,0,8,4,4,0,0,0,8,{"$f":"VLOOKUP(A239,'Pivot Norm'!A:B,2,FALSE)","v":3},2,"13671012",0,0,0,0,0,0,0,0,0,0]
["1367101","1367103",{"$f":"VLOOKUP(B240, 'School List'!F:G,2,FALSE)","v":"Euclid Ave El DTS"},"PHBAO",190,91,0,0,0,null,null,null,0,0,0,281,8,4,0,0,0,12,8,4,0,0,0,12,{"$f":"VLOOKUP(A240,'Pivot Norm'!A:B,2,FALSE)","v":3},3,"13671013",0,0,0,0,0,0,0,0,0,0]
["1369901","1369901",{"$f":"VLOOKUP(B241, 'School List'!F:G,2,FALSE)","v":"Evergreen El"},"PHBAO",298,213,0,0,0,25,null,null,4,0,9,549,13,8,0,0,0,21,13,9,0,0,0,22,{"$f":"VLOOKUP(A241,'Pivot Norm'!A:B,2,FALSE)","v":1},1,"13699011",1,0,2,1,0,2,1,1,0,0]
["1371201","1371201",{"$f":"VLOOKUP(B242, 'School List'!F:G,2,FALSE)","v":"Fair El"},"PHBAO",375,209,0,0,0,26,null,null,0,0,13,623,16,8,0,0,0,24,18,9,0,0,0,27,{"$f":"VLOOKUP(A242,'Pivot Norm'!A:B,2,FALSE)","v":1},1,"13712011",1,0,2,1,0,2,0,1,1,0]
["1372601","1372601",{"$f":"VLOOKUP(B243, 'School List'!F:G,2,FALSE)","v":"Fairburn El"},"Non-PHBAO",357,105,0,0,0,null,null,null,0,0,0,462,15,4,0,0,0,19,14,4,0,0,0,18,{"$f":"VLOOKUP(A243,'Pivot Norm'!A:B,2,FALSE)","v":1},1,"13726011",1,0,2,1,0,2,1,0,0,0]
["1374001","1374001",{"$f":"VLOOKUP(B244, 'School List'!F:G,2,FALSE)","v":"Farmdale El"},"PHBAO",110,57,0,0,0,23,null,null,4,0,20,214,5,3,0,0,0,8,5,2,0,0,0,7,{"$f":"VLOOKUP(A244,'Pivot Norm'!A:B,2,FALSE)","v":2},1,"13740011",1,0,2,1,0,2,0,0,0,0]
["1374001","1374002",{"$f":"VLOOKUP(B245, 'School List'!F:G,2,FALSE)","v":"Farmdale El DOS"},"PHBAO",103,50,0,0,0,null,null,null,0,0,0,153,5,2,0,0,0,7,5,3,0,0,0,8,{"$f":"VLOOKUP(A245,'Pivot Norm'!A:B,2,FALSE)","v":2},2,"13740012",0,0,0,0,0,0,0,0,0,0]
["1375301","1375301",{"$f":"VLOOKUP(B246, 'School List'!F:G,2,FALSE)","v":"Fernangeles El"},"PHBAO",209,100,0,0,0,33,null,null,15,17,22,396,9,4,0,0,0,13,9,5,0,0,0,14,{"$f":"VLOOKUP(A246,'Pivot Norm'!A:B,2,FALSE)","v":2},1,"13753011",1,0,2,1,0,2,1,0,0,0]
["1375301","1375302",{"$f":"VLOOKUP(B247, 'School List'!F:G,2,FALSE)","v":"Fernangeles DTS & DOS"},"PHBAO",103,40,0,0,0,null,null,null,0,0,0,143,5,2,0,0,0,7,5,2,0,0,0,7,{"$f":"VLOOKUP(A247,'Pivot Norm'!A:B,2,FALSE)","v":2},2,"13753012",0,0,0,0,0,0,0,0,0,0]
["1376701","1376701",{"$f":"VLOOKUP(B248, 'School List'!F:G,2,FALSE)","v":"15th St El"},"PHBAO",270,123,0,0,0,18,null,null,0,0,19,430,12,5,0,0,0,17,11,6,0,0,0,17,{"$f":"VLOOKUP(A248,'Pivot Norm'!A:B,2,FALSE)","v":1},1,"13767011",1,0,2,1,0,2,1,0,0,0]
["1378101","1378101",{"$f":"VLOOKUP(B249, 'School List'!F:G,2,FALSE)","v":"54th St El"},"PHBAO",165,98,0,0,0,24,null,null,0,0,3,290,7,4,0,0,0,11,8,4,0,0,0,12,{"$f":"VLOOKUP(A249,'Pivot Norm'!A:B,2,FALSE)","v":1},1,"13781011",1,0,2,1,0,2,0,0,0,0]
["1379501","1379501",{"$f":"VLOOKUP(B250, 'School List'!F:G,2,FALSE)","v":"59th St El"},"PHBAO",138,66,0,0,0,25,null,null,0,0,6,235,6,3,0,0,0,9,6,3,0,0,0,9,{"$f":"VLOOKUP(A250,'Pivot Norm'!A:B,2,FALSE)","v":1},1,"13795011",1,0,2,1,0,2,0,0,0,0]
["1380801","1380801",{"$f":"VLOOKUP(B251, 'School List'!F:G,2,FALSE)","v":"52nd St El"},"PHBAO",407,186,0,0,0,65,null,null,15,0,23,696,17,7,0,0,0,24,18,8,0,0,0,26,{"$f":"VLOOKUP(A251,'Pivot Norm'!A:B,2,FALSE)","v":1},1,"13808011",1,0,2,1,0,2,0,0,0,0]
["1382201","1382201",{"$f":"VLOOKUP(B252, 'School List'!F:G,2,FALSE)","v":"Figueroa El"},"PHBAO",214,170,0,0,0,20,null,null,7,0,0,411,9,7,0,0,0,16,10,7,0,0,0,17,{"$f":"VLOOKUP(A252,'Pivot Norm'!A:B,2,FALSE)","v":1},1,"13822011",1,0,2,1,0,2,0,0,0,0]
["1382901","1382901",{"$f":"VLOOKUP(B253, 'School List'!F:G,2,FALSE)","v":"Broadous El"},"PHBAO",227,102,0,0,0,35,null,null,27,0,11,402,10,4,0,0,0,14,10,4,0,0,0,14,{"$f":"VLOOKUP(A253,'Pivot Norm'!A:B,2,FALSE)","v":2},1,"13829011",1,0,2,1,0,2,0,0,0,0]
["1382901","1382902",{"$f":"VLOOKUP(B254, 'School List'!F:G,2,FALSE)","v":"Broadous El STEM Mag"},"Magnet 2",14,39,0,0,0,null,null,null,0,0,0,53,1,2,0,0,0,3,1,2,0,0,0,3,{"$f":"VLOOKUP(A254,'Pivot Norm'!A:B,2,FALSE)","v":2},2,"13829012",0,0,0,0,0,0,0,0,0,0]
["1383601","1383601",{"$f":"VLOOKUP(B255, 'School List'!F:G,2,FALSE)","v":"1st St El"},"PHBAO",237,163,0,0,0,19,null,null,0,15,13,447,10,7,0,0,0,17,10,7,0,0,0,17,{"$f":"VLOOKUP(A255,'Pivot Norm'!A:B,2,FALSE)","v":1},1,"13836011",1,0,2,1,0,2,1,0,0,0]
["1384901","1384901",{"$f":"VLOOKUP(B256, 'School List'!F:G,2,FALSE)","v":"Fishburn El"},"PHBAO",112,113,0,0,0,27,null,null,37,0,20,309,5,5,0,0,0,10,6,5,0,0,0,11,{"$f":"VLOOKUP(A256,'Pivot Norm'!A:B,2,FALSE)","v":2},1,"13849011",1,0,2,1,0,2,0,0,0,0]
["1384901","1384902",{"$f":"VLOOKUP(B257, 'School List'!F:G,2,FALSE)","v":"Fishburn El DTS"},"PHBAO",149,22,0,0,0,null,null,null,0,0,0,171,7,1,0,0,0,8,6,0,0,0,0,6,{"$f":"VLOOKUP(A257,'Pivot Norm'!A:B,2,FALSE)","v":2},2,"13849012",0,0,0,0,0,0,0,0,0,0]
["1387701","1387701",{"$f":"VLOOKUP(B258, 'School List'!F:G,2,FALSE)","v":"Fletcher Dr El"},"PHBAO",70,11,0,0,0,7,null,null,0,0,6,94,3,1,0,0,0,4,4,1,0,0,0,5,{"$f":"VLOOKUP(A258,'Pivot Norm'!A:B,2,FALSE)","v":2},1,"13877011",1,0,2,1,0,2,0,1,1,0]
["1387701","1387702",{"$f":"VLOOKUP(B259, 'School List'!F:G,2,FALSE)","v":"Fletcher STEAM Mag"},"Magnet 2",55,47,0,0,0,null,null,null,0,0,0,102,3,2,0,0,0,5,3,2,0,0,0,5,{"$f":"VLOOKUP(A259,'Pivot Norm'!A:B,2,FALSE)","v":2},2,"13877012",0,0,0,0,0,0,0,0,0,0]
["1389001","1389001",{"$f":"VLOOKUP(B260, 'School List'!F:G,2,FALSE)","v":"Florence El"},"PHBAO",99,68,0,0,0,53,null,null,22,0,24,266,5,3,0,0,0,8,4,3,0,0,0,7,{"$f":"VLOOKUP(A260,'Pivot Norm'!A:B,2,FALSE)","v":2},1,{"$f":"A260&AD260","v":"13890011"},1,0,2,1,0,2,0,0,0,0]
["1389001","1389002",{"$f":"VLOOKUP(B261, 'School List'!F:G,2,FALSE)","v":"Florence El DTS"},"PHBAO",231,161,0,0,0,null,null,null,0,0,0,392,10,6,0,0,0,16,10,5,0,0,0,15,{"$f":"VLOOKUP(A261,'Pivot Norm'!A:B,2,FALSE)","v":2},2,"13890012",0,0,0,0,0,0,2,1,0,0]
["1391801","1391801",{"$f":"VLOOKUP(B262, 'School List'!F:G,2,FALSE)","v":"Ford Blvd El"},"PHBAO",286,93,0,0,0,77,null,null,19,0,9,484,12,4,0,0,0,16,11,4,0,0,0,15,{"$f":"VLOOKUP(A262,'Pivot Norm'!A:B,2,FALSE)","v":2},{"$f":"IF(A262=A261,AD261+1,1)","v":1},"13918011",1,0,3,1,0,3,0,0,0,0]
["1391801","1391802",{"$f":"VLOOKUP(B263, 'School List'!F:G,2,FALSE)","v":"Ford Blvd El DTS"},"PHBAO",270,166,0,0,0,null,null,null,0,0,15,451,12,7,0,0,0,19,13,5,0,0,0,18,{"$f":"VLOOKUP(A263,'Pivot Norm'!A:B,2,FALSE)","v":2},2,"13918012",0,0,0,0,0,0,1,1,0,0]
["1393201","1393201",{"$f":"VLOOKUP(B264, 'School List'!F:G,2,FALSE)","v":"49th St El"},"PHBAO",385,193,0,0,0,15,null,null,21,0,20,634,17,8,0,0,0,25,18,8,0,0,0,26,{"$f":"VLOOKUP(A264,'Pivot Norm'!A:B,2,FALSE)","v":1},1,"13932011",1,0,2,1,0,2,0,0,0,0]
["1395901","1395901",{"$f":"VLOOKUP(B265, 'School List'!F:G,2,FALSE)","v":"42nd St El"},"PHBAO",113,47,0,0,0,26,null,null,0,0,9,195,5,2,0,0,0,7,5,2,0,0,0,7,{"$f":"VLOOKUP(A265,'Pivot Norm'!A:B,2,FALSE)","v":2},1,"13959011",1,0,2,1,0,2,0,0,0,0]
["1395901","1395902",{"$f":"VLOOKUP(B266, 'School List'!F:G,2,FALSE)","v":"42nd St El DWS"},"PHBAO",52,0,0,0,0,null,null,null,0,0,0,52,3,0,0,0,0,3,2,0,0,0,0,2,{"$f":"VLOOKUP(A266,'Pivot Norm'!A:B,2,FALSE)","v":2},2,"13959012",0,0,0,0,0,0,0,0,0,0]
["1397301","1397301",{"$f":"VLOOKUP(B267, 'School List'!F:G,2,FALSE)","v":"4th St El"},"PHBAO",127,151,0,0,0,32,null,null,0,0,0,310,6,6,0,0,0,12,7,7,0,0,0,14,{"$f":"VLOOKUP(A267,'Pivot Norm'!A:B,2,FALSE)","v":2},1,"13973011",1,0,2,1,0,2,0,0,0,0]
["1397301","1397302",{"$f":"VLOOKUP(B268, 'School List'!F:G,2,FALSE)","v":"4th Street El DTS"},"PHBAO",20,0,0,0,0,null,null,null,null,null,null,20,1,0,0,0,0,1,0,0,0,0,0,0,{"$f":"VLOOKUP(A268,'Pivot Norm'!A:B,2,FALSE)","v":2},2,"13973012",0,0,0,0,0,0,0,0,0,0]
["1397401","1397401",{"$f":"VLOOKUP(B269, 'School List'!F:G,2,FALSE)","v":"4th St Primary Ctr"},"PHBAO",118,0,0,0,0,23,null,null,0,0,17,158,5,0,0,0,0,5,6,0,0,0,0,6,{"$f":"VLOOKUP(A269,'Pivot Norm'!A:B,2,FALSE)","v":2},1,"13974011",1,0,2,1,0,2,0,0,0,0]
["1397401","1397402",{"$f":"VLOOKUP(B270, 'School List'!F:G,2,FALSE)","v":"4th St PC DTS"},"PHBAO",26,0,0,0,0,null,null,null,0,0,0,26,2,0,0,0,0,2,2,0,0,0,0,2,{"$f":"VLOOKUP(A270,'Pivot Norm'!A:B,2,FALSE)","v":2},2,"13974012",0,0,0,0,0,0,0,0,0,0]
["1398601","1398601",{"$f":"VLOOKUP(B271, 'School List'!F:G,2,FALSE)","v":"Franklin El"},"Non-PHBAO",293,137,0,0,0,null,null,null,0,0,0,430,13,5,0,0,0,18,14,5,0,0,0,19,{"$f":"VLOOKUP(A271,'Pivot Norm'!A:B,2,FALSE)","v":1},1,"13986011",1,0,2,1,0,2,0,0,0,0]
["1401401","1401401",{"$f":"VLOOKUP(B272, 'School List'!F:G,2,FALSE)","v":"Fries El"},"PHBAO",213,117,0,0,0,35,null,null,0,0,11,376,9,5,0,0,0,14,10,5,0,0,0,15,{"$f":"VLOOKUP(A272,'Pivot Norm'!A:B,2,FALSE)","v":1},1,"14014011",1,0,2,1,0,2,0,0,0,0]
["1402001","1402001",{"$f":"VLOOKUP(B273, 'School List'!F:G,2,FALSE)","v":"Bakewell PC"},"PHBAO",133,0,0,0,0,null,null,null,4,0,21,158,6,0,0,0,0,6,7,0,0,0,0,7,{"$f":"VLOOKUP(A273,'Pivot Norm'!A:B,2,FALSE)","v":1},1,"14020011",1,0,2,1,0,2,0,0,0,0]
["1402701","1402701",{"$f":"VLOOKUP(B274, 'School List'!F:G,2,FALSE)","v":"Fullbright El"},"PHBAO",177,140,0,0,0,13,null,null,0,8,15,353,8,6,0,0,0,14,9,5,0,0,0,14,{"$f":"VLOOKUP(A274,'Pivot Norm'!A:B,2,FALSE)","v":2},1,"14027011",1,0,2,1,0,2,2,0,0,0]
["1402701","1402702",{"$f":"VLOOKUP(B275, 'School List'!F:G,2,FALSE)","v":"Fullbright El DTS"},"PHBAO",71,0,0,0,0,null,null,null,0,0,0,71,3,0,0,0,0,3,2,0,0,0,0,2,{"$f":"VLOOKUP(A275,'Pivot Norm'!A:B,2,FALSE)","v":2},2,"14027012",0,0,0,0,0,0,1,0,1,0]
["1404101","1404101",{"$f":"VLOOKUP(B276, 'School List'!F:G,2,FALSE)","v":"Gardena El"},"PHBAO",216,118,0,0,0,9,null,null,0,0,16,359,9,5,0,0,0,14,10,6,0,0,0,16,{"$f":"VLOOKUP(A276,'Pivot Norm'!A:B,2,FALSE)","v":2},1,"14041011",1,0,2,1,0,2,0,0,0,0]
["1404101","1404102",{"$f":"VLOOKUP(B277, 'School List'!F:G,2,FALSE)","v":"Gardena El DTS"},"PHBAO",88,44,0,0,0,null,null,null,0,0,0,132,4,2,0,0,0,6,4,1,0,0,0,5,{"$f":"VLOOKUP(A277,'Pivot Norm'!A:B,2,FALSE)","v":2},2,"14041012",0,0,0,0,0,0,0,0,0,0]
["1405501","1405501",{"$f":"VLOOKUP(B278, 'School List'!F:G,2,FALSE)","v":"Garden Grove El"},"PHBAO",215,98,0,0,0,null,null,null,7,0,19,339,9,4,0,0,0,13,9,4,0,0,0,13,{"$f":"VLOOKUP(A278,'Pivot Norm'!A:B,2,FALSE)","v":1},1,"14055011",1,0,2,1,0,2,1,1,0,0]
["1406801","1406801",{"$f":"VLOOKUP(B279, 'School List'!F:G,2,FALSE)","v":"Gardner El"},"Non-PHBAO",182,89,0,0,0,null,null,null,0,31,0,302,8,3,0,0,0,11,10,3,0,0,0,13,{"$f":"VLOOKUP(A279,'Pivot Norm'!A:B,2,FALSE)","v":1},1,"14068011",1,0,2,1,0,2,0,0,0,0]
["1408201","1408201",{"$f":"VLOOKUP(B280, 'School List'!F:G,2,FALSE)","v":"Garvanza ES Tech/Lea"},"Magnet 2",187,94,0,0,0,null,null,null,6,0,10,297,8,4,0,0,0,12,8,4,0,0,0,12,{"$f":"VLOOKUP(A280,'Pivot Norm'!A:B,2,FALSE)","v":1},1,"14082011",1,0,2,1,0,2,0,0,0,0]
["1409601","1409601",{"$f":"VLOOKUP(B281, 'School List'!F:G,2,FALSE)","v":"Gates El"},"PHBAO",166,99,0,0,0,38,null,null,0,20,12,335,7,4,0,0,0,11,7,5,0,0,0,12,{"$f":"VLOOKUP(A281,'Pivot Norm'!A:B,2,FALSE)","v":3},1,"14096011",1,0,2,1,0,2,0,0,0,0]
["1409601","1409602",{"$f":"VLOOKUP(B282, 'School List'!F:G,2,FALSE)","v":"Gates St El DTS"},"PHBAO",165,69,0,0,0,null,null,null,0,0,0,234,7,3,0,0,0,10,7,3,0,0,0,10,{"$f":"VLOOKUP(A282,'Pivot Norm'!A:B,2,FALSE)","v":3},2,"14096012",0,0,0,0,0,0,1,0,0,0]
["1409601","1409603",{"$f":"VLOOKUP(B283, 'School List'!F:G,2,FALSE)","v":"Gates St El  DTM"},"PHBAO",14,0,0,0,0,null,null,null,0,0,0,14,1,0,0,0,0,1,1,0,0,0,0,1,{"$f":"VLOOKUP(A283,'Pivot Norm'!A:B,2,FALSE)","v":3},3,"14096013",0,0,0,0,0,0,0,0,0,0]
["1411001","1411001",{"$f":"VLOOKUP(B284, 'School List'!F:G,2,FALSE)","v":"Gault El"},"PHBAO",192,85,0,0,0,17,null,null,0,16,0,310,8,4,0,0,0,12,8,4,0,0,0,12,{"$f":"VLOOKUP(A284,'Pivot Norm'!A:B,2,FALSE)","v":1},1,"14110011",1,0,2,1,0,2,0,0,0,0]
["1411701","1411701",{"$f":"VLOOKUP(B285, 'School List'!F:G,2,FALSE)","v":"Germain Acad AA"},"PHBAO",365,157,0,0,0,22,null,null,18,0,24,586,16,6,0,0,0,22,15,6,0,0,0,21,{"$f":"VLOOKUP(A285,'Pivot Norm'!A:B,2,FALSE)","v":1},1,"14117011",1,0,2,1,0,2,0,2,0,0]
["1412301","1412301",{"$f":"VLOOKUP(B286, 'School List'!F:G,2,FALSE)","v":"Glassell Pk STEAM Mg"},"Magnet 2",170,96,0,0,0,null,null,null,0,0,19,285,8,4,0,0,0,12,8,4,0,0,0,12,{"$f":"VLOOKUP(A286,'Pivot Norm'!A:B,2,FALSE)","v":1},1,"14123011",1,0,2,1,0,2,0,0,0,0]
["1413001","1413001",{"$f":"VLOOKUP(B287, 'School List'!F:G,2,FALSE)","v":"Gledhill El"},"PHBAO",84,27,0,0,0,20,null,null,13,0,0,144,4,1,0,0,0,5,4,2,0,0,0,6,{"$f":"VLOOKUP(A287,'Pivot Norm'!A:B,2,FALSE)","v":2},1,"14130011",1,0,2,1,0,2,0,0,0,0]
["1413001","1413002",{"$f":"VLOOKUP(B288, 'School List'!F:G,2,FALSE)","v":"Gledhill El STEM Mag"},"Magnet 2",107,107,0,0,0,null,null,null,0,0,0,214,5,4,0,0,0,9,5,4,0,0,0,9,{"$f":"VLOOKUP(A288,'Pivot Norm'!A:B,2,FALSE)","v":2},2,"14130012",0,0,0,0,0,0,0,0,0,0]
["1413701","1413701",{"$f":"VLOOKUP(B289, 'School List'!F:G,2,FALSE)","v":"Glen Alta El"},"PHBAO",52,53,27,0,0,null,null,null,0,0,0,132,3,2,2,0,0,7,3,2,2,0,0,7,{"$f":"VLOOKUP(A289,'Pivot Norm'!A:B,2,FALSE)","v":1},1,"14137011",1,0.5,2,1,0.5,2,0,0,0,0]
["1416401","1416401",{"$f":"VLOOKUP(B290, 'School List'!F:G,2,FALSE)","v":"Glenfeliz Blvd El"},"PHBAO",104,84,0,0,0,8,null,null,6,0,0,202,5,4,0,0,0,9,6,3,0,0,0,9,{"$f":"VLOOKUP(A290,'Pivot Norm'!A:B,2,FALSE)","v":1},1,"14164011",1,0,2,1,0,2,2,0,0,0]
["1419201","1419201",{"$f":"VLOOKUP(B291, 'School List'!F:G,2,FALSE)","v":"Glenwood El"},"PHBAO",143,61,0,0,0,11,null,null,7,0,14,236,6,3,0,0,0,9,6,3,0,0,0,9,{"$f":"VLOOKUP(A291,'Pivot Norm'!A:B,2,FALSE)","v":1},1,"14192011",1,0,2,1,0,2,0,0,0,0]
["1421901","1421901",{"$f":"VLOOKUP(B292, 'School List'!F:G,2,FALSE)","v":"Graham El"},"PHBAO",227,253,0,0,0,23,null,null,13,0,20,536,10,10,0,0,0,20,12,10,0,0,0,22,{"$f":"VLOOKUP(A292,'Pivot Norm'!A:B,2,FALSE)","v":2},1,"14219011",1,0,2,1,0,2,0,0,0,0]
["1421901","1421902",{"$f":"VLOOKUP(B293, 'School List'!F:G,2,FALSE)","v":"Graham El DTS"},"PHBAO",167,0,0,0,0,null,null,null,0,0,0,167,7,0,0,0,0,7,6,0,0,0,0,6,{"$f":"VLOOKUP(A293,'Pivot Norm'!A:B,2,FALSE)","v":2},2,"14219012",0,0,0,0,0,0,0,0,0,0]
["1423301","1423301",{"$f":"VLOOKUP(B294, 'School List'!F:G,2,FALSE)","v":"Granada Elementary"},"PHBAO",228,129,0,0,0,18,null,null,18,20,0,413,10,5,0,0,0,15,10,5,0,0,0,15,{"$f":"VLOOKUP(A294,'Pivot Norm'!A:B,2,FALSE)","v":1},1,"14233011",1,0,2,1,0,2,1,0,0,0]
["1424701","1424701",{"$f":"VLOOKUP(B295, 'School List'!F:G,2,FALSE)","v":"Grand View El"},"PHBAO",82,55,0,0,0,29,null,null,5,0,17,188,4,3,0,0,0,7,4,3,0,0,0,7,{"$f":"VLOOKUP(A295,'Pivot Norm'!A:B,2,FALSE)","v":2},1,"14247011",1,0,2,1,0,2,0,0,0,0]
["1424701","1424702",{"$f":"VLOOKUP(B296, 'School List'!F:G,2,FALSE)","v":"Grand View El DTS"},"PHBAO",278,129,0,0,0,null,null,null,0,0,27,434,12,5,0,0,0,17,12,5,0,0,0,17,{"$f":"VLOOKUP(A296,'Pivot Norm'!A:B,2,FALSE)","v":2},2,"14247012",0,0,0,0,0,0,1,0,0,0]
["1426001","1426001",{"$f":"VLOOKUP(B297, 'School List'!F:G,2,FALSE)","v":"Grant El"},"PHBAO",186,169,0,0,0,44,null,null,6,0,0,405,8,7,0,0,0,15,9,7,0,0,0,16,{"$f":"VLOOKUP(A297,'Pivot Norm'!A:B,2,FALSE)","v":2},1,"14260011",1,0,2,1,0,2,0,0,0,0]
["1426001","1426002",{"$f":"VLOOKUP(B298, 'School List'!F:G,2,FALSE)","v":"Grant St El DTR"},"PHBAO",28,0,0,0,0,null,null,null,0,0,0,28,2,0,0,0,0,2,1,0,0,0,0,1,{"$f":"VLOOKUP(A298,'Pivot Norm'!A:B,2,FALSE)","v":2},2,"14260012",0,0,0,0,0,0,1,0,0,0]
["1427401","1427401",{"$f":"VLOOKUP(B299, 'School List'!F:G,2,FALSE)","v":"Grape El"},"PHBAO",280,143,0,0,0,12,null,null,0,0,2,437,12,6,0,0,0,18,12,6,0,0,0,18,{"$f":"VLOOKUP(A299,'Pivot Norm'!A:B,2,FALSE)","v":1},1,"14274011",1,0,2,1,0,2,0,0,0,0]
["1429501","1429501",{"$f":"VLOOKUP(B300, 'School List'!F:G,2,FALSE)","v":"Gridley El"},"PHBAO",208,109,0,0,0,37,null,null,38,0,14,406,9,5,0,0,0,14,9,5,0,0,0,14,{"$f":"VLOOKUP(A300,'Pivot Norm'!A:B,2,FALSE)","v":2},1,"14295011",1,0,2,1,0,2,0,0,0,0]
["1429501","1429502",{"$f":"VLOOKUP(B301, 'School List'!F:G,2,FALSE)","v":"Gridley St El DTS"},"PHBAO",82,37,0,0,0,null,null,null,0,0,0,119,4,2,0,0,0,6,4,2,0,0,0,6,{"$f":"VLOOKUP(A301,'Pivot Norm'!A:B,2,FALSE)","v":2},2,"14295012",0,0,0,0,0,0,0,0,0,0]
["1430101","1430101",{"$f":"VLOOKUP(B302, 'School List'!F:G,2,FALSE)","v":"Griffin El"},"PHBAO",227,98,0,0,0,23,null,null,0,0,12,360,10,4,0,0,0,14,10,4,0,0,0,14,{"$f":"VLOOKUP(A302,'Pivot Norm'!A:B,2,FALSE)","v":1},1,"14301011",1,0,2,1,0,2,1,0,0,0]
["1431501","1431501",{"$f":"VLOOKUP(B303, 'School List'!F:G,2,FALSE)","v":"Gulf El"},"PHBAO",400,170,0,0,0,24,null,null,0,0,23,617,17,7,0,0,0,24,17,7,0,0,0,24,{"$f":"VLOOKUP(A303,'Pivot Norm'!A:B,2,FALSE)","v":2},1,"14315011",1,0,2,1,0,2,0,0,0,0]
["1431501","1431502",{"$f":"VLOOKUP(B304, 'School List'!F:G,2,FALSE)","v":"Gulf ES STEAM Magnet"},"Magnet 2",61,53,0,0,0,null,null,null,0,0,0,114,3,2,0,0,0,5,3,2,0,0,0,5,{"$f":"VLOOKUP(A304,'Pivot Norm'!A:B,2,FALSE)","v":2},2,"14315012",0,0,0,0,0,0,0,0,0,0]
["1432201","1432201",{"$f":"VLOOKUP(B305, 'School List'!F:G,2,FALSE)","v":"Arroyo Seco Musm Sci"},"Magnet 2",192,108,180,0,0,null,null,null,0,0,0,480,8,4,8,0,0,20,8,4,8,0,0,20,{"$f":"VLOOKUP(A305,'Pivot Norm'!A:B,2,FALSE)","v":1},1,"14322011",1,0.5,2,1,0.5,2,0,0,0,0]
["1432901","1432901",{"$f":"VLOOKUP(B306, 'School List'!F:G,2,FALSE)","v":"Haddon El"},"PHBAO",301,143,0,0,0,51,null,null,18,19,22,554,13,6,0,0,0,19,15,6,0,0,0,21,{"$f":"VLOOKUP(A306,'Pivot Norm'!A:B,2,FALSE)","v":2},1,"14329011",1,0,2,1,0,2,0,0,0,0]
["1432901","1432902",{"$f":"VLOOKUP(B307, 'School List'!F:G,2,FALSE)","v":"Haddon STEAM Mag"},"Magnet 2",120,54,0,0,0,null,null,null,0,0,0,174,5,2,0,0,0,7,4,2,0,0,0,6,{"$f":"VLOOKUP(A307,'Pivot Norm'!A:B,2,FALSE)","v":2},2,"14329012",0,0,0,0,0,0,0,0,0,0]
["1434201","1434201",{"$f":"VLOOKUP(B308, 'School List'!F:G,2,FALSE)","v":"Halldale El"},"PHBAO",268,126,0,0,0,60,null,null,9,0,15,478,12,5,0,0,0,17,12,5,0,0,0,17,{"$f":"VLOOKUP(A308,'Pivot Norm'!A:B,2,FALSE)","v":1},1,"14342011",1,0,2,1,0,2,0,0,0,0]
["1434901","1434901",{"$f":"VLOOKUP(B309, 'School List'!F:G,2,FALSE)","v":"Hamlin CA"},"PHBAO",205,72,0,0,0,26,null,null,24,0,0,327,9,3,0,0,0,12,9,3,0,0,0,12,{"$f":"VLOOKUP(A309,'Pivot Norm'!A:B,2,FALSE)","v":1},1,"14349011",1,0,2,1,0,2,1,0,0,0]
["1435601","1435601",{"$f":"VLOOKUP(B310, 'School List'!F:G,2,FALSE)","v":"Anton El"},"PHBAO",186,219,0,0,0,18,null,null,3,0,0,426,8,9,0,0,0,17,10,9,0,0,0,19,{"$f":"VLOOKUP(A310,'Pivot Norm'!A:B,2,FALSE)","v":2},1,"14356011",1,0,2,1,0,2,0,0,0,0]
["1435601","1435602",{"$f":"VLOOKUP(B311, 'School List'!F:G,2,FALSE)","v":"Anton El DTS"},"PHBAO",63,0,0,0,0,null,null,null,0,0,0,63,3,0,0,0,0,3,2,0,0,0,0,2,{"$f":"VLOOKUP(A311,'Pivot Norm'!A:B,2,FALSE)","v":2},2,"14356012",0,0,0,0,0,0,0,0,0,0]
["1439701","1439701",{"$f":"VLOOKUP(B312, 'School List'!F:G,2,FALSE)","v":"Hancock Park El"},"Non-PHBAO",374,146,0,0,0,24,null,null,0,0,0,544,16,5,0,0,0,21,17,6,0,0,0,23,{"$f":"VLOOKUP(A312,'Pivot Norm'!A:B,2,FALSE)","v":1},1,"14397011",1,0,2,1,0,2,0,2,0,0]
["1442501","1442501",{"$f":"VLOOKUP(B313, 'School List'!F:G,2,FALSE)","v":"Harbor City El"},"PHBAO",293,133,0,0,0,20,null,null,0,0,9,455,13,5,0,0,0,18,12,6,0,0,0,18,{"$f":"VLOOKUP(A313,'Pivot Norm'!A:B,2,FALSE)","v":1},1,"14425011",1,0,2,1,0,2,1,0,0,0]
["1443101","1443101",{"$f":"VLOOKUP(B314, 'School List'!F:G,2,FALSE)","v":"Harding El"},"PHBAO",227,116,0,0,0,38,null,null,0,0,21,402,10,5,0,0,0,15,10,5,0,0,0,15,{"$f":"VLOOKUP(A314,'Pivot Norm'!A:B,2,FALSE)","v":1},1,"14431011",1,0,2,1,0,2,1,0,0,0]
["1443801","1443801",{"$f":"VLOOKUP(B315, 'School List'!F:G,2,FALSE)","v":"Harrison El"},"PHBAO",70,112,0,0,0,20,null,null,3,0,11,216,3,5,0,0,0,8,5,5,0,0,0,10,{"$f":"VLOOKUP(A315,'Pivot Norm'!A:B,2,FALSE)","v":2},1,"14438011",1,0,2,1,0,2,0,0,0,0]
["1443801","1443802",{"$f":"VLOOKUP(B316, 'School List'!F:G,2,FALSE)","v":"Harrison El DTS"},"PHBAO",78,0,0,0,0,null,null,null,0,0,0,78,4,0,0,0,0,4,3,0,0,0,0,3,{"$f":"VLOOKUP(A316,'Pivot Norm'!A:B,2,FALSE)","v":2},2,"14438012",0,0,0,0,0,0,0,0,0,0]
["1444501","1444501",{"$f":"VLOOKUP(B317, 'School List'!F:G,2,FALSE)","v":"Hart St El"},"PHBAO",435,200,0,0,0,36,null,null,14,30,21,736,19,8,0,0,0,27,18,8,0,0,0,26,{"$f":"VLOOKUP(A317,'Pivot Norm'!A:B,2,FALSE)","v":1},1,"14445011",1,0,2,1,0,2,1,0,0,0]
["1445201","1445201",{"$f":"VLOOKUP(B318, 'School List'!F:G,2,FALSE)","v":"Haskell STEAM Magnet"},"Magnet 2",343,213,0,0,0,11,null,null,9,0,0,576,15,8,0,0,0,23,15,8,0,0,0,23,{"$f":"VLOOKUP(A318,'Pivot Norm'!A:B,2,FALSE)","v":1},1,"14452011",1,0,2,1,0,2,0,0,0,0]
["1446601","1446601",{"$f":"VLOOKUP(B319, 'School List'!F:G,2,FALSE)","v":"Hawaiian El"},"PHBAO",252,146,0,0,0,16,null,null,19,0,16,449,11,6,0,0,0,17,12,6,0,0,0,18,{"$f":"VLOOKUP(A319,'Pivot Norm'!A:B,2,FALSE)","v":2},1,"14466011",1,0,2,1,0,2,0,0,0,0]
["1446601","1446602",{"$f":"VLOOKUP(B320, 'School List'!F:G,2,FALSE)","v":"Hawaiian ES"},"Magnet 2",68,50,0,0,0,null,null,null,0,0,0,118,3,2,0,0,0,5,3,2,0,0,0,5,{"$f":"VLOOKUP(A320,'Pivot Norm'!A:B,2,FALSE)","v":2},2,"14466012",0,0,0,0,0,0,0,0,0,0]
["1447301","1447301",{"$f":"VLOOKUP(B321, 'School List'!F:G,2,FALSE)","v":"Haynes CES"},"Non-PHBAO",276,134,0,0,0,8,null,null,8,0,0,426,12,5,0,0,0,17,12,4,0,0,0,16,{"$f":"VLOOKUP(A321,'Pivot Norm'!A:B,2,FALSE)","v":1},1,"14473011",1,0,2,1,0,2,0,0,0,0]
["1449301","1449301",{"$f":"VLOOKUP(B322, 'School List'!F:G,2,FALSE)","v":"Hazeltine El"},"PHBAO",286,199,0,0,0,43,null,null,0,14,23,565,12,8,0,0,0,20,13,8,0,0,0,21,{"$f":"VLOOKUP(A322,'Pivot Norm'!A:B,2,FALSE)","v":2},1,"14493011",1,0,2,1,0,2,1,0,0,0]
["1449301","1449302",{"$f":"VLOOKUP(B323, 'School List'!F:G,2,FALSE)","v":"Hazeltine El DTS"},"PHBAO",176,0,0,0,0,null,null,null,0,0,0,176,8,0,0,0,0,8,6,0,0,0,0,6,{"$f":"VLOOKUP(A323,'Pivot Norm'!A:B,2,FALSE)","v":2},2,"14493012",0,0,0,0,0,0,0,0,0,0]
["1450701","1450701",{"$f":"VLOOKUP(B324, 'School List'!F:G,2,FALSE)","v":"Heliotrope El"},"PHBAO",320,163,0,0,0,50,null,null,0,0,13,546,14,7,0,0,0,21,14,7,0,0,0,21,{"$f":"VLOOKUP(A324,'Pivot Norm'!A:B,2,FALSE)","v":1},1,{"$f":"A324&AD324","v":"14507011"},1,0,2,1,0,2,0,0,0,0]
["1451501","1451501",{"$f":"VLOOKUP(B325, 'School List'!F:G,2,FALSE)","v":"Herrick El"},"PHBAO",231,116,0,0,0,31,null,null,14,0,19,411,10,5,0,0,0,15,11,5,0,0,0,16,{"$f":"VLOOKUP(A325,'Pivot Norm'!A:B,2,FALSE)","v":1},1,"14515011",1,0,2,1,0,2,0,0,0,0]
["1452101","1452101",{"$f":"VLOOKUP(B326, 'School List'!F:G,2,FALSE)","v":"Hesby Oaks Lead Chtr"},"Non-PHBAO",198,121,201,0,0,null,null,null,0,0,0,520,9,4,7,0,0,20,9,4,7,0,0,20,{"$f":"VLOOKUP(A326,'Pivot Norm'!A:B,2,FALSE)","v":1},{"$f":"IF(A326=A325,AD325+1,1)","v":1},"14521011",1,0.5,2,1,0.5,2,0,0,0,0]
["1452801","1452801",{"$f":"VLOOKUP(B327, 'School List'!F:G,2,FALSE)","v":"Hillcrest Dr El"},"PHBAO",187,68,0,0,0,44,null,null,18,0,9,326,8,3,0,0,0,11,8,3,0,0,0,11,{"$f":"VLOOKUP(A327,'Pivot Norm'!A:B,2,FALSE)","v":3},1,"14528011",1,0,2,1,0,2,2,0,0,0]
["1452801","1452802",{"$f":"VLOOKUP(B328, 'School List'!F:G,2,FALSE)","v":"Hillcrest El Mus Mag"},"Magnet 2",66,39,0,0,0,null,null,null,0,0,0,105,3,2,0,0,0,5,3,2,0,0,0,5,{"$f":"VLOOKUP(A328,'Pivot Norm'!A:B,2,FALSE)","v":3},2,"14528012",0,0,0,0,0,0,0,0,0,0]
["1452801","1452803",{"$f":"VLOOKUP(B329, 'School List'!F:G,2,FALSE)","v":"Hillcrest El DTS"},"PHBAO",67,26,0,0,0,null,null,null,0,0,0,93,3,1,0,0,0,4,3,2,0,0,0,5,{"$f":"VLOOKUP(A329,'Pivot Norm'!A:B,2,FALSE)","v":3},3,"14528013",0,0,0,0,0,0,1,0,0,0]
["1453401","1453401",{"$f":"VLOOKUP(B330, 'School List'!F:G,2,FALSE)","v":"Hillside El"},"PHBAO",70,29,0,0,0,null,null,null,17,0,0,116,3,2,0,0,0,5,3,2,0,0,0,5,{"$f":"VLOOKUP(A330,'Pivot Norm'!A:B,2,FALSE)","v":1},1,"14534011",1,0,2,1,0,2,0,0,0,0]
["1454801","1454801",{"$f":"VLOOKUP(B331, 'School List'!F:G,2,FALSE)","v":"Hobart Blvd El"},"PHBAO",198,172,0,0,0,63,null,null,0,0,8,441,9,7,0,0,0,16,10,7,0,0,0,17,{"$f":"VLOOKUP(A331,'Pivot Norm'!A:B,2,FALSE)","v":2},1,"14548011",1,0,2,1,0,2,0,0,0,0]
["1454801","1454802",{"$f":"VLOOKUP(B332, 'School List'!F:G,2,FALSE)","v":"Hobart Blvd DTS"},"PHBAO",53,0,0,0,0,null,null,null,0,0,0,53,3,0,0,0,0,3,2,0,0,0,0,2,{"$f":"VLOOKUP(A332,'Pivot Norm'!A:B,2,FALSE)","v":2},2,"14548012",0,0,0,0,0,0,0,0,0,0]
["1456201","1456201",{"$f":"VLOOKUP(B333, 'School List'!F:G,2,FALSE)","v":"Holmes El"},"PHBAO",80,67,0,0,0,null,null,null,0,0,0,147,4,3,0,0,0,7,5,3,0,0,0,8,{"$f":"VLOOKUP(A333,'Pivot Norm'!A:B,2,FALSE)","v":1},1,"14562011",1,0,2,1,0,2,0,0,0,0]
["1457501","1457501",{"$f":"VLOOKUP(B334, 'School List'!F:G,2,FALSE)","v":"Hooper El"},"PHBAO",338,202,0,0,0,36,null,null,0,0,0,576,15,8,0,0,0,23,15,10,0,0,0,25,{"$f":"VLOOKUP(A334,'Pivot Norm'!A:B,2,FALSE)","v":2},1,"14575011",1,0,3,1,0,3,0,0,0,0]
["1457501","1457502",{"$f":"VLOOKUP(B335, 'School List'!F:G,2,FALSE)","v":"Hooper El DTS"},"PHBAO",123,113,0,0,0,null,null,null,0,0,0,236,6,5,0,0,0,11,6,3,0,0,0,9,{"$f":"VLOOKUP(A335,'Pivot Norm'!A:B,2,FALSE)","v":2},2,"14575012",0,0,0,0,0,0,1,0,0,0]
["1457601","1457601",{"$f":"VLOOKUP(B336, 'School List'!F:G,2,FALSE)","v":"Hooper PC"},"PHBAO",125,0,0,0,0,null,null,null,12,6,18,161,6,0,0,0,0,6,6,0,0,0,0,6,{"$f":"VLOOKUP(A336,'Pivot Norm'!A:B,2,FALSE)","v":2},1,"14576011",1,0,2,1,0,2,0,1,0,0]
["1457601","1457602",{"$f":"VLOOKUP(B337, 'School List'!F:G,2,FALSE)","v":"Hooper PC DTS"},"PHBAO",27,0,0,0,0,null,null,null,0,0,0,27,2,0,0,0,0,2,2,0,0,0,0,2,{"$f":"VLOOKUP(A337,'Pivot Norm'!A:B,2,FALSE)","v":2},2,"14576012",0,0,0,0,0,0,0,0,0,0]
["1458901","1458901",{"$f":"VLOOKUP(B338, 'School List'!F:G,2,FALSE)","v":"Hoover El"},"PHBAO",365,178,0,0,0,34,null,null,0,0,31,608,16,7,0,0,0,23,16,7,0,0,0,23,{"$f":"VLOOKUP(A338,'Pivot Norm'!A:B,2,FALSE)","v":1},1,"14589011",1,0,2,1,0,2,2,0,0,0]
["1460301","1460301",{"$f":"VLOOKUP(B339, 'School List'!F:G,2,FALSE)","v":"Hubbard El"},"PHBAO",305,133,0,0,0,30,null,null,0,0,24,492,13,5,0,0,0,18,13,6,0,0,0,19,{"$f":"VLOOKUP(A339,'Pivot Norm'!A:B,2,FALSE)","v":2},1,"14603011",1,0,2,1,0,2,0,0,0,0]
["1460301","1460302",{"$f":"VLOOKUP(B340, 'School List'!F:G,2,FALSE)","v":"Hubbard STEAM Mag"},"Magnet 2",64,54,0,0,0,null,null,null,0,0,0,118,3,2,0,0,0,5,3,1,0,0,0,4,{"$f":"VLOOKUP(A340,'Pivot Norm'!A:B,2,FALSE)","v":2},2,"14603012",0,0,0,0,0,0,0,0,0,0]
["1461601","1461601",{"$f":"VLOOKUP(B341, 'School List'!F:G,2,FALSE)","v":"Humphreys El"},"PHBAO",130,86,0,0,0,null,null,null,0,0,22,238,6,4,0,0,0,10,7,4,0,0,0,11,{"$f":"VLOOKUP(A341,'Pivot Norm'!A:B,2,FALSE)","v":3},1,"14616011",1,0,2,1,0,2,1,0,0,0]
["1461601","1461602",{"$f":"VLOOKUP(B342, 'School List'!F:G,2,FALSE)","v":"Humphreys El STEM Mag"},"Magnet 2",52,48,0,0,0,null,null,null,0,0,0,100,3,2,0,0,0,5,3,2,0,0,0,5,{"$f":"VLOOKUP(A342,'Pivot Norm'!A:B,2,FALSE)","v":3},2,"14616012",0,0,0,0,0,0,0,0,0,0]
["1461601","1461603",{"$f":"VLOOKUP(B343, 'School List'!F:G,2,FALSE)","v":"Humphreys El DTS"},"PHBAO",92,30,0,0,0,null,null,null,0,0,0,122,4,2,0,0,0,6,5,0,0,0,0,5,{"$f":"VLOOKUP(A343,'Pivot Norm'!A:B,2,FALSE)","v":3},3,"14616013",0,0,0,0,0,0,0,0,0,0]
["1463001","1463001",{"$f":"VLOOKUP(B344, 'School List'!F:G,2,FALSE)","v":"Huntington Dr El"},"PHBAO",109,49,0,0,0,46,null,null,6,0,6,216,5,2,0,0,0,7,4,2,0,0,0,6,{"$f":"VLOOKUP(A344,'Pivot Norm'!A:B,2,FALSE)","v":2},1,"14630011",1,0,2,1,0,2,0,0,0,0]
["1463001","1463002",{"$f":"VLOOKUP(B345, 'School List'!F:G,2,FALSE)","v":"Huntington Dr El DTS"},"PHBAO",64,53,0,0,0,null,null,null,0,0,0,117,3,2,0,0,0,5,3,2,0,0,0,5,{"$f":"VLOOKUP(A345,'Pivot Norm'!A:B,2,FALSE)","v":2},2,"14630012",0,0,0,0,0,0,1,0,0,0]
["1464001","1464001",{"$f":"VLOOKUP(B346, 'School List'!F:G,2,FALSE)","v":"Walnut Park El"},"PHBAO",312,170,0,0,0,null,null,null,17,33,21,553,13,7,0,0,0,20,13,8,0,0,0,21,{"$f":"VLOOKUP(A346,'Pivot Norm'!A:B,2,FALSE)","v":2},1,"14640011",1,0,2,1,0,2,0,0,0,0]
["1464001","1464002",{"$f":"VLOOKUP(B347, 'School List'!F:G,2,FALSE)","v":"Walnut Prk El DTS"},"PHBAO",92,19,0,0,0,null,null,null,0,0,0,111,4,1,0,0,0,5,4,0,0,0,0,4,{"$f":"VLOOKUP(A347,'Pivot Norm'!A:B,2,FALSE)","v":2},2,"14640012",0,0,0,0,0,0,0,0,0,0]
["1464101","1464101",{"$f":"VLOOKUP(B348, 'School List'!F:G,2,FALSE)","v":"San Antonio El"},"PHBAO",240,93,0,0,0,44,null,null,18,0,15,410,10,4,0,0,0,14,11,4,0,0,0,15,{"$f":"VLOOKUP(A348,'Pivot Norm'!A:B,2,FALSE)","v":2},1,"14641011",1,0,2,1,0,2,0,0,0,0]
["1464101","1464102",{"$f":"VLOOKUP(B349, 'School List'!F:G,2,FALSE)","v":"San Antonio STEM Mag"},"Magnet 2",72,54,0,0,0,null,null,null,0,0,0,126,3,2,0,0,0,5,3,2,0,0,0,5,{"$f":"VLOOKUP(A349,'Pivot Norm'!A:B,2,FALSE)","v":2},2,"14641012",0,0,0,0,0,0,0,0,0,0]
["1464201","1464201",{"$f":"VLOOKUP(B350, 'School List'!F:G,2,FALSE)","v":"Pacific Blvd School"},"PHBAO",176,98,0,0,0,56,null,11,21,0,7,369,8,4,0,0,0,12,9,5,0,0,0,14,{"$f":"VLOOKUP(A350,'Pivot Norm'!A:B,2,FALSE)","v":2},1,"14642011",1,0.5,2,1,0.5,2,0,0,0,0]
["1464201","1464202",{"$f":"VLOOKUP(B351, 'School List'!F:G,2,FALSE)","v":"Pacific Blvd El DTS"},"PHBAO",46,0,0,0,0,null,null,null,0,0,0,46,2,0,0,0,0,2,1,0,0,0,0,1,{"$f":"VLOOKUP(A351,'Pivot Norm'!A:B,2,FALSE)","v":2},2,"14642012",0,0,0,0,0,0,0,0,0,0]
["1465801","1465801",{"$f":"VLOOKUP(B352, 'School List'!F:G,2,FALSE)","v":"YES Academy"},"PHBAO",264,116,0,0,0,49,null,null,0,0,6,435,11,5,0,0,0,16,12,4,0,0,0,16,{"$f":"VLOOKUP(A352,'Pivot Norm'!A:B,2,FALSE)","v":1},1,"14658011",1,0,2,1,0,2,1,0,0,0]
["1467101","1467101",{"$f":"VLOOKUP(B353, 'School List'!F:G,2,FALSE)","v":"Ivanhoe El"},"Non-PHBAO",284,141,0,0,0,null,null,null,0,0,0,425,12,5,0,0,0,17,13,5,0,0,0,18,{"$f":"VLOOKUP(A353,'Pivot Norm'!A:B,2,FALSE)","v":1},1,"14671011",1,0,2,1,0,2,0,0,0,0]
["1468001","1468001",{"$f":"VLOOKUP(B354, 'School List'!F:G,2,FALSE)","v":"Lizarraga El"},"PHBAO",312,183,0,0,0,14,null,null,16,0,24,549,13,7,0,0,0,20,14,8,0,0,0,22,{"$f":"VLOOKUP(A354,'Pivot Norm'!A:B,2,FALSE)","v":2},1,"14680011",1,0,2,1,0,2,1,0,0,0]
["1468001","1468002",{"$f":"VLOOKUP(B355, 'School List'!F:G,2,FALSE)","v":"Lizarraga El DTS"},"PHBAO",40,0,0,0,0,null,null,null,null,null,null,40,2,0,0,0,0,2,0,0,0,0,0,0,{"$f":"VLOOKUP(A355,'Pivot Norm'!A:B,2,FALSE)","v":2},2,"14680012",0,0,0,0,0,0,0,0,0,0]
["1468101","1468101",{"$f":"VLOOKUP(B356, 'School List'!F:G,2,FALSE)","v":"Harmony El"},"PHBAO",206,170,0,0,0,67,null,null,0,26,0,469,9,7,0,0,0,16,11,7,0,0,0,18,{"$f":"VLOOKUP(A356,'Pivot Norm'!A:B,2,FALSE)","v":2},1,"14681011",1,0,2,1,0,2,0,0,0,0]
["1468101","1468102",{"$f":"VLOOKUP(B357, 'School List'!F:G,2,FALSE)","v":"Harmony El DTS"},"PHBAO",101,0,0,0,0,null,null,null,0,0,0,101,5,0,0,0,0,5,4,0,0,0,0,4,{"$f":"VLOOKUP(A357,'Pivot Norm'!A:B,2,FALSE)","v":2},2,"14681012",0,0,0,0,0,0,0,0,0,0]
["1468501","1468501",{"$f":"VLOOKUP(B358, 'School List'!F:G,2,FALSE)","v":"Aurora El"},"PHBAO",174,107,0,0,0,13,null,null,7,0,10,311,8,4,0,0,0,12,9,4,0,0,0,13,{"$f":"VLOOKUP(A358,'Pivot Norm'!A:B,2,FALSE)","v":2},1,"14685011",1,0,2,1,0,2,0,0,0,0]
["1468501","1468502",{"$f":"VLOOKUP(B359, 'School List'!F:G,2,FALSE)","v":"Aurora El DTS"},"PHBAO",61,0,0,0,0,null,null,null,0,0,0,61,3,0,0,0,0,3,2,0,0,0,0,2,{"$f":"VLOOKUP(A359,'Pivot Norm'!A:B,2,FALSE)","v":2},2,"14685012",0,0,0,0,0,0,0,0,0,0]
["1469201","1469201",{"$f":"VLOOKUP(B360, 'School List'!F:G,2,FALSE)","v":"Justice St Acad Chtr"},"Non-PHBAO",327,111,0,0,0,null,null,null,0,0,0,438,14,4,0,0,0,18,12,4,0,0,0,16,{"$f":"VLOOKUP(A360,'Pivot Norm'!A:B,2,FALSE)","v":1},1,"14692011",1,0,2,1,0,2,1,0,0,0]
["1469601","1469601",{"$f":"VLOOKUP(B361, 'School List'!F:G,2,FALSE)","v":"Kennedy El"},"PHBAO",107,78,0,0,0,17,null,null,7,0,0,209,5,3,0,0,0,8,5,4,0,0,0,9,{"$f":"VLOOKUP(A361,'Pivot Norm'!A:B,2,FALSE)","v":1},1,"14696011",1,0,2,1,0,2,0,0,0,0]
["1469901","1469901",{"$f":"VLOOKUP(B362, 'School List'!F:G,2,FALSE)","v":"Kenter Canyon"},"Non-PHBAO",329,167,0,0,0,null,null,null,0,0,0,496,14,6,0,0,0,20,14,6,0,0,0,20,{"$f":"VLOOKUP(A362,'Pivot Norm'!A:B,2,FALSE)","v":1},1,"14699011",1,0,2,1,0,2,0,1,2,0]
["1471201","1471201",{"$f":"VLOOKUP(B363, 'School List'!F:G,2,FALSE)","v":"Kentwood El"},"Non-PHBAO",228,74,0,0,0,25,null,null,0,0,0,327,10,3,0,0,0,13,10,3,0,0,0,13,{"$f":"VLOOKUP(A363,'Pivot Norm'!A:B,2,FALSE)","v":1},1,"14712011",1,0,2,1,0,2,0,0,0,0]
["1472601","1472601",{"$f":"VLOOKUP(B364, 'School List'!F:G,2,FALSE)","v":"Kester El"},"Non-PHBAO",456,189,0,0,0,null,null,null,5,0,0,650,19,6,0,0,0,25,21,7,0,0,0,28,{"$f":"VLOOKUP(A364,'Pivot Norm'!A:B,2,FALSE)","v":2},1,"14726011",1,0,3,1,0,3,1,0,2,0]
["1472601","1472602",{"$f":"VLOOKUP(B365, 'School List'!F:G,2,FALSE)","v":"Kester El Gifted Mag"},"Magnet 1",120,120,0,0,0,null,null,null,0,0,0,240,5,4,0,0,0,9,5,4,0,0,0,9,{"$f":"VLOOKUP(A365,'Pivot Norm'!A:B,2,FALSE)","v":2},2,"14726012",0,0,0,0,0,0,0,0,0,0]
["1476001","1476001",{"$f":"VLOOKUP(B366, 'School List'!F:G,2,FALSE)","v":"Kittridge El"},"PHBAO",288,203,0,0,0,30,null,null,0,20,16,557,12,8,0,0,0,20,14,8,0,0,0,22,{"$f":"VLOOKUP(A366,'Pivot Norm'!A:B,2,FALSE)","v":3},1,"14760011",1,0,2,1,0,2,1,0,0,0]
["1476001","1476002",{"$f":"VLOOKUP(B367, 'School List'!F:G,2,FALSE)","v":"Kittridge El DTS"},"PHBAO",77,0,0,0,0,null,null,null,0,0,0,77,4,0,0,0,0,4,3,0,0,0,0,3,{"$f":"VLOOKUP(A367,'Pivot Norm'!A:B,2,FALSE)","v":3},2,"14760012",0,0,0,0,0,0,0,0,0,0]
["1476001","1476003",{"$f":"VLOOKUP(B368, 'School List'!F:G,2,FALSE)","v":"Kittridge El DTR"},"PHBAO",90,0,0,0,0,null,null,null,0,0,0,90,4,0,0,0,0,4,3,0,0,0,0,3,{"$f":"VLOOKUP(A368,'Pivot Norm'!A:B,2,FALSE)","v":3},3,"14760013",0,0,0,0,0,0,0,0,0,0]
["1476201","1476201",{"$f":"VLOOKUP(B369, 'School List'!F:G,2,FALSE)","v":"Knollwood Prep Acad"},"Non-PHBAO",268,109,0,0,0,29,null,null,20,20,0,446,12,4,0,0,0,16,11,4,0,0,0,15,{"$f":"VLOOKUP(A369,'Pivot Norm'!A:B,2,FALSE)","v":1},1,"14762011",1,0,2,1,0,2,1,0,0,0]
["1476401","1476401",{"$f":"VLOOKUP(B370, 'School List'!F:G,2,FALSE)","v":"Lanai El"},"Non-PHBAO",387,167,0,0,0,null,null,null,0,0,0,554,17,6,0,0,0,23,16,6,0,0,0,22,{"$f":"VLOOKUP(A370,'Pivot Norm'!A:B,2,FALSE)","v":1},1,"14764011",1,0,2,1,0,2,1,0,1,0]
["1476701","1476701",{"$f":"VLOOKUP(B371, 'School List'!F:G,2,FALSE)","v":"Lane El"},"PHBAO",161,138,0,0,0,14,null,null,0,0,16,329,7,6,0,0,0,13,8,5,0,0,0,13,{"$f":"VLOOKUP(A371,'Pivot Norm'!A:B,2,FALSE)","v":1},1,"14767011",1,0,2,1,0,2,0,0,0,0]
["1477501","1477501",{"$f":"VLOOKUP(B372, 'School List'!F:G,2,FALSE)","v":"Langdon El"},"PHBAO",369,174,0,0,0,37,null,null,24,0,18,622,16,7,0,0,0,23,17,6,0,0,0,23,{"$f":"VLOOKUP(A372,'Pivot Norm'!A:B,2,FALSE)","v":1},1,"14775011",1,0,2,1,0,2,0,0,0,0]
["1477601","1477601",{"$f":"VLOOKUP(B373, 'School List'!F:G,2,FALSE)","v":"Primary Academy"},"PHBAO",223,0,0,0,0,null,null,null,0,10,21,254,10,0,0,0,0,10,10,0,0,0,0,10,{"$f":"VLOOKUP(A373,'Pivot Norm'!A:B,2,FALSE)","v":1},1,"14776011",1,0,2,1,0,2,1,0,0,0]
["1478101","1478101",{"$f":"VLOOKUP(B374, 'School List'!F:G,2,FALSE)","v":"Lankershim El"},"PHBAO",216,103,0,0,0,10,null,null,19,0,19,367,9,4,0,0,0,13,10,4,0,0,0,14,{"$f":"VLOOKUP(A374,'Pivot Norm'!A:B,2,FALSE)","v":1},1,"14781011",1,0,2,1,0,2,0,0,0,0]
["1478601","1478601",{"$f":"VLOOKUP(B375, 'School List'!F:G,2,FALSE)","v":"La Salle El"},"PHBAO",113,95,0,0,0,26,null,null,0,0,6,240,5,4,0,0,0,9,7,4,0,0,0,11,{"$f":"VLOOKUP(A375,'Pivot Norm'!A:B,2,FALSE)","v":2},1,"14786011",1,0,2,1,0,2,1,0,1,0]
["1478601","1478602",{"$f":"VLOOKUP(B376, 'School List'!F:G,2,FALSE)","v":"La Salle El DTS"},"PHBAO",84,0,0,0,0,null,null,null,0,0,0,84,4,0,0,0,0,4,3,0,0,0,0,3,{"$f":"VLOOKUP(A376,'Pivot Norm'!A:B,2,FALSE)","v":2},2,"14786012",0,0,0,0,0,0,0,0,0,0]
["1479001","1479001",{"$f":"VLOOKUP(B377, 'School List'!F:G,2,FALSE)","v":"Lassen El"},"PHBAO",233,120,0,0,0,44,null,null,11,31,0,439,10,5,0,0,0,15,10,5,0,0,0,15,{"$f":"VLOOKUP(A377,'Pivot Norm'!A:B,2,FALSE)","v":2},1,"14790011",1,0,2,1,0,2,0,0,0,0]
["1479001","1479002",{"$f":"VLOOKUP(B378, 'School List'!F:G,2,FALSE)","v":"Lassen El DTS"},"PHBAO",53,0,0,0,0,null,null,null,0,0,0,53,3,0,0,0,0,3,2,0,0,0,0,2,{"$f":"VLOOKUP(A378,'Pivot Norm'!A:B,2,FALSE)","v":2},2,"14790012",0,0,0,0,0,0,0,0,0,0]
["1479501","1479501",{"$f":"VLOOKUP(B379, 'School List'!F:G,2,FALSE)","v":"Latona El"},"PHBAO",36,63,0,0,0,null,null,null,0,27,0,126,2,3,0,0,0,5,2,3,0,0,0,5,{"$f":"VLOOKUP(A379,'Pivot Norm'!A:B,2,FALSE)","v":2},1,"14795011",1,0,2,1,0,2,0,0,0,0]
["1479501","1479502",{"$f":"VLOOKUP(B380, 'School List'!F:G,2,FALSE)","v":"Latona El DTS"},"PHBAO",64,0,0,0,0,null,null,null,0,0,0,64,3,0,0,0,0,3,3,0,0,0,0,3,{"$f":"VLOOKUP(A380,'Pivot Norm'!A:B,2,FALSE)","v":2},2,"14795012",0,0,0,0,0,0,0,0,0,0]
["1480801","1480801",{"$f":"VLOOKUP(B381, 'School List'!F:G,2,FALSE)","v":"Laurel CACT Mag"},"Magnet 1",78,54,92,0,0,null,17,null,0,0,0,241,4,2,4,0,0,10,4,2,4,0,0,10,{"$f":"VLOOKUP(A381,'Pivot Norm'!A:B,2,FALSE)","v":1},1,"14808011",1,0.5,2,1,0.5,2,0,0,0,0]
["1482901","1482901",{"$f":"VLOOKUP(B382, 'School List'!F:G,2,FALSE)","v":"Leapwood El"},"PHBAO",114,51,0,0,0,37,null,null,6,0,8,216,5,2,0,0,0,7,5,2,0,0,0,7,{"$f":"VLOOKUP(A382,'Pivot Norm'!A:B,2,FALSE)","v":1},1,"14829011",1,0,2,1,0,2,1,0,0,0]
["1483601","1483601",{"$f":"VLOOKUP(B383, 'School List'!F:G,2,FALSE)","v":"Leland El"},"PHBAO",198,68,0,0,0,21,null,null,6,0,0,293,9,3,0,0,0,12,9,3,0,0,0,12,{"$f":"VLOOKUP(A383,'Pivot Norm'!A:B,2,FALSE)","v":2},1,"14836011",1,0,2,1,0,2,0,0,0,0]
["1483601","1483602",{"$f":"VLOOKUP(B384, 'School List'!F:G,2,FALSE)","v":"Leland GA Mag"},"Magnet 2",64,53,0,0,0,null,null,null,0,0,0,117,3,2,0,0,0,5,3,2,0,0,0,5,{"$f":"VLOOKUP(A384,'Pivot Norm'!A:B,2,FALSE)","v":2},2,"14836012",0,0,0,0,0,0,0,0,0,0]
["1484901","1484901",{"$f":"VLOOKUP(B385, 'School List'!F:G,2,FALSE)","v":"Lemay El"},"PHBAO",277,114,0,0,0,14,null,null,10,0,0,415,12,5,0,0,0,17,12,5,0,0,0,17,{"$f":"VLOOKUP(A385,'Pivot Norm'!A:B,2,FALSE)","v":1},1,"14849011",1,0,2,1,0,2,0,0,0,0]
["1486301","1486301",{"$f":"VLOOKUP(B386, 'School List'!F:G,2,FALSE)","v":"Liberty El"},"PHBAO",272,168,0,0,0,56,null,null,9,0,15,520,12,7,0,0,0,19,14,7,0,0,0,21,{"$f":"VLOOKUP(A386,'Pivot Norm'!A:B,2,FALSE)","v":1},1,"14863011",1,0,2,1,0,2,0,0,0,0]
["1487001","1487001",{"$f":"VLOOKUP(B387, 'School List'!F:G,2,FALSE)","v":"Liggett El"},"PHBAO",325,166,0,0,0,40,null,null,17,0,15,563,14,7,0,0,0,21,15,7,0,0,0,22,{"$f":"VLOOKUP(A387,'Pivot Norm'!A:B,2,FALSE)","v":1},1,"14870011",1,0,2,1,0,2,0,0,1,0]
["1487701","1487701",{"$f":"VLOOKUP(B388, 'School List'!F:G,2,FALSE)","v":"Lillian El"},"PHBAO",226,183,0,0,0,8,null,null,0,0,13,430,10,7,0,0,0,17,10,7,0,0,0,17,{"$f":"VLOOKUP(A388,'Pivot Norm'!A:B,2,FALSE)","v":1},1,{"$f":"A388&AD388","v":"14877011"},1,0,2,1,0,2,0,0,0,0]
["1488101","1488101",{"$f":"VLOOKUP(B389, 'School List'!F:G,2,FALSE)","v":"Limerick El"},"PHBAO",405,212,0,0,0,3,null,null,5,39,0,664,17,8,0,0,0,25,18,9,0,0,0,27,{"$f":"VLOOKUP(A389,'Pivot Norm'!A:B,2,FALSE)","v":2},1,"14881011",1,0,2,1,0,2,0,0,1,0]
["1488101","1488102",{"$f":"VLOOKUP(B390, 'School List'!F:G,2,FALSE)","v":"Limerick Ave El DTS"},"PHBAO",92,0,0,0,0,null,null,null,0,0,0,92,4,0,0,0,0,4,3,0,0,0,0,3,{"$f":"VLOOKUP(A390,'Pivot Norm'!A:B,2,FALSE)","v":2},{"$f":"IF(A390=A389,AD389+1,1)","v":2},"14881012",0,0,0,0,0,0,0,0,0,0]
["1488701","1488701",{"$f":"VLOOKUP(B391, 'School List'!F:G,2,FALSE)","v":"Lockhurst Dr Chtr El"},"Non-PHBAO",335,160,0,0,0,16,null,null,24,0,0,535,14,5,0,0,0,19,14,5,0,0,0,19,{"$f":"VLOOKUP(A391,'Pivot Norm'!A:B,2,FALSE)","v":1},1,"14887011",1,0,2,1,0,2,1,0,1,0]
["1489001","1489001",{"$f":"VLOOKUP(B392, 'School List'!F:G,2,FALSE)","v":"Lockwood El"},"PHBAO",155,173,0,0,0,19,null,null,9,0,7,363,7,7,0,0,0,14,7,7,0,0,0,14,{"$f":"VLOOKUP(A392,'Pivot Norm'!A:B,2,FALSE)","v":1},1,"14890011",1,0,2,1,0,2,1,0,0,0]
["1490401","1490401",{"$f":"VLOOKUP(B393, 'School List'!F:G,2,FALSE)","v":"Logan Acad Globl Eco"},"PHBAO",79,34,111,0,0,11,14,null,0,0,9,258,4,2,5,0,0,11,3,2,5,0,0,10,{"$f":"VLOOKUP(A393,'Pivot Norm'!A:B,2,FALSE)","v":2},1,"14904011",1,0.5,2,1,0.5,2,1,0,0,0]
["1490401","1490402",{"$f":"VLOOKUP(B394, 'School List'!F:G,2,FALSE)","v":"Logan St El DTS"},"PHBAO",74,43,0,0,0,null,null,null,0,0,0,117,4,2,0,0,0,6,4,2,0,0,0,6,{"$f":"VLOOKUP(A394,'Pivot Norm'!A:B,2,FALSE)","v":2},2,"14904012",0,0,0,0,0,0,0,0,0,0]
["1491801","1491801",{"$f":"VLOOKUP(B395, 'School List'!F:G,2,FALSE)","v":"Loma Vista El"},"PHBAO",291,198,0,0,0,58,null,null,0,0,16,563,13,8,0,0,0,21,14,8,0,0,0,22,{"$f":"VLOOKUP(A395,'Pivot Norm'!A:B,2,FALSE)","v":2},1,"14918011",1,0,2,1,0,2,1,0,0,0]
["1491801","1491802",{"$f":"VLOOKUP(B396, 'School List'!F:G,2,FALSE)","v":"Loma Vista El DTS"},"PHBAO",58,0,0,0,0,null,null,null,0,0,0,58,3,0,0,0,0,3,2,0,0,0,0,2,{"$f":"VLOOKUP(A396,'Pivot Norm'!A:B,2,FALSE)","v":2},2,"14918012",0,0,0,0,0,0,0,0,0,0]
["1493201","1493201",{"$f":"VLOOKUP(B397, 'School List'!F:G,2,FALSE)","v":"Lomita Math/Sci Mag"},"Magnet 2",544,320,0,0,0,null,null,null,0,0,0,864,23,12,0,0,0,35,23,12,0,0,0,35,{"$f":"VLOOKUP(A397,'Pivot Norm'!A:B,2,FALSE)","v":1},1,"14932011",1,0,3,1,0,3,1,0,1,0]
["1494501","1494501",{"$f":"VLOOKUP(B398, 'School List'!F:G,2,FALSE)","v":"Lorena El"},"PHBAO",141,109,0,0,0,22,null,null,0,0,17,289,6,5,0,0,0,11,7,5,0,0,0,12,{"$f":"VLOOKUP(A398,'Pivot Norm'!A:B,2,FALSE)","v":2},1,"14945011",1,0,2,1,0,2,0,0,0,0]
["1494501","1494502",{"$f":"VLOOKUP(B399, 'School List'!F:G,2,FALSE)","v":"Lorena St El DTS"},"PHBAO",117,0,0,0,0,null,null,null,0,0,0,117,5,0,0,0,0,5,4,0,0,0,0,4,{"$f":"VLOOKUP(A399,'Pivot Norm'!A:B,2,FALSE)","v":2},2,"14945012",0,0,0,0,0,0,0,0,0,0]
["1495901","1495901",{"$f":"VLOOKUP(B400, 'School List'!F:G,2,FALSE)","v":"Loreto El"},"PHBAO",120,48,0,0,0,21,null,null,0,0,13,202,5,2,0,0,0,7,5,2,0,0,0,7,{"$f":"VLOOKUP(A400,'Pivot Norm'!A:B,2,FALSE)","v":2},1,"14959011",1,0,2,1,0,2,0,0,0,0]
["1495901","1495902",{"$f":"VLOOKUP(B401, 'School List'!F:G,2,FALSE)","v":"Loreto St El DTS"},"PHBAO",86,34,0,0,0,null,null,null,0,0,0,120,4,2,0,0,0,6,4,2,0,0,0,6,{"$f":"VLOOKUP(A401,'Pivot Norm'!A:B,2,FALSE)","v":2},2,"14959012",0,0,0,0,0,0,0,0,0,0]
["1497301","1497301",{"$f":"VLOOKUP(B402, 'School List'!F:G,2,FALSE)","v":"Lorne El"},"PHBAO",117,6,0,0,0,32,null,null,0,0,0,155,5,1,0,0,0,6,6,1,0,0,0,7,{"$f":"VLOOKUP(A402,'Pivot Norm'!A:B,2,FALSE)","v":2},1,"14973011",1,0,2,1,0,2,0,1,1,0]
["1497301","1497302",{"$f":"VLOOKUP(B403, 'School List'!F:G,2,FALSE)","v":"Lorne St El STEM Mag"},"Magnet 2",120,189,0,0,0,null,null,null,0,0,0,309,5,7,0,0,0,12,4,8,0,0,0,12,{"$f":"VLOOKUP(A403,'Pivot Norm'!A:B,2,FALSE)","v":2},2,"14973012",0,0,0,0,0,0,0,0,0,0]
["1498001","1498001",{"$f":"VLOOKUP(B404, 'School List'!F:G,2,FALSE)","v":"Pio Pico MS"},"PHBAO",0,0,359,0,0,null,34,null,0,0,0,393,0,0,14,0,0,14,0,0,13,0,0,13,{"$f":"VLOOKUP(A404,'Pivot Norm'!A:B,2,FALSE)","v":1},1,"14980011",1,1,2,1,1,2,1,0,0,0]
["1498201","1498201",{"$f":"VLOOKUP(B405, 'School List'!F:G,2,FALSE)","v":"Los Angeles El"},"PHBAO",258,195,0,0,0,24,null,null,31,0,23,531,11,8,0,0,0,19,14,7,0,0,0,21,{"$f":"VLOOKUP(A405,'Pivot Norm'!A:B,2,FALSE)","v":1},1,"14982011",1,0,2,1,0,2,0,0,0,0]
["1498301","1498301",{"$f":"VLOOKUP(B406, 'School List'!F:G,2,FALSE)","v":"Mariposa-Nabi PC"},"PHBAO",105,0,0,0,0,10,null,null,26,0,12,153,5,0,0,0,0,5,5,0,0,0,0,5,{"$f":"VLOOKUP(A406,'Pivot Norm'!A:B,2,FALSE)","v":1},1,"14983011",1,0,2,1,0,2,0,0,0,0]
["1498601","1498601",{"$f":"VLOOKUP(B407, 'School List'!F:G,2,FALSE)","v":"Los Feliz STEMM Mag"},"Magnet 1",259,174,0,0,0,null,null,null,0,0,0,433,11,6,0,0,0,17,11,6,0,0,0,17,{"$f":"VLOOKUP(A407,'Pivot Norm'!A:B,2,FALSE)","v":1},1,"14986011",1,0,2,1,0,2,1,0,0,0]
["1501401","1501401",{"$f":"VLOOKUP(B408, 'School List'!F:G,2,FALSE)","v":"Loyola Vill ES Mag"},"Magnet 2",149,123,0,0,0,null,null,null,0,0,0,272,7,5,0,0,0,12,7,5,0,0,0,12,{"$f":"VLOOKUP(A408,'Pivot Norm'!A:B,2,FALSE)","v":1},1,"15014011",1,0,2,1,0,2,0,2,0,0]
["1501601","1501601",{"$f":"VLOOKUP(B409, 'School List'!F:G,2,FALSE)","v":"Coughlin El"},"PHBAO",340,146,0,0,0,5,null,null,0,40,20,551,15,6,0,0,0,21,15,6,0,0,0,21,{"$f":"VLOOKUP(A409,'Pivot Norm'!A:B,2,FALSE)","v":1},1,"15016011",1,0,2,1,0,2,1,0,0,0]
["1505501","1505501",{"$f":"VLOOKUP(B410, 'School List'!F:G,2,FALSE)","v":"Magnolia El"},"PHBAO",229,141,0,0,0,34,null,null,0,16,0,420,10,6,0,0,0,16,11,7,0,0,0,18,{"$f":"VLOOKUP(A410,'Pivot Norm'!A:B,2,FALSE)","v":2},1,"15055011",1,0,2,1,0,2,1,0,0,0]
["1505501","1505502",{"$f":"VLOOKUP(B411, 'School List'!F:G,2,FALSE)","v":"Magnolia El DTS & DOS"},"PHBAO",131,79,0,0,0,null,null,null,0,0,0,210,6,3,0,0,0,9,6,3,0,0,0,9,{"$f":"VLOOKUP(A411,'Pivot Norm'!A:B,2,FALSE)","v":2},2,"15055012",0,0,0,0,0,0,1,0,0,0]
["1506801","1506801",{"$f":"VLOOKUP(B412, 'School List'!F:G,2,FALSE)","v":"Main St El"},"PHBAO",265,162,0,0,0,47,null,null,0,0,12,486,12,6,0,0,0,18,12,6,0,0,0,18,{"$f":"VLOOKUP(A412,'Pivot Norm'!A:B,2,FALSE)","v":2},1,"15068011",1,0,3,1,0,3,1,0,0,0]
["1506801","1506802",{"$f":"VLOOKUP(B413, 'School List'!F:G,2,FALSE)","v":"Main St El DTS"},"PHBAO",176,93,0,0,0,null,null,null,0,0,12,281,8,4,0,0,0,12,8,4,0,0,0,12,{"$f":"VLOOKUP(A413,'Pivot Norm'!A:B,2,FALSE)","v":2},2,"15068012",0,0,0,0,0,0,0,0,0,0]
["1508201","1508201",{"$f":"VLOOKUP(B414, 'School List'!F:G,2,FALSE)","v":"Malabar El"},"PHBAO",227,195,0,0,0,30,null,null,0,0,15,467,10,8,0,0,0,18,10,8,0,0,0,18,{"$f":"VLOOKUP(A414,'Pivot Norm'!A:B,2,FALSE)","v":2},1,"15082011",1,0,2,1,0,2,0,0,0,0]
["1508201","1508202",{"$f":"VLOOKUP(B415, 'School List'!F:G,2,FALSE)","v":"Malabar St El DTS"},"PHBAO",22,0,0,0,0,null,null,null,0,0,0,22,1,0,0,0,0,1,0,0,0,0,0,0,{"$f":"VLOOKUP(A415,'Pivot Norm'!A:B,2,FALSE)","v":2},2,"15082012",0,0,0,0,0,0,0,0,0,0]
["1509601","1509601",{"$f":"VLOOKUP(B416, 'School List'!F:G,2,FALSE)","v":"Manchester El"},"PHBAO",328,271,0,0,0,13,null,null,0,0,0,612,14,11,0,0,0,25,15,12,0,0,0,27,{"$f":"VLOOKUP(A416,'Pivot Norm'!A:B,2,FALSE)","v":2},1,"15096011",1,0,2,1,0,2,0,0,1,0]
["1509601","1509602",{"$f":"VLOOKUP(B417, 'School List'!F:G,2,FALSE)","v":"Manchester C/B Mag"},"Magnet 2",0,67,0,0,0,null,null,null,0,0,0,67,0,3,0,0,0,3,0,2,0,0,0,2,{"$f":"VLOOKUP(A417,'Pivot Norm'!A:B,2,FALSE)","v":2},2,"15096012",0,0,0,0,0,0,0,0,0,0]
["1511001","1511001",{"$f":"VLOOKUP(B418, 'School List'!F:G,2,FALSE)","v":"Manhattan Place El"},"PHBAO",162,65,0,0,0,30,null,null,31,0,3,291,7,3,0,0,0,10,7,3,0,0,0,10,{"$f":"VLOOKUP(A418,'Pivot Norm'!A:B,2,FALSE)","v":1},1,"15110011",1,0,2,1,0,2,0,0,0,0]
["1511101","1511101",{"$f":"VLOOKUP(B419, 'School List'!F:G,2,FALSE)","v":"Alexander Sci Ctr Sc"},"PHBAO",305,101,0,0,0,null,null,null,0,0,0,406,13,4,0,0,0,17,13,4,0,0,0,17,{"$f":"VLOOKUP(A419,'Pivot Norm'!A:B,2,FALSE)","v":2},1,"15111011",1,0,2,1,0,2,0,0,0,0]
["1511101","1511102",{"$f":"VLOOKUP(B420, 'School List'!F:G,2,FALSE)","v":"Alexander SCS DTS"},"PHBAO",185,82,0,0,0,null,null,null,0,0,0,267,8,4,0,0,0,12,8,3,0,0,0,11,{"$f":"VLOOKUP(A420,'Pivot Norm'!A:B,2,FALSE)","v":2},2,"15111012",0,0,0,0,0,0,0,0,0,0]
["1511201","1511201",{"$f":"VLOOKUP(B421, 'School List'!F:G,2,FALSE)","v":"Jones PC"},"PHBAO",113,0,0,0,0,null,null,null,9,17,0,139,5,0,0,0,0,5,5,0,0,0,0,5,{"$f":"VLOOKUP(A421,'Pivot Norm'!A:B,2,FALSE)","v":1},1,"15112011",1,0,2,1,0,2,1,0,0,0]
["1511301","1511301",{"$f":"VLOOKUP(B422, 'School List'!F:G,2,FALSE)","v":"Mack El"},"PHBAO",133,69,0,0,0,11,null,null,0,0,0,213,6,3,0,0,0,9,6,3,0,0,0,9,{"$f":"VLOOKUP(A422,'Pivot Norm'!A:B,2,FALSE)","v":2},1,"15113011",1,0,2,1,0,2,0,1,0,0]
["1511301","1511302",{"$f":"VLOOKUP(B423, 'School List'!F:G,2,FALSE)","v":"Mack El DTS"},"PHBAO",77,39,0,0,0,null,null,null,0,0,0,116,4,2,0,0,0,6,4,2,0,0,0,6,{"$f":"VLOOKUP(A423,'Pivot Norm'!A:B,2,FALSE)","v":2},2,"15113012",0,0,0,0,0,0,0,0,0,0]
["1513701","1513701",{"$f":"VLOOKUP(B424, 'School List'!F:G,2,FALSE)","v":"Marianna El"},"PHBAO",94,114,0,0,0,15,null,null,15,0,10,248,4,5,0,0,0,9,5,5,0,0,0,10,{"$f":"VLOOKUP(A424,'Pivot Norm'!A:B,2,FALSE)","v":2},1,"15137011",1,0,2,1,0,2,1,0,0,0]
["1513701","1513702",{"$f":"VLOOKUP(B425, 'School List'!F:G,2,FALSE)","v":"Marianna El DTS"},"PHBAO",60,0,0,0,0,null,null,null,0,0,0,60,3,0,0,0,0,3,2,0,0,0,0,2,{"$f":"VLOOKUP(A425,'Pivot Norm'!A:B,2,FALSE)","v":2},2,"15137012",0,0,0,0,0,0,0,0,0,0]
["1515301","1515301",{"$f":"VLOOKUP(B426, 'School List'!F:G,2,FALSE)","v":"Orchard Academies 2B"},"PHBAO",0,0,407,0,0,null,25,null,0,0,0,432,0,0,16,0,0,16,0,0,16,0,0,16,{"$f":"VLOOKUP(A426,'Pivot Norm'!A:B,2,FALSE)","v":1},1,"15153011",1,1,2,1,1,2,0,0,0,0]
["1515401","1515401",{"$f":"VLOOKUP(B427, 'School List'!F:G,2,FALSE)","v":"Orchard Academies 2C"},"PHBAO",0,0,334,0,0,null,14,null,0,0,0,348,0,0,13,0,0,13,0,0,12,0,0,12,{"$f":"VLOOKUP(A427,'Pivot Norm'!A:B,2,FALSE)","v":1},1,"15154011",1,0.5,2,1,0.5,2,0,0,0,0]
["1516401","1516401",{"$f":"VLOOKUP(B428, 'School List'!F:G,2,FALSE)","v":"Marquez Charter"},"Non-PHBAO",246,151,0,0,0,8,null,null,0,0,0,405,11,5,0,0,0,16,11,5,0,0,0,16,{"$f":"VLOOKUP(A428,'Pivot Norm'!A:B,2,FALSE)","v":1},1,"15164011",1,0,2,1,0,2,1,0,0,0]
["1517001","1517001",{"$f":"VLOOKUP(B429, 'School List'!F:G,2,FALSE)","v":"Lexington Ave PC"},"PHBAO",91,0,0,0,0,null,null,null,6,14,12,123,4,0,0,0,0,4,5,0,0,0,0,5,{"$f":"VLOOKUP(A429,'Pivot Norm'!A:B,2,FALSE)","v":1},1,"15170011",1,0,2,1,0,2,0,0,0,0]
["1517301","1517301",{"$f":"VLOOKUP(B430, 'School List'!F:G,2,FALSE)","v":"Dr. Julian Nava Acad"},"PHBAO",0,0,683,0,0,null,5,null,0,0,0,688,0,0,26,0,0,26,0,0,24,0,0,24,{"$f":"VLOOKUP(A430,'Pivot Norm'!A:B,2,FALSE)","v":1},1,"15173011",1,1,2,1,1,2,1,0,0,0]
["1517801","1517801",{"$f":"VLOOKUP(B431, 'School List'!F:G,2,FALSE)","v":"Marvin El"},"PHBAO",263,102,0,0,0,29,null,null,0,0,0,394,11,4,0,0,0,15,13,4,0,0,0,17,{"$f":"VLOOKUP(A431,'Pivot Norm'!A:B,2,FALSE)","v":2},1,"15178011",1,0,2,1,0,2,0,1,1,0]
["1517801","1517802",{"$f":"VLOOKUP(B432, 'School List'!F:G,2,FALSE)","v":"Marvin Dual Lang Mag"},"Magnet 2",112,103,0,0,0,null,null,null,0,0,0,215,5,4,0,0,0,9,5,4,0,0,0,9,{"$f":"VLOOKUP(A432,'Pivot Norm'!A:B,2,FALSE)","v":2},2,"15178012",0,0,0,0,0,0,0,0,0,0]
["1519201","1519201",{"$f":"VLOOKUP(B433, 'School List'!F:G,2,FALSE)","v":"Mar Vista El"},"Non-PHBAO",406,164,0,0,0,21,null,null,0,0,0,591,17,6,0,0,0,23,17,6,0,0,0,23,{"$f":"VLOOKUP(A433,'Pivot Norm'!A:B,2,FALSE)","v":1},1,"15192011",1,0,2,1,0,2,0,0,0,0]
["1519301","1519301",{"$f":"VLOOKUP(B434, 'School List'!F:G,2,FALSE)","v":"Walnut Park MS STEM"},"PHBAO",0,0,355,0,0,null,19,null,0,0,0,374,0,0,14,0,0,14,0,0,14,0,0,14,{"$f":"VLOOKUP(A434,'Pivot Norm'!A:B,2,FALSE)","v":1},1,"15193011",1,0.5,2,1,1,2,0,0,0,0]
["1519801","1519801",{"$f":"VLOOKUP(B435, 'School List'!F:G,2,FALSE)","v":"Mayall El"},"Magnet 2",285,162,0,0,0,17,null,null,2,0,0,466,12,6,0,0,0,18,13,6,0,0,0,19,{"$f":"VLOOKUP(A435,'Pivot Norm'!A:B,2,FALSE)","v":1},1,"15198011",1,0,2,1,0,2,0,0,0,0]
["1520501","1520501",{"$f":"VLOOKUP(B436, 'School List'!F:G,2,FALSE)","v":"Mayberry El"},"PHBAO",57,31,0,0,0,21,null,null,9,0,0,118,3,2,0,0,0,5,2,1,0,0,0,3,{"$f":"VLOOKUP(A436,'Pivot Norm'!A:B,2,FALSE)","v":3},1,"15205011",1,0,2,1,0,2,1,0,0,0]
["1520501","1520502",{"$f":"VLOOKUP(B437, 'School List'!F:G,2,FALSE)","v":"Mayberry St El DTS"},"PHBAO",52,28,0,0,0,null,null,null,0,0,0,80,3,2,0,0,0,5,3,2,0,0,0,5,{"$f":"VLOOKUP(A437,'Pivot Norm'!A:B,2,FALSE)","v":3},2,"15205012",0,0,0,0,0,0,0,0,0,0]
["1520501","1520503",{"$f":"VLOOKUP(B438, 'School List'!F:G,2,FALSE)","v":"Mayberry CA Magnet"},"Magnet 2",0,0,0,0,0,null,null,null,null,null,null,0,0,0,0,0,0,0,0,1,0,0,0,1,{"$f":"VLOOKUP(A438,'Pivot Norm'!A:B,2,FALSE)","v":3},3,"15205013",0,0,0,0,0,0,0,0,0,0]
["1521901","1521901",{"$f":"VLOOKUP(B439, 'School List'!F:G,2,FALSE)","v":"Melrose M/S/T Mag"},"Magnet 1",284,176,0,0,0,null,null,null,0,0,0,460,12,6,0,0,0,18,12,6,0,0,0,18,{"$f":"VLOOKUP(A439,'Pivot Norm'!A:B,2,FALSE)","v":1},1,"15219011",1,0,2,1,0,2,0,0,0,0]
["1523301","1523301",{"$f":"VLOOKUP(B440, 'School List'!F:G,2,FALSE)","v":"Melvin El"},"PHBAO",140,55,0,0,0,18,null,null,11,0,0,224,6,3,0,0,0,9,7,2,0,0,0,9,{"$f":"VLOOKUP(A440,'Pivot Norm'!A:B,2,FALSE)","v":2},1,"15233011",1,0,2,1,0,2,0,0,0,0]
["1523301","1523302",{"$f":"VLOOKUP(B441, 'School List'!F:G,2,FALSE)","v":"Melvin Hum/Lead Mag"},"Magnet 2",78,53,0,0,0,null,null,null,0,0,0,131,4,2,0,0,0,6,4,2,0,0,0,6,{"$f":"VLOOKUP(A441,'Pivot Norm'!A:B,2,FALSE)","v":2},2,"15233012",0,0,0,0,0,0,0,0,0,0]
["1524001","1524001",{"$f":"VLOOKUP(B442, 'School List'!F:G,2,FALSE)","v":"Johnson STEM Academy"},"Non-PHBAO",0,0,135,0,0,null,1,null,0,0,0,136,0,0,5,0,0,5,0,0,5,0,0,5,{"$f":"VLOOKUP(A442,'Pivot Norm'!A:B,2,FALSE)","v":1},1,"15240011",1,0.5,2,1,0.5,2,0,0,0,0]
["1524701","1524701",{"$f":"VLOOKUP(B443, 'School List'!F:G,2,FALSE)","v":"Menlo El"},"PHBAO",235,197,0,0,0,26,null,null,0,0,9,467,10,8,0,0,0,18,11,6,0,0,0,17,{"$f":"VLOOKUP(A443,'Pivot Norm'!A:B,2,FALSE)","v":2},1,"15247011",1,0,2,1,0,2,0,0,0,0]
["1524701","1524702",{"$f":"VLOOKUP(B444, 'School List'!F:G,2,FALSE)","v":"Menlo Ave El DTS"},"PHBAO",22,0,0,0,0,null,null,null,null,null,null,22,1,0,0,0,0,1,0,0,0,0,0,0,{"$f":"VLOOKUP(A444,'Pivot Norm'!A:B,2,FALSE)","v":2},2,"15247012",0,0,0,0,0,0,0,0,0,0]
["1528801","1528801",{"$f":"VLOOKUP(B445, 'School List'!F:G,2,FALSE)","v":"Micheltorena El"},"PHBAO",40,35,0,0,0,15,null,null,5,0,0,95,2,2,0,0,0,4,2,2,0,0,0,4,{"$f":"VLOOKUP(A445,'Pivot Norm'!A:B,2,FALSE)","v":2},1,"15288011",1,0,2,1,0,2,1,0,0,0]
["1528801","1528802",{"$f":"VLOOKUP(B446, 'School List'!F:G,2,FALSE)","v":"Micheltorena El DTS"},"Non-PHBAO",224,83,0,0,0,null,null,null,0,0,0,307,10,3,0,0,0,13,9,3,0,0,0,12,{"$f":"VLOOKUP(A446,'Pivot Norm'!A:B,2,FALSE)","v":2},2,"15288012",0,0,0,0,0,0,1,0,0,0]
["1530101","1530101",{"$f":"VLOOKUP(B447, 'School List'!F:G,2,FALSE)","v":"Middleton El"},"PHBAO",304,389,0,0,0,52,null,null,0,0,0,745,13,15,0,0,0,28,14,15,0,0,0,29,{"$f":"VLOOKUP(A447,'Pivot Norm'!A:B,2,FALSE)","v":1},1,"15301011",1,0,2,1,0,3,0,1,0,0]
["1530201","1530201",{"$f":"VLOOKUP(B448, 'School List'!F:G,2,FALSE)","v":"Middleton PC"},"PHBAO",221,0,0,0,0,null,null,null,0,20,23,264,10,0,0,0,0,10,10,0,0,0,0,10,{"$f":"VLOOKUP(A448,'Pivot Norm'!A:B,2,FALSE)","v":1},1,"15302011",1,0,2,1,0,2,0,0,0,0]
["1531501","1531501",{"$f":"VLOOKUP(B449, 'School List'!F:G,2,FALSE)","v":"Miles El"},"PHBAO",259,101,0,0,0,52,null,null,0,0,0,412,11,4,0,0,0,15,11,5,0,0,0,16,{"$f":"VLOOKUP(A449,'Pivot Norm'!A:B,2,FALSE)","v":3},1,"15315011",1,0,3,1,0,3,0,0,0,0]
["1531501","1531502",{"$f":"VLOOKUP(B450, 'School List'!F:G,2,FALSE)","v":"Miles Av El STEM Mag"},"Magnet 2",68,102,0,0,0,null,null,null,0,0,0,170,3,4,0,0,0,7,4,3,0,0,0,7,{"$f":"VLOOKUP(A450,'Pivot Norm'!A:B,2,FALSE)","v":3},2,"15315012",0,0,0,0,0,0,0,0,0,0]
["1531501","1531503",{"$f":"VLOOKUP(B451, 'School List'!F:G,2,FALSE)","v":"Miles Ave El DTS"},"PHBAO",208,94,0,0,0,null,null,null,0,0,0,302,9,4,0,0,0,13,9,4,0,0,0,13,{"$f":"VLOOKUP(A451,'Pivot Norm'!A:B,2,FALSE)","v":3},3,"15315013",0,0,0,0,0,0,1,0,0,0]
["1532101","1532101",{"$f":"VLOOKUP(B452, 'School List'!F:G,2,FALSE)","v":"Miller El"},"PHBAO",355,273,0,0,0,22,null,null,4,0,15,669,15,11,0,0,0,26,16,11,0,0,0,27,{"$f":"VLOOKUP(A452,'Pivot Norm'!A:B,2,FALSE)","v":1},1,"15321011",1,0,2,1,0,2,0,0,0,0]
["1532901","1532901",{"$f":"VLOOKUP(B453, 'School List'!F:G,2,FALSE)","v":"Miramonte El"},"PHBAO",217,126,0,0,0,22,null,null,31,0,24,420,10,5,0,0,0,15,11,7,0,0,0,18,{"$f":"VLOOKUP(A453,'Pivot Norm'!A:B,2,FALSE)","v":2},1,{"$f":"A453&AD453","v":"15329011"},1,0,2,1,0,2,0,0,0,0]
["1532901","1532902",{"$f":"VLOOKUP(B454, 'School List'!F:G,2,FALSE)","v":"Miramonte El DTS"},"PHBAO",187,77,0,0,0,null,null,null,0,0,0,264,8,3,0,0,0,11,8,2,0,0,0,10,{"$f":"VLOOKUP(A454,'Pivot Norm'!A:B,2,FALSE)","v":2},2,"15329012",0,0,0,0,0,0,0,0,0,0]
["1534201","1534201",{"$f":"VLOOKUP(B455, 'School List'!F:G,2,FALSE)","v":"Monlux El"},"Non-PHBAO",294,131,0,0,0,19,null,null,11,0,0,455,13,5,0,0,0,18,14,4,0,0,0,18,{"$f":"VLOOKUP(A455,'Pivot Norm'!A:B,2,FALSE)","v":2},{"$f":"IF(A455=A454,AD454+1,1)","v":1},"15342011",1,0,2,1,0,2,0,0,0,0]
["1534201","1534202",{"$f":"VLOOKUP(B456, 'School List'!F:G,2,FALSE)","v":"Monlux El STEM Mag"},"Magnet 1",96,120,0,0,0,null,null,null,0,0,0,216,4,4,0,0,0,8,4,4,0,0,0,8,{"$f":"VLOOKUP(A456,'Pivot Norm'!A:B,2,FALSE)","v":2},2,"15342012",0,0,0,0,0,0,0,0,0,0]
["1538401","1538401",{"$f":"VLOOKUP(B457, 'School List'!F:G,2,FALSE)","v":"Monte Vista El"},"PHBAO",27,60,0,0,0,24,null,null,0,0,0,111,2,3,0,0,0,5,3,3,0,0,0,6,{"$f":"VLOOKUP(A457,'Pivot Norm'!A:B,2,FALSE)","v":2},1,"15384011",1,0,2,1,0,2,0,0,0,0]
["1538401","1538402",{"$f":"VLOOKUP(B458, 'School List'!F:G,2,FALSE)","v":"Monte Vista FC Mag"},"Magnet 2",74,54,0,0,0,null,null,null,0,0,0,128,4,2,0,0,0,6,4,2,0,0,0,6,{"$f":"VLOOKUP(A458,'Pivot Norm'!A:B,2,FALSE)","v":2},2,"15384012",0,0,0,0,0,0,0,0,0,0]
["1538501","1538501",{"$f":"VLOOKUP(B459, 'School List'!F:G,2,FALSE)","v":"Riordan PC"},"PHBAO",74,0,0,0,0,8,null,null,13,0,12,107,4,0,0,0,0,4,4,0,0,0,0,4,{"$f":"VLOOKUP(A459,'Pivot Norm'!A:B,2,FALSE)","v":2},1,"15385011",1,0,2,1,0,2,0,0,0,0]
["1538501","1538502",{"$f":"VLOOKUP(B460, 'School List'!F:G,2,FALSE)","v":"Riordan PC DWF"},"PHBAO",54,0,0,0,0,null,null,null,0,0,0,54,3,0,0,0,0,3,2,0,0,0,0,2,{"$f":"VLOOKUP(A460,'Pivot Norm'!A:B,2,FALSE)","v":2},2,"15385012",0,0,0,0,0,0,1,0,0,0]
["1539701","1539701",{"$f":"VLOOKUP(B461, 'School List'!F:G,2,FALSE)","v":"Morningside El"},"PHBAO",290,143,0,0,0,28,null,null,0,0,24,485,13,6,0,0,0,19,12,6,0,0,0,18,{"$f":"VLOOKUP(A461,'Pivot Norm'!A:B,2,FALSE)","v":1},1,"15397011",1,0,2,1,0,2,0,0,0,0]
["1540401","1540401",{"$f":"VLOOKUP(B462, 'School List'!F:G,2,FALSE)","v":"Mountain View El"},"Non-PHBAO",190,59,0,0,0,null,null,null,0,0,0,249,8,2,0,0,0,10,8,3,0,0,0,11,{"$f":"VLOOKUP(A462,'Pivot Norm'!A:B,2,FALSE)","v":2},1,"15404011",1,0,2,1,0,2,0,0,0,0]
["1540401","1540402",{"$f":"VLOOKUP(B463, 'School List'!F:G,2,FALSE)","v":"Mountain View El DTR"},"Non-PHBAO",199,76,0,0,0,null,null,null,0,0,0,275,9,3,0,0,0,12,9,2,0,0,0,11,{"$f":"VLOOKUP(A463,'Pivot Norm'!A:B,2,FALSE)","v":2},2,"15404012",0,0,0,0,0,0,0,0,0,0]
["1541101","1541101",{"$f":"VLOOKUP(B464, 'School List'!F:G,2,FALSE)","v":"Mt Washington El"},"Non-PHBAO",298,130,0,0,0,null,null,null,0,0,0,428,13,4,0,0,0,17,13,5,0,0,0,18,{"$f":"VLOOKUP(A464,'Pivot Norm'!A:B,2,FALSE)","v":1},1,"15411011",1,0,2,1,0,2,0,0,1,0]
["1542501","1542501",{"$f":"VLOOKUP(B465, 'School List'!F:G,2,FALSE)","v":"Multnomah El"},"PHBAO",88,33,0,0,0,null,null,null,0,0,17,138,4,2,0,0,0,6,5,2,0,0,0,7,{"$f":"VLOOKUP(A465,'Pivot Norm'!A:B,2,FALSE)","v":3},1,"15425011",1,0,2,1,0,2,0,0,0,0]
["1542501","1542502",{"$f":"VLOOKUP(B466, 'School List'!F:G,2,FALSE)","v":"Multnomah Gifted Mag"},"Magnet 2",32,39,0,0,0,null,null,null,0,0,0,71,2,2,0,0,0,4,2,2,0,0,0,4,{"$f":"VLOOKUP(A466,'Pivot Norm'!A:B,2,FALSE)","v":3},2,"15425012",0,0,0,0,0,0,0,0,0,0]
["1542501","1542503",{"$f":"VLOOKUP(B467, 'School List'!F:G,2,FALSE)","v":"Multnomah Env Sc Mag"},"Magnet 2",83,51,0,0,0,null,null,null,0,0,0,134,4,2,0,0,0,6,3,2,0,0,0,5,{"$f":"VLOOKUP(A467,'Pivot Norm'!A:B,2,FALSE)","v":3},3,"15425013",0,0,0,0,0,0,0,0,0,0]
["1543801","1543801",{"$f":"VLOOKUP(B468, 'School List'!F:G,2,FALSE)","v":"Murchison El"},"PHBAO",175,123,0,0,0,43,null,null,0,0,0,341,8,5,0,0,0,13,8,5,0,0,0,13,{"$f":"VLOOKUP(A468,'Pivot Norm'!A:B,2,FALSE)","v":1},1,"15438011",1,0,2,1,0,2,0,0,0,0]
["1544601","1544601",{"$f":"VLOOKUP(B469, 'School List'!F:G,2,FALSE)","v":"Napa El"},"PHBAO",133,121,0,0,0,32,null,null,19,0,20,325,6,5,0,0,0,11,8,5,0,0,0,13,{"$f":"VLOOKUP(A469,'Pivot Norm'!A:B,2,FALSE)","v":2},1,"15446011",1,0,2,1,0,2,0,0,0,0]
["1544601","1544602",{"$f":"VLOOKUP(B470, 'School List'!F:G,2,FALSE)","v":"Napa St El DTS"},"PHBAO",98,0,0,0,0,null,null,null,0,0,0,98,5,0,0,0,0,5,4,0,0,0,0,4,{"$f":"VLOOKUP(A470,'Pivot Norm'!A:B,2,FALSE)","v":2},2,"15446012",0,0,0,0,0,0,0,0,0,0]
["1545201","1545201",{"$f":"VLOOKUP(B471, 'School List'!F:G,2,FALSE)","v":"Nestle Ave Charter"},"Non-PHBAO",340,132,0,0,0,19,null,null,0,20,0,511,15,5,0,0,0,20,15,4,0,0,0,19,{"$f":"VLOOKUP(A471,'Pivot Norm'!A:B,2,FALSE)","v":1},1,"15452011",1,0,2,1,0,2,0,0,0,0]
["1545901","1545901",{"$f":"VLOOKUP(B472, 'School List'!F:G,2,FALSE)","v":"Nevada El"},"PHBAO",129,82,0,0,0,20,null,null,26,0,21,278,6,4,0,0,0,10,6,4,0,0,0,10,{"$f":"VLOOKUP(A472,'Pivot Norm'!A:B,2,FALSE)","v":2},1,"15459011",1,0,2,1,0,2,0,0,0,0]
["1545901","1545902",{"$f":"VLOOKUP(B473, 'School List'!F:G,2,FALSE)","v":"Nevada El DTS"},"PHBAO",115,21,0,0,0,null,null,null,0,0,13,149,5,1,0,0,0,6,5,0,0,0,0,5,{"$f":"VLOOKUP(A473,'Pivot Norm'!A:B,2,FALSE)","v":2},2,"15459012",0,0,0,0,0,0,0,0,0,0]
["1546601","1546601",{"$f":"VLOOKUP(B474, 'School List'!F:G,2,FALSE)","v":"Nevin El"},"PHBAO",291,168,0,0,0,18,null,null,17,0,14,508,13,7,0,0,0,20,13,7,0,0,0,20,{"$f":"VLOOKUP(A474,'Pivot Norm'!A:B,2,FALSE)","v":1},1,"15466011",1,0,2,1,0,2,0,0,0,0]
["1547901","1547901",{"$f":"VLOOKUP(B475, 'School List'!F:G,2,FALSE)","v":"Newcastle El"},"PHBAO",167,83,0,0,0,21,null,null,10,0,14,295,7,4,0,0,0,11,8,3,0,0,0,11,{"$f":"VLOOKUP(A475,'Pivot Norm'!A:B,2,FALSE)","v":1},1,"15479011",1,0,2,1,0,2,1,0,1,0]
["1550501","1550501",{"$f":"VLOOKUP(B476, 'School List'!F:G,2,FALSE)","v":"9th St El"},"PHBAO",113,83,0,0,0,null,null,null,8,0,0,204,5,4,0,0,0,9,6,4,0,0,0,10,{"$f":"VLOOKUP(A476,'Pivot Norm'!A:B,2,FALSE)","v":1},1,"15505011",1,0,2,1,0,2,2,1,0,0]
["1552101","1552101",{"$f":"VLOOKUP(B477, 'School List'!F:G,2,FALSE)","v":"95th St El"},"PHBAO",535,255,0,0,0,48,null,null,0,0,23,861,23,10,0,0,0,33,23,11,0,0,0,34,{"$f":"VLOOKUP(A477,'Pivot Norm'!A:B,2,FALSE)","v":1},1,"15521011",1,0,3,1,0,3,1,0,0,0]
["1553401","1553401",{"$f":"VLOOKUP(B478, 'School List'!F:G,2,FALSE)","v":"99th St El"},"PHBAO",284,179,0,0,0,43,null,null,15,9,0,530,12,7,0,0,0,19,13,7,0,0,0,20,{"$f":"VLOOKUP(A478,'Pivot Norm'!A:B,2,FALSE)","v":1},1,"15534011",1,0,2,1,0,2,0,0,0,0]
["1554801","1554801",{"$f":"VLOOKUP(B479, 'School List'!F:G,2,FALSE)","v":"92nd St El"},"PHBAO",380,319,0,0,0,40,null,null,0,0,15,754,16,12,0,0,0,28,18,11,0,0,0,29,{"$f":"VLOOKUP(A479,'Pivot Norm'!A:B,2,FALSE)","v":1},1,"15548011",1,0,3,1,0,3,0,0,0,0]
["1556201","1556201",{"$f":"VLOOKUP(B480, 'School List'!F:G,2,FALSE)","v":"Barrett El"},"PHBAO",371,203,0,0,0,37,null,null,20,0,19,650,16,8,0,0,0,24,16,9,0,0,0,25,{"$f":"VLOOKUP(A480,'Pivot Norm'!A:B,2,FALSE)","v":2},1,"15562011",1,0,3,1,0,2,0,0,0,0]
["1556201","1556202",{"$f":"VLOOKUP(B481, 'School List'!F:G,2,FALSE)","v":"Barrett El DTS"},"PHBAO",81,20,0,0,0,null,null,null,0,0,0,101,4,1,0,0,0,5,4,0,0,0,0,4,{"$f":"VLOOKUP(A481,'Pivot Norm'!A:B,2,FALSE)","v":2},2,"15562012",0,0,0,0,0,0,0,0,0,0]
["1557501","1557501",{"$f":"VLOOKUP(B482, 'School List'!F:G,2,FALSE)","v":"96th St El"},"PHBAO",274,244,0,0,0,19,null,null,11,0,23,571,12,10,0,0,0,22,13,10,0,0,0,23,{"$f":"VLOOKUP(A482,'Pivot Norm'!A:B,2,FALSE)","v":2},1,"15575011",1,0,2,1,0,2,1,0,0,0]
["1557501","1557502",{"$f":"VLOOKUP(B483, 'School List'!F:G,2,FALSE)","v":"96th St El DTS"},"PHBAO",90,0,0,0,0,null,null,null,0,0,0,90,4,0,0,0,0,4,3,0,0,0,0,3,{"$f":"VLOOKUP(A483,'Pivot Norm'!A:B,2,FALSE)","v":2},2,"15575012",0,0,0,0,0,0,0,0,0,0]
["1558201","1558201",{"$f":"VLOOKUP(B484, 'School List'!F:G,2,FALSE)","v":"93rd St El"},"PHBAO",171,164,0,0,0,66,null,null,8,0,12,421,8,7,0,0,0,15,9,7,0,0,0,16,{"$f":"VLOOKUP(A484,'Pivot Norm'!A:B,2,FALSE)","v":3},1,"15582011",1,0,3,1,0,3,1,0,0,0]
["1558201","1558202",{"$f":"VLOOKUP(B485, 'School List'!F:G,2,FALSE)","v":"93rd St El DTS"},"PHBAO",186,45,0,0,0,null,null,null,0,0,0,231,8,2,0,0,0,10,8,0,0,0,0,8,{"$f":"VLOOKUP(A485,'Pivot Norm'!A:B,2,FALSE)","v":3},2,"15582012",0,0,0,0,0,0,0,0,0,0]
["1558201","1558203",{"$f":"VLOOKUP(B486, 'School List'!F:G,2,FALSE)","v":"93rd St STEAM"},"Magnet 2",141,133,0,0,0,null,null,null,0,0,0,274,6,5,0,0,0,11,6,5,0,0,0,11,{"$f":"VLOOKUP(A486,'Pivot Norm'!A:B,2,FALSE)","v":3},3,"15582013",0,0,0,0,0,0,0,0,0,0]
["1560301","1560301",{"$f":"VLOOKUP(B487, 'School List'!F:G,2,FALSE)","v":"Noble El"},"PHBAO",480,231,0,0,0,37,null,null,0,0,24,772,20,9,0,0,0,29,21,8,0,0,0,29,{"$f":"VLOOKUP(A487,'Pivot Norm'!A:B,2,FALSE)","v":1},1,"15603011",1,0,3,1,0,3,0,0,1,0]
["1560401","1560401",{"$f":"VLOOKUP(B488, 'School List'!F:G,2,FALSE)","v":"Panorama City El"},"PHBAO",331,130,0,0,0,27,null,null,12,32,0,532,14,5,0,0,0,19,13,6,0,0,0,19,{"$f":"VLOOKUP(A488,'Pivot Norm'!A:B,2,FALSE)","v":1},1,"15604011",1,0,2,1,0,2,0,0,0,0]
["1563001","1563001",{"$f":"VLOOKUP(B489, 'School List'!F:G,2,FALSE)","v":"Normandie El"},"PHBAO",292,129,0,0,0,48,null,null,10,6,18,503,13,5,0,0,0,18,12,6,0,0,0,18,{"$f":"VLOOKUP(A489,'Pivot Norm'!A:B,2,FALSE)","v":2},1,"15630011",1,0,2,1,0,2,0,0,0,0]
["1563001","1563002",{"$f":"VLOOKUP(B490, 'School List'!F:G,2,FALSE)","v":"Normandie Ave El DTS"},"PHBAO",127,69,0,0,0,null,null,null,0,0,0,196,6,3,0,0,0,9,6,3,0,0,0,9,{"$f":"VLOOKUP(A490,'Pivot Norm'!A:B,2,FALSE)","v":2},2,"15630012",0,0,0,0,0,0,0,0,0,0]
["1564401","1564401",{"$f":"VLOOKUP(B491, 'School List'!F:G,2,FALSE)","v":"Normont El"},"PHBAO",111,86,0,0,0,12,null,null,14,0,0,223,5,4,0,0,0,9,6,4,0,0,0,10,{"$f":"VLOOKUP(A491,'Pivot Norm'!A:B,2,FALSE)","v":2},1,"15644011",1,0,2,1,0,2,0,0,0,0]
["1564401","1564402",{"$f":"VLOOKUP(B492, 'School List'!F:G,2,FALSE)","v":"Normont El  DTS"},"PHBAO",95,0,0,0,0,null,null,null,0,0,0,95,4,0,0,0,0,4,3,0,0,0,0,3,{"$f":"VLOOKUP(A492,'Pivot Norm'!A:B,2,FALSE)","v":2},2,"15644012",0,0,0,0,0,0,0,0,0,0]
["1569901","1569901",{"$f":"VLOOKUP(B493, 'School List'!F:G,2,FALSE)","v":"Norwood El"},"PHBAO",256,120,0,0,0,36,null,null,0,0,10,422,11,5,0,0,0,16,10,5,0,0,0,15,{"$f":"VLOOKUP(A493,'Pivot Norm'!A:B,2,FALSE)","v":1},1,"15699011",1,0,2,1,0,2,0,0,0,0]
["1572601","1572601",{"$f":"VLOOKUP(B494, 'School List'!F:G,2,FALSE)","v":"O Melveny El"},"PHBAO",243,144,0,0,0,27,null,null,3,6,20,443,11,6,0,0,0,17,12,6,0,0,0,18,{"$f":"VLOOKUP(A494,'Pivot Norm'!A:B,2,FALSE)","v":1},1,"15726011",1,0,2,1,0,2,1,0,1,0]
["1574001","1574001",{"$f":"VLOOKUP(B495, 'School List'!F:G,2,FALSE)","v":"118th St El"},"PHBAO",232,147,0,0,0,36,null,null,0,0,16,431,10,6,0,0,0,16,11,6,0,0,0,17,{"$f":"VLOOKUP(A495,'Pivot Norm'!A:B,2,FALSE)","v":2},1,"15740011",1,0,2,1,0,2,1,0,0,0]
["1574001","1574002",{"$f":"VLOOKUP(B496, 'School List'!F:G,2,FALSE)","v":"118th St El DTS"},"PHBAO",78,0,0,0,0,null,null,null,0,0,0,78,4,0,0,0,0,4,3,0,0,0,0,3,{"$f":"VLOOKUP(A496,'Pivot Norm'!A:B,2,FALSE)","v":2},2,"15740012",0,0,0,0,0,0,0,0,0,0]
["1575301","1575301",{"$f":"VLOOKUP(B497, 'School List'!F:G,2,FALSE)","v":"186th St El"},"PHBAO",423,220,0,0,0,30,null,null,0,2,32,707,18,9,0,0,0,27,19,8,0,0,0,27,{"$f":"VLOOKUP(A497,'Pivot Norm'!A:B,2,FALSE)","v":1},1,"15753011",1,0,2,1,0,2,1,0,1,0]
["1578101","1578101",{"$f":"VLOOKUP(B498, 'School List'!F:G,2,FALSE)","v":"Flournoy El"},"PHBAO",243,82,0,0,0,16,null,null,0,0,13,354,11,4,0,0,0,15,11,3,0,0,0,14,{"$f":"VLOOKUP(A498,'Pivot Norm'!A:B,2,FALSE)","v":3},1,"15781011",1,0,2,1,0,2,1,2,0,0]
["1578101","1578102",{"$f":"VLOOKUP(B499, 'School List'!F:G,2,FALSE)","v":"Flournoy STEAM Mag"},"Magnet 2",33,45,0,0,0,null,null,null,0,0,0,78,2,2,0,0,0,4,2,2,0,0,0,4,{"$f":"VLOOKUP(A499,'Pivot Norm'!A:B,2,FALSE)","v":3},2,"15781012",0,0,0,0,0,0,0,0,0,0]
["1578101","1578103",{"$f":"VLOOKUP(B500, 'School List'!F:G,2,FALSE)","v":"Flournoy El DTS"},"PHBAO",22,0,0,0,0,null,null,null,null,null,null,22,1,0,0,0,0,1,0,0,0,0,0,0,{"$f":"VLOOKUP(A500,'Pivot Norm'!A:B,2,FALSE)","v":3},3,"15781013",0,0,0,0,0,0,0,0,0,0]
["1580801","1580801",{"$f":"VLOOKUP(B501, 'School List'!F:G,2,FALSE)","v":"156th St El"},"PHBAO",221,149,0,0,0,14,null,null,0,0,0,384,10,6,0,0,0,16,9,6,0,0,0,15,{"$f":"VLOOKUP(A501,'Pivot Norm'!A:B,2,FALSE)","v":1},1,"15808011",1,0,2,1,0,2,1,0,0,0]
["1582201","1582201",{"$f":"VLOOKUP(B502, 'School List'!F:G,2,FALSE)","v":"153rd St El"},"PHBAO",161,75,0,0,0,53,null,null,17,0,19,325,7,3,0,0,0,10,6,4,0,0,0,10,{"$f":"VLOOKUP(A502,'Pivot Norm'!A:B,2,FALSE)","v":2},1,"15822011",1,0,2,1,0,2,1,0,0,0]
["1582201","1582202",{"$f":"VLOOKUP(B503, 'School List'!F:G,2,FALSE)","v":"153rd St EL DTS"},"PHBAO",76,17,0,0,0,null,null,null,0,0,0,93,4,1,0,0,0,5,4,0,0,0,0,4,{"$f":"VLOOKUP(A503,'Pivot Norm'!A:B,2,FALSE)","v":2},2,"15822012",0,0,0,0,0,0,0,0,0,0]
["1583601","1583601",{"$f":"VLOOKUP(B504, 'School List'!F:G,2,FALSE)","v":"109th St El"},"PHBAO",218,117,0,0,0,22,null,null,0,0,8,365,10,5,0,0,0,15,9,5,0,0,0,14,{"$f":"VLOOKUP(A504,'Pivot Norm'!A:B,2,FALSE)","v":1},1,"15836011",1,0,2,1,0,2,1,0,0,0]
["1584901","1584901",{"$f":"VLOOKUP(B505, 'School List'!F:G,2,FALSE)","v":"Griffith Joyner El"},"PHBAO",174,88,0,0,0,35,null,null,15,0,14,326,8,4,0,0,0,12,8,4,0,0,0,12,{"$f":"VLOOKUP(A505,'Pivot Norm'!A:B,2,FALSE)","v":2},1,"15849011",1,0,2,1,0,2,1,0,0,0]
["1584901","1584902",{"$f":"VLOOKUP(B506, 'School List'!F:G,2,FALSE)","v":"Griffith Jyner VAPA Mg"},"Magnet 2",70,48,0,0,0,null,null,null,0,0,0,118,3,2,0,0,0,5,3,2,0,0,0,5,{"$f":"VLOOKUP(A506,'Pivot Norm'!A:B,2,FALSE)","v":2},2,"15849012",0,0,0,0,0,0,0,0,0,0]
["1585701","1585701",{"$f":"VLOOKUP(B507, 'School List'!F:G,2,FALSE)","v":"107th St El"},"PHBAO",462,204,0,0,0,38,null,null,12,2,22,740,20,8,0,0,0,28,21,7,0,0,0,28,{"$f":"VLOOKUP(A507,'Pivot Norm'!A:B,2,FALSE)","v":2},1,"15857011",1,0,3,1,0,3,0,0,1,0]
["1585701","1585702",{"$f":"VLOOKUP(B508, 'School List'!F:G,2,FALSE)","v":"107th St STEAM Mag"},"Magnet 2",71,48,0,0,0,null,null,null,0,0,0,119,3,2,0,0,0,5,3,3,0,0,0,6,{"$f":"VLOOKUP(A508,'Pivot Norm'!A:B,2,FALSE)","v":2},2,"15857012",0,0,0,0,0,0,0,0,0,0]
["1586301","1586301",{"$f":"VLOOKUP(B509, 'School List'!F:G,2,FALSE)","v":"116th St El"},"PHBAO",216,110,0,0,0,27,null,null,0,0,11,364,9,5,0,0,0,14,10,5,0,0,0,15,{"$f":"VLOOKUP(A509,'Pivot Norm'!A:B,2,FALSE)","v":2},1,"15863011",1,0,2,1,0,2,0,0,0,0]
["1586301","1586302",{"$f":"VLOOKUP(B510, 'School List'!F:G,2,FALSE)","v":"116th St El DTS"},"PHBAO",57,0,0,0,0,null,null,null,0,0,0,57,3,0,0,0,0,3,2,0,0,0,0,2,{"$f":"VLOOKUP(A510,'Pivot Norm'!A:B,2,FALSE)","v":2},2,"15863012",0,0,0,0,0,0,1,0,0,0]
["1587701","1587701",{"$f":"VLOOKUP(B511, 'School List'!F:G,2,FALSE)","v":"135th St El"},"PHBAO",270,174,0,0,0,37,null,null,8,0,25,514,12,7,0,0,0,19,14,7,0,0,0,21,{"$f":"VLOOKUP(A511,'Pivot Norm'!A:B,2,FALSE)","v":2},1,"15877011",1,0,2,1,0,2,0,0,0,0]
["1587701","1587702",{"$f":"VLOOKUP(B512, 'School List'!F:G,2,FALSE)","v":"135th St El DTS"},"PHBAO",90,0,0,0,0,null,null,null,0,0,0,90,4,0,0,0,0,4,3,0,0,0,0,3,{"$f":"VLOOKUP(A512,'Pivot Norm'!A:B,2,FALSE)","v":2},2,"15877012",0,0,0,0,0,0,0,0,0,0]
["1588401","1588401",{"$f":"VLOOKUP(B513, 'School List'!F:G,2,FALSE)","v":"112th St El"},"PHBAO",238,103,0,0,0,24,null,null,22,0,3,390,10,4,0,0,0,14,10,4,0,0,0,14,{"$f":"VLOOKUP(A513,'Pivot Norm'!A:B,2,FALSE)","v":1},1,"15884011",1,0,2,1,0,2,1,0,0,0]
["1588701","1588701",{"$f":"VLOOKUP(B514, 'School List'!F:G,2,FALSE)","v":"122nd St El"},"PHBAO",295,199,0,0,0,36,null,null,0,0,18,548,13,8,0,0,0,21,14,8,0,0,0,22,{"$f":"VLOOKUP(A514,'Pivot Norm'!A:B,2,FALSE)","v":2},1,"15887011",1,0,2,1,0,2,0,0,0,0]
["1588701","1588702",{"$f":"VLOOKUP(B515, 'School List'!F:G,2,FALSE)","v":"122nd St El DTS"},"PHBAO",84,0,0,0,0,null,null,null,0,0,0,84,4,0,0,0,0,4,3,0,0,0,0,3,{"$f":"VLOOKUP(A515,'Pivot Norm'!A:B,2,FALSE)","v":2},2,"15887012",0,0,0,0,0,0,0,0,0,0]
["1588901","1588901",{"$f":"VLOOKUP(B516, 'School List'!F:G,2,FALSE)","v":"Open Charter Magnet"},"Magnet 1",263,134,0,0,0,null,null,null,0,0,0,397,11,5,0,0,0,16,11,5,0,0,0,16,{"$f":"VLOOKUP(A516,'Pivot Norm'!A:B,2,FALSE)","v":1},1,"15889011",1,0,2,1,0,2,1,0,0,0]
["1589401","1589401",{"$f":"VLOOKUP(B517, 'School List'!F:G,2,FALSE)","v":"Osceola El"},"PHBAO",252,109,0,0,0,null,null,null,8,19,19,407,11,5,0,0,0,16,11,4,0,0,0,15,{"$f":"VLOOKUP(A517,'Pivot Norm'!A:B,2,FALSE)","v":1},1,{"$f":"A517&AD517","v":"15894011"},1,0,2,1,0,2,1,0,0,0]
["1590401","1590401",{"$f":"VLOOKUP(B518, 'School List'!F:G,2,FALSE)","v":"Overland El"},"Non-PHBAO",335,134,0,0,0,6,null,null,0,0,0,475,14,5,0,0,0,19,14,5,0,0,0,19,{"$f":"VLOOKUP(A518,'Pivot Norm'!A:B,2,FALSE)","v":1},1,"15904011",1,0,2,1,0,2,1,0,0,0]
["1591801","1591801",{"$f":"VLOOKUP(B519, 'School List'!F:G,2,FALSE)","v":"Oxnard El"},"PHBAO",201,102,0,0,0,13,null,null,0,0,14,330,9,4,0,0,0,13,9,4,0,0,0,13,{"$f":"VLOOKUP(A519,'Pivot Norm'!A:B,2,FALSE)","v":1},{"$f":"IF(A519=A518,AD518+1,1)","v":1},"15918011",1,0,2,1,0,2,1,0,0,0]
["1595901","1595901",{"$f":"VLOOKUP(B520, 'School List'!F:G,2,FALSE)","v":"Palisades Charter El"},"Non-PHBAO",317,146,0,0,0,null,null,null,0,0,0,463,14,5,0,0,0,19,14,5,0,0,0,19,{"$f":"VLOOKUP(A520,'Pivot Norm'!A:B,2,FALSE)","v":1},1,"15959011",1,0,2,1,0,2,0,0,0,0]
["1598601","1598601",{"$f":"VLOOKUP(B521, 'School List'!F:G,2,FALSE)","v":"Palms El"},"PHBAO",166,82,0,0,0,47,null,null,9,0,0,304,7,4,0,0,0,11,7,4,0,0,0,11,{"$f":"VLOOKUP(A521,'Pivot Norm'!A:B,2,FALSE)","v":1},1,"15986011",1,0,2,1,0,2,0,0,0,0]
["1600501","1600501",{"$f":"VLOOKUP(B522, 'School List'!F:G,2,FALSE)","v":"Park Ave El"},"PHBAO",158,153,0,0,0,null,null,null,10,0,10,331,7,6,0,0,0,13,8,6,0,0,0,14,{"$f":"VLOOKUP(A522,'Pivot Norm'!A:B,2,FALSE)","v":2},1,"16005011",1,0,2,1,0,2,0,0,0,0]
["1600501","1600502",{"$f":"VLOOKUP(B523, 'School List'!F:G,2,FALSE)","v":"Park Ave El DTS"},"PHBAO",42,0,0,0,0,null,null,null,0,0,0,42,2,0,0,0,0,2,2,0,0,0,0,2,{"$f":"VLOOKUP(A523,'Pivot Norm'!A:B,2,FALSE)","v":2},2,"16005012",0,0,0,0,0,0,0,0,0,0]
["1601301","1601301",{"$f":"VLOOKUP(B524, 'School List'!F:G,2,FALSE)","v":"Park Western El"},"PHBAO",249,87,0,0,0,22,null,null,0,8,0,366,11,4,0,0,0,15,11,4,0,0,0,15,{"$f":"VLOOKUP(A524,'Pivot Norm'!A:B,2,FALSE)","v":2},1,"16013011",1,0,2,1,0,2,0,0,0,0]
["1601301","1601302",{"$f":"VLOOKUP(B525, 'School List'!F:G,2,FALSE)","v":"Park Wstrn GSTEAM Mg"},"Magnet 2",142,119,0,0,0,null,null,null,0,0,0,261,6,5,0,0,0,11,7,4,0,0,0,11,{"$f":"VLOOKUP(A525,'Pivot Norm'!A:B,2,FALSE)","v":2},2,"16013012",0,0,0,0,0,0,1,0,0,0]
["1602101","1602101",{"$f":"VLOOKUP(B526, 'School List'!F:G,2,FALSE)","v":"Parmelee El"},"PHBAO",214,184,0,0,0,43,null,null,0,0,23,464,9,7,0,0,0,16,10,8,0,0,0,18,{"$f":"VLOOKUP(A526,'Pivot Norm'!A:B,2,FALSE)","v":2},1,"16021011",1,0,2,1,0,2,1,0,0,0]
["1602101","1602102",{"$f":"VLOOKUP(B527, 'School List'!F:G,2,FALSE)","v":"Parmelee Ave El DTS"},"PHBAO",175,85,0,0,0,null,null,null,0,0,0,260,8,4,0,0,0,12,8,2,0,0,0,10,{"$f":"VLOOKUP(A527,'Pivot Norm'!A:B,2,FALSE)","v":2},2,"16021012",0,0,0,0,0,0,0,0,0,0]
["1602701","1602701",{"$f":"VLOOKUP(B528, 'School List'!F:G,2,FALSE)","v":"Parthenia Ac Art Tech"},"PHBAO",275,142,0,0,0,17,null,null,7,0,19,460,12,6,0,0,0,18,13,6,0,0,0,19,{"$f":"VLOOKUP(A528,'Pivot Norm'!A:B,2,FALSE)","v":1},1,"16027011",1,0,2,1,0,2,1,0,1,0]
["1605201","1605201",{"$f":"VLOOKUP(B529, 'School List'!F:G,2,FALSE)","v":"Paseo Del Rey Nat Sc"},"Magnet 2",129,123,0,0,0,null,null,null,0,0,0,252,6,5,0,0,0,11,6,5,0,0,0,11,{"$f":"VLOOKUP(A529,'Pivot Norm'!A:B,2,FALSE)","v":1},1,"16052011",1,0,2,1,0,2,0,0,0,0]
["1606801","1606801",{"$f":"VLOOKUP(B530, 'School List'!F:G,2,FALSE)","v":"Pinewood El"},"PHBAO",126,48,0,0,0,17,null,null,0,0,0,191,6,2,0,0,0,8,5,2,0,0,0,7,{"$f":"VLOOKUP(A530,'Pivot Norm'!A:B,2,FALSE)","v":1},1,"16068011",1,0,2,1,0,2,1,0,0,0]
["1608701","1608701",{"$f":"VLOOKUP(B531, 'School List'!F:G,2,FALSE)","v":"GALA Dr King Sc STEM"},"PHBAO",0,0,366,203,305,null,null,null,0,0,0,671,0,0,14,2,10,26,0,0,13,1,9,23,{"$f":"VLOOKUP(A531,'Pivot Norm'!A:B,2,FALSE)","v":1},1,"16087011",1,1,2,1,1,2,0,0,2,0]
["1609601","1609601",{"$f":"VLOOKUP(B532, 'School List'!F:G,2,FALSE)","v":"Plainview Academc CA"},"PHBAO",190,82,0,0,0,3,null,null,9,0,0,284,8,4,0,0,0,12,8,4,0,0,0,12,{"$f":"VLOOKUP(A532,'Pivot Norm'!A:B,2,FALSE)","v":1},1,"16096011",1,0,2,1,0,2,0,0,0,0]
["1611001","1611001",{"$f":"VLOOKUP(B533, 'School List'!F:G,2,FALSE)","v":"Playa Del Rey El"},"Non-PHBAO",211,83,0,0,0,null,null,null,5,0,0,299,9,3,0,0,0,12,9,3,0,0,0,12,{"$f":"VLOOKUP(A533,'Pivot Norm'!A:B,2,FALSE)","v":1},1,"16110011",1,0,2,1,0,2,0,0,0,0]
["1612301","1612301",{"$f":"VLOOKUP(B534, 'School List'!F:G,2,FALSE)","v":"Plummer El"},"PHBAO",349,276,0,0,0,42,null,null,25,19,22,733,15,11,0,0,0,26,16,11,0,0,0,27,{"$f":"VLOOKUP(A534,'Pivot Norm'!A:B,2,FALSE)","v":1},1,"16123011",1,0,2,1,0,3,0,0,0,0]
["1613701","1613701",{"$f":"VLOOKUP(B535, 'School List'!F:G,2,FALSE)","v":"Pt Fermin Mar Sci Mg"},"Magnet 1",215,113,0,0,0,null,null,null,0,0,0,328,9,4,0,0,0,13,10,4,0,0,0,14,{"$f":"VLOOKUP(A535,'Pivot Norm'!A:B,2,FALSE)","v":1},1,"16137011",1,0,2,1,0,2,0,0,0,0]
["1614001","1614001",{"$f":"VLOOKUP(B536, 'School List'!F:G,2,FALSE)","v":"Pomelo Community CS"},"Non-PHBAO",292,121,0,0,0,23,null,null,0,0,0,436,13,4,0,0,0,17,13,4,0,0,0,17,{"$f":"VLOOKUP(A536,'Pivot Norm'!A:B,2,FALSE)","v":2},1,"16140011",1,0,2,1,0,2,1,1,1,0]
["1614001","1614002",{"$f":"VLOOKUP(B537, 'School List'!F:G,2,FALSE)","v":"Pomelo Arts/Sci Mag"},"Magnet 1",71,56,0,0,0,null,null,null,0,0,0,127,3,2,0,0,0,5,3,2,0,0,0,5,{"$f":"VLOOKUP(A537,'Pivot Norm'!A:B,2,FALSE)","v":2},2,"16140012",0,0,0,0,0,0,0,0,0,0]
["1614801","1614801",{"$f":"VLOOKUP(B538, 'School List'!F:G,2,FALSE)","v":"President El"},"PHBAO",102,99,0,0,0,42,null,null,11,0,13,267,5,4,0,0,0,9,5,4,0,0,0,9,{"$f":"VLOOKUP(A538,'Pivot Norm'!A:B,2,FALSE)","v":2},1,"16148011",1,0,2,1,0,2,0,0,0,0]
["1614801","1614802",{"$f":"VLOOKUP(B539, 'School List'!F:G,2,FALSE)","v":"President Ave El DTS"},"PHBAO",167,39,0,0,0,null,null,null,0,0,0,206,7,2,0,0,0,9,6,1,0,0,0,7,{"$f":"VLOOKUP(A539,'Pivot Norm'!A:B,2,FALSE)","v":2},2,"16148012",0,0,0,0,0,0,0,0,0,0]
["1615801","1615801",{"$f":"VLOOKUP(B540, 'School List'!F:G,2,FALSE)","v":"Purche El"},"PHBAO",196,73,0,0,0,37,null,null,0,0,12,318,9,3,0,0,0,12,8,4,0,0,0,12,{"$f":"VLOOKUP(A540,'Pivot Norm'!A:B,2,FALSE)","v":2},1,"16158011",1,0,2,1,0,2,0,0,0,0]
["1615801","1615802",{"$f":"VLOOKUP(B541, 'School List'!F:G,2,FALSE)","v":"Purche STEAM Mag"},"Magnet 2",63,54,0,0,0,null,null,null,0,0,0,117,3,2,0,0,0,5,3,2,0,0,0,5,{"$f":"VLOOKUP(A541,'Pivot Norm'!A:B,2,FALSE)","v":2},2,"16158012",0,0,0,0,0,0,0,0,0,0]
["1616401","1616401",{"$f":"VLOOKUP(B542, 'School List'!F:G,2,FALSE)","v":"Queen Anne El"},"PHBAO",149,57,0,0,0,5,null,null,0,0,23,234,7,3,0,0,0,10,6,2,0,0,0,8,{"$f":"VLOOKUP(A542,'Pivot Norm'!A:B,2,FALSE)","v":2},1,"16164011",1,0,2,1,0,2,0,0,0,0]
["1616401","1616402",{"$f":"VLOOKUP(B543, 'School List'!F:G,2,FALSE)","v":"Queen Anne Pl El DTS"},"PHBAO",162,52,0,0,0,null,null,null,0,0,0,214,7,2,0,0,0,9,7,2,0,0,0,9,{"$f":"VLOOKUP(A543,'Pivot Norm'!A:B,2,FALSE)","v":2},2,"16164012",0,0,0,0,0,0,0,0,0,0]
["1617801","1617801",{"$f":"VLOOKUP(B544, 'School List'!F:G,2,FALSE)","v":"Ramona El"},"PHBAO",139,149,0,0,0,40,null,null,0,0,9,337,6,6,0,0,0,12,8,6,0,0,0,14,{"$f":"VLOOKUP(A544,'Pivot Norm'!A:B,2,FALSE)","v":1},1,"16178011",1,0,2,1,0,2,0,0,0,0]
["1617901","1617901",{"$f":"VLOOKUP(B545, 'School List'!F:G,2,FALSE)","v":"Kingsley El"},"PHBAO",83,66,0,0,0,20,null,null,0,0,0,169,4,3,0,0,0,7,4,3,0,0,0,7,{"$f":"VLOOKUP(A545,'Pivot Norm'!A:B,2,FALSE)","v":2},1,"16179011",1,0,2,1,0,2,0,0,0,0]
["1617901","1617902",{"$f":"VLOOKUP(B546, 'School List'!F:G,2,FALSE)","v":"Kingsley El DTS"},"PHBAO",100,58,0,0,0,null,null,null,0,0,0,158,5,3,0,0,0,8,5,2,0,0,0,7,{"$f":"VLOOKUP(A546,'Pivot Norm'!A:B,2,FALSE)","v":2},2,"16179012",0,0,0,0,0,0,2,0,0,0]
["1619201","1619201",{"$f":"VLOOKUP(B547, 'School List'!F:G,2,FALSE)","v":"Ranchito El"},"PHBAO",234,140,0,0,0,null,null,null,10,0,19,403,10,6,0,0,0,16,11,5,0,0,0,16,{"$f":"VLOOKUP(A547,'Pivot Norm'!A:B,2,FALSE)","v":2},1,"16192011",1,0,2,1,0,2,0,0,0,0]
["1619201","1619202",{"$f":"VLOOKUP(B548, 'School List'!F:G,2,FALSE)","v":"Ranchito Ave DTS"},"PHBAO",54,0,0,0,0,null,null,null,0,0,0,54,3,0,0,0,0,3,2,0,0,0,0,2,{"$f":"VLOOKUP(A548,'Pivot Norm'!A:B,2,FALSE)","v":2},2,"16192012",0,0,0,0,0,0,0,0,0,0]
["1621901","1621901",{"$f":"VLOOKUP(B549, 'School List'!F:G,2,FALSE)","v":"Raymond Ave El"},"PHBAO",251,141,0,0,0,22,null,null,7,0,18,439,11,6,0,0,0,17,12,7,0,0,0,19,{"$f":"VLOOKUP(A549,'Pivot Norm'!A:B,2,FALSE)","v":1},1,"16219011",1,0,2,1,0,2,1,0,0,0]
["1623301","1623301",{"$f":"VLOOKUP(B550, 'School List'!F:G,2,FALSE)","v":"Reseda El"},"PHBAO",254,126,0,0,0,12,null,null,24,0,0,416,11,5,0,0,0,16,11,5,0,0,0,16,{"$f":"VLOOKUP(A550,'Pivot Norm'!A:B,2,FALSE)","v":1},1,"16233011",1,0,2,1,0,2,1,0,1,0]
["1626001","1626001",{"$f":"VLOOKUP(B551, 'School List'!F:G,2,FALSE)","v":"Richland El"},"PHBAO",0,0,0,0,0,8,null,null,13,0,0,21,0,0,0,0,0,0,1,1,0,0,0,2,{"$f":"VLOOKUP(A551,'Pivot Norm'!A:B,2,FALSE)","v":2},1,"16260011",1,0,2,1,0,2,0,0,0,0]
["1626001","1626002",{"$f":"VLOOKUP(B552, 'School List'!F:G,2,FALSE)","v":"Richland Av El DTF"},"Non-PHBAO",213,125,0,0,0,null,null,null,0,0,0,338,9,4,0,0,0,13,9,3,0,0,0,12,{"$f":"VLOOKUP(A552,'Pivot Norm'!A:B,2,FALSE)","v":2},2,"16260012",0,0,0,0,0,0,0,0,1,0]
["1627401","1627401",{"$f":"VLOOKUP(B553, 'School List'!F:G,2,FALSE)","v":"Hamasaki El"},"PHBAO",102,59,0,0,0,22,null,null,6,19,0,208,5,3,0,0,0,8,5,4,0,0,0,9,{"$f":"VLOOKUP(A553,'Pivot Norm'!A:B,2,FALSE)","v":2},1,"16274011",1,0,2,1,0,2,1,0,0,0]
["1627401","1627402",{"$f":"VLOOKUP(B554, 'School List'!F:G,2,FALSE)","v":"Hamasaki Med/Sci Mag"},"Magnet 2",180,108,0,0,0,null,null,null,0,0,0,288,8,4,0,0,0,12,7,2,0,0,0,9,{"$f":"VLOOKUP(A554,'Pivot Norm'!A:B,2,FALSE)","v":2},2,"16274012",0,0,0,0,0,0,0,0,0,0]
["1628801","1628801",{"$f":"VLOOKUP(B555, 'School List'!F:G,2,FALSE)","v":"Rio Vista El"},"Non-PHBAO",287,104,0,0,0,3,null,null,4,0,0,398,12,4,0,0,0,16,12,4,0,0,0,16,{"$f":"VLOOKUP(A555,'Pivot Norm'!A:B,2,FALSE)","v":1},1,"16288011",1,0,2,1,0,2,0,0,0,0]
["1630101","1630101",{"$f":"VLOOKUP(B556, 'School List'!F:G,2,FALSE)","v":"Ritter El"},"PHBAO",181,109,0,0,0,null,null,null,0,0,17,307,8,5,0,0,0,13,9,4,0,0,0,13,{"$f":"VLOOKUP(A556,'Pivot Norm'!A:B,2,FALSE)","v":1},1,"16301011",1,0,2,1,0,2,1,0,1,0]
["1631501","1631501",{"$f":"VLOOKUP(B557, 'School List'!F:G,2,FALSE)","v":"Riverside Drive"},"Non-PHBAO",336,126,0,0,0,17,null,null,0,0,0,479,14,4,0,0,0,18,14,4,0,0,0,18,{"$f":"VLOOKUP(A557,'Pivot Norm'!A:B,2,FALSE)","v":1},1,"16315011",1,0,2,1,0,2,1,0,1,0]
["1632901","1632901",{"$f":"VLOOKUP(B558, 'School List'!F:G,2,FALSE)","v":"Rockdale VAPA Mag"},"Magnet 2",169,149,0,0,0,null,null,null,0,0,20,338,8,6,0,0,0,14,7,6,0,0,0,13,{"$f":"VLOOKUP(A558,'Pivot Norm'!A:B,2,FALSE)","v":1},1,"16329011",1,0,2,1,0,2,1,0,0,0]
["1634201","1634201",{"$f":"VLOOKUP(B559, 'School List'!F:G,2,FALSE)","v":"Coeur D Alene El"},"Non-PHBAO",351,148,0,0,0,null,null,null,0,0,0,499,15,5,0,0,0,20,16,5,0,0,0,21,{"$f":"VLOOKUP(A559,'Pivot Norm'!A:B,2,FALSE)","v":1},1,"16342011",1,0,2,1,0,2,1,0,0,0]
["1635601","1635601",{"$f":"VLOOKUP(B560, 'School List'!F:G,2,FALSE)","v":"Roscoe El"},"PHBAO",166,141,0,0,0,40,null,null,0,0,19,366,7,6,0,0,0,13,9,6,0,0,0,15,{"$f":"VLOOKUP(A560,'Pivot Norm'!A:B,2,FALSE)","v":2},1,"16356011",1,0,2,1,0,2,0,0,0,0]
["1635601","1635602",{"$f":"VLOOKUP(B561, 'School List'!F:G,2,FALSE)","v":"Roscoe El DTS"},"PHBAO",156,0,0,0,0,null,null,null,0,0,0,156,7,0,0,0,0,7,5,0,0,0,0,5,{"$f":"VLOOKUP(A561,'Pivot Norm'!A:B,2,FALSE)","v":2},2,"16356012",0,0,0,0,0,0,1,0,0,0]
["1636301","1636301",{"$f":"VLOOKUP(B562, 'School List'!F:G,2,FALSE)","v":"Roscomare El"},"Non-PHBAO",312,118,0,0,0,null,null,null,0,0,0,430,13,4,0,0,0,17,13,4,0,0,0,17,{"$f":"VLOOKUP(A562,'Pivot Norm'!A:B,2,FALSE)","v":1},1,"16363011",1,0,2,1,0,2,1,0,0,0]
["1637001","1637001",{"$f":"VLOOKUP(B563, 'School List'!F:G,2,FALSE)","v":"Rosemont El"},"PHBAO",77,115,0,0,0,9,null,null,16,0,0,217,4,5,0,0,0,9,5,4,0,0,0,9,{"$f":"VLOOKUP(A563,'Pivot Norm'!A:B,2,FALSE)","v":1},1,"16370011",1,0,2,1,0,2,0,0,0,0]
["1638401","1638401",{"$f":"VLOOKUP(B564, 'School List'!F:G,2,FALSE)","v":"Rosewood UP/UD Mag"},"Magnet 1",184,120,0,0,0,8,null,null,0,0,0,312,8,4,0,0,0,12,9,3,0,0,0,12,{"$f":"VLOOKUP(A564,'Pivot Norm'!A:B,2,FALSE)","v":1},1,"16384011",1,0,2,1,0,2,0,0,0,0]
["1642501","1642501",{"$f":"VLOOKUP(B565, 'School List'!F:G,2,FALSE)","v":"Rowan El"},"PHBAO",319,275,0,0,0,62,null,null,9,0,21,686,14,11,0,0,0,25,17,9,0,0,0,26,{"$f":"VLOOKUP(A565,'Pivot Norm'!A:B,2,FALSE)","v":2},1,"16425011",1,0,2,1,0,2,0,0,0,0]
["1642501","1642502",{"$f":"VLOOKUP(B566, 'School List'!F:G,2,FALSE)","v":"Rowan Ave El DTS"},"PHBAO",28,0,0,0,0,null,null,null,0,0,0,28,2,0,0,0,0,2,1,0,0,0,0,1,{"$f":"VLOOKUP(A566,'Pivot Norm'!A:B,2,FALSE)","v":2},2,"16425012",0,0,0,0,0,0,0,0,0,0]
["1642601","1642601",{"$f":"VLOOKUP(B567, 'School List'!F:G,2,FALSE)","v":"Amanecer PC"},"PHBAO",113,0,0,0,0,null,null,null,8,0,7,128,5,0,0,0,0,5,6,0,0,0,0,6,{"$f":"VLOOKUP(A567,'Pivot Norm'!A:B,2,FALSE)","v":1},1,"16426011",1,0,2,1,0,2,0,0,0,0]
["1643801","1643801",{"$f":"VLOOKUP(B568, 'School List'!F:G,2,FALSE)","v":"Russell El"},"PHBAO",346,180,0,0,0,43,null,null,17,20,36,642,15,7,0,0,0,22,17,9,0,0,0,26,{"$f":"VLOOKUP(A568,'Pivot Norm'!A:B,2,FALSE)","v":2},1,"16438011",1,0,3,1,0,3,0,0,0,0]
["1643801","1643802",{"$f":"VLOOKUP(B569, 'School List'!F:G,2,FALSE)","v":"Russell El Gifted Mg"},"Magnet 2",108,150,0,0,0,null,null,null,0,0,0,258,5,6,0,0,0,11,2,3,0,0,0,5,{"$f":"VLOOKUP(A569,'Pivot Norm'!A:B,2,FALSE)","v":2},2,"16438012",0,0,0,0,0,0,0,0,0,0]
["1645201","1645201",{"$f":"VLOOKUP(B570, 'School List'!F:G,2,FALSE)","v":"San Fernando El"},"PHBAO",186,102,0,0,0,19,null,null,22,0,11,340,8,4,0,0,0,12,8,4,0,0,0,12,{"$f":"VLOOKUP(A570,'Pivot Norm'!A:B,2,FALSE)","v":2},1,"16452011",1,0,2,1,0,2,0,0,0,0]
["1645201","1645202",{"$f":"VLOOKUP(B571, 'School List'!F:G,2,FALSE)","v":"San Fernando El DTS"},"PHBAO",172,90,0,0,0,null,null,null,0,0,0,262,8,4,0,0,0,12,7,3,0,0,0,10,{"$f":"VLOOKUP(A571,'Pivot Norm'!A:B,2,FALSE)","v":2},2,"16452012",0,0,0,0,0,0,1,0,0,0]
["1646601","1646601",{"$f":"VLOOKUP(B572, 'School List'!F:G,2,FALSE)","v":"San Gabriel El"},"PHBAO",235,165,0,0,0,33,null,null,0,0,23,456,10,7,0,0,0,17,12,7,0,0,0,19,{"$f":"VLOOKUP(A572,'Pivot Norm'!A:B,2,FALSE)","v":2},1,"16466011",1,0,2,1,0,2,0,0,0,0]
["1646601","1646602",{"$f":"VLOOKUP(B573, 'School List'!F:G,2,FALSE)","v":"San Gabriel DTS"},"PHBAO",92,0,0,0,0,null,null,null,0,0,0,92,4,0,0,0,0,4,3,0,0,0,0,3,{"$f":"VLOOKUP(A573,'Pivot Norm'!A:B,2,FALSE)","v":2},2,"16466012",0,0,0,0,0,0,0,0,0,0]
["1647901","1647901",{"$f":"VLOOKUP(B574, 'School List'!F:G,2,FALSE)","v":"San Jose El"},"PHBAO",407,199,0,0,0,null,null,null,7,0,24,637,17,8,0,0,0,25,16,8,0,0,0,24,{"$f":"VLOOKUP(A574,'Pivot Norm'!A:B,2,FALSE)","v":2},1,"16479011",1,0,2,1,0,2,1,0,0,0]
["1647901","1647902",{"$f":"VLOOKUP(B575, 'School List'!F:G,2,FALSE)","v":"San Jose Hg Mag"},"Magnet 2",10,45,0,0,0,null,null,null,0,0,0,55,1,2,0,0,0,3,1,2,0,0,0,3,{"$f":"VLOOKUP(A575,'Pivot Norm'!A:B,2,FALSE)","v":2},2,"16479012",0,0,0,0,0,0,0,0,0,0]
["1649301","1649301",{"$f":"VLOOKUP(B576, 'School List'!F:G,2,FALSE)","v":"San Pascual STEAM Mg"},"Magnet 2",184,95,0,0,0,null,null,null,0,0,7,286,8,4,0,0,0,12,8,4,0,0,0,12,{"$f":"VLOOKUP(A576,'Pivot Norm'!A:B,2,FALSE)","v":1},1,"16493011",1,0,2,1,0,2,0,0,0,0]
["1650101","1650101",{"$f":"VLOOKUP(B577, 'School List'!F:G,2,FALSE)","v":"San Fernando MS IAM"},"PHBAO",0,0,354,0,0,null,17,null,0,0,0,371,0,0,14,0,0,14,0,0,14,0,0,14,{"$f":"VLOOKUP(A577,'Pivot Norm'!A:B,2,FALSE)","v":1},1,"16501011",1,0.5,2,1,1,2,0,0,1,0]
["1650701","1650701",{"$f":"VLOOKUP(B578, 'School List'!F:G,2,FALSE)","v":"San Pedro El"},"PHBAO",274,177,0,0,0,26,null,null,11,4,13,505,12,7,0,0,0,19,13,8,0,0,0,21,{"$f":"VLOOKUP(A578,'Pivot Norm'!A:B,2,FALSE)","v":1},1,"16507011",1,0,2,1,0,2,1,0,0,0]
["1653401","1653401",{"$f":"VLOOKUP(B579, 'School List'!F:G,2,FALSE)","v":"King Jr El"},"PHBAO",181,109,0,0,0,23,null,null,4,0,8,325,8,5,0,0,0,13,9,5,0,0,0,14,{"$f":"VLOOKUP(A579,'Pivot Norm'!A:B,2,FALSE)","v":2},1,"16534011",1,0,2,1,0,2,0,0,0,0]
["1653401","1653402",{"$f":"VLOOKUP(B580, 'School List'!F:G,2,FALSE)","v":"King Jr El DTS"},"PHBAO",65,0,0,0,0,null,null,null,0,0,0,65,3,0,0,0,0,3,2,0,0,0,0,2,{"$f":"VLOOKUP(A580,'Pivot Norm'!A:B,2,FALSE)","v":2},2,"16534012",0,0,0,0,0,0,0,0,0,0]
["1654901","1654901",{"$f":"VLOOKUP(B581, 'School List'!F:G,2,FALSE)","v":"Hollywood ES"},"PHBAO",114,52,0,0,0,24,null,null,11,0,8,209,5,2,0,0,0,7,5,2,0,0,0,7,{"$f":"VLOOKUP(A581,'Pivot Norm'!A:B,2,FALSE)","v":1},1,{"$f":"A581&AD581","v":"16549011"},1,0,2,1,0,2,0,0,0,0]
["1656501","1656501",{"$f":"VLOOKUP(B582, 'School List'!F:G,2,FALSE)","v":"Saticoy El"},"Non-PHBAO",187,112,0,0,0,30,null,null,9,13,0,351,8,4,0,0,0,12,9,5,0,0,0,14,{"$f":"VLOOKUP(A582,'Pivot Norm'!A:B,2,FALSE)","v":2},1,"16565011",1,0,2,1,0,2,1,0,0,0]
["1656501","1656502",{"$f":"VLOOKUP(B583, 'School List'!F:G,2,FALSE)","v":"Saticoy El DTR"},"Non-PHBAO",156,22,0,0,0,null,null,null,0,0,0,178,7,1,0,0,0,8,6,0,0,0,0,6,{"$f":"VLOOKUP(A583,'Pivot Norm'!A:B,2,FALSE)","v":2},{"$f":"IF(A583=A582,AD582+1,1)","v":2},"16565012",0,0,0,0,0,0,1,0,0,0]
["1657501","1657501",{"$f":"VLOOKUP(B584, 'School List'!F:G,2,FALSE)","v":"2nd St El"},"PHBAO",118,69,0,0,0,8,null,null,0,0,6,201,5,3,0,0,0,8,4,4,0,0,0,8,{"$f":"VLOOKUP(A584,'Pivot Norm'!A:B,2,FALSE)","v":2},1,"16575011",1,0,2,1,0,2,0,0,0,0]
["1657501","1657502",{"$f":"VLOOKUP(B585, 'School List'!F:G,2,FALSE)","v":"2nd St El DTS"},"PHBAO",33,12,0,0,0,null,null,null,0,0,0,45,2,1,0,0,0,3,2,0,0,0,0,2,{"$f":"VLOOKUP(A585,'Pivot Norm'!A:B,2,FALSE)","v":2},2,"16575012",0,0,0,0,0,0,1,0,0,0]
["1658901","1658901",{"$f":"VLOOKUP(B586, 'School List'!F:G,2,FALSE)","v":"Selma El"},"PHBAO",37,20,0,0,0,2,null,null,0,0,0,59,2,1,0,0,0,3,2,2,0,0,0,4,{"$f":"VLOOKUP(A586,'Pivot Norm'!A:B,2,FALSE)","v":1},1,"16589011",1,0,2,1,0,2,1,0,0,0]
["1660601","1660601",{"$f":"VLOOKUP(B587, 'School List'!F:G,2,FALSE)","v":"Serrania CES"},"Non-PHBAO",400,163,0,0,0,28,null,null,9,0,0,600,17,5,0,0,0,22,17,5,0,0,0,22,{"$f":"VLOOKUP(A587,'Pivot Norm'!A:B,2,FALSE)","v":1},1,"16606011",1,0,2,1,0,2,2,0,0,0]
["1661601","1661601",{"$f":"VLOOKUP(B588, 'School List'!F:G,2,FALSE)","v":"7th St El"},"Magnet 2",209,104,0,0,0,31,null,null,4,0,18,366,9,4,0,0,0,13,9,4,0,0,0,13,{"$f":"VLOOKUP(A588,'Pivot Norm'!A:B,2,FALSE)","v":1},1,"16616011",1,0,2,1,0,2,0,0,0,0]
["1663001","1663001",{"$f":"VLOOKUP(B589, 'School List'!F:G,2,FALSE)","v":"75th St El"},"PHBAO",358,203,0,0,0,69,null,null,0,0,31,661,15,8,0,0,0,23,14,9,0,0,0,23,{"$f":"VLOOKUP(A589,'Pivot Norm'!A:B,2,FALSE)","v":2},1,"16630011",2,0,3,1,0,3,0,0,0,0]
["1663001","1663002",{"$f":"VLOOKUP(B590, 'School List'!F:G,2,FALSE)","v":"75th St El DTS"},"PHBAO",186,159,0,0,0,null,null,null,0,0,0,345,8,6,0,0,0,14,9,6,0,0,0,15,{"$f":"VLOOKUP(A590,'Pivot Norm'!A:B,2,FALSE)","v":2},2,"16630012",0,0,0,0,0,0,0,0,0,0]
["1664401","1664401",{"$f":"VLOOKUP(B591, 'School List'!F:G,2,FALSE)","v":"74th St El"},"PHBAO",177,57,0,0,0,null,null,null,17,0,13,264,8,3,0,0,0,11,8,3,0,0,0,11,{"$f":"VLOOKUP(A591,'Pivot Norm'!A:B,2,FALSE)","v":2},1,"16644011",1,0,2,1,0,2,0,0,0,0]
["1664401","1664402",{"$f":"VLOOKUP(B592, 'School List'!F:G,2,FALSE)","v":"74th St El Gifted Mg"},"Magnet 2",74,87,0,0,0,null,null,null,0,0,0,161,4,4,0,0,0,8,4,4,0,0,0,8,{"$f":"VLOOKUP(A592,'Pivot Norm'!A:B,2,FALSE)","v":2},2,"16644012",0,0,0,0,0,0,0,0,0,0]
["1665801","1665801",{"$f":"VLOOKUP(B593, 'School List'!F:G,2,FALSE)","v":"Mc Kinley El"},"PHBAO",304,283,0,0,0,52,null,null,0,0,0,639,13,11,0,0,0,24,15,11,0,0,0,26,{"$f":"VLOOKUP(A593,'Pivot Norm'!A:B,2,FALSE)","v":1},1,"16658011",1,0,2,1,0,2,0,0,0,0]
["1666501","1666501",{"$f":"VLOOKUP(B594, 'School List'!F:G,2,FALSE)","v":"Sharp El"},"PHBAO",284,164,0,0,0,25,null,null,22,0,19,514,12,7,0,0,0,19,13,7,0,0,0,20,{"$f":"VLOOKUP(A594,'Pivot Norm'!A:B,2,FALSE)","v":1},1,"16665011",1,0,2,1,0,2,1,1,0,0]
["1667101","1667101",{"$f":"VLOOKUP(B595, 'School List'!F:G,2,FALSE)","v":"Shenandoah El"},"PHBAO",217,123,0,0,0,4,null,null,0,0,11,355,10,5,0,0,0,15,10,5,0,0,0,15,{"$f":"VLOOKUP(A595,'Pivot Norm'!A:B,2,FALSE)","v":1},1,"16671011",1,0,2,1,0,2,0,0,0,0]
["1668501","1668501",{"$f":"VLOOKUP(B596, 'School List'!F:G,2,FALSE)","v":"Sheridan St El"},"PHBAO",241,225,0,0,0,46,null,null,21,9,22,564,11,9,0,0,0,20,11,10,0,0,0,21,{"$f":"VLOOKUP(A596,'Pivot Norm'!A:B,2,FALSE)","v":2},1,"16685011",1,0,2,1,0,2,0,0,0,0]
["1668501","1668502",{"$f":"VLOOKUP(B597, 'School List'!F:G,2,FALSE)","v":"Sheridan El DTS"},"PHBAO",96,0,0,0,0,null,null,null,0,0,0,96,4,0,0,0,0,4,4,0,0,0,0,4,{"$f":"VLOOKUP(A597,'Pivot Norm'!A:B,2,FALSE)","v":2},2,"16685012",0,0,0,0,0,0,0,0,0,0]
["1669901","1669901",{"$f":"VLOOKUP(B598, 'School List'!F:G,2,FALSE)","v":"Sherman Oaks El CS"},"Non-PHBAO",410,172,0,0,0,25,null,null,8,0,0,615,18,6,0,0,0,24,18,7,0,0,0,25,{"$f":"VLOOKUP(A598,'Pivot Norm'!A:B,2,FALSE)","v":1},1,"16699011",1,0,2,1,0,2,1,1,0,0]
["1671201","1671201",{"$f":"VLOOKUP(B599, 'School List'!F:G,2,FALSE)","v":"Shirley El"},"PHBAO",276,112,0,0,0,24,null,null,18,0,19,449,12,5,0,0,0,17,11,5,0,0,0,16,{"$f":"VLOOKUP(A599,'Pivot Norm'!A:B,2,FALSE)","v":1},1,"16712011",1,0,2,1,0,2,0,0,0,0]
["1674001","1674001",{"$f":"VLOOKUP(B600, 'School List'!F:G,2,FALSE)","v":"Short El"},"Non-PHBAO",261,86,0,0,0,null,null,null,22,0,0,369,11,3,0,0,0,14,11,3,0,0,0,14,{"$f":"VLOOKUP(A600,'Pivot Norm'!A:B,2,FALSE)","v":1},1,"16740011",1,0,2,1,0,2,0,0,0,0]
["1675301","1675301",{"$f":"VLOOKUP(B601, 'School List'!F:G,2,FALSE)","v":"Sierra Park El"},"PHBAO",170,132,0,0,0,36,null,null,12,17,0,367,8,5,0,0,0,13,8,5,0,0,0,13,{"$f":"VLOOKUP(A601,'Pivot Norm'!A:B,2,FALSE)","v":1},1,"16753011",1,0,2,1,0,2,0,0,0,0]
["1676701","1676701",{"$f":"VLOOKUP(B602, 'School List'!F:G,2,FALSE)","v":"Sierra Vista El"},"PHBAO",113,68,0,0,0,null,null,null,0,0,8,189,5,3,0,0,0,8,5,3,0,0,0,8,{"$f":"VLOOKUP(A602,'Pivot Norm'!A:B,2,FALSE)","v":1},1,"16767011",1,0,2,1,0,2,0,0,0,0]
["1678101","1678101",{"$f":"VLOOKUP(B603, 'School List'!F:G,2,FALSE)","v":"6th Ave El"},"PHBAO",154,110,0,0,0,12,null,null,24,0,8,308,7,5,0,0,0,12,8,6,0,0,0,14,{"$f":"VLOOKUP(A603,'Pivot Norm'!A:B,2,FALSE)","v":2},1,"16781011",1,0,2,1,0,2,0,0,0,0]
["1678101","1678102",{"$f":"VLOOKUP(B604, 'School List'!F:G,2,FALSE)","v":"6th Ave El DTS"},"PHBAO",56,21,0,0,0,null,null,null,0,0,0,77,3,1,0,0,0,4,3,0,0,0,0,3,{"$f":"VLOOKUP(A604,'Pivot Norm'!A:B,2,FALSE)","v":2},2,"16781012",0,0,0,0,0,0,1,0,0,0]
["1679501","1679501",{"$f":"VLOOKUP(B605, 'School List'!F:G,2,FALSE)","v":"G. Garcetti Lrng Aca"},"PHBAO",329,261,0,0,0,45,null,null,11,0,18,664,14,10,0,0,0,24,13,11,0,0,0,24,{"$f":"VLOOKUP(A605,'Pivot Norm'!A:B,2,FALSE)","v":1},1,"16795011",1,0,2,1,0,2,1,0,0,0]
["1680801","1680801",{"$f":"VLOOKUP(B606, 'School List'!F:G,2,FALSE)","v":"61st St El"},"PHBAO",255,228,0,0,0,48,null,null,42,4,25,602,11,9,0,0,0,20,11,9,0,0,0,20,{"$f":"VLOOKUP(A606,'Pivot Norm'!A:B,2,FALSE)","v":2},1,"16808011",1,0,2,1,0,2,1,0,0,0]
["1680801","1680802",{"$f":"VLOOKUP(B607, 'School List'!F:G,2,FALSE)","v":"61st St El DTS"},"PHBAO",92,0,0,0,0,null,null,null,0,0,0,92,4,0,0,0,0,4,4,0,0,0,0,4,{"$f":"VLOOKUP(A607,'Pivot Norm'!A:B,2,FALSE)","v":2},2,"16808012",0,0,0,0,0,0,0,0,0,0]
["1682201","1682201",{"$f":"VLOOKUP(B608, 'School List'!F:G,2,FALSE)","v":"66th St El"},"PHBAO",398,299,0,0,0,28,null,null,0,0,21,746,17,12,0,0,0,29,18,12,0,0,0,30,{"$f":"VLOOKUP(A608,'Pivot Norm'!A:B,2,FALSE)","v":1},1,"16822011",1,0,2,1,0,3,1,0,0,0]
["1683601","1683601",{"$f":"VLOOKUP(B609, 'School List'!F:G,2,FALSE)","v":"Solano El"},"PHBAO",128,92,0,0,0,null,null,null,0,0,0,220,6,4,0,0,0,10,5,4,0,0,0,9,{"$f":"VLOOKUP(A609,'Pivot Norm'!A:B,2,FALSE)","v":1},1,"16836011",1,0,2,1,0,2,1,0,0,0]
["1684901","1684901",{"$f":"VLOOKUP(B610, 'School List'!F:G,2,FALSE)","v":"Soto El"},"PHBAO",81,68,0,0,0,46,null,null,12,0,0,207,4,3,0,0,0,7,4,3,0,0,0,7,{"$f":"VLOOKUP(A610,'Pivot Norm'!A:B,2,FALSE)","v":1},1,"16849011",1,0,2,1,0,2,1,0,0,0]
["1686301","1686301",{"$f":"VLOOKUP(B611, 'School List'!F:G,2,FALSE)","v":"South Park El"},"PHBAO",452,366,0,0,0,39,null,null,9,0,24,890,19,14,0,0,0,33,20,13,0,0,0,33,{"$f":"VLOOKUP(A611,'Pivot Norm'!A:B,2,FALSE)","v":2},1,"16863011",1,0,3,1,0,3,1,0,0,0]
["1686301","1686302",{"$f":"VLOOKUP(B612, 'School List'!F:G,2,FALSE)","v":"South Park El DTS"},"PHBAO",78,0,0,0,0,null,null,null,0,0,0,78,4,0,0,0,0,4,3,0,0,0,0,3,{"$f":"VLOOKUP(A612,'Pivot Norm'!A:B,2,FALSE)","v":2},2,"16863012",0,0,0,0,0,0,0,0,0,0]
["1686701","1686701",{"$f":"VLOOKUP(B613, 'School List'!F:G,2,FALSE)","v":"Bridges School"},"PHBAO",541,256,396,0,0,null,8,null,0,0,0,1201,23,10,15,0,0,48,24,9,15,0,0,48,{"$f":"VLOOKUP(A613,'Pivot Norm'!A:B,2,FALSE)","v":1},1,"16867011",2,1,4,2,1,3,0,0,0,0]
["1686801","1686801",{"$f":"VLOOKUP(B614, 'School List'!F:G,2,FALSE)","v":"Obama Glbl Prep Acad"},"PHBAO",0,0,295,134,134,null,48,5,0,0,0,482,0,0,12,1,5,18,0,0,11,1,2,14,{"$f":"VLOOKUP(A614,'Pivot Norm'!A:B,2,FALSE)","v":2},1,"16868011",1,1,2,1,1,2,0,0,0,0]
["1686801","1686802",{"$f":"VLOOKUP(B615, 'School List'!F:G,2,FALSE)","v":"Obama GPA STEAM Mag"},"Magnet 2",0,0,78,0,0,null,null,null,0,0,0,78,0,0,4,0,0,4,0,0,2,0,0,2,{"$f":"VLOOKUP(A615,'Pivot Norm'!A:B,2,FALSE)","v":2},2,"16868012",0,0,0,0,0,0,1,0,0,0]
["1686901","1686901",{"$f":"VLOOKUP(B616, 'School List'!F:G,2,FALSE)","v":"Knox El"},"PHBAO",226,197,0,0,0,45,null,null,0,0,0,468,10,8,0,0,0,18,11,8,0,0,0,19,{"$f":"VLOOKUP(A616,'Pivot Norm'!A:B,2,FALSE)","v":3},1,"16869011",1,0,2,1,0,2,1,0,0,0]
["1686901","1686902",{"$f":"VLOOKUP(B617, 'School List'!F:G,2,FALSE)","v":"Knox El DTS"},"PHBAO",79,0,0,0,0,null,null,null,0,0,0,79,4,0,0,0,0,4,3,0,0,0,0,3,{"$f":"VLOOKUP(A617,'Pivot Norm'!A:B,2,FALSE)","v":3},2,"16869012",0,0,0,0,0,0,0,0,0,0]
["1686901","1686903",{"$f":"VLOOKUP(B618, 'School List'!F:G,2,FALSE)","v":"Knox VAPA Mag"},"Magnet 2",92,54,0,0,0,null,null,null,0,0,0,146,4,2,0,0,0,6,4,3,0,0,0,7,{"$f":"VLOOKUP(A618,'Pivot Norm'!A:B,2,FALSE)","v":3},3,"16869013",0,0,0,0,0,0,0,0,0,0]
["1687001","1687001",{"$f":"VLOOKUP(B619, 'School List'!F:G,2,FALSE)","v":"S Shores Per Arts Mg"},"Magnet 1",272,179,0,0,0,null,null,null,0,0,0,451,12,6,0,0,0,18,12,6,0,0,0,18,{"$f":"VLOOKUP(A619,'Pivot Norm'!A:B,2,FALSE)","v":1},1,"16870011",1,0,2,1,0,2,0,0,0,0]
["1687201","1687201",{"$f":"VLOOKUP(B620, 'School List'!F:G,2,FALSE)","v":"Wisdom El"},"PHBAO",387,310,0,0,0,24,null,null,0,19,0,740,17,12,0,0,0,29,18,12,0,0,0,30,{"$f":"VLOOKUP(A620,'Pivot Norm'!A:B,2,FALSE)","v":1},1,"16872011",1,0,2,1,0,3,1,0,0,0]
["1687301","1687301",{"$f":"VLOOKUP(B621, 'School List'!F:G,2,FALSE)","v":"Escalante El"},"PHBAO",309,189,0,0,0,34,null,null,0,0,0,532,13,7,0,0,0,20,13,7,0,0,0,20,{"$f":"VLOOKUP(A621,'Pivot Norm'!A:B,2,FALSE)","v":1},1,"16873011",1,0,2,1,0,2,1,0,0,0]
["1687501","1687501",{"$f":"VLOOKUP(B622, 'School List'!F:G,2,FALSE)","v":"San Miguel El"},"PHBAO",205,131,0,0,0,48,null,null,7,17,22,430,9,5,0,0,0,14,11,6,0,0,0,17,{"$f":"VLOOKUP(A622,'Pivot Norm'!A:B,2,FALSE)","v":4},1,"16875011",1,0,3,1,0,3,1,0,0,0]
["1687501","1687502",{"$f":"VLOOKUP(B623, 'School List'!F:G,2,FALSE)","v":"San Miguel STEM Mag"},"Magnet 2",125,98,0,0,0,null,null,null,0,0,0,223,6,4,0,0,0,10,5,4,0,0,0,9,{"$f":"VLOOKUP(A623,'Pivot Norm'!A:B,2,FALSE)","v":4},2,"16875012",0,0,0,0,0,0,0,0,0,0]
["1687501","1687503",{"$f":"VLOOKUP(B624, 'School List'!F:G,2,FALSE)","v":"San Miguel El DTS"},"PHBAO",152,0,0,0,0,null,null,null,0,0,0,152,7,0,0,0,0,7,5,0,0,0,0,5,{"$f":"VLOOKUP(A624,'Pivot Norm'!A:B,2,FALSE)","v":4},3,"16875013",0,0,0,0,0,0,1,1,0,0]
["1687501","1687504",{"$f":"VLOOKUP(B625, 'School List'!F:G,2,FALSE)","v":"San Miguel El Dwm"},"PHBAO",30,0,0,0,0,null,null,null,0,0,0,30,2,0,0,0,0,2,1,0,0,0,0,1,{"$f":"VLOOKUP(A625,'Pivot Norm'!A:B,2,FALSE)","v":4},4,"16875014",0,0,0,0,0,0,1,0,0,0]
["1687801","1687801",{"$f":"VLOOKUP(B626, 'School List'!F:G,2,FALSE)","v":"Montara Ave El"},"PHBAO",124,111,0,0,0,35,null,null,18,0,20,308,6,5,0,0,0,11,7,4,0,0,0,11,{"$f":"VLOOKUP(A626,'Pivot Norm'!A:B,2,FALSE)","v":3},1,"16878011",1,0,2,1,0,2,0,0,0,0]
["1687801","1687802",{"$f":"VLOOKUP(B627, 'School List'!F:G,2,FALSE)","v":"Montara El STEM Mag"},"Magnet 2",86,64,0,0,0,null,null,null,0,0,0,150,4,3,0,0,0,7,4,3,0,0,0,7,{"$f":"VLOOKUP(A627,'Pivot Norm'!A:B,2,FALSE)","v":3},2,"16878012",0,0,0,0,0,0,0,0,0,0]
["1687801","1687803",{"$f":"VLOOKUP(B628, 'School List'!F:G,2,FALSE)","v":"Montara Ave El DTS"},"PHBAO",156,110,0,0,0,null,null,null,0,0,0,266,7,5,0,0,0,12,7,4,0,0,0,11,{"$f":"VLOOKUP(A628,'Pivot Norm'!A:B,2,FALSE)","v":3},3,"16878013",0,0,0,0,0,0,0,0,0,0]
["1688001","1688001",{"$f":"VLOOKUP(B629, 'School List'!F:G,2,FALSE)","v":"Independence El"},"PHBAO",168,119,0,0,0,33,null,null,0,0,11,331,7,5,0,0,0,12,9,6,0,0,0,15,{"$f":"VLOOKUP(A629,'Pivot Norm'!A:B,2,FALSE)","v":3},1,"16880011",1,0,2,1,0,2,1,0,0,0]
["1688001","1688002",{"$f":"VLOOKUP(B630, 'School List'!F:G,2,FALSE)","v":"Independence STEM Mg"},"Magnet 2",65,50,0,0,0,null,null,null,0,0,0,115,3,2,0,0,0,5,3,2,0,0,0,5,{"$f":"VLOOKUP(A630,'Pivot Norm'!A:B,2,FALSE)","v":3},2,"16880012",0,0,0,0,0,0,0,0,0,0]
["1688001","1688003",{"$f":"VLOOKUP(B631, 'School List'!F:G,2,FALSE)","v":"Independence DTS"},"PHBAO",53,0,0,0,0,null,null,null,0,0,0,53,3,0,0,0,0,3,2,0,0,0,0,2,{"$f":"VLOOKUP(A631,'Pivot Norm'!A:B,2,FALSE)","v":3},3,"16880013",0,0,0,0,0,0,1,0,0,0]
["1688401","1688401",{"$f":"VLOOKUP(B632, 'School List'!F:G,2,FALSE)","v":"Roybal-Allard El"},"PHBAO",101,63,0,0,0,20,null,null,7,0,13,204,5,3,0,0,0,8,5,3,0,0,0,8,{"$f":"VLOOKUP(A632,'Pivot Norm'!A:B,2,FALSE)","v":3},1,"16884011",1,0,2,1,0,2,0,0,0,0]
["1688401","1688402",{"$f":"VLOOKUP(B633, 'School List'!F:G,2,FALSE)","v":"Roybal-Allard El DTS"},"PHBAO",142,78,0,0,0,null,null,null,0,0,0,220,6,3,0,0,0,9,6,3,0,0,0,9,{"$f":"VLOOKUP(A633,'Pivot Norm'!A:B,2,FALSE)","v":3},2,"16884012",0,0,0,0,0,0,1,0,0,0]
["1688401","1688403",{"$f":"VLOOKUP(B634, 'School List'!F:G,2,FALSE)","v":"Rybl-Allrd DREAMS Mg"},"Magnet 2",52,46,0,0,0,null,null,null,0,0,0,98,3,2,0,0,0,5,3,2,0,0,0,5,{"$f":"VLOOKUP(A634,'Pivot Norm'!A:B,2,FALSE)","v":3},3,"16884013",0,0,0,0,0,0,0,0,0,0]
["1688601","1688601",{"$f":"VLOOKUP(B635, 'School List'!F:G,2,FALSE)","v":"BACA Arts Acad"},"PHBAO",175,148,0,0,0,30,null,null,7,0,15,375,8,6,0,0,0,14,8,6,0,0,0,14,{"$f":"VLOOKUP(A635,'Pivot Norm'!A:B,2,FALSE)","v":2},1,"16886011",1,0,2,1,0,2,0,0,0,0]
["1688601","1688602",{"$f":"VLOOKUP(B636, 'School List'!F:G,2,FALSE)","v":"Baca Arts Aca DTS"},"PHBAO",147,106,0,0,0,null,null,null,0,0,0,253,7,4,0,0,0,11,7,4,0,0,0,11,{"$f":"VLOOKUP(A636,'Pivot Norm'!A:B,2,FALSE)","v":2},2,"16886012",0,0,0,0,0,0,0,0,0,0]
["1689001","1689001",{"$f":"VLOOKUP(B637, 'School List'!F:G,2,FALSE)","v":"Stagg El"},"PHBAO",312,108,0,0,0,22,null,null,8,20,17,487,13,4,0,0,0,17,13,4,0,0,0,17,{"$f":"VLOOKUP(A637,'Pivot Norm'!A:B,2,FALSE)","v":1},1,"16890011",1,0,2,1,0,2,0,0,0,0]
["1690401","1690401",{"$f":"VLOOKUP(B638, 'School List'!F:G,2,FALSE)","v":"Stanford El"},"PHBAO",184,193,0,0,0,12,null,null,0,0,0,389,8,8,0,0,0,16,11,8,0,0,0,19,{"$f":"VLOOKUP(A638,'Pivot Norm'!A:B,2,FALSE)","v":2},1,"16904011",1,0,2,1,0,2,0,1,0,0]
["1690401","1690402",{"$f":"VLOOKUP(B639, 'School List'!F:G,2,FALSE)","v":"Stanford Ave El DTS"},"PHBAO",30,0,0,0,0,null,null,null,0,0,0,30,2,0,0,0,0,2,1,0,0,0,0,1,{"$f":"VLOOKUP(A639,'Pivot Norm'!A:B,2,FALSE)","v":2},2,"16904012",0,0,0,0,0,0,0,0,0,0]
["1690501","1690501",{"$f":"VLOOKUP(B640, 'School List'!F:G,2,FALSE)","v":"Stanford PC"},"PHBAO",83,0,0,0,0,null,null,null,25,18,19,145,4,0,0,0,0,4,4,0,0,0,0,4,{"$f":"VLOOKUP(A640,'Pivot Norm'!A:B,2,FALSE)","v":2},1,"16905011",1,0,2,1,0,2,1,0,0,0]
["1690501","1690502",{"$f":"VLOOKUP(B641, 'School List'!F:G,2,FALSE)","v":"Stanford PC DTS"},"PHBAO",20,0,0,0,0,null,null,null,0,0,0,20,1,0,0,0,0,1,1,0,0,0,0,1,{"$f":"VLOOKUP(A641,'Pivot Norm'!A:B,2,FALSE)","v":2},2,"16905012",0,0,0,0,0,0,0,0,0,0]
["1691801","1691801",{"$f":"VLOOKUP(B642, 'School List'!F:G,2,FALSE)","v":"State El"},"PHBAO",180,140,0,0,0,48,null,null,0,0,21,389,8,6,0,0,0,14,9,6,0,0,0,15,{"$f":"VLOOKUP(A642,'Pivot Norm'!A:B,2,FALSE)","v":2},1,"16918011",1,0,2,1,0,2,0,0,0,0]
["1691801","1691802",{"$f":"VLOOKUP(B643, 'School List'!F:G,2,FALSE)","v":"State St El DTS"},"PHBAO",74,0,0,0,0,null,null,null,0,0,0,74,4,0,0,0,0,4,3,0,0,0,0,3,{"$f":"VLOOKUP(A643,'Pivot Norm'!A:B,2,FALSE)","v":2},2,"16918012",0,0,0,0,0,0,0,0,0,0]
["1692001","1692001",{"$f":"VLOOKUP(B644, 'School List'!F:G,2,FALSE)","v":"Hope El"},"PHBAO",293,150,0,0,0,43,null,null,0,0,20,506,13,6,0,0,0,19,12,6,0,0,0,18,{"$f":"VLOOKUP(A644,'Pivot Norm'!A:B,2,FALSE)","v":1},1,"16920011",1,0,2,1,0,2,1,0,0,0]
["1693201","1693201",{"$f":"VLOOKUP(B645, 'School List'!F:G,2,FALSE)","v":"Sterry El"},"PHBAO",138,66,0,0,0,14,null,null,0,0,13,231,6,3,0,0,0,9,6,3,0,0,0,9,{"$f":"VLOOKUP(A645,'Pivot Norm'!A:B,2,FALSE)","v":1},1,{"$f":"A645&AD645","v":"16932011"},1,0,2,1,0,2,1,0,0,0]
["1694501","1694501",{"$f":"VLOOKUP(B646, 'School List'!F:G,2,FALSE)","v":"Stonehurst STEAM Mag"},"Magnet 2",174,97,0,0,0,21,null,null,3,16,0,311,8,4,0,0,0,12,8,4,0,0,0,12,{"$f":"VLOOKUP(A646,'Pivot Norm'!A:B,2,FALSE)","v":1},1,"16945011",1,0,2,1,0,2,0,0,0,0]
["1695201","1695201",{"$f":"VLOOKUP(B647, 'School List'!F:G,2,FALSE)","v":"Stoner El"},"PHBAO",103,49,0,0,0,27,null,null,0,19,0,198,5,2,0,0,0,7,4,3,0,0,0,7,{"$f":"VLOOKUP(A647,'Pivot Norm'!A:B,2,FALSE)","v":2},{"$f":"IF(A647=A646,AD646+1,1)","v":1},"16952011",1,0,2,1,0,2,0,0,0,0]
["1695201","1695202",{"$f":"VLOOKUP(B648, 'School List'!F:G,2,FALSE)","v":"Stoner Ave El DOS"},"PHBAO",93,40,0,0,0,null,null,null,0,0,0,133,4,2,0,0,0,6,4,1,0,0,0,5,{"$f":"VLOOKUP(A648,'Pivot Norm'!A:B,2,FALSE)","v":2},2,"16952012",0,0,0,0,0,0,1,0,1,0]
["1695901","1695901",{"$f":"VLOOKUP(B649, 'School List'!F:G,2,FALSE)","v":"Strathern El"},"PHBAO",331,148,0,0,0,23,null,null,15,20,16,553,14,6,0,0,0,20,13,6,0,0,0,19,{"$f":"VLOOKUP(A649,'Pivot Norm'!A:B,2,FALSE)","v":1},1,"16959011",1,0,2,1,0,2,1,0,0,0]
["1697301","1697301",{"$f":"VLOOKUP(B650, 'School List'!F:G,2,FALSE)","v":"Sunland El"},"PHBAO",177,71,0,0,0,22,null,null,14,17,0,301,8,3,0,0,0,11,7,3,0,0,0,10,{"$f":"VLOOKUP(A650,'Pivot Norm'!A:B,2,FALSE)","v":2},1,"16973011",1,0,2,1,0,2,1,0,0,0]
["1697301","1697302",{"$f":"VLOOKUP(B651, 'School List'!F:G,2,FALSE)","v":"Sunland El Gifted Mg"},"Magnet 1",35,51,0,0,0,null,null,null,0,0,0,86,2,2,0,0,0,4,2,2,0,0,0,4,{"$f":"VLOOKUP(A651,'Pivot Norm'!A:B,2,FALSE)","v":2},2,"16973012",0,0,0,0,0,0,0,0,0,0]
["1698601","1698601",{"$f":"VLOOKUP(B652, 'School List'!F:G,2,FALSE)","v":"Sunny Brae El"},"PHBAO",180,76,0,0,0,44,null,null,20,37,21,378,8,3,0,0,0,11,8,3,0,0,0,11,{"$f":"VLOOKUP(A652,'Pivot Norm'!A:B,2,FALSE)","v":3},1,"16986011",1,0,2,1,0,2,1,0,0,0]
["1698601","1698602",{"$f":"VLOOKUP(B653, 'School List'!F:G,2,FALSE)","v":"Sunny Brae GA Mag"},"Magnet 2",88,48,0,0,0,null,null,null,0,0,0,136,4,2,0,0,0,6,4,2,0,0,0,6,{"$f":"VLOOKUP(A653,'Pivot Norm'!A:B,2,FALSE)","v":3},2,"16986012",0,0,0,0,0,0,0,0,0,0]
["1698601","1698603",{"$f":"VLOOKUP(B654, 'School List'!F:G,2,FALSE)","v":"Sunny Brae El DTS"},"PHBAO",61,0,0,0,0,null,null,null,0,0,0,61,3,0,0,0,0,3,2,0,0,0,0,2,{"$f":"VLOOKUP(A654,'Pivot Norm'!A:B,2,FALSE)","v":3},3,"16986013",0,0,0,0,0,0,0,0,0,0]
["1698801","1698801",{"$f":"VLOOKUP(B655, 'School List'!F:G,2,FALSE)","v":"Sunrise El"},"PHBAO",95,104,0,0,0,37,null,null,17,0,10,263,4,4,0,0,0,8,4,5,0,0,0,9,{"$f":"VLOOKUP(A655,'Pivot Norm'!A:B,2,FALSE)","v":2},1,"16988011",1,0,2,1,0,2,0,0,0,0]
["1698801","1698802",{"$f":"VLOOKUP(B656, 'School List'!F:G,2,FALSE)","v":"Sunrise El DTS"},"PHBAO",85,17,0,0,0,null,null,null,0,0,0,102,4,1,0,0,0,5,4,0,0,0,0,4,{"$f":"VLOOKUP(A656,'Pivot Norm'!A:B,2,FALSE)","v":2},2,"16988012",0,0,0,0,0,0,0,0,0,0]
["1700701","1700701",{"$f":"VLOOKUP(B657, 'School List'!F:G,2,FALSE)","v":"Superior El"},"PHBAO",319,157,0,0,0,13,null,null,8,0,0,497,14,6,0,0,0,20,13,6,0,0,0,19,{"$f":"VLOOKUP(A657,'Pivot Norm'!A:B,2,FALSE)","v":1},1,"17007011",1,0,2,1,0,2,0,0,0,0]
["1701401","1701401",{"$f":"VLOOKUP(B658, 'School List'!F:G,2,FALSE)","v":"Sylmar El"},"PHBAO",227,138,0,0,0,44,null,null,10,0,18,437,10,6,0,0,0,16,11,5,0,0,0,16,{"$f":"VLOOKUP(A658,'Pivot Norm'!A:B,2,FALSE)","v":1},1,"17014011",1,0,2,1,0,2,0,1,0,0]
["1702701","1702701",{"$f":"VLOOKUP(B659, 'School List'!F:G,2,FALSE)","v":"Sylvan Park El"},"PHBAO",447,218,0,0,0,31,null,null,17,0,19,732,19,9,0,0,0,28,20,8,0,0,0,28,{"$f":"VLOOKUP(A659,'Pivot Norm'!A:B,2,FALSE)","v":1},1,"17027011",1,0,2,1,0,3,0,0,0,0]
["1703501","1703501",{"$f":"VLOOKUP(B660, 'School List'!F:G,2,FALSE)","v":"Taper El"},"PHBAO",264,121,0,0,0,13,null,null,0,0,0,398,11,5,0,0,0,16,13,5,0,0,0,18,{"$f":"VLOOKUP(A660,'Pivot Norm'!A:B,2,FALSE)","v":2},1,"17035011",1,0,2,1,0,2,0,0,1,0]
["1703501","1703502",{"$f":"VLOOKUP(B661, 'School List'!F:G,2,FALSE)","v":"Taper STEAM Mag"},"Magnet 2",180,117,0,0,0,null,null,null,0,0,0,297,8,5,0,0,0,13,8,4,0,0,0,12,{"$f":"VLOOKUP(A661,'Pivot Norm'!A:B,2,FALSE)","v":2},2,"17035012",0,0,0,0,0,0,0,0,0,0]
["1704101","1704101",{"$f":"VLOOKUP(B662, 'School List'!F:G,2,FALSE)","v":"Tarzana El"},"Non-PHBAO",149,88,0,0,0,18,null,null,2,0,0,257,7,3,0,0,0,10,7,4,0,0,0,11,{"$f":"VLOOKUP(A662,'Pivot Norm'!A:B,2,FALSE)","v":1},1,"17041011",1,0,2,1,0,2,1,0,0,0]
["1706801","1706801",{"$f":"VLOOKUP(B663, 'School List'!F:G,2,FALSE)","v":"Telfair El"},"PHBAO",126,186,0,0,0,31,null,null,28,0,23,394,6,7,0,0,0,13,9,8,0,0,0,17,{"$f":"VLOOKUP(A663,'Pivot Norm'!A:B,2,FALSE)","v":2},1,"17068011",1,0,2,1,0,2,1,0,1,0]
["1706801","1706802",{"$f":"VLOOKUP(B664, 'School List'!F:G,2,FALSE)","v":"Telfair Ave El DTS"},"PHBAO",271,0,0,0,0,null,null,null,0,0,0,271,12,0,0,0,0,12,9,0,0,0,0,9,{"$f":"VLOOKUP(A664,'Pivot Norm'!A:B,2,FALSE)","v":2},2,"17068012",0,0,0,0,0,0,0,0,0,0]
["1708201","1708201",{"$f":"VLOOKUP(B665, 'School List'!F:G,2,FALSE)","v":"10th St El"},"PHBAO",220,180,0,0,0,17,null,null,0,0,0,417,10,7,0,0,0,17,11,8,0,0,0,19,{"$f":"VLOOKUP(A665,'Pivot Norm'!A:B,2,FALSE)","v":1},1,"17082011",1,0,2,1,0,2,0,0,0,0]
["1711001","1711001",{"$f":"VLOOKUP(B666, 'School List'!F:G,2,FALSE)","v":"3rd St El"},"Non-PHBAO",357,76,0,0,0,8,null,null,9,0,21,471,15,3,0,0,0,18,16,4,0,0,0,20,{"$f":"VLOOKUP(A666,'Pivot Norm'!A:B,2,FALSE)","v":3},1,"17110011",1,0,2,1,0,2,0,0,0,0]
["1711001","1711002",{"$f":"VLOOKUP(B667, 'School List'!F:G,2,FALSE)","v":"3rd St El DTK"},"PHBAO",94,41,0,0,0,null,null,null,0,0,0,135,4,2,0,0,0,6,4,2,0,0,0,6,{"$f":"VLOOKUP(A667,'Pivot Norm'!A:B,2,FALSE)","v":3},2,"17110012",0,0,0,0,0,0,0,0,0,0]
["1711001","1711003",{"$f":"VLOOKUP(B668, 'School List'!F:G,2,FALSE)","v":"3rd St ES Gifted Mag"},"Magnet 2",24,54,0,0,0,null,null,null,null,null,null,78,1,2,0,0,0,3,0,0,0,0,0,0,{"$f":"VLOOKUP(A668,'Pivot Norm'!A:B,2,FALSE)","v":3},3,"17110013",0,0,0,0,0,0,0,0,0,0]
["1712301","1712301",{"$f":"VLOOKUP(B669, 'School List'!F:G,2,FALSE)","v":"Bradley Glbl Awr Mag"},"Magnet 2",124,80,0,0,0,null,null,null,0,0,0,204,6,3,0,0,0,9,6,3,0,0,0,9,{"$f":"VLOOKUP(A669,'Pivot Norm'!A:B,2,FALSE)","v":1},1,"17123011",1,0,2,1,0,2,0,0,0,0]
["1713701","1713701",{"$f":"VLOOKUP(B670, 'School List'!F:G,2,FALSE)","v":"32nd/USC Per Art Mag"},"Magnet 2",230,158,0,0,0,null,null,null,0,0,0,388,10,6,0,0,0,16,10,6,0,0,0,16,{"$f":"VLOOKUP(A670,'Pivot Norm'!A:B,2,FALSE)","v":2},1,"17137011",2,1,3,2,1,3,0,0,0,0]
["1713701","1713702",{"$f":"VLOOKUP(B671, 'School List'!F:G,2,FALSE)","v":"LAUSD/USC"},"Magnet 2",0,0,300,0,300,null,null,null,0,0,0,600,0,0,12,0,12,24,0,0,12,0,12,24,{"$f":"VLOOKUP(A671,'Pivot Norm'!A:B,2,FALSE)","v":2},2,"17137012",0,0,0,0,0,0,0,0,0,0]
["1715101","1715101",{"$f":"VLOOKUP(B672, 'School List'!F:G,2,FALSE)","v":"Weemes El"},"PHBAO",275,131,0,0,0,38,null,null,0,20,9,473,12,5,0,0,0,17,12,6,0,0,0,18,{"$f":"VLOOKUP(A672,'Pivot Norm'!A:B,2,FALSE)","v":1},1,"17151011",1,0,2,1,0,2,0,0,0,0]
["1716401","1716401",{"$f":"VLOOKUP(B673, 'School List'!F:G,2,FALSE)","v":"Bright El"},"PHBAO",278,124,0,0,0,8,null,null,0,0,9,419,12,5,0,0,0,17,12,5,0,0,0,17,{"$f":"VLOOKUP(A673,'Pivot Norm'!A:B,2,FALSE)","v":1},1,"17164011",1,0,2,1,0,2,2,0,0,0]
["1717801","1717801",{"$f":"VLOOKUP(B674, 'School List'!F:G,2,FALSE)","v":"Toland Way El"},"PHBAO",124,118,0,0,0,17,null,null,10,0,6,275,6,5,0,0,0,11,7,5,0,0,0,12,{"$f":"VLOOKUP(A674,'Pivot Norm'!A:B,2,FALSE)","v":1},1,"17178011",1,0,2,1,0,2,0,0,0,0]
["1719201","1719201",{"$f":"VLOOKUP(B675, 'School List'!F:G,2,FALSE)","v":"Toluca Lake El"},"PHBAO",349,129,0,0,0,20,null,null,20,15,0,533,15,5,0,0,0,20,14,5,0,0,0,19,{"$f":"VLOOKUP(A675,'Pivot Norm'!A:B,2,FALSE)","v":1},1,"17192011",1,0,2,1,0,2,0,0,0,0]
["1719801","1719801",{"$f":"VLOOKUP(B676, 'School List'!F:G,2,FALSE)","v":"Topanga El CS"},"Non-PHBAO",172,56,0,0,0,null,null,null,0,0,0,228,8,2,0,0,0,10,7,2,0,0,0,9,{"$f":"VLOOKUP(A676,'Pivot Norm'!A:B,2,FALSE)","v":1},1,"17198011",1,0,2,1,0,2,1,1,0,0]
["1720101","1720101",{"$f":"VLOOKUP(B677, 'School List'!F:G,2,FALSE)","v":"Topeka Charter"},"PHBAO",356,171,0,0,0,24,null,null,23,0,0,574,15,7,0,0,0,22,15,7,0,0,0,22,{"$f":"VLOOKUP(A677,'Pivot Norm'!A:B,2,FALSE)","v":1},1,"17201011",1,0,2,1,0,2,0,0,0,0]
["1720501","1720501",{"$f":"VLOOKUP(B678, 'School List'!F:G,2,FALSE)","v":"Towne El"},"PHBAO",218,79,0,0,0,12,null,null,0,0,15,324,10,3,0,0,0,13,9,4,0,0,0,13,{"$f":"VLOOKUP(A678,'Pivot Norm'!A:B,2,FALSE)","v":1},1,"17205011",1,0,2,1,0,2,0,0,1,0]
["1721901","1721901",{"$f":"VLOOKUP(B679, 'School List'!F:G,2,FALSE)","v":"Trinity El"},"PHBAO",84,116,0,0,0,12,null,null,0,0,0,212,4,5,0,0,0,9,5,5,0,0,0,10,{"$f":"VLOOKUP(A679,'Pivot Norm'!A:B,2,FALSE)","v":2},1,"17219011",1,0,2,1,0,2,0,0,0,0]
["1721901","1721902",{"$f":"VLOOKUP(B680, 'School List'!F:G,2,FALSE)","v":"Trinity St El DTS"},"PHBAO",36,0,0,0,0,null,null,null,0,0,0,36,2,0,0,0,0,2,1,0,0,0,0,1,{"$f":"VLOOKUP(A680,'Pivot Norm'!A:B,2,FALSE)","v":2},2,"17219012",0,0,0,0,0,0,0,0,0,0]
["1722001","1722001",{"$f":"VLOOKUP(B681, 'School List'!F:G,2,FALSE)","v":"Maple PC"},"PHBAO",106,0,0,0,0,9,null,null,40,36,0,191,5,0,0,0,0,5,5,0,0,0,0,5,{"$f":"VLOOKUP(A681,'Pivot Norm'!A:B,2,FALSE)","v":2},1,"17220011",1,0,2,1,0,2,0,0,0,0]
["1722001","1722002",{"$f":"VLOOKUP(B682, 'School List'!F:G,2,FALSE)","v":"Maple PC DTS"},"PHBAO",36,0,0,0,0,null,null,null,0,0,0,36,2,0,0,0,0,2,2,0,0,0,0,2,{"$f":"VLOOKUP(A682,'Pivot Norm'!A:B,2,FALSE)","v":2},2,"17220012",0,0,0,0,0,0,0,0,0,0]
["1724701","1724701",{"$f":"VLOOKUP(B683, 'School List'!F:G,2,FALSE)","v":"Tulsa El"},"PHBAO",267,144,0,0,0,39,null,null,0,0,0,450,12,6,0,0,0,18,11,6,0,0,0,17,{"$f":"VLOOKUP(A683,'Pivot Norm'!A:B,2,FALSE)","v":1},1,"17247011",1,0,2,1,0,2,1,0,0,0]
["1726001","1726001",{"$f":"VLOOKUP(B684, 'School List'!F:G,2,FALSE)","v":"Tweedy El"},"PHBAO",221,157,0,0,0,35,null,null,16,0,6,435,10,6,0,0,0,16,11,7,0,0,0,18,{"$f":"VLOOKUP(A684,'Pivot Norm'!A:B,2,FALSE)","v":2},1,"17260011",1,0,2,1,0,2,0,0,0,0]
["1726001","1726002",{"$f":"VLOOKUP(B685, 'School List'!F:G,2,FALSE)","v":"Tweedy El DTS"},"PHBAO",74,0,0,0,0,null,null,null,0,0,0,74,4,0,0,0,0,4,3,0,0,0,0,3,{"$f":"VLOOKUP(A685,'Pivot Norm'!A:B,2,FALSE)","v":2},2,"17260012",0,0,0,0,0,0,0,0,0,0]
["1727401","1727401",{"$f":"VLOOKUP(B686, 'School List'!F:G,2,FALSE)","v":"20th St El"},"PHBAO",234,127,0,0,0,31,null,null,17,0,23,432,10,5,0,0,0,15,10,7,0,0,0,17,{"$f":"VLOOKUP(A686,'Pivot Norm'!A:B,2,FALSE)","v":2},1,"17274011",1,0,2,1,0,2,1,0,0,0]
["1727401","1727402",{"$f":"VLOOKUP(B687, 'School List'!F:G,2,FALSE)","v":"20th St El DTS"},"PHBAO",111,22,0,0,0,null,null,null,0,0,0,133,5,1,0,0,0,6,5,0,0,0,0,5,{"$f":"VLOOKUP(A687,'Pivot Norm'!A:B,2,FALSE)","v":2},2,"17274012",0,0,0,0,0,0,0,0,0,0]
["1728801","1728801",{"$f":"VLOOKUP(B688, 'School List'!F:G,2,FALSE)","v":"28th St El"},"PHBAO",249,142,0,0,0,21,null,null,0,0,11,423,11,6,0,0,0,17,11,6,0,0,0,17,{"$f":"VLOOKUP(A688,'Pivot Norm'!A:B,2,FALSE)","v":2},1,"17288011",1,0,2,1,0,2,1,0,0,0]
["1728801","1728802",{"$f":"VLOOKUP(B689, 'School List'!F:G,2,FALSE)","v":"28th St El DOS"},"PHBAO",77,63,0,0,0,null,null,null,0,0,0,140,4,3,0,0,0,7,5,2,0,0,0,7,{"$f":"VLOOKUP(A689,'Pivot Norm'!A:B,2,FALSE)","v":2},2,"17288012",0,0,0,0,0,0,0,0,0,0]
["1730101","1730101",{"$f":"VLOOKUP(B690, 'School List'!F:G,2,FALSE)","v":"24th St El"},"PHBAO",374,95,0,0,0,41,null,null,18,0,7,535,16,4,0,0,0,20,16,4,0,0,0,20,{"$f":"VLOOKUP(A690,'Pivot Norm'!A:B,2,FALSE)","v":1},1,"17301011",1,0,2,1,0,2,0,0,0,0]
["1732901","1732901",{"$f":"VLOOKUP(B691, 'School List'!F:G,2,FALSE)","v":"232nd Pl El"},"PHBAO",251,58,0,0,0,19,null,null,8,0,24,360,11,3,0,0,0,14,10,3,0,0,0,13,{"$f":"VLOOKUP(A691,'Pivot Norm'!A:B,2,FALSE)","v":2},1,"17329011",1,0,2,1,0,2,1,0,0,0]
["1732901","1732902",{"$f":"VLOOKUP(B692, 'School List'!F:G,2,FALSE)","v":"232nd STEMM Mag"},"Magnet 2",20,50,0,0,0,null,null,null,0,0,0,70,1,2,0,0,0,3,1,2,0,0,0,3,{"$f":"VLOOKUP(A692,'Pivot Norm'!A:B,2,FALSE)","v":2},2,"17329012",0,0,0,0,0,0,0,0,0,0]
["1734201","1734201",{"$f":"VLOOKUP(B693, 'School List'!F:G,2,FALSE)","v":"Meyler El"},"PHBAO",281,134,0,0,0,46,null,null,0,0,22,483,12,5,0,0,0,17,11,5,0,0,0,16,{"$f":"VLOOKUP(A693,'Pivot Norm'!A:B,2,FALSE)","v":2},1,"17342011",1,0,2,1,0,2,0,0,0,0]
["1734201","1734202",{"$f":"VLOOKUP(B694, 'School List'!F:G,2,FALSE)","v":"Meyler St El DTS"},"PHBAO",129,84,0,0,0,null,null,null,0,0,0,213,6,4,0,0,0,10,7,3,0,0,0,10,{"$f":"VLOOKUP(A694,'Pivot Norm'!A:B,2,FALSE)","v":2},2,"17342012",0,0,0,0,0,0,0,0,0,0]
["1735601","1735601",{"$f":"VLOOKUP(B695, 'School List'!F:G,2,FALSE)","v":"Union El"},"PHBAO",546,299,0,0,0,56,null,null,0,10,25,936,23,12,0,0,0,35,25,12,0,0,0,37,{"$f":"VLOOKUP(A695,'Pivot Norm'!A:B,2,FALSE)","v":1},1,"17356011",1,0,3,1,0,3,0,0,1,0]
["1737001","1737001",{"$f":"VLOOKUP(B696, 'School List'!F:G,2,FALSE)","v":"Utah El"},"PHBAO",124,65,138,0,0,42,13,null,18,0,0,400,6,3,6,0,0,15,6,3,6,0,0,15,{"$f":"VLOOKUP(A696,'Pivot Norm'!A:B,2,FALSE)","v":1},1,"17370011",1,0.5,2,1,0.5,2,0,0,0,0]
["1738401","1738401",{"$f":"VLOOKUP(B697, 'School List'!F:G,2,FALSE)","v":"Valerio El"},"PHBAO",453,229,0,0,0,23,null,null,38,19,22,784,19,9,0,0,0,28,20,9,0,0,0,29,{"$f":"VLOOKUP(A697,'Pivot Norm'!A:B,2,FALSE)","v":1},1,"17384011",1,0,3,1,0,3,0,0,0,0]
["1739001","1739001",{"$f":"VLOOKUP(B698, 'School List'!F:G,2,FALSE)","v":"Lake Balboa Clg Prep"},"Magnet 1",134,109,190,0,187,null,null,1,0,0,0,621,6,4,8,0,7,25,6,4,8,0,7,25,{"$f":"VLOOKUP(A698,'Pivot Norm'!A:B,2,FALSE)","v":1},1,"17390011",1,1,2,1,0.5,2,0,0,0,0.5]
["1739701","1739701",{"$f":"VLOOKUP(B699, 'School List'!F:G,2,FALSE)","v":"Valley View El"},"Non-PHBAO",175,54,0,0,0,null,null,null,0,0,0,229,8,2,0,0,0,10,7,2,0,0,0,9,{"$f":"VLOOKUP(A699,'Pivot Norm'!A:B,2,FALSE)","v":1},1,"17397011",1,0,2,1,0,2,1,0,0,0]
["1739801","1739801",{"$f":"VLOOKUP(B700, 'School List'!F:G,2,FALSE)","v":"Alta California El"},"PHBAO",310,142,0,0,0,30,null,null,17,0,0,499,13,6,0,0,0,19,13,6,0,0,0,19,{"$f":"VLOOKUP(A700,'Pivot Norm'!A:B,2,FALSE)","v":2},1,"17398011",1,0,2,1,0,2,0,0,0,0]
["1739801","1739802",{"$f":"VLOOKUP(B701, 'School List'!F:G,2,FALSE)","v":"Alta Cal GSTEAM Mag"},"Magnet 2",48,108,0,0,0,null,null,null,0,0,0,156,2,4,0,0,0,6,2,4,0,0,0,6,{"$f":"VLOOKUP(A701,'Pivot Norm'!A:B,2,FALSE)","v":2},2,"17398012",0,0,0,0,0,0,0,0,0,0]
["1739901","1739901",{"$f":"VLOOKUP(B702, 'School List'!F:G,2,FALSE)","v":"Korenstein El"},"PHBAO",208,95,0,0,0,null,null,null,7,19,0,329,9,4,0,0,0,13,10,4,0,0,0,14,{"$f":"VLOOKUP(A702,'Pivot Norm'!A:B,2,FALSE)","v":1},1,"17399011",1,0,2,1,0,2,1,0,0,0]
["1740001","1740001",{"$f":"VLOOKUP(B703, 'School List'!F:G,2,FALSE)","v":"Vista Del Valle Acad"},"PHBAO",17,40,0,0,0,null,null,null,10,18,0,85,1,2,0,0,0,3,2,2,0,0,0,4,{"$f":"VLOOKUP(A703,'Pivot Norm'!A:B,2,FALSE)","v":2},1,"17400011",1,0,2,1,0,2,0,0,0,0]
["1740001","1740002",{"$f":"VLOOKUP(B704, 'School List'!F:G,2,FALSE)","v":"Vista Del Valle DTS"},"PHBAO",276,96,0,0,0,null,null,null,0,0,0,372,12,4,0,0,0,16,11,4,0,0,0,15,{"$f":"VLOOKUP(A704,'Pivot Norm'!A:B,2,FALSE)","v":2},2,"17400012",0,0,0,0,0,0,0,0,0,0]
["1740101","1740101",{"$f":"VLOOKUP(B705, 'School List'!F:G,2,FALSE)","v":"Cardenas El"},"PHBAO",284,125,0,0,0,40,null,null,20,20,0,489,12,5,0,0,0,17,13,5,0,0,0,18,{"$f":"VLOOKUP(A705,'Pivot Norm'!A:B,2,FALSE)","v":1},1,"17401011",1,0,2,1,0,2,0,0,0,0]
["1740201","1740201",{"$f":"VLOOKUP(B706, 'School List'!F:G,2,FALSE)","v":"Mosk El"},"PHBAO",217,107,0,0,0,13,null,null,1,21,0,359,10,4,0,0,0,14,11,4,0,0,0,15,{"$f":"VLOOKUP(A706,'Pivot Norm'!A:B,2,FALSE)","v":2},1,"17402011",1,0,2,1,0,2,1,0,1,0]
["1740201","1740202",{"$f":"VLOOKUP(B707, 'School List'!F:G,2,FALSE)","v":"Mosk ES STEAM Magnet"},"Magnet 2",92,53,0,0,0,null,null,null,0,0,0,145,4,2,0,0,0,6,4,2,0,0,0,6,{"$f":"VLOOKUP(A707,'Pivot Norm'!A:B,2,FALSE)","v":2},2,"17402012",0,0,0,0,0,0,0,0,0,0]
["1740401","1740401",{"$f":"VLOOKUP(B708, 'School List'!F:G,2,FALSE)","v":"Santana Arts Academy"},"PHBAO",116,68,0,0,0,7,null,null,0,0,0,191,5,3,0,0,0,8,5,3,0,0,0,8,{"$f":"VLOOKUP(A708,'Pivot Norm'!A:B,2,FALSE)","v":2},1,"17404011",1,0,2,1,0,2,1,0,0,0]
["1740401","1740402",{"$f":"VLOOKUP(B709, 'School List'!F:G,2,FALSE)","v":"Santana Arts Aca DTS"},"PHBAO",150,90,0,0,0,null,null,null,0,0,0,240,7,4,0,0,0,11,7,4,0,0,0,11,{"$f":"VLOOKUP(A709,'Pivot Norm'!A:B,2,FALSE)","v":2},2,{"$f":"A709&AD709","v":"17404012"},0,0,0,0,0,0,1,0,0,0]
["1740801","1740801",{"$f":"VLOOKUP(B710, 'School List'!F:G,2,FALSE)","v":"Sylmar Ldshp Acad"},"PHBAO",371,166,280,0,0,25,16,null,0,0,0,858,16,7,11,0,0,34,16,6,11,0,0,33,{"$f":"VLOOKUP(A710,'Pivot Norm'!A:B,2,FALSE)","v":1},1,"17408011",2,0.5,3,2,0.5,3,0,0,0,0]
["1741101","1741101",{"$f":"VLOOKUP(B711, 'School List'!F:G,2,FALSE)","v":"Vanalden El"},"PHBAO",293,128,0,0,0,26,null,null,0,0,24,471,13,5,0,0,0,18,12,5,0,0,0,17,{"$f":"VLOOKUP(A711,'Pivot Norm'!A:B,2,FALSE)","v":1},{"$f":"IF(A711=A710,AD710+1,1)","v":1},"17411011",1,0,2,1,0,2,0,0,0,0]
["1741901","1741901",{"$f":"VLOOKUP(B712, 'School List'!F:G,2,FALSE)","v":"Van Deene El"},"PHBAO",178,111,0,0,0,null,null,null,16,0,15,320,8,5,0,0,0,13,8,5,0,0,0,13,{"$f":"VLOOKUP(A712,'Pivot Norm'!A:B,2,FALSE)","v":1},1,"17419011",1,0,2,1,0,2,1,0,0,0]
["1742201","1742201",{"$f":"VLOOKUP(B713, 'School List'!F:G,2,FALSE)","v":"Van Gogh Charter"},"Non-PHBAO",294,127,0,0,0,11,null,null,0,0,0,432,13,4,0,0,0,17,12,4,0,0,0,16,{"$f":"VLOOKUP(A713,'Pivot Norm'!A:B,2,FALSE)","v":1},1,"17422011",1,0,2,1,0,2,1,0,0,0]
["1742501","1742501",{"$f":"VLOOKUP(B714, 'School List'!F:G,2,FALSE)","v":"Van Ness El"},"PHBAO",104,61,0,0,0,28,null,null,8,6,0,207,5,3,0,0,0,8,5,3,0,0,0,8,{"$f":"VLOOKUP(A714,'Pivot Norm'!A:B,2,FALSE)","v":1},1,"17425011",1,0,2,1,0,2,0,0,0,0]
["1743201","1743201",{"$f":"VLOOKUP(B715, 'School List'!F:G,2,FALSE)","v":"Columbus Ave El"},"PHBAO",256,132,0,0,0,23,null,null,0,0,0,411,11,5,0,0,0,16,12,5,0,0,0,17,{"$f":"VLOOKUP(A715,'Pivot Norm'!A:B,2,FALSE)","v":1},1,"17432011",1,0,2,1,0,2,1,0,0,0]
["1743801","1743801",{"$f":"VLOOKUP(B716, 'School List'!F:G,2,FALSE)","v":"Van Nuys El"},"PHBAO",305,128,0,0,0,29,null,null,8,0,18,488,13,5,0,0,0,18,13,5,0,0,0,18,{"$f":"VLOOKUP(A716,'Pivot Norm'!A:B,2,FALSE)","v":1},1,"17438011",1,0,2,1,0,2,2,0,0,0]
["1746601","1746601",{"$f":"VLOOKUP(B717, 'School List'!F:G,2,FALSE)","v":"Vena El"},"PHBAO",257,113,0,0,0,8,null,null,6,0,11,395,11,5,0,0,0,16,12,4,0,0,0,16,{"$f":"VLOOKUP(A717,'Pivot Norm'!A:B,2,FALSE)","v":2},1,"17466011",1,0,2,1,0,2,0,1,0,0]
["1746601","1746602",{"$f":"VLOOKUP(B718, 'School List'!F:G,2,FALSE)","v":"Vena El Gifted Mag"},"Magnet 2",75,95,0,0,0,null,null,null,0,0,0,170,4,4,0,0,0,8,3,4,0,0,0,7,{"$f":"VLOOKUP(A718,'Pivot Norm'!A:B,2,FALSE)","v":2},2,"17466012",0,0,0,0,0,0,0,0,0,0]
["1747901","1747901",{"$f":"VLOOKUP(B719, 'School List'!F:G,2,FALSE)","v":"Vermont El"},"PHBAO",213,130,0,0,0,28,null,null,9,0,4,384,9,5,0,0,0,14,11,6,0,0,0,17,{"$f":"VLOOKUP(A719,'Pivot Norm'!A:B,2,FALSE)","v":1},1,"17479011",1,0,2,1,0,2,1,0,0,0]
["1749301","1749301",{"$f":"VLOOKUP(B720, 'School List'!F:G,2,FALSE)","v":"Vernon City El"},"PHBAO",87,83,0,0,0,null,null,null,5,3,0,178,4,4,0,0,0,8,5,4,0,0,0,9,{"$f":"VLOOKUP(A720,'Pivot Norm'!A:B,2,FALSE)","v":1},1,"17493011",1,0,2,1,0,2,0,0,0,0]
["1750701","1750701",{"$f":"VLOOKUP(B721, 'School List'!F:G,2,FALSE)","v":"Victoria El"},"PHBAO",273,109,0,0,0,11,null,null,0,0,9,402,12,5,0,0,0,17,11,4,0,0,0,15,{"$f":"VLOOKUP(A721,'Pivot Norm'!A:B,2,FALSE)","v":1},1,"17507011",1,0,2,1,0,2,1,0,0,0]
["1752101","1752101",{"$f":"VLOOKUP(B722, 'School List'!F:G,2,FALSE)","v":"Victory El"},"PHBAO",241,74,0,0,0,36,null,null,14,0,27,392,11,3,0,0,0,14,11,4,0,0,0,15,{"$f":"VLOOKUP(A722,'Pivot Norm'!A:B,2,FALSE)","v":2},1,"17521011",1,0,2,1,0,2,0,1,0,0]
["1752101","1752102",{"$f":"VLOOKUP(B723, 'School List'!F:G,2,FALSE)","v":"Victory STEAM Mag"},"Magnet 2",72,54,0,0,0,null,null,null,0,0,0,126,3,2,0,0,0,5,1,2,0,0,0,3,{"$f":"VLOOKUP(A723,'Pivot Norm'!A:B,2,FALSE)","v":2},2,"17521012",0,0,0,0,0,0,0,0,0,0]
["1753401","1753401",{"$f":"VLOOKUP(B724, 'School List'!F:G,2,FALSE)","v":"Vine El"},"PHBAO",118,126,0,0,0,21,null,null,9,0,0,274,5,5,0,0,0,10,7,5,0,0,0,12,{"$f":"VLOOKUP(A724,'Pivot Norm'!A:B,2,FALSE)","v":1},1,"17534011",1,0,2,1,0,2,0,0,0,0]
["1754801","1754801",{"$f":"VLOOKUP(B725, 'School List'!F:G,2,FALSE)","v":"Vinedale College Pep"},"PHBAO",79,46,80,0,0,10,null,null,17,0,0,232,4,2,3,0,0,9,4,2,3,0,0,9,{"$f":"VLOOKUP(A725,'Pivot Norm'!A:B,2,FALSE)","v":1},1,"17548011",1,0.5,2,1,0.5,2,1,0,1,0]
["1756201","1756201",{"$f":"VLOOKUP(B726, 'School List'!F:G,2,FALSE)","v":"Vintage Math/Sci Mag"},"Magnet 2",456,324,0,0,0,null,null,null,0,0,0,780,19,12,0,0,0,31,21,10,0,0,0,31,{"$f":"VLOOKUP(A726,'Pivot Norm'!A:B,2,FALSE)","v":1},1,"17562011",1,0,3,1,0,3,0,0,0,0]
["1756601","1756601",{"$f":"VLOOKUP(B727, 'School List'!F:G,2,FALSE)","v":"Univ Pathwys Pub Srv"},"PHBAO",0,0,0,210,337,null,null,null,0,0,0,337,0,0,0,2,11,13,0,0,0,2,10,12,{"$f":"VLOOKUP(A727,'Pivot Norm'!A:B,2,FALSE)","v":1},1,"17566011",1,0.5,2,1,0.5,2,0,0,0,0]
["1756701","1756701",{"$f":"VLOOKUP(B728, 'School List'!F:G,2,FALSE)","v":"Univ Pathwys Medical"},"Magnet 2",0,0,0,0,196,null,null,1,0,0,0,197,0,0,0,0,8,8,0,0,0,0,6,6,{"$f":"VLOOKUP(A728,'Pivot Norm'!A:B,2,FALSE)","v":1},1,"17567011",1,0.5,2,1,0.5,2,1,0,0,0]
["1756901","1756901",{"$f":"VLOOKUP(B729, 'School List'!F:G,2,FALSE)","v":"Boys Acad Leader"},"PHBAO",0,0,54,58,64,null,4,9,0,0,0,131,0,0,3,1,2,6,0,0,2,1,1,4,{"$f":"VLOOKUP(A729,'Pivot Norm'!A:B,2,FALSE)","v":1},1,"17569011",1,0.5,2,1,0.5,2,2,0,0,0]
["1757401","1757401",{"$f":"VLOOKUP(B730, 'School List'!F:G,2,FALSE)","v":"Horace Mann UCLA"},"PHBAO",0,0,310,168,242,null,73,null,0,0,0,625,0,0,12,1,8,21,0,0,11,1,7,19,{"$f":"VLOOKUP(A730,'Pivot Norm'!A:B,2,FALSE)","v":1},1,"17574011",1,1,2,1,1,2,0,0,0,0]
["1757501","1757501",{"$f":"VLOOKUP(B731, 'School List'!F:G,2,FALSE)","v":"Virginia El"},"PHBAO",77,75,0,0,0,17,null,null,2,0,0,171,4,3,0,0,0,7,5,4,0,0,0,9,{"$f":"VLOOKUP(A731,'Pivot Norm'!A:B,2,FALSE)","v":2},1,"17575011",1,0,2,1,0,2,0,0,0,0]
["1757501","1757502",{"$f":"VLOOKUP(B732, 'School List'!F:G,2,FALSE)","v":"Virginia Rd El DTS"},"PHBAO",52,0,0,0,0,null,null,null,0,0,0,52,3,0,0,0,0,3,2,0,0,0,0,2,{"$f":"VLOOKUP(A732,'Pivot Norm'!A:B,2,FALSE)","v":2},2,"17575012",0,0,0,0,0,0,0,0,0,0]
["1758901","1758901",{"$f":"VLOOKUP(B733, 'School List'!F:G,2,FALSE)","v":"Wadsworth El"},"PHBAO",388,188,0,0,0,43,null,null,0,0,18,637,17,7,0,0,0,24,17,7,0,0,0,24,{"$f":"VLOOKUP(A733,'Pivot Norm'!A:B,2,FALSE)","v":1},1,"17589011",1,0,2,1,0,2,1,0,0,0]
["1760301","1760301",{"$f":"VLOOKUP(B734, 'School List'!F:G,2,FALSE)","v":"Walgrove El"},"Non-PHBAO",136,66,0,0,0,36,null,null,0,0,0,238,6,3,0,0,0,9,6,3,0,0,0,9,{"$f":"VLOOKUP(A734,'Pivot Norm'!A:B,2,FALSE)","v":1},1,"17603011",1,0,2,1,0,2,1,0,0,0]
["1760401","1760401",{"$f":"VLOOKUP(B735, 'School List'!F:G,2,FALSE)","v":"Science Ac STEM Mag"},"Magnet 1",0,0,278,0,198,null,null,null,0,0,0,476,0,0,11,0,8,19,0,0,10,0,5,15,{"$f":"VLOOKUP(A735,'Pivot Norm'!A:B,2,FALSE)","v":1},1,"17604011",1,1,2,1,0.5,2,0,0,0,0.5]
["1761401","1761401",{"$f":"VLOOKUP(B736, 'School List'!F:G,2,FALSE)","v":"Nava Coll Prep Acad"},"PHBAO",0,0,0,314,617,null,null,null,0,0,0,617,0,0,0,2,20,22,0,0,0,2,20,22,{"$f":"VLOOKUP(A736,'Pivot Norm'!A:B,2,FALSE)","v":1},1,"17614011",1,1,2,1,1,2,0,0,0,0]
["1761501","1761501",{"$f":"VLOOKUP(B737, 'School List'!F:G,2,FALSE)","v":"Boyle Hts STEM Mag"},"Magnet 2",0,0,0,0,156,null,null,4,0,0,0,160,0,0,0,0,7,7,0,0,0,0,6,6,{"$f":"VLOOKUP(A737,'Pivot Norm'!A:B,2,FALSE)","v":1},1,"17615011",1,0.5,2,1,0.5,2,1,0,0,0]
["1761601","1761601",{"$f":"VLOOKUP(B738, 'School List'!F:G,2,FALSE)","v":"Warner El"},"Non-PHBAO",421,211,0,0,0,null,null,null,0,0,0,632,18,7,0,0,0,25,18,7,0,0,0,25,{"$f":"VLOOKUP(A738,'Pivot Norm'!A:B,2,FALSE)","v":1},1,"17616011",1,0,2,1,0,2,1,1,0,0]
["1763001","1763001",{"$f":"VLOOKUP(B739, 'School List'!F:G,2,FALSE)","v":"Washington PC"},"PHBAO",133,0,0,0,0,null,null,null,0,10,0,143,6,0,0,0,0,6,5,0,0,0,0,5,{"$f":"VLOOKUP(A739,'Pivot Norm'!A:B,2,FALSE)","v":2},1,"17630011",1,0,2,1,0,2,0,0,0,0]
["1763001","1763002",{"$f":"VLOOKUP(B740, 'School List'!F:G,2,FALSE)","v":"Washington PC DTS"},"PHBAO",52,0,0,0,0,null,null,null,0,0,0,52,3,0,0,0,0,3,3,0,0,0,0,3,{"$f":"VLOOKUP(A740,'Pivot Norm'!A:B,2,FALSE)","v":2},2,"17630012",0,0,0,0,0,0,0,0,0,0]
["1763401","1763401",{"$f":"VLOOKUP(B741, 'School List'!F:G,2,FALSE)","v":"Weigand El"},"PHBAO",243,121,0,0,0,17,null,null,0,14,0,395,11,5,0,0,0,16,10,5,0,0,0,15,{"$f":"VLOOKUP(A741,'Pivot Norm'!A:B,2,FALSE)","v":1},1,"17634011",1,0,2,1,0,2,0,0,0,0]
["1763701","1763701",{"$f":"VLOOKUP(B742, 'School List'!F:G,2,FALSE)","v":"Welby Way Chtr"},"Non-PHBAO",256,124,0,0,0,null,null,null,0,0,0,380,11,4,0,0,0,15,11,4,0,0,0,15,{"$f":"VLOOKUP(A742,'Pivot Norm'!A:B,2,FALSE)","v":2},1,"17637011",1,0,3,1,0,3,0,0,0,0]
["1763701","1763702",{"$f":"VLOOKUP(B743, 'School List'!F:G,2,FALSE)","v":"Welby Way Gifted Mag"},"Magnet 1",228,179,0,0,0,null,null,null,0,0,0,407,10,6,0,0,0,16,10,6,0,0,0,16,{"$f":"VLOOKUP(A743,'Pivot Norm'!A:B,2,FALSE)","v":2},2,"17637012",0,0,0,0,0,0,0,0,0,0]
["1764001","1764001",{"$f":"VLOOKUP(B744, 'School List'!F:G,2,FALSE)","v":"Chavez El"},"PHBAO",125,71,0,0,0,19,null,null,5,0,0,220,6,3,0,0,0,9,5,4,0,0,0,9,{"$f":"VLOOKUP(A744,'Pivot Norm'!A:B,2,FALSE)","v":1},1,"17640011",1,0,2,1,0,2,1,0,0,0]
["1764401","1764401",{"$f":"VLOOKUP(B745, 'School List'!F:G,2,FALSE)","v":"West Athens El"},"PHBAO",391,199,0,0,0,21,null,null,0,11,19,641,17,8,0,0,0,25,17,8,0,0,0,25,{"$f":"VLOOKUP(A745,'Pivot Norm'!A:B,2,FALSE)","v":1},1,"17644011",1,0,2,1,0,2,2,0,0,0]
["1764901","1764901",{"$f":"VLOOKUP(B746, 'School List'!F:G,2,FALSE)","v":"West Hollywood El"},"Non-PHBAO",255,104,0,0,0,null,null,null,0,0,0,359,11,4,0,0,0,15,11,4,0,0,0,15,{"$f":"VLOOKUP(A746,'Pivot Norm'!A:B,2,FALSE)","v":1},1,"17649011",1,0,2,1,0,2,1,0,0,0]
["1765401","1765401",{"$f":"VLOOKUP(B747, 'School List'!F:G,2,FALSE)","v":"West Vernon El"},"PHBAO",407,197,0,0,0,37,null,null,0,0,18,659,17,8,0,0,0,25,17,8,0,0,0,25,{"$f":"VLOOKUP(A747,'Pivot Norm'!A:B,2,FALSE)","v":1},1,"17654011",1,0,2,1,0,2,0,0,0,0]
["1765601","1765601",{"$f":"VLOOKUP(B748, 'School List'!F:G,2,FALSE)","v":"Carson Acad Med Arts"},"PHBAO",0,0,0,268,467,null,null,21,0,0,0,488,0,0,0,2,15,17,0,0,0,2,15,17,{"$f":"VLOOKUP(A748,'Pivot Norm'!A:B,2,FALSE)","v":1},1,"17656011",1,1,2,1,1,2,0,0,0,0]
["1765701","1765701",{"$f":"VLOOKUP(B749, 'School List'!F:G,2,FALSE)","v":"Carson Acad Ed & Emp"},"PHBAO",0,0,0,277,495,null,null,24,0,0,0,519,0,0,0,2,16,18,0,0,0,2,15,17,{"$f":"VLOOKUP(A749,'Pivot Norm'!A:B,2,FALSE)","v":1},1,"17657011",1,1,2,1,1,2,1,0,0,0]
["1765801","1765801",{"$f":"VLOOKUP(B750, 'School List'!F:G,2,FALSE)","v":"Sylmar Acad BH/E Mag"},"Magnet 2",0,0,0,0,225,null,null,null,0,0,0,225,0,0,0,0,9,9,0,0,0,0,9,9,{"$f":"VLOOKUP(A750,'Pivot Norm'!A:B,2,FALSE)","v":1},1,"17658011",1,0.5,2,1,0.5,2,0,0,0,0]
["1766401","1766401",{"$f":"VLOOKUP(B751, 'School List'!F:G,2,FALSE)","v":"Legacy SH VAPA"},"PHBAO",0,0,0,269,466,null,null,1,0,0,0,467,0,0,0,2,15,17,0,0,0,2,14,16,{"$f":"VLOOKUP(A751,'Pivot Norm'!A:B,2,FALSE)","v":1},1,"17664011",1,1,2,1,1,2,1,0,0,0]
["1871301","1766501",{"$f":"VLOOKUP(B752, 'School List'!F:G,2,FALSE)","v":"Hawkins SH CHAS"},"PHBAO",0,0,0,null,null,null,null,null,0,0,0,null,0,0,0,null,null,null,0,0,0,2,12,14,{"$f":"VLOOKUP(A752,'Pivot Norm'!A:B,2,FALSE)","v":3},1,"18713011",null,null,null,1,1,2,0,0,0,0,"Updated for consolidation.  Changed home school to 1871301."]
["1871301","1766601",{"$f":"VLOOKUP(B753, 'School List'!F:G,2,FALSE)","v":"Hawkins SH RISE"},"PHBAO",0,0,0,null,null,null,null,null,0,0,0,null,0,0,0,null,null,null,0,0,0,1,7,8,{"$f":"VLOOKUP(A753,'Pivot Norm'!A:B,2,FALSE)","v":3},2,{"$f":"A753&AD753","v":"18713012"},null,null,null,1,0.5,2,1,0,0,0,"Updated for consolidation.  Changed home school to 1871301."]
["1871301","1871301",{"$f":"VLOOKUP(B754, 'School List'!F:G,2,FALSE)","v":"Hawkins SH C/DAGS"},"PHBAO",0,0,0,539,1030,null,null,13,0,0,0,1043,0,0,0,4,33,37,0,0,0,2,14,16,{"$f":"VLOOKUP(A754,'Pivot Norm'!A:B,2,FALSE)","v":3},3,{"$f":"A754&AD754","v":"18713013"},2,2,3,1,1,2,0,0,0,0,"Updated for consolidation.  Changed home school to 1871301."]
["1766701","1766701",{"$f":"VLOOKUP(B755, 'School List'!F:G,2,FALSE)","v":"Dymally SH"},"PHBAO",0,0,0,290,496,null,null,82,0,0,0,578,0,0,0,2,16,18,0,0,0,2,16,18,{"$f":"VLOOKUP(A755,'Pivot Norm'!A:B,2,FALSE)","v":2},{"$f":"IF(A755=#REF!,#REF!+1,1)","v":{"$error":"#REF!"}},{"$error":"#REF!"},1,1,2,2,2,3,0,0,0,0]
["1766701","1766702",{"$f":"VLOOKUP(B756, 'School List'!F:G,2,FALSE)","v":"Dymally BMS/R Mag"},"Magnet 2",0,0,0,0,107,null,null,null,0,0,0,107,0,0,0,0,5,5,0,0,0,0,5,5,{"$f":"VLOOKUP(A756,'Pivot Norm'!A:B,2,FALSE)","v":2},{"$error":"#REF!"},{"$error":"#REF!"},0,0,0,0,0,0,0,0,0,0]
["1766901","1766901",{"$f":"VLOOKUP(B757, 'School List'!F:G,2,FALSE)","v":"Marquez SH Soc Jus"},"PHBAO",0,0,0,337,622,null,null,7,0,0,0,629,0,0,0,2,20,22,0,0,0,2,20,22,{"$f":"VLOOKUP(A757,'Pivot Norm'!A:B,2,FALSE)","v":1},1,"17669011",1,1,2,1,1,2,0,0,0,1]
["1767101","1767101",{"$f":"VLOOKUP(B758, 'School List'!F:G,2,FALSE)","v":"Western Av Tech Mag"},"Magnet 2",269,143,181,0,0,25,null,null,10,0,20,648,12,6,8,0,0,26,12,6,4,0,0,22,{"$f":"VLOOKUP(A758,'Pivot Norm'!A:B,2,FALSE)","v":1},1,"17671011",1,0.5,2,1,0.5,2,1,0,0,0]
["1769901","1769901",{"$f":"VLOOKUP(B759, 'School List'!F:G,2,FALSE)","v":"Westminster MTES Mag"},"Magnet 1",259,130,0,0,0,18,null,null,0,0,0,407,11,5,0,0,0,16,11,5,0,0,0,16,{"$f":"VLOOKUP(A759,'Pivot Norm'!A:B,2,FALSE)","v":1},1,"17699011",1,0,2,1,0,2,1,0,0,0]
["1771201","1771201",{"$f":"VLOOKUP(B760, 'School List'!F:G,2,FALSE)","v":"Westport Hts El"},"PHBAO",107,79,0,0,0,7,null,null,4,0,0,197,5,3,0,0,0,8,6,3,0,0,0,9,{"$f":"VLOOKUP(A760,'Pivot Norm'!A:B,2,FALSE)","v":1},1,"17712011",1,0,2,1,0,2,0,0,0,0]
["1771501","1771501",{"$f":"VLOOKUP(B761, 'School List'!F:G,2,FALSE)","v":"Chavez LA Artes Mag"},"Magnet 2",0,0,0,0,387,null,null,1,0,0,0,388,0,0,0,0,16,16,0,0,0,0,15,15,{"$f":"VLOOKUP(A761,'Pivot Norm'!A:B,2,FALSE)","v":1},1,"17715011",1,1,2,1,1,2,0,0,0,0]
["1771601","1771601",{"$f":"VLOOKUP(B762, 'School List'!F:G,2,FALSE)","v":"Chavez LA SJ Hum Ac"},"PHBAO",0,0,0,285,511,null,null,2,0,0,0,513,0,0,0,2,16,18,0,0,0,2,16,18,{"$f":"VLOOKUP(A762,'Pivot Norm'!A:B,2,FALSE)","v":1},1,"17716011",1,1,2,1,1,2,0,0,0,0]
["1771701","1771701",{"$f":"VLOOKUP(B763, 'School List'!F:G,2,FALSE)","v":"Chavez LA ASE"},"PHBAO",0,0,0,239,424,null,null,4,0,0,0,428,0,0,0,2,14,16,0,0,0,2,13,15,{"$f":"VLOOKUP(A763,'Pivot Norm'!A:B,2,FALSE)","v":1},1,"17717011",1,1,2,1,1,2,0,0,0,0]
["1771801","1771801",{"$f":"VLOOKUP(B764, 'School List'!F:G,2,FALSE)","v":"Rivera LC Com & Tech"},"PHBAO",0,0,0,285,485,null,null,18,0,0,0,503,0,0,0,2,16,18,0,0,0,2,15,17,{"$f":"VLOOKUP(A764,'Pivot Norm'!A:B,2,FALSE)","v":1},1,"17718011",1,1,2,1,1,2,1,0,0,0]
["1771901","1771901",{"$f":"VLOOKUP(B765, 'School List'!F:G,2,FALSE)","v":"Rivera LC STEAM Acad"},"PHBAO",0,0,0,319,563,null,null,21,0,0,0,584,0,0,0,2,18,20,0,0,0,2,18,20,{"$f":"VLOOKUP(A765,'Pivot Norm'!A:B,2,FALSE)","v":1},1,"17719011",1,1,2,1,1,2,0,0,0,0]
["1772101","1772101",{"$f":"VLOOKUP(B766, 'School List'!F:G,2,FALSE)","v":"Rivera LC Perf Arts"},"PHBAO",0,0,0,223,484,null,null,2,0,0,0,486,0,0,0,2,16,18,0,0,0,2,16,18,{"$f":"VLOOKUP(A766,'Pivot Norm'!A:B,2,FALSE)","v":1},1,"17721011",1,1,2,1,1,2,0,0,0,0]
["1772201","1772201",{"$f":"VLOOKUP(B767, 'School List'!F:G,2,FALSE)","v":"Dr. Maya Angelou"},"PHBAO",0,0,0,489,967,null,null,27,0,0,0,994,0,0,0,3,31,34,0,0,0,4,31,35,{"$f":"VLOOKUP(A767,'Pivot Norm'!A:B,2,FALSE)","v":1},1,"17722011",2,2,3,2,2,3,0,0,1,0]
["1772501","1772501",{"$f":"VLOOKUP(B768, 'School List'!F:G,2,FALSE)","v":"Marquez SH LIBRA"},"PHBAO",0,0,0,335,618,null,null,11,0,0,0,629,0,0,0,2,20,22,0,0,0,2,20,22,{"$f":"VLOOKUP(A768,'Pivot Norm'!A:B,2,FALSE)","v":1},1,"17725011",1,1,2,1,1,2,0,0,1,1]
["1773401","1773401",{"$f":"VLOOKUP(B769, 'School List'!F:G,2,FALSE)","v":"Bernstein SH STEM"},"PHBAO",0,0,0,322,589,null,null,3,0,0,0,592,0,0,0,2,19,21,0,0,0,2,18,20,{"$f":"VLOOKUP(A769,'Pivot Norm'!A:B,2,FALSE)","v":1},1,"17734011",1,1,2,1,1,2,0,0,0,0]
["1774001","1774001",{"$f":"VLOOKUP(B770, 'School List'!F:G,2,FALSE)","v":"Westwood Chtr El"},"Non-PHBAO",527,222,0,0,0,null,null,null,0,0,0,749,22,7,0,0,0,29,22,8,0,0,0,30,{"$f":"VLOOKUP(A770,'Pivot Norm'!A:B,2,FALSE)","v":1},1,"17740011",1,0,2,1,0,3,1,0,0,0]
["1774901","1774901",{"$f":"VLOOKUP(B771, 'School List'!F:G,2,FALSE)","v":"Roosevelt SH"},"PHBAO",0,0,0,602,1006,null,null,38,0,0,0,1044,0,0,0,4,32,36,0,0,0,3,30,33,{"$f":"VLOOKUP(A771,'Pivot Norm'!A:B,2,FALSE)","v":2},1,"17749011",3,3,4,3,3,4,0,0,0,0]
["1774901","1774902",{"$f":"VLOOKUP(B772, 'School List'!F:G,2,FALSE)","v":"Roosevelt LPS Mag"},"Magnet 2",0,0,0,0,450,null,null,4,0,0,0,454,0,0,0,0,18,18,0,0,0,0,16,16,{"$f":"VLOOKUP(A772,'Pivot Norm'!A:B,2,FALSE)","v":2},2,"17749012",0,0,0,0,0,0,0,0,0,0]
["1775101","1775101",{"$f":"VLOOKUP(B773, 'School List'!F:G,2,FALSE)","v":"Roosevelt SH STM Mag"},"Magnet 2",0,0,0,0,525,null,null,null,0,0,0,525,0,0,0,0,21,21,0,0,0,0,21,21,{"$f":"VLOOKUP(A773,'Pivot Norm'!A:B,2,FALSE)","v":1},1,"17751011",1,1,2,1,1,2,0,0,0,0]
["1775201","1775201",{"$f":"VLOOKUP(B774, 'School List'!F:G,2,FALSE)","v":"Solis Learning Acad"},"PHBAO",0,0,0,112,211,null,null,15,0,0,0,226,0,0,0,1,7,8,0,0,0,1,7,8,{"$f":"VLOOKUP(A774,'Pivot Norm'!A:B,2,FALSE)","v":1},1,{"$f":"A774&AD774","v":"17752011"},1,0.5,2,1,0.5,2,0,0,0,0]
["1776701","1776701",{"$f":"VLOOKUP(B775, 'School List'!F:G,2,FALSE)","v":"White Point El"},"Non-PHBAO",218,98,0,0,0,21,null,null,0,0,0,337,10,3,0,0,0,13,10,3,0,0,0,13,{"$f":"VLOOKUP(A775,'Pivot Norm'!A:B,2,FALSE)","v":1},1,"17767011",1,0,2,1,0,2,0,0,0,0]
["1777101","1777101",{"$f":"VLOOKUP(B776, 'School List'!F:G,2,FALSE)","v":"RFK Ambsdr Glbl Ldsh"},"PHBAO",0,0,194,183,339,null,9,11,0,0,0,553,0,0,8,2,11,21,0,0,7,2,11,20,{"$f":"VLOOKUP(A776,'Pivot Norm'!A:B,2,FALSE)","v":1},{"$f":"IF(A776=A775,AD775+1,1)","v":1},"17771011",1,1,2,1,1,2,0,0,0,0]
["1777201","1777201",{"$f":"VLOOKUP(B777, 'School List'!F:G,2,FALSE)","v":"Torres Renaissance"},"PHBAO",0,0,0,265,459,null,null,10,0,0,0,469,0,0,0,2,15,17,0,0,0,2,14,16,{"$f":"VLOOKUP(A777,'Pivot Norm'!A:B,2,FALSE)","v":1},1,"17772011",1,1,2,1,1,2,0,0,0,0]
["1777301","1777301",{"$f":"VLOOKUP(B778, 'School List'!F:G,2,FALSE)","v":"Torres Eng & Tech"},"PHBAO",0,0,0,206,353,null,null,9,0,0,0,362,0,0,0,2,12,14,0,0,0,2,11,13,{"$f":"VLOOKUP(A778,'Pivot Norm'!A:B,2,FALSE)","v":1},1,"17773011",1,0.5,2,1,1,2,0,0,0,0]
["1777401","1777401",{"$f":"VLOOKUP(B779, 'School List'!F:G,2,FALSE)","v":"Wilbur El"},"Non-PHBAO",407,171,0,0,0,10,null,null,22,0,0,610,17,6,0,0,0,23,17,6,0,0,0,23,{"$f":"VLOOKUP(A779,'Pivot Norm'!A:B,2,FALSE)","v":1},1,"17774011",1,0,2,1,0,2,0,1,1,0]
["1777501","1777501",{"$f":"VLOOKUP(B780, 'School List'!F:G,2,FALSE)","v":"Torres Hum/Art/Tech"},"PHBAO",0,0,0,226,398,null,null,8,0,0,0,406,0,0,0,2,13,15,0,0,0,2,13,15,{"$f":"VLOOKUP(A780,'Pivot Norm'!A:B,2,FALSE)","v":1},1,"17775011",1,1,2,1,1,2,0,0,0,0]
["1777701","1777701",{"$f":"VLOOKUP(B781, 'School List'!F:G,2,FALSE)","v":"Torres HS SJLA Mag"},"Magnet 2",0,0,0,0,243,null,null,11,0,0,0,254,0,0,0,0,10,10,0,0,0,0,10,10,{"$f":"VLOOKUP(A781,'Pivot Norm'!A:B,2,FALSE)","v":1},1,"17777011",1,0.5,2,1,0.5,2,0,0,0,0]
["1778001","1778001",{"$f":"VLOOKUP(B782, 'School List'!F:G,2,FALSE)","v":"RFK UCLA Comm Sch"},"PHBAO",32,25,168,234,421,null,null,12,0,0,0,658,2,1,7,2,14,26,2,1,7,2,14,26,{"$f":"VLOOKUP(A782,'Pivot Norm'!A:B,2,FALSE)","v":2},1,"17780011",2,1,3,2,1,3,0,0,0,0]
["1778001","1778002",{"$f":"VLOOKUP(B783, 'School List'!F:G,2,FALSE)","v":"RFK UCLA Comm DOS"},"PHBAO",169,97,0,0,0,null,null,null,0,0,0,266,8,4,0,0,0,12,8,4,0,0,0,12,{"$f":"VLOOKUP(A783,'Pivot Norm'!A:B,2,FALSE)","v":2},2,"17780012",0,0,0,0,0,0,0,0,1,0]
["1778101","1778101",{"$f":"VLOOKUP(B784, 'School List'!F:G,2,FALSE)","v":"Wilmington Park El"},"PHBAO",324,172,0,0,0,28,null,null,7,13,8,552,14,7,0,0,0,21,15,8,0,0,0,23,{"$f":"VLOOKUP(A784,'Pivot Norm'!A:B,2,FALSE)","v":1},1,"17781011",1,0,2,1,0,2,1,0,0,0]
["1778301","1778301",{"$f":"VLOOKUP(B785, 'School List'!F:G,2,FALSE)","v":"RFK Comm Schs-New"},"PHBAO",219,145,247,204,383,4,2,null,0,0,0,1000,10,6,10,2,12,40,10,6,10,2,12,40,{"$f":"VLOOKUP(A785,'Pivot Norm'!A:B,2,FALSE)","v":1},1,"17783011",2,1,3,2,1,3,1,0,0,0]
["1779501","1779501",{"$f":"VLOOKUP(B786, 'School List'!F:G,2,FALSE)","v":"Wilshire Crest El"},"PHBAO",33,17,0,0,0,3,null,null,15,0,7,75,2,1,0,0,0,3,2,1,0,0,0,3,{"$f":"VLOOKUP(A786,'Pivot Norm'!A:B,2,FALSE)","v":2},1,"17795011",1,0,2,1,0,2,1,0,0,0]
["1779501","1779502",{"$f":"VLOOKUP(B787, 'School List'!F:G,2,FALSE)","v":"Wilshire Crst DTS"},"PHBAO",42,0,0,0,0,null,null,null,0,0,0,42,2,0,0,0,0,2,2,0,0,0,0,2,{"$f":"VLOOKUP(A787,'Pivot Norm'!A:B,2,FALSE)","v":2},2,"17795012",0,0,0,0,0,0,0,0,0,0]
["1780801","1780801",{"$f":"VLOOKUP(B788, 'School List'!F:G,2,FALSE)","v":"Wilton Pl El"},"PHBAO",90,35,0,0,0,22,null,null,10,0,21,178,4,2,0,0,0,6,3,2,0,0,0,5,{"$f":"VLOOKUP(A788,'Pivot Norm'!A:B,2,FALSE)","v":3},1,"17808011",1,0,2,1,0,2,0,0,0,0]
["1780801","1780802",{"$f":"VLOOKUP(B789, 'School List'!F:G,2,FALSE)","v":"Wilton Pl El DTS"},"PHBAO",143,62,0,0,0,null,null,null,0,0,0,205,6,3,0,0,0,9,7,2,0,0,0,9,{"$f":"VLOOKUP(A789,'Pivot Norm'!A:B,2,FALSE)","v":3},2,"17808012",0,0,0,0,0,0,1,0,0,0]
["1780801","1780803",{"$f":"VLOOKUP(B790, 'School List'!F:G,2,FALSE)","v":"Wilton Pl El DTK"},"PHBAO",30,22,0,0,0,null,null,null,0,0,0,52,2,1,0,0,0,3,2,1,0,0,0,3,{"$f":"VLOOKUP(A790,'Pivot Norm'!A:B,2,FALSE)","v":3},3,"17808013",0,0,0,0,0,0,0,0,0,0]
["1782201","1782201",{"$f":"VLOOKUP(B791, 'School List'!F:G,2,FALSE)","v":"Windsor M/S Aero Mag"},"Magnet 2",271,178,0,0,0,null,null,null,0,0,0,449,12,7,0,0,0,19,12,7,0,0,0,19,{"$f":"VLOOKUP(A791,'Pivot Norm'!A:B,2,FALSE)","v":1},1,"17822011",1,0,2,1,0,2,0,0,0,0]
["1783601","1783601",{"$f":"VLOOKUP(B792, 'School List'!F:G,2,FALSE)","v":"Winnetka El"},"PHBAO",262,121,0,0,0,22,null,null,0,0,17,422,11,5,0,0,0,16,11,5,0,0,0,16,{"$f":"VLOOKUP(A792,'Pivot Norm'!A:B,2,FALSE)","v":1},1,"17836011",1,0,2,1,0,2,0,0,0,0]
["1784901","1784901",{"$f":"VLOOKUP(B793, 'School List'!F:G,2,FALSE)","v":"Wonderland El"},"Non-PHBAO",209,72,0,0,0,null,null,null,0,0,0,281,9,3,0,0,0,12,10,3,0,0,0,13,{"$f":"VLOOKUP(A793,'Pivot Norm'!A:B,2,FALSE)","v":2},1,"17849011",1,0,2,1,0,2,0,0,0,0]
["1784901","1784902",{"$f":"VLOOKUP(B794, 'School List'!F:G,2,FALSE)","v":"Wonderland G/HA Mag"},"Magnet 1",48,120,0,0,0,null,null,null,0,0,0,168,2,4,0,0,0,6,2,4,0,0,0,6,{"$f":"VLOOKUP(A794,'Pivot Norm'!A:B,2,FALSE)","v":2},2,"17849012",0,0,0,0,0,0,0,0,0,0]
["1786301","1786301",{"$f":"VLOOKUP(B795, 'School List'!F:G,2,FALSE)","v":"Woodcrest El"},"PHBAO",373,210,0,0,0,38,null,null,0,0,8,629,16,8,0,0,0,24,18,9,0,0,0,27,{"$f":"VLOOKUP(A795,'Pivot Norm'!A:B,2,FALSE)","v":1},1,"17863011",1,0,2,1,0,2,0,0,0,0]
["1787701","1787701",{"$f":"VLOOKUP(B796, 'School List'!F:G,2,FALSE)","v":"Woodlake Charter"},"Non-PHBAO",385,170,0,0,0,4,null,null,0,0,0,559,17,6,0,0,0,23,15,6,0,0,0,21,{"$f":"VLOOKUP(A796,'Pivot Norm'!A:B,2,FALSE)","v":1},1,"17877011",1,0,2,1,0,2,0,0,0,0]
["1789001","1789001",{"$f":"VLOOKUP(B797, 'School List'!F:G,2,FALSE)","v":"Woodland Hills CES"},"Non-PHBAO",450,217,0,0,0,null,null,null,0,0,0,667,19,7,0,0,0,26,19,7,0,0,0,26,{"$f":"VLOOKUP(A797,'Pivot Norm'!A:B,2,FALSE)","v":1},1,"17890011",1,0,2,1,0,2,0,0,0,0]
["1789501","1789501",{"$f":"VLOOKUP(B798, 'School List'!F:G,2,FALSE)","v":"Valley Oaks CES Mag"},"Magnet 2",0,0,163,0,285,null,null,20,0,0,0,468,0,0,7,0,12,19,0,0,3,0,10,13,{"$f":"VLOOKUP(A798,'Pivot Norm'!A:B,2,FALSE)","v":1},1,"17895011",1,1,2,1,0.5,2,0,0,0,0.5]
["1790401","1790401",{"$f":"VLOOKUP(B799, 'School List'!F:G,2,FALSE)","v":"Woodlawn El"},"PHBAO",228,123,0,0,0,30,null,null,12,0,17,410,10,5,0,0,0,15,11,5,0,0,0,16,{"$f":"VLOOKUP(A799,'Pivot Norm'!A:B,2,FALSE)","v":2},1,"17904011",1,0,2,1,0,2,0,0,0,0]
["1790401","1790402",{"$f":"VLOOKUP(B800, 'School List'!F:G,2,FALSE)","v":"Woodlawn Ave El DTS"},"PHBAO",149,79,0,0,0,null,null,null,0,0,0,228,7,3,0,0,0,10,7,3,0,0,0,10,{"$f":"VLOOKUP(A800,'Pivot Norm'!A:B,2,FALSE)","v":2},2,"17904012",0,0,0,0,0,0,0,0,0,0]
["1795901","1795901",{"$f":"VLOOKUP(B801, 'School List'!F:G,2,FALSE)","v":"Yorkdale El"},"PHBAO",161,67,0,0,0,null,null,null,8,0,6,242,7,3,0,0,0,10,7,3,0,0,0,10,{"$f":"VLOOKUP(A801,'Pivot Norm'!A:B,2,FALSE)","v":1},1,"17959011",1,0,2,1,0,2,0,0,0,0]
["1800901","1800901",{"$f":"VLOOKUP(B802, 'School List'!F:G,2,FALSE)","v":"Adams MS"},"PHBAO",0,0,517,0,0,null,76,null,0,0,0,593,0,0,20,0,0,20,0,0,19,0,0,19,{"$f":"VLOOKUP(A802,'Pivot Norm'!A:B,2,FALSE)","v":2},1,"18009011",2,2,3,2,2,3,0,0,0,0]
["1800901","1800902",{"$f":"VLOOKUP(B803, 'School List'!F:G,2,FALSE)","v":"Adams MS Gifted Mag"},"Magnet 2",0,0,223,0,0,null,null,null,0,0,0,223,0,0,9,0,0,9,0,0,9,0,0,9,{"$f":"VLOOKUP(A803,'Pivot Norm'!A:B,2,FALSE)","v":2},2,"18009012",0,0,0,0,0,0,0,0,0,0]
["1802801","1802801",{"$f":"VLOOKUP(B804, 'School List'!F:G,2,FALSE)","v":"Audubon MS"},"PHBAO",0,0,308,0,0,null,68,null,0,0,0,376,0,0,13,0,0,13,0,0,12,0,0,12,{"$f":"VLOOKUP(A804,'Pivot Norm'!A:B,2,FALSE)","v":2},1,"18028011",1,1,2,1,1,2,0,0,0,0]
["1802801","1802802",{"$f":"VLOOKUP(B805, 'School List'!F:G,2,FALSE)","v":"Audubon MS Gifted Mg"},"Magnet 2",0,0,76,0,0,null,null,null,0,0,0,76,0,0,4,0,0,4,0,0,4,0,0,4,{"$f":"VLOOKUP(A805,'Pivot Norm'!A:B,2,FALSE)","v":2},2,"18028012",0,0,0,0,0,0,0,0,0,0]
["1803801","1803801",{"$f":"VLOOKUP(B806, 'School List'!F:G,2,FALSE)","v":"Bancroft MS"},"PHBAO",0,0,120,0,0,null,16,null,0,0,0,136,0,0,5,0,0,5,0,0,5,0,0,5,{"$f":"VLOOKUP(A806,'Pivot Norm'!A:B,2,FALSE)","v":3},1,"18038011",1,1,2,1,1,2,0,0,0,0]
["1803801","1803802",{"$f":"VLOOKUP(B807, 'School List'!F:G,2,FALSE)","v":"Bancroft Per Art Mag"},"Magnet 2",0,0,293,0,0,null,11,null,0,0,0,304,0,0,12,0,0,12,0,0,11,0,0,11,{"$f":"VLOOKUP(A807,'Pivot Norm'!A:B,2,FALSE)","v":3},2,"18038012",0,0,0,0,0,0,1,0,0,0]
["1803801","1803803",{"$f":"VLOOKUP(B808, 'School List'!F:G,2,FALSE)","v":"Bancroft GSTEAM Mag"},"Magnet 2",0,0,117,0,0,null,null,null,0,0,0,117,0,0,5,0,0,5,0,0,5,0,0,5,{"$f":"VLOOKUP(A808,'Pivot Norm'!A:B,2,FALSE)","v":3},3,"18038013",0,0,0,0,0,0,0,0,0,0]
["1804501","1804501",{"$f":"VLOOKUP(B809, 'School List'!F:G,2,FALSE)","v":"Castro MS"},"PHBAO",0,0,330,0,0,null,22,null,0,0,0,352,0,0,13,0,0,13,0,0,11,0,0,11,{"$f":"VLOOKUP(A809,'Pivot Norm'!A:B,2,FALSE)","v":1},1,"18045011",1,0.5,2,1,0.5,2,0,0,0,0]
["1804701","1804701",{"$f":"VLOOKUP(B810, 'School List'!F:G,2,FALSE)","v":"Belvedere MS"},"PHBAO",0,0,418,0,0,null,67,null,0,0,0,485,0,0,16,0,0,16,0,0,16,0,0,16,{"$f":"VLOOKUP(A810,'Pivot Norm'!A:B,2,FALSE)","v":3},1,"18047011",2,2,3,2,2,3,0,0,0,0]
["1804701","1804702",{"$f":"VLOOKUP(B811, 'School List'!F:G,2,FALSE)","v":"Belvedere Media Mag"},"Magnet 2",0,0,143,0,0,null,null,null,0,0,0,143,0,0,6,0,0,6,0,0,6,0,0,6,{"$f":"VLOOKUP(A811,'Pivot Norm'!A:B,2,FALSE)","v":3},2,"18047012",0,0,0,0,0,0,0,0,0,0]
["1804701","1804703",{"$f":"VLOOKUP(B812, 'School List'!F:G,2,FALSE)","v":"Belvedere STEAM Mag"},"Magnet 2",0,0,142,0,0,null,null,null,0,0,0,142,0,0,6,0,0,6,0,0,6,0,0,6,{"$f":"VLOOKUP(A812,'Pivot Norm'!A:B,2,FALSE)","v":3},3,"18047013",0,0,0,0,0,0,0,0,0,0]
["1805701","1805701",{"$f":"VLOOKUP(B813, 'School List'!F:G,2,FALSE)","v":"Berendo MS"},"PHBAO",0,0,637,0,0,null,49,null,0,0,0,686,0,0,24,0,0,24,0,0,23,0,0,23,{"$f":"VLOOKUP(A813,'Pivot Norm'!A:B,2,FALSE)","v":1},1,"18057011",1,1,2,1,1,2,0,0,0,0]
["1805801","1805801",{"$f":"VLOOKUP(B814, 'School List'!F:G,2,FALSE)","v":"Liechty MS"},"PHBAO",0,0,841,0,0,null,89,null,0,0,0,930,0,0,34,0,0,34,0,0,33,0,0,33,{"$f":"VLOOKUP(A814,'Pivot Norm'!A:B,2,FALSE)","v":1},1,"18058011",2,2,3,2,2,3,0,0,0,0]
["1806001","1806001",{"$f":"VLOOKUP(B815, 'School List'!F:G,2,FALSE)","v":"Bethune MS"},"PHBAO",0,0,713,0,0,null,55,null,0,0,0,768,0,0,29,0,0,29,0,0,27,0,0,27,{"$f":"VLOOKUP(A815,'Pivot Norm'!A:B,2,FALSE)","v":2},1,"18060011",2,2,3,2,2,3,0,0,0,0]
["1806001","1806002",{"$f":"VLOOKUP(B816, 'School List'!F:G,2,FALSE)","v":"Bethune MS STM Mag"},"Magnet 2",0,0,210,0,0,null,null,null,0,0,0,210,0,0,9,0,0,9,0,0,9,0,0,9,{"$f":"VLOOKUP(A816,'Pivot Norm'!A:B,2,FALSE)","v":2},2,"18060012",0,0,0,0,0,0,0,0,0,0]
["1806201","1806201",{"$f":"VLOOKUP(B817, 'School List'!F:G,2,FALSE)","v":"Clinton MS"},"PHBAO",0,0,522,0,0,null,54,null,0,0,0,576,0,0,20,0,0,20,0,0,22,0,0,22,{"$f":"VLOOKUP(A817,'Pivot Norm'!A:B,2,FALSE)","v":1},1,"18062011",1,1,2,1,1,2,1,0,0,0]
["1806401","1806401",{"$f":"VLOOKUP(B818, 'School List'!F:G,2,FALSE)","v":"Kim Academy"},"PHBAO",0,0,809,0,0,null,3,null,0,0,0,812,0,0,30,0,0,30,0,0,30,0,0,30,{"$f":"VLOOKUP(A818,'Pivot Norm'!A:B,2,FALSE)","v":1},1,"18064011",2,2,3,2,2,3,0,0,0,0]
["1806601","1806601",{"$f":"VLOOKUP(B819, 'School List'!F:G,2,FALSE)","v":"Burbank MS Arts/Tech"},"Magnet 2",0,0,893,0,0,null,71,null,0,0,0,964,0,0,36,0,0,36,0,0,34,0,0,34,{"$f":"VLOOKUP(A819,'Pivot Norm'!A:B,2,FALSE)","v":2},1,"18066011",2,2,3,2,2,3,0,0,0,0]
["1806601","1806603",{"$f":"VLOOKUP(B820, 'School List'!F:G,2,FALSE)","v":"Burbank Police Ac Mg"},"Magnet 2",0,0,75,0,0,null,4,null,0,0,0,79,0,0,3,0,0,3,0,0,3,0,0,3,{"$f":"VLOOKUP(A820,'Pivot Norm'!A:B,2,FALSE)","v":2},2,"18066012",0,0,0,0,0,0,0,0,0,0]
["1807501","1807501",{"$f":"VLOOKUP(B821, 'School List'!F:G,2,FALSE)","v":"Burroughs MS"},"PHBAO",0,0,818,0,0,null,46,null,0,0,0,864,0,0,31,0,0,31,0,0,32,0,0,32,{"$f":"VLOOKUP(A821,'Pivot Norm'!A:B,2,FALSE)","v":2},1,"18075011",3,3,4,3,3,4,0,0,2,0]
["1807501","1807502",{"$f":"VLOOKUP(B822, 'School List'!F:G,2,FALSE)","v":"Burroughs Gifted Mag"},"Magnet 2",0,0,650,0,0,null,null,null,0,0,0,650,0,0,26,0,0,26,0,0,24,0,0,24,{"$f":"VLOOKUP(A822,'Pivot Norm'!A:B,2,FALSE)","v":2},2,"18075012",0,0,0,0,0,0,0,0,0,0]
["1808001","1808001",{"$f":"VLOOKUP(B823, 'School List'!F:G,2,FALSE)","v":"Byrd MS"},"PHBAO",0,0,844,0,0,null,44,null,0,0,0,888,0,0,32,0,0,32,0,0,30,0,0,30,{"$f":"VLOOKUP(A823,'Pivot Norm'!A:B,2,FALSE)","v":2},1,"18080011",2,2,4,2,2,4,0,0,0,0]
["1808001","1808002",{"$f":"VLOOKUP(B824, 'School List'!F:G,2,FALSE)","v":"Byrd MS STM Mag"},"Magnet 2",0,0,350,0,0,null,null,null,0,0,0,350,0,0,14,0,0,14,0,0,14,0,0,14,{"$f":"VLOOKUP(A824,'Pivot Norm'!A:B,2,FALSE)","v":2},2,"18080012",0,0,0,0,0,0,0,0,0,0]
["1809001","1809001",{"$f":"VLOOKUP(B825, 'School List'!F:G,2,FALSE)","v":"Carnegie MS"},"PHBAO",0,0,517,0,0,null,41,null,0,0,0,558,0,0,20,0,0,20,0,0,20,0,0,20,{"$f":"VLOOKUP(A825,'Pivot Norm'!A:B,2,FALSE)","v":2},1,"18090011",2,1,3,2,1,3,0,0,0,0]
["1809001","1809002",{"$f":"VLOOKUP(B826, 'School List'!F:G,2,FALSE)","v":"Carnegie Medical Mag"},"Magnet 2",0,0,150,0,0,null,null,null,0,0,0,150,0,0,6,0,0,6,0,0,6,0,0,6,{"$f":"VLOOKUP(A826,'Pivot Norm'!A:B,2,FALSE)","v":2},2,"18090012",0,0,0,0,0,0,0,0,0,0]
["1809401","1809401",{"$f":"VLOOKUP(B827, 'School List'!F:G,2,FALSE)","v":"Carver MS"},"PHBAO",0,0,612,0,0,null,67,null,0,0,0,679,0,0,25,0,0,25,0,0,24,0,0,24,{"$f":"VLOOKUP(A827,'Pivot Norm'!A:B,2,FALSE)","v":1},1,"18094011",1,1,2,2,1,3,0,0,0,0]
["1810201","1810201",{"$f":"VLOOKUP(B828, 'School List'!F:G,2,FALSE)","v":"Columbus MS"},"PHBAO",0,0,317,0,0,null,53,null,0,0,0,370,0,0,12,0,0,12,0,0,13,0,0,13,{"$f":"VLOOKUP(A828,'Pivot Norm'!A:B,2,FALSE)","v":3},1,"18102011",2,1,3,2,1,3,0,0,0,0]
["1810201","1810202",{"$f":"VLOOKUP(B829, 'School List'!F:G,2,FALSE)","v":"Columbus MS M/S/Med"},"Magnet 2",0,0,300,0,0,null,5,null,0,0,0,305,0,0,12,0,0,12,0,0,12,0,0,12,{"$f":"VLOOKUP(A829,'Pivot Norm'!A:B,2,FALSE)","v":3},2,"18102012",0,0,0,0,0,0,0,0,0,0]
["1810201","1810203",{"$f":"VLOOKUP(B830, 'School List'!F:G,2,FALSE)","v":"Columbus MS MAC Mag"},"Magnet 2",0,0,66,0,0,null,null,null,null,null,null,66,0,0,3,0,0,3,0,0,0,0,0,0,{"$f":"VLOOKUP(A830,'Pivot Norm'!A:B,2,FALSE)","v":3},3,"18102013",0,0,0,0,0,0,0,0,0,0]
["1810301","1810301",{"$f":"VLOOKUP(B831, 'School List'!F:G,2,FALSE)","v":"Curtiss MS"},"PHBAO",0,0,198,0,0,null,29,null,0,0,0,227,0,0,8,0,0,8,0,0,6,0,0,6,{"$f":"VLOOKUP(A831,'Pivot Norm'!A:B,2,FALSE)","v":2},1,"18103011",1,1,2,1,1,2,0,0,0,0]
["1810301","1810302",{"$f":"VLOOKUP(B832, 'School List'!F:G,2,FALSE)","v":"Curtiss STEAM Mag"},"Magnet 2",0,0,282,0,0,null,4,null,0,0,0,286,0,0,12,0,0,12,0,0,11,0,0,11,{"$f":"VLOOKUP(A832,'Pivot Norm'!A:B,2,FALSE)","v":2},2,"18103012",0,0,0,0,0,0,0,0,0,0]
["1810401","1810401",{"$f":"VLOOKUP(B833, 'School List'!F:G,2,FALSE)","v":"Dana MS"},"PHBAO",0,0,1018,0,0,null,101,null,0,0,0,1119,0,0,38,0,0,38,0,0,36,0,0,36,{"$f":"VLOOKUP(A833,'Pivot Norm'!A:B,2,FALSE)","v":2},1,"18104011",3,3,4,3,3,4,0,0,0,0]
["1810401","1810402",{"$f":"VLOOKUP(B834, 'School List'!F:G,2,FALSE)","v":"Dana STEAM Magnet"},"Magnet 1",0,0,460,0,0,null,null,null,0,0,0,460,0,0,17,0,0,17,0,0,17,0,0,17,{"$f":"VLOOKUP(A834,'Pivot Norm'!A:B,2,FALSE)","v":2},2,"18104012",0,0,0,0,0,0,0,0,0,0]
["1810701","1810701",{"$f":"VLOOKUP(B835, 'School List'!F:G,2,FALSE)","v":"Gaspar de Portola CM"},"Non-PHBAO",0,0,1263,0,0,null,57,null,0,0,0,1320,0,0,42,0,0,42,0,0,40,0,0,40,{"$f":"VLOOKUP(A835,'Pivot Norm'!A:B,2,FALSE)","v":3},1,"18107011",3,3,5,3,2,5,0,0,0,0]
["1810701","1810702",{"$f":"VLOOKUP(B836, 'School List'!F:G,2,FALSE)","v":"Portola HG Magnet"},"Magnet 1",0,0,270,0,0,null,null,null,0,0,0,270,0,0,10,0,0,10,0,0,9,0,0,9,{"$f":"VLOOKUP(A836,'Pivot Norm'!A:B,2,FALSE)","v":3},2,"18107012",0,0,0,0,0,0,0,0,0,0]
["1810701","1810703",{"$f":"VLOOKUP(B837, 'School List'!F:G,2,FALSE)","v":"Acad of Int Art"},"Non-PHBAO",0,0,72,0,0,null,null,null,0,0,0,72,0,0,3,0,0,3,0,0,5,0,0,5,{"$f":"VLOOKUP(A837,'Pivot Norm'!A:B,2,FALSE)","v":3},3,"18107013",0,0,0,0,0,0,0,0,0,0]
["1811001","1811001",{"$f":"VLOOKUP(B838, 'School List'!F:G,2,FALSE)","v":"Dodson MS"},"PHBAO",0,0,304,0,0,null,34,null,0,0,0,338,0,0,12,0,0,12,0,0,12,0,0,12,{"$f":"VLOOKUP(A838,'Pivot Norm'!A:B,2,FALSE)","v":3},1,{"$f":"A838&AD838","v":"18110011"},3,3,4,3,3,4,0,0,0,0]
["1811001","1811002",{"$f":"VLOOKUP(B839, 'School List'!F:G,2,FALSE)","v":"Dodson MS Gifted Mag"},"Magnet 2",0,0,850,0,0,null,null,null,0,0,0,850,0,0,34,0,0,34,0,0,33,0,0,33,{"$f":"VLOOKUP(A839,'Pivot Norm'!A:B,2,FALSE)","v":3},2,"18110012",0,0,0,0,0,0,1,0,0,0]
["1811001","1811003",{"$f":"VLOOKUP(B840, 'School List'!F:G,2,FALSE)","v":"Dodson VAPA Mag"},"Magnet 2",0,0,350,0,0,null,1,null,0,0,0,351,0,0,14,0,0,14,0,0,14,0,0,14,{"$f":"VLOOKUP(A840,'Pivot Norm'!A:B,2,FALSE)","v":3},{"$f":"IF(A840=A839,AD839+1,1)","v":3},"18110013",0,0,0,0,0,0,0,0,0,0]
["1811201","1811201",{"$f":"VLOOKUP(B841, 'School List'!F:G,2,FALSE)","v":"Drew MS"},"PHBAO",0,0,710,0,0,null,29,null,0,0,0,739,0,0,27,0,0,27,0,0,24,0,0,24,{"$f":"VLOOKUP(A841,'Pivot Norm'!A:B,2,FALSE)","v":2},1,"18112011",2,2,3,2,2,3,0,0,0,0]
["1811201","1811202",{"$f":"VLOOKUP(B842, 'School List'!F:G,2,FALSE)","v":"Drew MS Gifted Mag"},"Magnet 2",0,0,95,0,0,null,null,null,0,0,0,95,0,0,4,0,0,4,0,0,4,0,0,4,{"$f":"VLOOKUP(A842,'Pivot Norm'!A:B,2,FALSE)","v":2},2,"18112012",0,0,0,0,0,0,0,0,0,0]
["1811301","1811301",{"$f":"VLOOKUP(B843, 'School List'!F:G,2,FALSE)","v":"Edison MS"},"PHBAO",0,0,838,0,0,null,86,null,0,0,0,924,0,0,32,0,0,32,0,0,33,0,0,33,{"$f":"VLOOKUP(A843,'Pivot Norm'!A:B,2,FALSE)","v":1},1,"18113011",2,2,3,2,2,3,1,0,0,0]
["1811601","1811601",{"$f":"VLOOKUP(B844, 'School List'!F:G,2,FALSE)","v":"Romer MS"},"PHBAO",0,0,524,0,0,null,65,null,0,0,0,589,0,0,20,0,0,20,0,0,20,0,0,20,{"$f":"VLOOKUP(A844,'Pivot Norm'!A:B,2,FALSE)","v":3},1,"18116011",2,2,3,2,2,3,0,0,0,0]
["1811601","1811602",{"$f":"VLOOKUP(B845, 'School List'!F:G,2,FALSE)","v":"Romer STEM Magnet"},"Magnet 2",0,0,305,0,0,null,3,null,0,0,0,308,0,0,13,0,0,13,0,0,12,0,0,12,{"$f":"VLOOKUP(A845,'Pivot Norm'!A:B,2,FALSE)","v":3},2,"18116012",0,0,0,0,0,0,0,0,0,0]
["1811601","1811603",{"$f":"VLOOKUP(B846, 'School List'!F:G,2,FALSE)","v":"Romer G/HG/HA/H Mag"},"Magnet 2",0,0,56,0,0,null,null,null,0,0,0,56,0,0,3,0,0,3,0,0,3,0,0,3,{"$f":"VLOOKUP(A846,'Pivot Norm'!A:B,2,FALSE)","v":3},3,"18116013",0,0,0,0,0,0,0,0,0,0]
["1811701","1811701",{"$f":"VLOOKUP(B847, 'School List'!F:G,2,FALSE)","v":"Vista MS"},"PHBAO",0,0,709,0,0,null,85,null,0,0,0,794,0,0,27,0,0,27,0,0,27,0,0,27,{"$f":"VLOOKUP(A847,'Pivot Norm'!A:B,2,FALSE)","v":4},1,"18117011",2,2,4,2,2,4,0,0,0,0]
["1811701","1811703",{"$f":"VLOOKUP(B848, 'School List'!F:G,2,FALSE)","v":"Vista SMCP Mag"},"Magnet 2",0,0,275,0,0,null,9,null,0,0,0,284,0,0,11,0,0,11,0,0,11,0,0,11,{"$f":"VLOOKUP(A848,'Pivot Norm'!A:B,2,FALSE)","v":4},2,"18117012",0,0,0,0,0,0,0,0,0,0]
["1811701","1811704",{"$f":"VLOOKUP(B849, 'School List'!F:G,2,FALSE)","v":"Vista GSTEAM Mag"},"Magnet 2",0,0,100,0,0,null,null,null,0,0,0,100,0,0,4,0,0,4,0,0,4,0,0,4,{"$f":"VLOOKUP(A849,'Pivot Norm'!A:B,2,FALSE)","v":4},3,"18117013",0,0,0,0,0,0,0,0,0,0]
["1811701","1811705",{"$f":"VLOOKUP(B850, 'School List'!F:G,2,FALSE)","v":"Vista MS LGSJL Mag"},"Magnet 2",0,0,65,0,0,null,null,null,null,null,null,65,0,0,3,0,0,3,0,0,0,0,0,0,{"$f":"VLOOKUP(A850,'Pivot Norm'!A:B,2,FALSE)","v":4},4,"18117014",0,0,0,0,0,0,0,0,0,0]
["1811801","1811801",{"$f":"VLOOKUP(B851, 'School List'!F:G,2,FALSE)","v":"El Sereno MS"},"PHBAO",0,0,548,0,0,null,52,null,0,0,0,600,0,0,21,0,0,21,0,0,22,0,0,22,{"$f":"VLOOKUP(A851,'Pivot Norm'!A:B,2,FALSE)","v":4},1,"18118011",2,2,3,2,2,3,0,0,0,0]
["1811801","1811802",{"$f":"VLOOKUP(B852, 'School List'!F:G,2,FALSE)","v":"El Sereno STEM Mag"},"Magnet 2",0,0,125,0,0,null,2,null,0,0,0,127,0,0,5,0,0,5,0,0,5,0,0,5,{"$f":"VLOOKUP(A852,'Pivot Norm'!A:B,2,FALSE)","v":4},2,"18118012",0,0,0,0,0,0,0,0,0,0]
["1811801","1811803",{"$f":"VLOOKUP(B853, 'School List'!F:G,2,FALSE)","v":"El Sereno Gifted Mag"},"Magnet 2",0,0,125,0,0,null,null,null,0,0,0,125,0,0,5,0,0,5,0,0,5,0,0,5,{"$f":"VLOOKUP(A853,'Pivot Norm'!A:B,2,FALSE)","v":4},3,"18118013",0,0,0,0,0,0,0,0,0,0]
["1811801","1811804",{"$f":"VLOOKUP(B854, 'School List'!F:G,2,FALSE)","v":"El Sereno ESH Mag"},"Magnet 2",0,0,150,0,0,null,null,null,0,0,0,150,0,0,6,0,0,6,0,0,6,0,0,6,{"$f":"VLOOKUP(A854,'Pivot Norm'!A:B,2,FALSE)","v":4},4,"18118014",0,0,0,0,0,0,0,0,0,0]
["1812301","1812301",{"$f":"VLOOKUP(B855, 'School List'!F:G,2,FALSE)","v":"Emerson Comm Charter"},"Non-PHBAO",0,0,489,0,0,null,40,null,0,0,0,529,0,0,17,0,0,17,0,0,15,0,0,15,{"$f":"VLOOKUP(A855,'Pivot Norm'!A:B,2,FALSE)","v":1},1,"18123011",1,1,2,1,1,2,0,0,0,0]
["1812701","1812701",{"$f":"VLOOKUP(B856, 'School List'!F:G,2,FALSE)","v":"Fleming MS"},"PHBAO",0,0,654,0,0,null,96,null,0,0,0,750,0,0,25,0,0,25,0,0,26,0,0,26,{"$f":"VLOOKUP(A856,'Pivot Norm'!A:B,2,FALSE)","v":2},1,"18127011",2,2,3,2,2,4,0,0,0,0]
["1812701","1812702",{"$f":"VLOOKUP(B857, 'School List'!F:G,2,FALSE)","v":"Fleming MS STM Mag"},"Magnet 2",0,0,400,0,0,null,null,null,0,0,0,400,0,0,16,0,0,16,0,0,15,0,0,15,{"$f":"VLOOKUP(A857,'Pivot Norm'!A:B,2,FALSE)","v":2},2,"18127012",0,0,0,0,0,0,0,0,0,0]
["1813201","1813201",{"$f":"VLOOKUP(B858, 'School List'!F:G,2,FALSE)","v":"Foshay LC"},"PHBAO",96,51,844,455,778,null,69,null,0,0,0,1838,4,2,32,3,25,66,4,2,31,3,23,63,{"$f":"VLOOKUP(A858,'Pivot Norm'!A:B,2,FALSE)","v":1},1,"18132011",4,3,5,4,3,5,0,0,0,0]
["1813701","1813701",{"$f":"VLOOKUP(B859, 'School List'!F:G,2,FALSE)","v":"Frost MS"},"Non-PHBAO",0,0,1000,0,0,null,32,null,0,0,0,1032,0,0,33,0,0,33,0,0,34,0,0,34,{"$f":"VLOOKUP(A859,'Pivot Norm'!A:B,2,FALSE)","v":3},1,"18137011",3,3,4,3,2,4,0,0,0,0]
["1813701","1813702",{"$f":"VLOOKUP(B860, 'School List'!F:G,2,FALSE)","v":"Frost MS STEM Mag"},"Magnet 1",0,0,406,0,0,null,4,null,0,0,0,410,0,0,15,0,0,15,0,0,15,0,0,15,{"$f":"VLOOKUP(A860,'Pivot Norm'!A:B,2,FALSE)","v":3},2,"18137012",0,0,0,0,0,0,0,0,0,0]
["1813701","1813703",{"$f":"VLOOKUP(B861, 'School List'!F:G,2,FALSE)","v":"Frost MS GMC Mag"},"Magnet 1",0,0,60,0,0,null,null,null,null,null,null,60,0,0,3,0,0,3,0,0,0,0,0,0,{"$f":"VLOOKUP(A861,'Pivot Norm'!A:B,2,FALSE)","v":3},3,"18137013",0,0,0,0,0,0,0,0,0,0]
["1814201","1814201",{"$f":"VLOOKUP(B862, 'School List'!F:G,2,FALSE)","v":"Fulton College Prep"},"PHBAO",0,0,548,261,467,null,19,16,0,0,0,1050,0,0,21,2,15,38,0,0,22,2,15,39,{"$f":"VLOOKUP(A862,'Pivot Norm'!A:B,2,FALSE)","v":2},1,"18142011",2,2,4,2,2,4,0,0,0,0]
["1814201","1814204",{"$f":"VLOOKUP(B863, 'School List'!F:G,2,FALSE)","v":"Fulton CAM Mag"},"Magnet 2",0,0,73,0,107,null,null,null,0,0,0,180,0,0,3,0,5,8,0,0,4,0,3,7,{"$f":"VLOOKUP(A863,'Pivot Norm'!A:B,2,FALSE)","v":2},2,"18142012",0,0,0,0,0,0,0,0,0,0]
["1815101","1815101",{"$f":"VLOOKUP(B864, 'School List'!F:G,2,FALSE)","v":"Gage MS"},"PHBAO",0,0,919,0,0,null,65,null,0,0,0,984,0,0,35,0,0,35,0,0,36,0,0,36,{"$f":"VLOOKUP(A864,'Pivot Norm'!A:B,2,FALSE)","v":2},1,"18151011",2,3,4,3,2,4,0,0,0,0]
["1815101","1815102",{"$f":"VLOOKUP(B865, 'School List'!F:G,2,FALSE)","v":"Gage MS STEM Mag"},"Magnet 2",0,0,275,0,0,null,null,null,0,0,0,275,0,0,11,0,0,11,0,0,11,0,0,11,{"$f":"VLOOKUP(A865,'Pivot Norm'!A:B,2,FALSE)","v":2},2,"18151012",0,0,0,0,0,0,0,0,0,0]
["1815301","1815301",{"$f":"VLOOKUP(B866, 'School List'!F:G,2,FALSE)","v":"Southeast MS"},"PHBAO",0,0,686,0,0,null,84,null,0,0,0,770,0,0,28,0,0,28,0,0,27,0,0,27,{"$f":"VLOOKUP(A866,'Pivot Norm'!A:B,2,FALSE)","v":2},1,"18153011",2,2,4,2,2,4,0,0,0,0]
["1815301","1815302",{"$f":"VLOOKUP(B867, 'School List'!F:G,2,FALSE)","v":"Southeast DREAMS Mg"},"Magnet 2",0,0,466,0,0,null,null,null,0,0,0,466,0,0,20,0,0,20,0,0,20,0,0,20,{"$f":"VLOOKUP(A867,'Pivot Norm'!A:B,2,FALSE)","v":2},2,"18153012",0,0,0,0,0,0,0,0,0,0]
["1816001","1816001",{"$f":"VLOOKUP(B868, 'School List'!F:G,2,FALSE)","v":"Gompers MS"},"PHBAO",0,0,309,0,0,null,83,null,0,0,0,392,0,0,13,0,0,13,0,0,12,0,0,12,{"$f":"VLOOKUP(A868,'Pivot Norm'!A:B,2,FALSE)","v":2},1,"18160011",1,1,2,1,1,2,0,0,0,0]
["1816001","1816002",{"$f":"VLOOKUP(B869, 'School List'!F:G,2,FALSE)","v":"Gompers STEAM Mag"},"Magnet 2",0,0,77,0,0,null,null,null,0,0,0,77,0,0,4,0,0,4,0,0,4,0,0,4,{"$f":"VLOOKUP(A869,'Pivot Norm'!A:B,2,FALSE)","v":2},2,"18160012",0,0,0,0,0,0,0,0,0,0]
["1816801","1816801",{"$f":"VLOOKUP(B870, 'School List'!F:G,2,FALSE)","v":"Griffith MS"},"Magnet 2",0,0,1220,0,0,null,102,null,0,0,0,1322,0,0,49,0,0,49,0,0,46,0,0,46,{"$f":"VLOOKUP(A870,'Pivot Norm'!A:B,2,FALSE)","v":1},1,"18168011",2,3,4,2,2,4,0,0,0,0]
["1816901","1816901",{"$f":"VLOOKUP(B871, 'School List'!F:G,2,FALSE)","v":"G E Hale Chrtr Acad"},"Non-PHBAO",0,0,1146,0,0,null,62,null,0,0,0,1208,0,0,38,0,0,38,0,0,42,0,0,42,{"$f":"VLOOKUP(A871,'Pivot Norm'!A:B,2,FALSE)","v":3},1,"18169011",4,4,5,4,3,5,0,0,4,0]
["1816901","1816902",{"$f":"VLOOKUP(B872, 'School List'!F:G,2,FALSE)","v":"Hale Gifted/STEAM Mg"},"Magnet 1",0,0,460,0,0,null,null,null,0,0,0,460,0,0,17,0,0,17,0,0,17,0,0,17,{"$f":"VLOOKUP(A872,'Pivot Norm'!A:B,2,FALSE)","v":3},2,"18169012",0,0,0,0,0,0,0,0,0,0]
["1816901","1816903",{"$f":"VLOOKUP(B873, 'School List'!F:G,2,FALSE)","v":"Hale VAPA Mag"},"Magnet 1",0,0,306,0,0,null,null,null,0,0,0,306,0,0,12,0,0,12,0,0,6,0,0,6,{"$f":"VLOOKUP(A873,'Pivot Norm'!A:B,2,FALSE)","v":3},3,"18169013",0,0,0,0,0,0,0,0,0,0]
["1817001","1817001",{"$f":"VLOOKUP(B874, 'School List'!F:G,2,FALSE)","v":"Harte Prep MS"},"PHBAO",0,0,358,0,0,null,47,null,0,0,0,405,0,0,15,0,0,15,0,0,13,0,0,13,{"$f":"VLOOKUP(A874,'Pivot Norm'!A:B,2,FALSE)","v":1},1,"18170011",1,1,2,1,0.5,2,0,0,0,0.5]
["1817401","1817401",{"$f":"VLOOKUP(B875, 'School List'!F:G,2,FALSE)","v":"Henry MS"},"PHBAO",0,0,367,0,0,null,41,null,0,0,0,408,0,0,14,0,0,14,0,0,15,0,0,15,{"$f":"VLOOKUP(A875,'Pivot Norm'!A:B,2,FALSE)","v":3},1,"18174011",2,2,3,2,2,3,0,0,0,0]
["1817401","1817402",{"$f":"VLOOKUP(B876, 'School List'!F:G,2,FALSE)","v":"Henry MS Comp/M/S Mg"},"Magnet 2",0,0,350,0,0,null,4,null,0,0,0,354,0,0,14,0,0,14,0,0,14,0,0,14,{"$f":"VLOOKUP(A876,'Pivot Norm'!A:B,2,FALSE)","v":3},2,"18174012",0,0,0,0,0,0,0,0,0,0]
["1817401","1817403",{"$f":"VLOOKUP(B877, 'School List'!F:G,2,FALSE)","v":"Henry MS VAPA Mag"},"Magnet 2",0,0,350,0,0,null,10,null,0,0,0,360,0,0,14,0,0,14,0,0,14,0,0,14,{"$f":"VLOOKUP(A877,'Pivot Norm'!A:B,2,FALSE)","v":3},3,"18174013",0,0,0,0,0,0,0,0,0,0]
["1817901","1817901",{"$f":"VLOOKUP(B878, 'School List'!F:G,2,FALSE)","v":"Hollenbeck MS"},"PHBAO",0,0,450,0,0,null,75,null,0,0,0,525,0,0,17,0,0,17,0,0,19,0,0,19,{"$f":"VLOOKUP(A878,'Pivot Norm'!A:B,2,FALSE)","v":3},1,"18179011",2,2,3,2,2,3,0,0,1,0]
["1817901","1817902",{"$f":"VLOOKUP(B879, 'School List'!F:G,2,FALSE)","v":"Hollenbeck STEAMM Mg"},"Magnet 2",0,0,300,0,0,null,1,null,0,0,0,301,0,0,12,0,0,12,0,0,12,0,0,12,{"$f":"VLOOKUP(A879,'Pivot Norm'!A:B,2,FALSE)","v":3},2,"18179012",0,0,0,0,0,0,0,0,0,0]
["1817901","1817903",{"$f":"VLOOKUP(B880, 'School List'!F:G,2,FALSE)","v":"Hollenbeck L/PS Mag"},"Magnet 2",0,0,142,0,0,null,1,null,0,0,0,143,0,0,6,0,0,6,0,0,6,0,0,6,{"$f":"VLOOKUP(A880,'Pivot Norm'!A:B,2,FALSE)","v":3},3,"18179013",0,0,0,0,0,0,0,0,0,0]
["1818201","1818201",{"$f":"VLOOKUP(B881, 'School List'!F:G,2,FALSE)","v":"Holmes MS"},"PHBAO",0,0,622,0,0,null,42,null,0,0,0,664,0,0,24,0,0,24,0,0,25,0,0,25,{"$f":"VLOOKUP(A881,'Pivot Norm'!A:B,2,FALSE)","v":2},1,"18182011",2,2,3,2,2,3,1,0,0,0]
["1818201","1818202",{"$f":"VLOOKUP(B882, 'School List'!F:G,2,FALSE)","v":"Holmes Int Human Mag"},"Magnet 2",0,0,400,0,0,null,5,null,0,0,0,405,0,0,16,0,0,16,0,0,16,0,0,16,{"$f":"VLOOKUP(A882,'Pivot Norm'!A:B,2,FALSE)","v":2},2,"18182012",0,0,0,0,0,0,0,0,0,0]
["1818901","1818901",{"$f":"VLOOKUP(B883, 'School List'!F:G,2,FALSE)","v":"Irving MME Mag"},"Magnet 2",0,0,700,0,0,null,38,null,0,0,0,738,0,0,28,0,0,28,0,0,28,0,0,28,{"$f":"VLOOKUP(A883,'Pivot Norm'!A:B,2,FALSE)","v":1},1,"18189011",2,1,3,2,1,3,0,0,0,1]
["1820001","1820001",{"$f":"VLOOKUP(B884, 'School List'!F:G,2,FALSE)","v":"Los Angeles Acad MS"},"PHBAO",0,0,733,0,0,null,77,null,0,0,0,810,0,0,28,0,0,28,0,0,28,0,0,28,{"$f":"VLOOKUP(A884,'Pivot Norm'!A:B,2,FALSE)","v":2},1,"18200011",2,2,3,2,2,3,0,0,0,0]
["1820001","1820002",{"$f":"VLOOKUP(B885, 'School List'!F:G,2,FALSE)","v":"LA Academy STEAM Mag"},"Magnet 2",0,0,300,0,0,null,5,null,0,0,0,305,0,0,12,0,0,12,0,0,12,0,0,12,{"$f":"VLOOKUP(A885,'Pivot Norm'!A:B,2,FALSE)","v":2},2,"18200012",0,0,0,0,0,0,0,0,0,0]
["1820601","1820601",{"$f":"VLOOKUP(B886, 'School List'!F:G,2,FALSE)","v":"RFK Sch Vis Arts/Hum"},"PHBAO",0,0,0,238,422,null,null,9,0,0,0,431,0,0,0,2,14,16,0,0,0,2,13,15,{"$f":"VLOOKUP(A886,'Pivot Norm'!A:B,2,FALSE)","v":1},1,"18206011",1,1,2,1,1,2,0,0,0,0]
["1820701","1820701",{"$f":"VLOOKUP(B887, 'School List'!F:G,2,FALSE)","v":"Contreras LC ALC"},"PHBAO",0,0,0,287,473,null,null,13,0,0,0,486,0,0,0,2,15,17,0,0,0,2,14,16,{"$f":"VLOOKUP(A887,'Pivot Norm'!A:B,2,FALSE)","v":1},1,"18207011",1,1,2,1,1,2,0,0,0,0]
["1820801","1820801",{"$f":"VLOOKUP(B888, 'School List'!F:G,2,FALSE)","v":"King Film/Media Mag"},"Magnet 2",0,0,925,0,0,null,66,null,0,0,0,991,0,0,37,0,0,37,0,0,37,0,0,37,{"$f":"VLOOKUP(A888,'Pivot Norm'!A:B,2,FALSE)","v":3},1,"18208011",4,4,5,4,3,5,0,0,0,0]
["1820801","1820802",{"$f":"VLOOKUP(B889, 'School List'!F:G,2,FALSE)","v":"King MS Gifted/AT Mg"},"Magnet 1",0,0,460,0,0,null,null,null,0,0,0,460,0,0,17,0,0,17,0,0,17,0,0,17,{"$f":"VLOOKUP(A889,'Pivot Norm'!A:B,2,FALSE)","v":3},2,"18208012",0,0,0,0,0,0,0,0,0,0]
["1820801","1820803",{"$f":"VLOOKUP(B890, 'School List'!F:G,2,FALSE)","v":"King ESTEAM Mag"},"Magnet 1",0,0,460,0,0,null,3,null,0,0,0,463,0,0,17,0,0,17,0,0,17,0,0,17,{"$f":"VLOOKUP(A890,'Pivot Norm'!A:B,2,FALSE)","v":3},3,"18208013",0,0,0,0,0,0,0,0,0,0]
["1821701","1821701",{"$f":"VLOOKUP(B891, 'School List'!F:G,2,FALSE)","v":"Lawrence MS"},"PHBAO",0,0,630,0,0,null,59,null,0,0,0,689,0,0,24,0,0,24,0,0,26,0,0,26,{"$f":"VLOOKUP(A891,'Pivot Norm'!A:B,2,FALSE)","v":3},1,"18217011",2,3,4,2,2,4,0,0,0,0]
["1821701","1821702",{"$f":"VLOOKUP(B892, 'School List'!F:G,2,FALSE)","v":"Lawrence Gifted Mag"},"Magnet 2",0,0,398,0,0,null,null,null,0,0,0,398,0,0,16,0,0,16,0,0,15,0,0,15,{"$f":"VLOOKUP(A892,'Pivot Norm'!A:B,2,FALSE)","v":3},2,"18217012",0,0,0,0,0,0,1,0,0,0]
["1821701","1821703",{"$f":"VLOOKUP(B893, 'School List'!F:G,2,FALSE)","v":"Lawrence Pio Sci Mag"},"Magnet 2",0,0,169,0,0,null,1,null,0,0,0,170,0,0,7,0,0,7,0,0,7,0,0,7,{"$f":"VLOOKUP(A893,'Pivot Norm'!A:B,2,FALSE)","v":3},3,"18217013",0,0,0,0,0,0,0,0,0,0]
["1822601","1822601",{"$f":"VLOOKUP(B894, 'School List'!F:G,2,FALSE)","v":"Le Conte MS"},"PHBAO",0,0,355,0,0,null,20,null,0,0,0,375,0,0,14,0,0,14,0,0,14,0,0,14,{"$f":"VLOOKUP(A894,'Pivot Norm'!A:B,2,FALSE)","v":3},1,"18226011",1,1,2,1,1,2,0,0,0,0]
["1822601","1822602",{"$f":"VLOOKUP(B895, 'School List'!F:G,2,FALSE)","v":"Le Conte HEAT Magnet"},"Magnet 2",0,0,131,0,0,null,1,null,0,0,0,132,0,0,6,0,0,6,0,0,5,0,0,5,{"$f":"VLOOKUP(A895,'Pivot Norm'!A:B,2,FALSE)","v":3},2,"18226012",0,0,0,0,0,0,1,0,0,0]
["1822601","1822603",{"$f":"VLOOKUP(B896, 'School List'!F:G,2,FALSE)","v":"Le Conte CES CA Mag"},"Magnet 2",0,0,134,0,0,null,1,null,0,0,0,135,0,0,6,0,0,6,0,0,6,0,0,6,{"$f":"VLOOKUP(A896,'Pivot Norm'!A:B,2,FALSE)","v":3},3,"18226013",0,0,0,0,0,0,0,0,0,0]
["1822801","1822801",{"$f":"VLOOKUP(B897, 'School List'!F:G,2,FALSE)","v":"Maclay MS"},"PHBAO",0,0,344,0,0,null,26,null,0,0,0,370,0,0,14,0,0,14,0,0,15,0,0,15,{"$f":"VLOOKUP(A897,'Pivot Norm'!A:B,2,FALSE)","v":1},1,"18228011",1,0.5,2,1,1,2,0,0,0,0]
["1823001","1823001",{"$f":"VLOOKUP(B898, 'School List'!F:G,2,FALSE)","v":"Madison MS"},"PHBAO",0,0,678,0,0,null,108,null,0,0,0,786,0,0,26,0,0,26,0,0,28,0,0,28,{"$f":"VLOOKUP(A898,'Pivot Norm'!A:B,2,FALSE)","v":3},1,"18230011",3,3,4,3,3,4,0,0,0,0]
["1823001","1823002",{"$f":"VLOOKUP(B899, 'School List'!F:G,2,FALSE)","v":"Madison M/S/Med Mag"},"Magnet 1",0,0,297,0,0,null,null,null,0,0,0,297,0,0,11,0,0,11,0,0,11,0,0,11,{"$f":"VLOOKUP(A899,'Pivot Norm'!A:B,2,FALSE)","v":3},2,"18230012",0,0,0,0,0,0,0,0,0,0]
["1823001","1823003",{"$f":"VLOOKUP(B900, 'School List'!F:G,2,FALSE)","v":"Madison CSED Mag"},"Magnet 1",0,0,379,0,0,null,1,null,0,0,0,380,0,0,14,0,0,14,0,0,14,0,0,14,{"$f":"VLOOKUP(A900,'Pivot Norm'!A:B,2,FALSE)","v":3},3,"18230013",0,0,0,0,0,0,0,0,0,0]
["1823501","1823501",{"$f":"VLOOKUP(B901, 'School List'!F:G,2,FALSE)","v":"Marina Del Rey MS"},"PHBAO",0,0,192,0,0,null,29,null,0,0,0,221,0,0,8,0,0,8,0,0,7,0,0,7,{"$f":"VLOOKUP(A901,'Pivot Norm'!A:B,2,FALSE)","v":2},1,"18235011",1,1,2,1,1,2,0,0,0,0]
["1823501","1823502",{"$f":"VLOOKUP(B902, 'School List'!F:G,2,FALSE)","v":"Marina Del Rey PA Mg"},"Magnet 2",0,0,262,0,0,null,12,null,0,0,0,274,0,0,11,0,0,11,0,0,10,0,0,10,{"$f":"VLOOKUP(A902,'Pivot Norm'!A:B,2,FALSE)","v":2},2,{"$f":"A902&AD902","v":"18235012"},0,0,0,0,0,0,1,0,0,0]
["1823701","1823701",{"$f":"VLOOKUP(B903, 'School List'!F:G,2,FALSE)","v":"Markham MS"},"PHBAO",0,0,491,0,0,null,96,null,0,0,0,587,0,0,20,0,0,20,0,0,18,0,0,18,{"$f":"VLOOKUP(A903,'Pivot Norm'!A:B,2,FALSE)","v":3},1,"18237011",2,2,3,2,1,3,0,0,0,0]
["1823701","1823702",{"$f":"VLOOKUP(B904, 'School List'!F:G,2,FALSE)","v":"Markham Hlth CAR Mag"},"Magnet 2",0,0,132,0,0,null,null,null,0,0,0,132,0,0,6,0,0,6,0,0,6,0,0,6,{"$f":"VLOOKUP(A904,'Pivot Norm'!A:B,2,FALSE)","v":3},{"$f":"IF(A904=A903,AD903+1,1)","v":2},"18237012",0,0,0,0,0,0,0,0,0,0]
["1823701","1823703",{"$f":"VLOOKUP(B905, 'School List'!F:G,2,FALSE)","v":"Markham MS VAPA Mag"},"Magnet 2",0,0,45,0,0,null,null,null,null,null,null,45,0,0,2,0,0,2,0,0,0,0,0,0,{"$f":"VLOOKUP(A905,'Pivot Norm'!A:B,2,FALSE)","v":3},3,"18237013",0,0,0,0,0,0,0,0,0,0]
["1823801","1823801",{"$f":"VLOOKUP(B906, 'School List'!F:G,2,FALSE)","v":"Robert A. Millikan"},"Non-PHBAO",0,0,923,0,0,null,36,null,0,0,0,959,0,0,31,0,0,31,0,0,33,0,0,33,{"$f":"VLOOKUP(A906,'Pivot Norm'!A:B,2,FALSE)","v":3},1,"18238011",3,3,4,3,2,5,0,0,0,0]
["1823801","1823802",{"$f":"VLOOKUP(B907, 'School List'!F:G,2,FALSE)","v":"Millikan CMS PA Mag"},"Magnet 1",0,0,433,0,0,null,2,null,0,0,0,435,0,0,16,0,0,16,0,0,16,0,0,16,{"$f":"VLOOKUP(A907,'Pivot Norm'!A:B,2,FALSE)","v":3},2,"18238012",0,0,0,0,0,0,0,0,0,0]
["1823801","1823804",{"$f":"VLOOKUP(B908, 'School List'!F:G,2,FALSE)","v":"Millikan CMS SGE Mag"},"Magnet 1",0,0,216,0,0,null,1,null,0,0,0,217,0,0,8,0,0,8,0,0,5,0,0,5,{"$f":"VLOOKUP(A908,'Pivot Norm'!A:B,2,FALSE)","v":3},3,"18238013",0,0,0,0,0,0,0,0,0,0]
["1824001","1824001",{"$f":"VLOOKUP(B909, 'School List'!F:G,2,FALSE)","v":"Mount Gleason MS"},"PHBAO",0,0,332,0,0,null,40,null,0,0,0,372,0,0,13,0,0,13,0,0,13,0,0,13,{"$f":"VLOOKUP(A909,'Pivot Norm'!A:B,2,FALSE)","v":3},1,"18240011",2,2,3,2,2,3,0,0,0,0]
["1824001","1824002",{"$f":"VLOOKUP(B910, 'School List'!F:G,2,FALSE)","v":"Mt Gleason Gifted Mg"},"Magnet 1",0,0,189,0,0,null,null,null,0,0,0,189,0,0,7,0,0,7,0,0,7,0,0,7,{"$f":"VLOOKUP(A910,'Pivot Norm'!A:B,2,FALSE)","v":3},2,"18240012",0,0,0,0,0,0,0,0,0,0]
["1824001","1824003",{"$f":"VLOOKUP(B911, 'School List'!F:G,2,FALSE)","v":"Mt Gleason STEAM Mg"},"Magnet 1",0,0,227,0,0,null,10,null,0,0,0,237,0,0,9,0,0,9,0,0,8,0,0,8,{"$f":"VLOOKUP(A911,'Pivot Norm'!A:B,2,FALSE)","v":3},3,"18240013",0,0,0,0,0,0,1,0,0,0]
["1824501","1824501",{"$f":"VLOOKUP(B912, 'School List'!F:G,2,FALSE)","v":"Cochran MS"},"PHBAO",0,0,441,0,0,null,67,null,0,0,0,508,0,0,18,0,0,18,0,0,17,0,0,17,{"$f":"VLOOKUP(A912,'Pivot Norm'!A:B,2,FALSE)","v":1},1,"18245011",1,1,2,1,1,2,0,0,0,0]
["1825501","1825501",{"$f":"VLOOKUP(B913, 'School List'!F:G,2,FALSE)","v":"Muir MS"},"PHBAO",0,0,536,0,0,null,53,null,0,0,0,589,0,0,22,0,0,22,0,0,19,0,0,19,{"$f":"VLOOKUP(A913,'Pivot Norm'!A:B,2,FALSE)","v":2},1,"18255011",2,1,3,2,1,3,0,0,0,0]
["1825501","1825502",{"$f":"VLOOKUP(B914, 'School List'!F:G,2,FALSE)","v":"Muir MS STEM Mag"},"Magnet 2",0,0,140,0,0,null,null,null,0,0,0,140,0,0,6,0,0,6,0,0,6,0,0,6,{"$f":"VLOOKUP(A914,'Pivot Norm'!A:B,2,FALSE)","v":2},2,"18255012",0,0,0,0,0,0,0,0,0,0]
["1825901","1825901",{"$f":"VLOOKUP(B915, 'School List'!F:G,2,FALSE)","v":"Mulholland MS"},"PHBAO",0,0,464,0,0,null,58,null,0,0,0,522,0,0,18,0,0,18,0,0,18,0,0,18,{"$f":"VLOOKUP(A915,'Pivot Norm'!A:B,2,FALSE)","v":3},1,"18259011",2,2,4,2,2,4,0,0,0,0]
["1825901","1825902",{"$f":"VLOOKUP(B916, 'School List'!F:G,2,FALSE)","v":"Mulholland MS Police"},"Magnet 2",0,0,328,0,0,null,4,null,0,0,0,332,0,0,14,0,0,14,0,0,13,0,0,13,{"$f":"VLOOKUP(A916,'Pivot Norm'!A:B,2,FALSE)","v":3},2,"18259012",0,0,0,0,0,0,0,0,0,0]
["1825901","1825903",{"$f":"VLOOKUP(B917, 'School List'!F:G,2,FALSE)","v":"Mulholland Robotics"},"Magnet 2",0,0,347,0,0,null,9,null,0,0,0,356,0,0,14,0,0,14,0,0,14,0,0,14,{"$f":"VLOOKUP(A917,'Pivot Norm'!A:B,2,FALSE)","v":3},3,"18259013",0,0,0,0,0,0,0,0,0,0]
["1826401","1826401",{"$f":"VLOOKUP(B918, 'School List'!F:G,2,FALSE)","v":"Nightingale MS"},"PHBAO",0,0,309,0,0,null,50,null,0,0,0,359,0,0,12,0,0,12,0,0,11,0,0,11,{"$f":"VLOOKUP(A918,'Pivot Norm'!A:B,2,FALSE)","v":4},1,"18264011",2,2,3,2,2,3,0,0,0,0]
["1826401","1826402",{"$f":"VLOOKUP(B919, 'School List'!F:G,2,FALSE)","v":"Nightingale BET Mag"},"Magnet 2",0,0,275,0,0,null,null,null,0,0,0,275,0,0,11,0,0,11,0,0,11,0,0,11,{"$f":"VLOOKUP(A919,'Pivot Norm'!A:B,2,FALSE)","v":4},2,"18264012",0,0,0,0,0,0,0,0,0,0]
["1826401","1826403",{"$f":"VLOOKUP(B920, 'School List'!F:G,2,FALSE)","v":"Nightingale GSTEM Mg"},"Magnet 2",0,0,100,0,0,null,null,null,0,0,0,100,0,0,4,0,0,4,0,0,4,0,0,4,{"$f":"VLOOKUP(A920,'Pivot Norm'!A:B,2,FALSE)","v":4},3,"18264013",0,0,0,0,0,0,0,0,0,0]
["1826401","1826404",{"$f":"VLOOKUP(B921, 'School List'!F:G,2,FALSE)","v":"Nightingale M/H/K Mg"},"Magnet 2",0,0,111,0,0,null,null,null,0,0,0,111,0,0,5,0,0,5,0,0,5,0,0,5,{"$f":"VLOOKUP(A921,'Pivot Norm'!A:B,2,FALSE)","v":4},4,"18264014",0,0,0,0,0,0,0,0,0,0]
["1826801","1826801",{"$f":"VLOOKUP(B922, 'School List'!F:G,2,FALSE)","v":"Nimitz MS"},"PHBAO",0,0,790,0,0,null,98,null,0,0,0,888,0,0,30,0,0,30,0,0,29,0,0,29,{"$f":"VLOOKUP(A922,'Pivot Norm'!A:B,2,FALSE)","v":2},1,"18268011",2,3,4,3,2,4,0,0,0,0]
["1826801","1826802",{"$f":"VLOOKUP(B923, 'School List'!F:G,2,FALSE)","v":"Nimitz MS STEM Mag"},"Magnet 2",0,0,425,0,0,null,2,null,0,0,0,427,0,0,17,0,0,17,0,0,17,0,0,17,{"$f":"VLOOKUP(A923,'Pivot Norm'!A:B,2,FALSE)","v":2},2,"18268012",0,0,0,0,0,0,0,0,0,0]
["1827201","1827201",{"$f":"VLOOKUP(B924, 'School List'!F:G,2,FALSE)","v":"Alfred B. Nobel"},"Non-PHBAO",0,0,1095,0,0,null,3,null,0,0,0,1098,0,0,37,0,0,37,0,0,46,0,0,46,{"$f":"VLOOKUP(A924,'Pivot Norm'!A:B,2,FALSE)","v":2},1,"18272011",5,4,6,5,3,6,0,0,0,0]
["1827201","1827202",{"$f":"VLOOKUP(B925, 'School List'!F:G,2,FALSE)","v":"Nobel CMS STEAM Mag"},"Magnet 1",0,0,1080,0,0,null,null,null,0,0,0,1080,0,0,40,0,0,40,0,0,33,0,0,33,{"$f":"VLOOKUP(A925,'Pivot Norm'!A:B,2,FALSE)","v":2},2,"18272012",0,0,0,0,0,0,0,0,0,0]
["1828301","1828301",{"$f":"VLOOKUP(B926, 'School List'!F:G,2,FALSE)","v":"Northridge MS"},"PHBAO",0,0,435,0,0,null,77,null,0,0,0,512,0,0,18,0,0,18,0,0,18,0,0,18,{"$f":"VLOOKUP(A926,'Pivot Norm'!A:B,2,FALSE)","v":2},1,"18283011",2,1,3,2,1,3,0,0,0,1]
["1828301","1828303",{"$f":"VLOOKUP(B927, 'School List'!F:G,2,FALSE)","v":"Northridge Med/HC Mg"},"Magnet 2",0,0,210,0,0,null,4,null,0,0,0,214,0,0,9,0,0,9,0,0,9,0,0,9,{"$f":"VLOOKUP(A927,'Pivot Norm'!A:B,2,FALSE)","v":2},2,"18283012",0,0,0,0,0,0,0,0,0,0]
["1830601","1830601",{"$f":"VLOOKUP(B928, 'School List'!F:G,2,FALSE)","v":"Olive Vista MS"},"PHBAO",0,0,653,0,0,null,116,null,0,0,0,769,0,0,25,0,0,25,0,0,25,0,0,25,{"$f":"VLOOKUP(A928,'Pivot Norm'!A:B,2,FALSE)","v":2},1,"18306011",2,2,3,2,2,3,0,0,0,0]
["1830601","1830602",{"$f":"VLOOKUP(B929, 'School List'!F:G,2,FALSE)","v":"Olive Vista STEAM Mg"},"Magnet 2",0,0,350,0,0,null,3,null,0,0,0,353,0,0,14,0,0,14,0,0,13,0,0,13,{"$f":"VLOOKUP(A929,'Pivot Norm'!A:B,2,FALSE)","v":2},2,"18306012",0,0,0,0,0,0,1,0,0,0]
["1832101","1832101",{"$f":"VLOOKUP(B930, 'School List'!F:G,2,FALSE)","v":"Pacoima MS"},"PHBAO",0,0,569,0,0,null,39,null,0,0,0,608,0,0,22,0,0,22,0,0,21,0,0,21,{"$f":"VLOOKUP(A930,'Pivot Norm'!A:B,2,FALSE)","v":3},1,"18321011",2,2,3,2,2,3,0,0,0,0]
["1832101","1832102",{"$f":"VLOOKUP(B931, 'School List'!F:G,2,FALSE)","v":"Pacoima FMPA Mag"},"Magnet 2",0,0,250,0,0,null,4,null,0,0,0,254,0,0,10,0,0,10,0,0,10,0,0,10,{"$f":"VLOOKUP(A931,'Pivot Norm'!A:B,2,FALSE)","v":3},2,"18321012",0,0,0,0,0,0,0,0,0,0]
["1832101","1832103",{"$f":"VLOOKUP(B932, 'School List'!F:G,2,FALSE)","v":"Pacoima MS CS/M Mag"},"Magnet 2",0,0,150,0,0,null,null,null,0,0,0,150,0,0,6,0,0,6,0,0,6,0,0,6,{"$f":"VLOOKUP(A932,'Pivot Norm'!A:B,2,FALSE)","v":3},3,"18321013",0,0,0,0,0,0,0,0,0,0]
["1834001","1834001",{"$f":"VLOOKUP(B933, 'School List'!F:G,2,FALSE)","v":"Palms MS"},"PHBAO",0,0,461,0,0,null,43,null,0,0,0,504,0,0,18,0,0,18,0,0,19,0,0,19,{"$f":"VLOOKUP(A933,'Pivot Norm'!A:B,2,FALSE)","v":3},1,"18340011",2,3,4,2,2,4,0,0,0,0]
["1834001","1834002",{"$f":"VLOOKUP(B934, 'School List'!F:G,2,FALSE)","v":"Palms MS Gifted Mag"},"Magnet 1",0,0,514,0,0,null,null,null,0,0,0,514,0,0,19,0,0,19,0,0,19,0,0,19,{"$f":"VLOOKUP(A934,'Pivot Norm'!A:B,2,FALSE)","v":3},2,"18340012",0,0,0,0,0,0,0,0,0,0]
["1834001","1834003",{"$f":"VLOOKUP(B935, 'School List'!F:G,2,FALSE)","v":"Palms MMC Mag"},"Magnet 2",0,0,282,0,0,null,1,null,0,0,0,283,0,0,12,0,0,12,0,0,7,0,0,7,{"$f":"VLOOKUP(A935,'Pivot Norm'!A:B,2,FALSE)","v":3},3,"18340013",0,0,0,0,0,0,0,0,0,0]
["1834401","1834401",{"$f":"VLOOKUP(B936, 'School List'!F:G,2,FALSE)","v":"Woodland Hills Acad"},"PHBAO",0,0,514,0,0,null,31,null,0,0,0,545,0,0,20,0,0,20,0,0,19,0,0,19,{"$f":"VLOOKUP(A936,'Pivot Norm'!A:B,2,FALSE)","v":2},1,"18344011",1,1,2,1,1,2,1,0,0,0]
["1834401","1834402",{"$f":"VLOOKUP(B937, 'School List'!F:G,2,FALSE)","v":"Woodland Hls Hum Mag"},"Magnet 1",0,0,84,0,0,null,null,null,0,0,0,84,0,0,4,0,0,4,0,0,2,0,0,2,{"$f":"VLOOKUP(A937,'Pivot Norm'!A:B,2,FALSE)","v":2},2,"18344012",0,0,0,0,0,0,0,0,0,0]
["1835201","1835201",{"$f":"VLOOKUP(B938, 'School List'!F:G,2,FALSE)","v":"Peary MS"},"PHBAO",0,0,819,0,0,null,92,null,0,0,0,911,0,0,31,0,0,31,0,0,29,0,0,29,{"$f":"VLOOKUP(A938,'Pivot Norm'!A:B,2,FALSE)","v":3},1,"18352011",2,3,4,2,2,4,0,0,0,0]
["1835201","1835202",{"$f":"VLOOKUP(B939, 'School List'!F:G,2,FALSE)","v":"Peary STEAM Mag"},"Magnet 2",0,0,275,0,0,null,3,null,0,0,0,278,0,0,11,0,0,11,0,0,10,0,0,10,{"$f":"VLOOKUP(A939,'Pivot Norm'!A:B,2,FALSE)","v":3},2,"18352012",0,0,0,0,0,0,0,0,0,0]
["1835201","1835203",{"$f":"VLOOKUP(B940, 'School List'!F:G,2,FALSE)","v":"Peary Gifted Mag"},"Magnet 2",0,0,62,0,0,null,null,null,0,0,0,62,0,0,3,0,0,3,0,0,3,0,0,3,{"$f":"VLOOKUP(A940,'Pivot Norm'!A:B,2,FALSE)","v":3},3,"18352013",0,0,0,0,0,0,0,0,0,0]
["1835401","1835401",{"$f":"VLOOKUP(B941, 'School List'!F:G,2,FALSE)","v":"Porter MS"},"PHBAO",0,0,634,0,0,null,40,null,0,0,0,674,0,0,24,0,0,24,0,0,24,0,0,24,{"$f":"VLOOKUP(A941,'Pivot Norm'!A:B,2,FALSE)","v":2},1,"18354011",2,2,3,2,2,4,0,0,0,0]
["1835401","1835402",{"$f":"VLOOKUP(B942, 'School List'!F:G,2,FALSE)","v":"Porter MS Gifted Mag"},"Magnet 2",0,0,500,0,0,null,null,null,0,0,0,500,0,0,20,0,0,20,0,0,20,0,0,20,{"$f":"VLOOKUP(A942,'Pivot Norm'!A:B,2,FALSE)","v":2},2,"18354012",0,0,0,0,0,0,0,0,0,0]
["1835501","1835501",{"$f":"VLOOKUP(B943, 'School List'!F:G,2,FALSE)","v":"Reed MS"},"Non-PHBAO",0,0,1509,0,0,null,54,null,0,0,0,1563,0,0,50,0,0,50,0,0,49,0,0,49,{"$f":"VLOOKUP(A943,'Pivot Norm'!A:B,2,FALSE)","v":1},1,"18355011",3,3,4,3,2,4,0,0,2,0]
["1835601","1835601",{"$f":"VLOOKUP(B944, 'School List'!F:G,2,FALSE)","v":"Revere MS"},"Non-PHBAO",0,0,1484,0,0,null,42,null,0,0,0,1526,0,0,49,0,0,49,0,0,48,0,0,48,{"$f":"VLOOKUP(A944,'Pivot Norm'!A:B,2,FALSE)","v":2},1,"18356011",4,4,5,4,3,5,0,0,0,0]
["1835601","1835602",{"$f":"VLOOKUP(B945, 'School List'!F:G,2,FALSE)","v":"Revere CMS STEM Mag"},"Magnet 1",0,0,406,0,0,null,10,null,0,0,0,416,0,0,15,0,0,15,0,0,15,0,0,15,{"$f":"VLOOKUP(A945,'Pivot Norm'!A:B,2,FALSE)","v":2},2,"18356012",0,0,0,0,0,0,0,0,0,0]
["1835801","1835801",{"$f":"VLOOKUP(B946, 'School List'!F:G,2,FALSE)","v":"San Fernando MS"},"PHBAO",0,0,485,0,0,null,65,null,0,0,0,550,0,0,20,0,0,20,0,0,20,0,0,20,{"$f":"VLOOKUP(A946,'Pivot Norm'!A:B,2,FALSE)","v":1},1,"18358011",1,1,2,1,1,2,0,0,0,0]
["1836301","1836301",{"$f":"VLOOKUP(B947, 'School List'!F:G,2,FALSE)","v":"Sepulveda MS"},"PHBAO",0,0,649,0,0,null,103,null,0,0,0,752,0,0,25,0,0,25,0,0,24,0,0,24,{"$f":"VLOOKUP(A947,'Pivot Norm'!A:B,2,FALSE)","v":3},1,"18363011",2,2,3,2,2,3,0,0,0,0]
["1836301","1836302",{"$f":"VLOOKUP(B948, 'School List'!F:G,2,FALSE)","v":"Sepulveda Gifted Mag"},"Magnet 2",0,0,324,0,0,null,null,null,0,0,0,324,0,0,13,0,0,13,0,0,13,0,0,13,{"$f":"VLOOKUP(A948,'Pivot Norm'!A:B,2,FALSE)","v":3},2,"18363012",0,0,0,0,0,0,0,0,0,0]
["1836301","1836303",{"$f":"VLOOKUP(B949, 'School List'!F:G,2,FALSE)","v":"Sepulveda KSM Mag"},"Magnet 2",0,0,96,0,0,null,null,null,0,0,0,96,0,0,4,0,0,4,0,0,2,0,0,2,{"$f":"VLOOKUP(A949,'Pivot Norm'!A:B,2,FALSE)","v":3},3,"18363013",0,0,0,0,0,0,0,0,0,0]
["1837701","1837701",{"$f":"VLOOKUP(B950, 'School List'!F:G,2,FALSE)","v":"South Gate MS"},"PHBAO",0,0,1030,0,0,null,80,null,0,0,0,1110,0,0,39,0,0,39,0,0,39,0,0,39,{"$f":"VLOOKUP(A950,'Pivot Norm'!A:B,2,FALSE)","v":2},1,"18377011",3,3,4,3,2,4,0,0,0,1]
["1837701","1837702",{"$f":"VLOOKUP(B951, 'School List'!F:G,2,FALSE)","v":"South Gate MS STEM Mg"},"Magnet 2",0,0,350,0,0,null,null,null,0,0,0,350,0,0,14,0,0,14,0,0,14,0,0,14,{"$f":"VLOOKUP(A951,'Pivot Norm'!A:B,2,FALSE)","v":2},2,"18377012",0,0,0,0,0,0,0,0,0,0]
["1838701","1838701",{"$f":"VLOOKUP(B952, 'School List'!F:G,2,FALSE)","v":"Stevenson Col Car Pr"},"PHBAO",0,0,542,0,0,null,110,null,0,0,0,652,0,0,21,0,0,21,0,0,22,0,0,22,{"$f":"VLOOKUP(A952,'Pivot Norm'!A:B,2,FALSE)","v":3},1,"18387011",2,2,3,2,2,3,0,0,0,0]
["1838701","1838702",{"$f":"VLOOKUP(B953, 'School List'!F:G,2,FALSE)","v":"Stvnsn C&CP Gift Mag"},"Magnet 2",0,0,131,0,0,null,null,null,0,0,0,131,0,0,6,0,0,6,0,0,5,0,0,5,{"$f":"VLOOKUP(A953,'Pivot Norm'!A:B,2,FALSE)","v":3},2,"18387012",0,0,0,0,0,0,1,0,0,0]
["1838701","1838703",{"$f":"VLOOKUP(B954, 'School List'!F:G,2,FALSE)","v":"Stvnsn C&P CA Mag"},"Magnet 2",0,0,143,0,0,null,2,null,0,0,0,145,0,0,6,0,0,6,0,0,6,0,0,6,{"$f":"VLOOKUP(A954,'Pivot Norm'!A:B,2,FALSE)","v":3},3,"18387013",0,0,0,0,0,0,0,0,0,0]
["1839001","1839001",{"$f":"VLOOKUP(B955, 'School List'!F:G,2,FALSE)","v":"Walnut Park MS SJ/SL"},"PHBAO",0,0,410,0,0,null,9,null,0,0,0,419,0,0,16,0,0,16,0,0,16,0,0,16,{"$f":"VLOOKUP(A955,'Pivot Norm'!A:B,2,FALSE)","v":1},1,"18390011",1,1,2,1,1,2,0,0,0,0]
["1839601","1839601",{"$f":"VLOOKUP(B956, 'School List'!F:G,2,FALSE)","v":"Sun Valley ET Mag"},"Magnet 2",0,0,400,0,0,null,42,null,0,0,0,442,0,0,16,0,0,16,0,0,15,0,0,15,{"$f":"VLOOKUP(A956,'Pivot Norm'!A:B,2,FALSE)","v":3},1,"18396011",3,3,4,3,2,4,1,0,0,0]
["1839601","1839602",{"$f":"VLOOKUP(B957, 'School List'!F:G,2,FALSE)","v":"Sun Valley ES Mag"},"Magnet 2",0,0,289,0,0,null,33,null,0,0,0,322,0,0,12,0,0,12,0,0,11,0,0,11,{"$f":"VLOOKUP(A957,'Pivot Norm'!A:B,2,FALSE)","v":3},2,"18396012",0,0,0,0,0,0,1,0,0,0]
["1839601","1839603",{"$f":"VLOOKUP(B958, 'School List'!F:G,2,FALSE)","v":"Sun Valley BSEL Mag"},"Magnet 2",0,0,200,0,425,null,10,null,0,0,0,635,0,0,8,0,17,25,0,0,8,0,16,24,{"$f":"VLOOKUP(A958,'Pivot Norm'!A:B,2,FALSE)","v":3},3,"18396013",0,0,0,0,0,0,1,0,0,0]
["1840601","1840601",{"$f":"VLOOKUP(B959, 'School List'!F:G,2,FALSE)","v":"Sutter MS"},"PHBAO",0,0,479,0,0,null,100,null,0,0,0,579,0,0,18,0,0,18,0,0,17,0,0,17,{"$f":"VLOOKUP(A959,'Pivot Norm'!A:B,2,FALSE)","v":2},1,"18406011",2,2,3,2,2,3,0,0,0,0]
["1840601","1840602",{"$f":"VLOOKUP(B960, 'School List'!F:G,2,FALSE)","v":"Sutter STEAM Mag"},"Magnet 2",0,0,250,0,0,null,3,null,0,0,0,253,0,0,10,0,0,10,0,0,10,0,0,10,{"$f":"VLOOKUP(A960,'Pivot Norm'!A:B,2,FALSE)","v":2},2,"18406012",0,0,0,0,0,0,0,0,0,0]
["1842501","1842501",{"$f":"VLOOKUP(B961, 'School List'!F:G,2,FALSE)","v":"Mark Twain MS"},"PHBAO",0,0,692,0,0,null,42,null,0,0,0,734,0,0,26,0,0,26,0,0,24,0,0,24,{"$f":"VLOOKUP(A961,'Pivot Norm'!A:B,2,FALSE)","v":2},1,"18425011",2,2,3,2,2,3,0,0,0,0]
["1842501","1842502",{"$f":"VLOOKUP(B962, 'School List'!F:G,2,FALSE)","v":"Mark Twain WL Mag"},"Magnet 2",0,0,173,0,0,null,5,null,0,0,0,178,0,0,7,0,0,7,0,0,7,0,0,7,{"$f":"VLOOKUP(A962,'Pivot Norm'!A:B,2,FALSE)","v":2},2,"18425012",0,0,0,0,0,0,0,0,0,0]
["1843401","1843401",{"$f":"VLOOKUP(B963, 'School List'!F:G,2,FALSE)","v":"Van Nuys MS"},"PHBAO",0,0,555,0,0,null,73,null,0,0,0,628,0,0,21,0,0,21,0,0,22,0,0,22,{"$f":"VLOOKUP(A963,'Pivot Norm'!A:B,2,FALSE)","v":2},1,"18434011",2,2,3,2,2,3,0,0,0,0]
["1843401","1843402",{"$f":"VLOOKUP(B964, 'School List'!F:G,2,FALSE)","v":"Van Nuys STEAM Mag"},"Magnet 2",0,0,275,0,0,null,3,null,0,0,0,278,0,0,11,0,0,11,0,0,10,0,0,10,{"$f":"VLOOKUP(A964,'Pivot Norm'!A:B,2,FALSE)","v":2},2,"18434012",0,0,0,0,0,0,1,0,0,0]
["1846201","1846201",{"$f":"VLOOKUP(B965, 'School List'!F:G,2,FALSE)","v":"Virgil MS"},"PHBAO",0,0,625,0,0,null,114,null,0,0,0,739,0,0,24,0,0,24,0,0,23,0,0,23,{"$f":"VLOOKUP(A965,'Pivot Norm'!A:B,2,FALSE)","v":2},1,"18462011",2,2,3,2,2,3,0,0,0,0]
["1846201","1846202",{"$f":"VLOOKUP(B966, 'School List'!F:G,2,FALSE)","v":"Virgil Med&Health Sc"},"Magnet 2",0,0,396,0,0,null,null,null,0,0,0,396,0,0,16,0,0,16,0,0,15,0,0,15,{"$f":"VLOOKUP(A966,'Pivot Norm'!A:B,2,FALSE)","v":2},2,{"$f":"A966&AD966","v":"18462012"},0,0,0,0,0,0,0,0,0,0]
["1848101","1848101",{"$f":"VLOOKUP(B967, 'School List'!F:G,2,FALSE)","v":"Webster MS"},"PHBAO",0,0,182,0,0,null,33,null,0,0,0,215,0,0,8,0,0,8,0,0,8,0,0,8,{"$f":"VLOOKUP(A967,'Pivot Norm'!A:B,2,FALSE)","v":2},1,"18481011",1,1,2,1,1,2,0,0,0,0]
["1848101","1848102",{"$f":"VLOOKUP(B968, 'School List'!F:G,2,FALSE)","v":"Webster MS STEAM"},"Magnet 2",0,0,186,0,0,null,9,null,0,0,0,195,0,0,8,0,0,8,0,0,8,0,0,8,{"$f":"VLOOKUP(A968,'Pivot Norm'!A:B,2,FALSE)","v":2},{"$f":"IF(A968=A967,AD967+1,1)","v":2},"18481012",0,0,0,0,0,0,0,0,0,0]
["1848701","1848701",{"$f":"VLOOKUP(B969, 'School List'!F:G,2,FALSE)","v":"White MS"},"PHBAO",0,0,1029,0,0,null,101,null,0,0,0,1130,0,0,39,0,0,39,0,0,38,0,0,38,{"$f":"VLOOKUP(A969,'Pivot Norm'!A:B,2,FALSE)","v":2},1,"18487011",3,3,4,3,3,4,0,0,0,0]
["1848701","1848702",{"$f":"VLOOKUP(B970, 'School List'!F:G,2,FALSE)","v":"White STEAM Magnet"},"Magnet 2",0,0,450,0,0,null,3,null,0,0,0,453,0,0,18,0,0,18,0,0,18,0,0,18,{"$f":"VLOOKUP(A970,'Pivot Norm'!A:B,2,FALSE)","v":2},2,"18487012",0,0,0,0,0,0,0,0,0,0]
["1849001","1849001",{"$f":"VLOOKUP(B971, 'School List'!F:G,2,FALSE)","v":"Wilmington STEAM Mag"},"Magnet 2",0,0,1411,0,0,null,120,null,0,0,0,1531,0,0,57,0,0,57,0,0,54,0,0,54,{"$f":"VLOOKUP(A971,'Pivot Norm'!A:B,2,FALSE)","v":1},1,"18490011",3,3,4,3,2,4,0,0,0,1]
["1849301","1849301",{"$f":"VLOOKUP(B972, 'School List'!F:G,2,FALSE)","v":"Wright Eng & Des Mag"},"Magnet 2",0,0,397,0,0,null,38,null,0,0,0,435,0,0,16,0,0,16,0,0,15,0,0,15,{"$f":"VLOOKUP(A972,'Pivot Norm'!A:B,2,FALSE)","v":2},1,"18493011",1,1,2,1,1,2,1,0,0,0]
["1849301","1849303",{"$f":"VLOOKUP(B973, 'School List'!F:G,2,FALSE)","v":"Wright Gifted Mag"},"Magnet 2",0,0,79,0,0,null,null,null,0,0,0,79,0,0,4,0,0,4,0,0,3,0,0,3,{"$f":"VLOOKUP(A973,'Pivot Norm'!A:B,2,FALSE)","v":2},2,"18493012",0,0,0,0,0,0,1,0,0,0]
["1850101","1850101",{"$f":"VLOOKUP(B974, 'School List'!F:G,2,FALSE)","v":"RFK LA SH Arts"},"PHBAO",0,0,0,228,422,null,null,4,0,0,0,426,0,0,0,2,14,16,0,0,0,2,13,15,{"$f":"VLOOKUP(A974,'Pivot Norm'!A:B,2,FALSE)","v":1},1,"18501011",1,1,2,1,1,2,0,0,0,0]
["1851301","1851301",{"$f":"VLOOKUP(B975, 'School List'!F:G,2,FALSE)","v":"Northridge Acad SH"},"PHBAO",0,0,0,535,904,null,null,16,0,0,0,920,0,0,0,4,29,33,0,0,0,3,29,32,{"$f":"VLOOKUP(A975,'Pivot Norm'!A:B,2,FALSE)","v":1},1,"18513011",2,2,3,2,2,3,0,0,0,0]
["1851601","1851601",{"$f":"VLOOKUP(B976, 'School List'!F:G,2,FALSE)","v":"Cortines Sch Of VPA"},"PHBAO",0,0,0,644,1191,null,null,11,0,0,0,1202,0,0,0,4,38,42,0,0,0,4,35,39,{"$f":"VLOOKUP(A976,'Pivot Norm'!A:B,2,FALSE)","v":1},1,"18516011",2,2,4,2,2,3,0,0,1,0]
["1851701","1851701",{"$f":"VLOOKUP(B977, 'School List'!F:G,2,FALSE)","v":"Contreras Bus Tour"},"PHBAO",0,0,0,202,362,null,null,24,0,0,0,386,0,0,0,2,12,14,0,0,0,2,12,14,{"$f":"VLOOKUP(A977,'Pivot Norm'!A:B,2,FALSE)","v":1},1,"18517011",1,1,2,1,1,2,0,0,0,0]
["1851801","1851801",{"$f":"VLOOKUP(B978, 'School List'!F:G,2,FALSE)","v":"Dr. Vladovic HTPA"},"PHBAO",0,0,0,215,433,null,null,null,0,0,0,433,0,0,0,2,14,16,0,0,0,2,14,16,{"$f":"VLOOKUP(A978,'Pivot Norm'!A:B,2,FALSE)","v":1},1,"18518011",1,1,2,1,1,2,0,0,0,0]
["1852701","1852701",{"$f":"VLOOKUP(B979, 'School List'!F:G,2,FALSE)","v":"Contreras LC Soc Jus"},"PHBAO",0,0,0,304,490,null,null,2,0,0,0,492,0,0,0,2,16,18,0,0,0,2,15,17,{"$f":"VLOOKUP(A979,'Pivot Norm'!A:B,2,FALSE)","v":1},1,"18527011",1,1,2,1,1,2,0,0,0,0]
["1852901","1852901",{"$f":"VLOOKUP(B980, 'School List'!F:G,2,FALSE)","v":"Banning SH"},"PHBAO",0,0,0,936,1543,null,null,180,0,0,0,1723,0,0,0,6,49,55,0,0,0,5,48,53,{"$f":"VLOOKUP(A980,'Pivot Norm'!A:B,2,FALSE)","v":5},1,"18529011",5,5,6,5,4,6,0,0,0,0]
["1852901","1852902",{"$f":"VLOOKUP(B981, 'School List'!F:G,2,FALSE)","v":"Banning Col Prep Mag"},"Magnet 2",0,0,0,0,375,null,null,2,0,0,0,377,0,0,0,0,15,15,0,0,0,0,15,15,{"$f":"VLOOKUP(A981,'Pivot Norm'!A:B,2,FALSE)","v":5},2,"18529012",0,0,0,0,0,0,0,0,0,0]
["1852901","1852907",{"$f":"VLOOKUP(B982, 'School List'!F:G,2,FALSE)","v":"Banning SH FF Mag"},"Magnet 2",0,0,0,0,187,null,null,2,0,0,0,189,0,0,0,0,8,8,0,0,0,0,8,8,{"$f":"VLOOKUP(A982,'Pivot Norm'!A:B,2,FALSE)","v":5},3,"18529013",0,0,0,0,0,0,0,0,0,0]
["1852901","1852908",{"$f":"VLOOKUP(B983, 'School List'!F:G,2,FALSE)","v":"Banning SH STEAM Mag"},"Magnet 2",0,0,0,0,135,null,null,3,0,0,0,138,0,0,0,0,6,6,0,0,0,0,6,6,{"$f":"VLOOKUP(A983,'Pivot Norm'!A:B,2,FALSE)","v":5},4,"18529014",0,0,0,0,0,0,0,0,0,0]
["1852901","1852909",{"$f":"VLOOKUP(B984, 'School List'!F:G,2,FALSE)","v":"Banning PA Mag"},"Magnet 2",0,0,0,0,34,null,null,2,0,0,0,36,0,0,0,0,2,2,0,0,0,0,1,1,{"$f":"VLOOKUP(A984,'Pivot Norm'!A:B,2,FALSE)","v":5},5,"18529015",0,0,0,0,0,0,0,0,0,0]
["1853601","1853601",{"$f":"VLOOKUP(B985, 'School List'!F:G,2,FALSE)","v":"Bell SH"},"PHBAO",0,0,0,988,1707,null,null,48,0,0,0,1755,0,0,0,6,54,60,0,0,0,6,51,57,{"$f":"VLOOKUP(A985,'Pivot Norm'!A:B,2,FALSE)","v":2},1,"18536011",5,5,6,5,4,6,0,0,0,0]
["1853601","1853614",{"$f":"VLOOKUP(B986, 'School List'!F:G,2,FALSE)","v":"Bell Gifted/STEM Mag"},"Magnet 2",0,0,0,0,600,null,null,null,0,0,0,600,0,0,0,0,24,24,0,0,0,0,24,24,{"$f":"VLOOKUP(A986,'Pivot Norm'!A:B,2,FALSE)","v":2},2,"18536012",0,0,0,0,0,0,0,0,0,0]
["1854301","1854301",{"$f":"VLOOKUP(B987, 'School List'!F:G,2,FALSE)","v":"Belmont SH"},"PHBAO",0,0,0,305,613,null,null,51,0,0,0,664,0,0,0,2,20,22,0,0,0,2,20,22,{"$f":"VLOOKUP(A987,'Pivot Norm'!A:B,2,FALSE)","v":1},1,"18543011",1,1,2,2,2,3,1,0,1,0]
["1854401","1854401",{"$f":"VLOOKUP(B988, 'School List'!F:G,2,FALSE)","v":"Roybal LC"},"PHBAO",0,0,0,494,789,null,null,73,0,0,0,862,0,0,0,3,25,28,0,0,0,3,22,25,{"$f":"VLOOKUP(A988,'Pivot Norm'!A:B,2,FALSE)","v":2},1,"18544011",2,2,3,2,2,3,0,0,0,0]
["1854401","1854406",{"$f":"VLOOKUP(B989, 'School List'!F:G,2,FALSE)","v":"Roybal ICAMP Mag"},"Magnet 2",0,0,0,0,80,null,null,null,0,0,0,80,0,0,0,0,4,4,0,0,0,0,2,2,{"$f":"VLOOKUP(A989,'Pivot Norm'!A:B,2,FALSE)","v":2},2,"18544012",0,0,0,0,0,0,1,0,0,0]
["1855801","1855801",{"$f":"VLOOKUP(B990, 'School List'!F:G,2,FALSE)","v":"Pearl Journ/Comm Mag"},"Magnet 1",0,0,0,0,263,null,null,null,0,0,0,263,0,0,0,0,10,10,0,0,0,0,10,10,{"$f":"VLOOKUP(A990,'Pivot Norm'!A:B,2,FALSE)","v":1},1,"18558011",1,0.5,2,1,0.5,2,0,0,0,0]
["1857101","1857101",{"$f":"VLOOKUP(B991, 'School List'!F:G,2,FALSE)","v":"Canoga Park SH"},"PHBAO",0,0,0,440,839,null,null,83,0,0,0,922,0,0,0,3,27,30,0,0,0,3,28,31,{"$f":"VLOOKUP(A991,'Pivot Norm'!A:B,2,FALSE)","v":3},1,"18571011",2,3,4,3,3,4,0,0,0,0]
["1857101","1857102",{"$f":"VLOOKUP(B992, 'School List'!F:G,2,FALSE)","v":"Canoga Park EEVS Mag"},"Magnet 2",0,0,0,0,200,null,null,1,0,0,0,201,0,0,0,0,8,8,0,0,0,0,9,9,{"$f":"VLOOKUP(A992,'Pivot Norm'!A:B,2,FALSE)","v":3},2,"18571012",0,0,0,0,0,0,0,0,0,0]
["1857101","1857106",{"$f":"VLOOKUP(B993, 'School List'!F:G,2,FALSE)","v":"Canoga Park CAM Mag"},"Magnet 2",0,0,0,0,225,null,null,3,0,0,0,228,0,0,0,0,9,9,0,0,0,0,9,9,{"$f":"VLOOKUP(A993,'Pivot Norm'!A:B,2,FALSE)","v":3},3,"18571013",0,0,0,0,0,0,0,0,0,0]
["1857501","1857501",{"$f":"VLOOKUP(B994, 'School List'!F:G,2,FALSE)","v":"Carson SH"},"PHBAO",0,0,0,682,1311,null,null,83,0,0,0,1394,0,0,0,5,41,46,0,0,0,4,42,46,{"$f":"VLOOKUP(A994,'Pivot Norm'!A:B,2,FALSE)","v":2},1,"18575011",3,3,4,3,3,4,0,0,0,0]
["1857501","1857510",{"$f":"VLOOKUP(B995, 'School List'!F:G,2,FALSE)","v":"Carson HS MEDiA Mag"},"Magnet 2",0,0,0,0,63,null,null,null,null,null,null,63,0,0,0,0,3,3,0,0,0,0,0,0,{"$f":"VLOOKUP(A995,'Pivot Norm'!A:B,2,FALSE)","v":2},2,"18575012",0,0,0,0,0,0,0,0,0,0]
["1857701","1857701",{"$f":"VLOOKUP(B996, 'School List'!F:G,2,FALSE)","v":"Sotomayor Art/Sci Mg"},"Magnet 2",0,0,250,0,450,null,2,4,0,0,0,706,0,0,10,0,18,28,0,0,9,0,16,25,{"$f":"VLOOKUP(A996,'Pivot Norm'!A:B,2,FALSE)","v":1},1,"18577011",2,1,3,1,1,2,0,0,0,0]
["1858301","1858301",{"$f":"VLOOKUP(B997, 'School List'!F:G,2,FALSE)","v":"Chatsworth Chtr HS"},"PHBAO",0,0,0,753,1428,null,null,94,0,0,0,1522,0,0,0,5,45,50,0,0,0,5,45,50,{"$f":"VLOOKUP(A997,'Pivot Norm'!A:B,2,FALSE)","v":2},1,"18583011",3,3,4,3,3,4,0,0,0,0]
["1858301","1858309",{"$f":"VLOOKUP(B998, 'School List'!F:G,2,FALSE)","v":"Chatsworth GSTEAM Mg"},"Magnet 2",0,0,0,0,152,null,null,null,0,0,0,152,0,0,0,0,7,7,0,0,0,0,3,3,{"$f":"VLOOKUP(A998,'Pivot Norm'!A:B,2,FALSE)","v":2},2,"18583012",0,0,0,0,0,0,0,0,0,0]
["1859001","1859001",{"$f":"VLOOKUP(B999, 'School List'!F:G,2,FALSE)","v":"Cleveland Chtr HS"},"PHBAO",0,0,0,865,1660,null,null,84,0,0,0,1744,0,0,0,6,52,58,0,0,0,5,54,59,{"$f":"VLOOKUP(A999,'Pivot Norm'!A:B,2,FALSE)","v":3},1,"18590011",5,6,7,5,5,7,0,0,0,0]
["1859001","1859002",{"$f":"VLOOKUP(B1000, 'School List'!F:G,2,FALSE)","v":"Cleveland Human Mag"},"Magnet 1",0,0,0,0,812,null,null,null,0,0,0,812,0,0,0,0,30,30,0,0,0,0,30,30,{"$f":"VLOOKUP(A1000,'Pivot Norm'!A:B,2,FALSE)","v":3},2,"18590012",0,0,0,0,0,0,0,0,0,0]
["1859001","1859007",{"$f":"VLOOKUP(B1001, 'School List'!F:G,2,FALSE)","v":"Cleveland GMS Mag"},"Magnet 1",0,0,0,0,255,null,null,null,0,0,0,255,0,0,0,0,10,10,0,0,0,0,8,8,{"$f":"VLOOKUP(A1001,'Pivot Norm'!A:B,2,FALSE)","v":3},3,"18590013",0,0,0,0,0,0,0,0,0,0]
["1859601","1859601",{"$f":"VLOOKUP(B1002, 'School List'!F:G,2,FALSE)","v":"Crenshaw STEMM Mag"},"Magnet 2",0,0,0,0,583,null,null,53,0,0,0,636,0,0,0,0,24,24,0,0,0,0,22,22,{"$f":"VLOOKUP(A1002,'Pivot Norm'!A:B,2,FALSE)","v":1},1,"18596011",1,1,2,1,1,2,1,0,0,0]
["1860001","1860001",{"$f":"VLOOKUP(B1003, 'School List'!F:G,2,FALSE)","v":"Dorsey SH"},"PHBAO",0,0,0,304,526,null,null,93,0,0,0,619,0,0,0,2,17,19,0,0,0,2,16,18,{"$f":"VLOOKUP(A1003,'Pivot Norm'!A:B,2,FALSE)","v":4},1,"18600011",2,2,3,2,2,3,0,0,0,0]
["1860001","1860002",{"$f":"VLOOKUP(B1004, 'School List'!F:G,2,FALSE)","v":"Dorsey SH STM Mag"},"Magnet 2",0,0,0,0,89,null,null,2,0,0,0,91,0,0,0,0,4,4,0,0,0,0,4,4,{"$f":"VLOOKUP(A1004,'Pivot Norm'!A:B,2,FALSE)","v":4},2,"18600012",0,0,0,0,0,0,1,0,0,0]
["1860001","1860003",{"$f":"VLOOKUP(B1005, 'School List'!F:G,2,FALSE)","v":"Dorsey L/PS/PPS Mag"},"Magnet 2",0,0,0,0,103,null,null,2,0,0,0,105,0,0,0,0,5,5,0,0,0,0,5,5,{"$f":"VLOOKUP(A1005,'Pivot Norm'!A:B,2,FALSE)","v":4},3,"18600013",0,0,0,0,0,0,0,0,0,0]
["1860001","1860009",{"$f":"VLOOKUP(B1006, 'School List'!F:G,2,FALSE)","v":"Dorsey FEMS Mag"},"Magnet 2",0,0,0,0,36,null,null,2,0,0,0,38,0,0,0,0,2,2,0,0,0,0,2,2,{"$f":"VLOOKUP(A1006,'Pivot Norm'!A:B,2,FALSE)","v":4},4,"18600014",0,0,0,0,0,0,0,0,0,0]
["1860601","1860601",{"$f":"VLOOKUP(B1007, 'School List'!F:G,2,FALSE)","v":"Torres ELA PA Mag"},"Magnet 2",0,0,0,0,400,null,null,25,0,0,0,425,0,0,0,0,16,16,0,0,0,0,15,15,{"$f":"VLOOKUP(A1007,'Pivot Norm'!A:B,2,FALSE)","v":1},1,"18606011",1,1,2,1,1,2,0,0,0,0]
["1860701","1860701",{"$f":"VLOOKUP(B1008, 'School List'!F:G,2,FALSE)","v":"East Valley SH"},"PHBAO",0,0,0,252,431,null,null,76,0,0,0,507,0,0,0,2,14,16,0,0,0,2,13,15,{"$f":"VLOOKUP(A1008,'Pivot Norm'!A:B,2,FALSE)","v":1},1,"18607011",1,1,2,1,1,2,0,0,0,0]
["1860901","1860901",{"$f":"VLOOKUP(B1009, 'School List'!F:G,2,FALSE)","v":"Arleta SH"},"PHBAO",0,0,0,545,1091,null,null,70,0,0,0,1161,0,0,0,4,35,39,0,0,0,4,36,40,{"$f":"VLOOKUP(A1009,'Pivot Norm'!A:B,2,FALSE)","v":1},1,"18609011",2,2,3,2,2,4,0,0,0,0]
["1861001","1861001",{"$f":"VLOOKUP(B1010, 'School List'!F:G,2,FALSE)","v":"Panorama SH"},"PHBAO",0,0,0,548,993,null,null,77,0,0,0,1070,0,0,0,4,31,35,0,0,0,4,31,35,{"$f":"VLOOKUP(A1010,'Pivot Norm'!A:B,2,FALSE)","v":4},1,"18610011",3,3,4,3,2,4,1,0,0,1]
["1861001","1861007",{"$f":"VLOOKUP(B1011, 'School List'!F:G,2,FALSE)","v":"Panorama SMIT Mag"},"Magnet 2",0,0,0,0,239,null,null,9,0,0,0,248,0,0,0,0,10,10,0,0,0,0,7,7,{"$f":"VLOOKUP(A1011,'Pivot Norm'!A:B,2,FALSE)","v":4},2,"18610012",0,0,0,0,0,0,0,0,0,0]
["1861001","1861008",{"$f":"VLOOKUP(B1012, 'School List'!F:G,2,FALSE)","v":"Panorama GSTEAM Mag"},"Magnet 2",0,0,0,0,93,null,null,null,0,0,0,93,0,0,0,0,4,4,0,0,0,0,3,3,{"$f":"VLOOKUP(A1012,'Pivot Norm'!A:B,2,FALSE)","v":4},3,"18610013",0,0,0,0,0,0,0,0,0,0]
["1861001","1861009",{"$f":"VLOOKUP(B1013, 'School List'!F:G,2,FALSE)","v":"Panorama HS SJL Mag"},"Magnet 2",0,0,0,0,31,null,null,null,null,null,null,31,0,0,0,0,2,2,0,0,0,0,0,0,{"$f":"VLOOKUP(A1013,'Pivot Norm'!A:B,2,FALSE)","v":4},4,"18610014",0,0,0,0,0,0,0,0,0,0]
["1861101","1861101",{"$f":"VLOOKUP(B1014, 'School List'!F:G,2,FALSE)","v":"Mendez SH"},"PHBAO",0,0,0,435,835,null,null,68,0,0,0,903,0,0,0,3,27,30,0,0,0,3,27,30,{"$f":"VLOOKUP(A1014,'Pivot Norm'!A:B,2,FALSE)","v":1},1,"18611011",2,2,3,2,2,3,0,0,0,0]
["1861401","1861401",{"$f":"VLOOKUP(B1015, 'School List'!F:G,2,FALSE)","v":"Eagle Rock HS"},"PHBAO",0,0,330,593,1084,null,8,57,0,0,0,1479,0,0,13,4,34,51,0,0,13,4,34,51,{"$f":"VLOOKUP(A1015,'Pivot Norm'!A:B,2,FALSE)","v":2},1,"18614011",5,4,6,5,4,6,0,0,1,0]
["1861401","1861402",{"$f":"VLOOKUP(B1016, 'School List'!F:G,2,FALSE)","v":"Eagle Rck SH Gifted Mg"},"Magnet 1",0,0,216,0,488,null,null,null,0,0,0,704,0,0,8,0,19,27,0,0,8,0,17,25,{"$f":"VLOOKUP(A1016,'Pivot Norm'!A:B,2,FALSE)","v":2},2,"18614012",0,0,0,0,0,0,0,0,0,0]
["1861801","1861801",{"$f":"VLOOKUP(B1017, 'School List'!F:G,2,FALSE)","v":"Wilson SH"},"PHBAO",0,0,0,523,903,null,null,120,0,0,0,1023,0,0,0,4,29,33,0,0,0,3,28,31,{"$f":"VLOOKUP(A1017,'Pivot Norm'!A:B,2,FALSE)","v":4},1,"18618011",3,3,4,3,3,4,0,0,0,0]
["1861801","1861802",{"$f":"VLOOKUP(B1018, 'School List'!F:G,2,FALSE)","v":"Wilson Police Acd Mg"},"Magnet 2",0,0,0,0,125,null,null,4,0,0,0,129,0,0,0,0,5,5,0,0,0,0,5,5,{"$f":"VLOOKUP(A1018,'Pivot Norm'!A:B,2,FALSE)","v":4},2,"18618012",0,0,0,0,0,0,0,0,0,0]
["1861801","1861803",{"$f":"VLOOKUP(B1019, 'School List'!F:G,2,FALSE)","v":"Wilson Adm/Law Mag"},"Magnet 2",0,0,0,0,225,null,null,6,0,0,0,231,0,0,0,0,9,9,0,0,0,0,8,8,{"$f":"VLOOKUP(A1019,'Pivot Norm'!A:B,2,FALSE)","v":4},3,"18618013",0,0,0,0,0,0,0,0,0,0]
["1861801","1861810",{"$f":"VLOOKUP(B1020, 'School List'!F:G,2,FALSE)","v":"Wilson SH FF Mag"},"Magnet 2",0,0,0,0,102,null,null,null,0,0,0,102,0,0,0,0,5,5,0,0,0,0,4,4,{"$f":"VLOOKUP(A1020,'Pivot Norm'!A:B,2,FALSE)","v":4},4,"18618014",0,0,0,0,0,0,0,0,0,0]
["1862101","1862101",{"$f":"VLOOKUP(B1021, 'School List'!F:G,2,FALSE)","v":"Fairfax SH"},"PHBAO",0,0,0,670,1151,null,null,70,0,0,0,1221,0,0,0,4,36,40,0,0,0,4,35,39,{"$f":"VLOOKUP(A1021,'Pivot Norm'!A:B,2,FALSE)","v":3},1,"18621011",4,4,5,4,3,5,0,0,0,0]
["1862101","1862102",{"$f":"VLOOKUP(B1022, 'School List'!F:G,2,FALSE)","v":"Fairfax Vis Arts Mag"},"Magnet 2",0,0,0,0,400,null,null,7,0,0,0,407,0,0,0,0,16,16,0,0,0,0,16,16,{"$f":"VLOOKUP(A1022,'Pivot Norm'!A:B,2,FALSE)","v":3},2,"18621012",0,0,0,0,0,0,0,0,0,0]
["1862101","1862108",{"$f":"VLOOKUP(B1023, 'School List'!F:G,2,FALSE)","v":"Fairfax PA Mag"},"Magnet 2",0,0,0,0,250,null,null,8,0,0,0,258,0,0,0,0,10,10,0,0,0,0,7,7,{"$f":"VLOOKUP(A1023,'Pivot Norm'!A:B,2,FALSE)","v":3},3,"18621013",0,0,0,0,0,0,0,0,0,0]
["1863601","1863601",{"$f":"VLOOKUP(B1024, 'School List'!F:G,2,FALSE)","v":"Polytechnic SH"},"PHBAO",0,0,0,1072,1970,null,null,81,0,0,0,2051,0,0,0,7,62,69,0,0,0,6,63,69,{"$f":"VLOOKUP(A1024,'Pivot Norm'!A:B,2,FALSE)","v":2},1,"18636011",5,5,6,5,4,6,0,0,0,0]
["1863601","1863602",{"$f":"VLOOKUP(B1025, 'School List'!F:G,2,FALSE)","v":"Polytechnic STEM Mag"},"Magnet 2",0,0,0,0,350,null,null,null,0,0,0,350,0,0,0,0,14,14,0,0,0,0,14,14,{"$f":"VLOOKUP(A1025,'Pivot Norm'!A:B,2,FALSE)","v":2},2,"18636012",0,0,0,0,0,0,0,0,0,0]
["1864301","1864301",{"$f":"VLOOKUP(B1026, 'School List'!F:G,2,FALSE)","v":"Franklin SH"},"PHBAO",0,0,0,478,807,null,null,13,0,0,0,820,0,0,0,3,26,29,0,0,0,3,24,27,{"$f":"VLOOKUP(A1026,'Pivot Norm'!A:B,2,FALSE)","v":3},1,"18643011",3,3,4,3,3,4,0,0,0,0]
["1864301","1864302",{"$f":"VLOOKUP(B1027, 'School List'!F:G,2,FALSE)","v":"Franklin SH STM Mag"},"Magnet 2",0,0,0,0,400,null,null,null,0,0,0,400,0,0,0,0,16,16,0,0,0,0,16,16,{"$f":"VLOOKUP(A1027,'Pivot Norm'!A:B,2,FALSE)","v":3},2,"18643012",0,0,0,0,0,0,0,0,0,0]
["1864301","1864311",{"$f":"VLOOKUP(B1028, 'School List'!F:G,2,FALSE)","v":"Franklin DLA Mag"},"Magnet 2",0,0,121,0,156,null,1,null,0,0,0,278,0,0,5,0,7,12,0,0,5,0,5,10,{"$f":"VLOOKUP(A1028,'Pivot Norm'!A:B,2,FALSE)","v":3},3,"18643013",0,0,0,0,0,0,0,0,0,0]
["1865001","1865001",{"$f":"VLOOKUP(B1029, 'School List'!F:G,2,FALSE)","v":"Fremont SH"},"PHBAO",0,0,0,789,1487,null,null,166,0,0,0,1653,0,0,0,5,47,52,0,0,0,6,46,52,{"$f":"VLOOKUP(A1029,'Pivot Norm'!A:B,2,FALSE)","v":2},1,"18650011",4,4,5,4,3,5,0,0,0,1]
["1865001","1865002",{"$f":"VLOOKUP(B1030, 'School List'!F:G,2,FALSE)","v":"Fremont STEAM Mag"},"Magnet 2",0,0,0,0,350,null,null,null,0,0,0,350,0,0,0,0,14,14,0,0,0,0,13,13,{"$f":"VLOOKUP(A1030,'Pivot Norm'!A:B,2,FALSE)","v":2},2,{"$f":"A1030&AD1030","v":"18650012"},0,0,0,0,0,0,1,0,0,0]
["1866401","1866401",{"$f":"VLOOKUP(B1031, 'School List'!F:G,2,FALSE)","v":"Gardena SH"},"PHBAO",0,0,0,476,806,null,null,92,0,0,0,898,0,0,0,3,26,29,0,0,0,3,25,28,{"$f":"VLOOKUP(A1031,'Pivot Norm'!A:B,2,FALSE)","v":3},1,"18664011",3,3,4,3,3,4,0,0,0,0]
["1866401","1866402",{"$f":"VLOOKUP(B1032, 'School List'!F:G,2,FALSE)","v":"Gardena HS GB Mag"},"Magnet 2",0,0,0,0,328,null,null,5,0,0,0,333,0,0,0,0,14,14,0,0,0,0,14,14,{"$f":"VLOOKUP(A1032,'Pivot Norm'!A:B,2,FALSE)","v":3},{"$f":"IF(A1032=A1031,AD1031+1,1)","v":2},"18664012",0,0,0,0,0,0,0,0,0,0]
["1866401","1866407",{"$f":"VLOOKUP(B1033, 'School List'!F:G,2,FALSE)","v":"Gardena L/PS Mag"},"Magnet 2",0,0,0,0,217,null,null,6,0,0,0,223,0,0,0,0,9,9,0,0,0,0,8,8,{"$f":"VLOOKUP(A1033,'Pivot Norm'!A:B,2,FALSE)","v":3},3,"18664013",0,0,0,0,0,0,0,0,0,0]
["1867901","1867901",{"$f":"VLOOKUP(B1034, 'School List'!F:G,2,FALSE)","v":"Garfield SH"},"PHBAO",0,0,0,1127,2057,null,null,148,0,0,0,2205,0,0,0,7,65,72,0,0,0,6,63,69,{"$f":"VLOOKUP(A1034,'Pivot Norm'!A:B,2,FALSE)","v":2},1,"18679011",5,5,6,5,4,6,0,0,0,0]
["1867901","1867902",{"$f":"VLOOKUP(B1035, 'School List'!F:G,2,FALSE)","v":"Garfield Comp Sci Mg"},"Magnet 2",0,0,0,0,250,null,null,1,0,0,0,251,0,0,0,0,10,10,0,0,0,0,10,10,{"$f":"VLOOKUP(A1035,'Pivot Norm'!A:B,2,FALSE)","v":2},2,"18679012",0,0,0,0,0,0,0,0,0,0]
["1868301","1868301",{"$f":"VLOOKUP(B1036, 'School List'!F:G,2,FALSE)","v":"Grant SH"},"Non-PHBAO",0,0,0,600,1127,null,null,85,0,0,0,1212,0,0,0,2,36,38,0,0,0,2,37,39,{"$f":"VLOOKUP(A1036,'Pivot Norm'!A:B,2,FALSE)","v":3},1,"18683011",4,4,5,4,3,5,0,0,0,0]
["1868301","1868302",{"$f":"VLOOKUP(B1037, 'School List'!F:G,2,FALSE)","v":"Grant CP/DA Mag"},"Magnet 1",0,0,0,0,377,null,null,null,0,0,0,377,0,0,0,0,14,14,0,0,0,0,14,14,{"$f":"VLOOKUP(A1037,'Pivot Norm'!A:B,2,FALSE)","v":3},2,"18683012",0,0,0,0,0,0,0,0,0,0]
["1868301","1868308",{"$f":"VLOOKUP(B1038, 'School List'!F:G,2,FALSE)","v":"Grant H for IS Mag"},"Magnet 1",0,0,0,0,221,null,null,1,0,0,0,222,0,0,0,0,9,9,0,0,0,0,7,7,{"$f":"VLOOKUP(A1038,'Pivot Norm'!A:B,2,FALSE)","v":3},3,"18683013",0,0,0,0,0,0,0,0,0,0]
["1868601","1868601",{"$f":"VLOOKUP(B1039, 'School List'!F:G,2,FALSE)","v":"Hamilton SH-Complex"},"PHBAO",0,0,0,654,1168,null,null,111,0,0,0,1279,0,0,0,4,37,41,0,0,0,4,36,40,{"$f":"VLOOKUP(A1039,'Pivot Norm'!A:B,2,FALSE)","v":3},1,"18686011",5,5,6,5,4,6,0,0,0,0]
["1868601","1868602",{"$f":"VLOOKUP(B1040, 'School List'!F:G,2,FALSE)","v":"Hamilton Music"},"Magnet 2",0,0,0,0,800,null,null,18,0,0,0,818,0,0,0,0,32,32,0,0,0,0,31,31,{"$f":"VLOOKUP(A1040,'Pivot Norm'!A:B,2,FALSE)","v":3},2,"18686012",0,0,0,0,0,0,0,0,0,0]
["1868601","1868603",{"$f":"VLOOKUP(B1041, 'School List'!F:G,2,FALSE)","v":"Hamilton Human Mag"},"Magnet 1",0,0,0,0,352,null,null,2,0,0,0,354,0,0,0,0,13,13,0,0,0,0,13,13,{"$f":"VLOOKUP(A1041,'Pivot Norm'!A:B,2,FALSE)","v":3},3,"18686013",0,0,0,0,0,0,0,0,0,0]
["1869301","1869301",{"$f":"VLOOKUP(B1042, 'School List'!F:G,2,FALSE)","v":"Hollywood SH"},"PHBAO",0,0,0,267,549,null,null,23,0,0,0,572,0,0,0,2,18,20,0,0,0,2,19,21,{"$f":"VLOOKUP(A1042,'Pivot Norm'!A:B,2,FALSE)","v":3},1,"18693011",2,3,4,2,2,4,0,0,1,1]
["1869301","1869302",{"$f":"VLOOKUP(B1043, 'School List'!F:G,2,FALSE)","v":"Hollywood Per Art Mg"},"Magnet 2",0,0,0,0,325,null,null,7,0,0,0,332,0,0,0,0,13,13,0,0,0,0,13,13,{"$f":"VLOOKUP(A1043,'Pivot Norm'!A:B,2,FALSE)","v":3},2,"18693012",0,0,0,0,0,0,0,0,0,0]
["1869301","1869307",{"$f":"VLOOKUP(B1044, 'School List'!F:G,2,FALSE)","v":"Hollywood HS"},"Magnet 2",0,0,0,0,350,null,null,3,0,0,0,353,0,0,0,0,14,14,0,0,0,0,14,14,{"$f":"VLOOKUP(A1044,'Pivot Norm'!A:B,2,FALSE)","v":3},3,"18693013",0,0,0,0,0,0,0,0,0,0]
["1869601","1869601",{"$f":"VLOOKUP(B1045, 'School List'!F:G,2,FALSE)","v":"Bernstein SH"},"PHBAO",0,0,0,223,455,null,null,22,0,0,0,477,0,0,0,2,15,17,0,0,0,2,16,18,{"$f":"VLOOKUP(A1045,'Pivot Norm'!A:B,2,FALSE)","v":2},1,"18696011",1,1,2,2,2,3,0,0,1,0]
["1869601","1869602",{"$f":"VLOOKUP(B1046, 'School List'!F:G,2,FALSE)","v":"Bernstein CA/CT Mag"},"Magnet 2",0,0,0,0,200,null,null,3,0,0,0,203,0,0,0,0,8,8,0,0,0,0,7,7,{"$f":"VLOOKUP(A1046,'Pivot Norm'!A:B,2,FALSE)","v":2},2,"18696012",0,0,0,0,0,0,0,0,0,0]
["1870001","1870001",{"$f":"VLOOKUP(B1047, 'School List'!F:G,2,FALSE)","v":"Huntington Park SH"},"PHBAO",0,0,0,603,1125,null,null,45,0,0,0,1170,0,0,0,4,36,40,0,0,0,4,36,40,{"$f":"VLOOKUP(A1047,'Pivot Norm'!A:B,2,FALSE)","v":2},1,"18700011",3,3,4,3,3,4,0,0,1,0]
["1870001","1870018",{"$f":"VLOOKUP(B1048, 'School List'!F:G,2,FALSE)","v":"Hntngtn Pk STEAM Mag"},"Magnet 2",0,0,0,0,325,null,null,null,0,0,0,325,0,0,0,0,13,13,0,0,0,0,10,10,{"$f":"VLOOKUP(A1048,'Pivot Norm'!A:B,2,FALSE)","v":2},2,"18700012",0,0,0,0,0,0,0,0,0,0]
["1870101","1870101",{"$f":"VLOOKUP(B1049, 'School List'!F:G,2,FALSE)","v":"International St LC"},"PHBAO",0,0,447,281,486,null,null,null,0,0,0,933,0,0,17,2,16,35,0,0,16,2,14,32,{"$f":"VLOOKUP(A1049,'Pivot Norm'!A:B,2,FALSE)","v":1},1,"18701011",2,2,3,2,2,3,1,0,0,0]
["1871001","1871001",{"$f":"VLOOKUP(B1050, 'School List'!F:G,2,FALSE)","v":"Early College Acad"},"PHBAO",0,0,0,95,179,null,null,null,0,0,0,179,0,0,0,1,6,7,0,0,0,1,6,7,{"$f":"VLOOKUP(A1050,'Pivot Norm'!A:B,2,FALSE)","v":1},1,"18710011",1,0.5,2,1,0.5,2,0,0,1,0]
["1871401","1871401",{"$f":"VLOOKUP(B1051, 'School List'!F:G,2,FALSE)","v":"Jefferson SH"},"PHBAO",0,0,0,396,715,null,null,20,0,0,0,735,0,0,0,3,23,26,0,0,0,3,22,25,{"$f":"VLOOKUP(A1051,'Pivot Norm'!A:B,2,FALSE)","v":1},{"$f":"IF(A1051=A754,AD754+1,1)","v":1},"18714011",2,1,3,2,2,3,0,0,1,0]
["1871601","1871601",{"$f":"VLOOKUP(B1052, 'School List'!F:G,2,FALSE)","v":"Santee Educ Complex"},"PHBAO",0,0,0,945,1645,null,null,95,0,0,0,1740,0,0,0,6,52,58,0,0,0,6,50,56,{"$f":"VLOOKUP(A1052,'Pivot Norm'!A:B,2,FALSE)","v":1},1,"18716011",3,3,5,4,3,5,0,0,0,0]
["1872101","1872101",{"$f":"VLOOKUP(B1053, 'School List'!F:G,2,FALSE)","v":"Jordan SH"},"PHBAO",0,0,0,456,780,null,null,87,0,0,0,867,0,0,0,3,25,28,0,0,0,3,24,27,{"$f":"VLOOKUP(A1053,'Pivot Norm'!A:B,2,FALSE)","v":1},1,"18721011",2,2,3,2,2,3,0,0,0,0]
["1872501","1872501",{"$f":"VLOOKUP(B1054, 'School List'!F:G,2,FALSE)","v":"Kennedy SH"},"PHBAO",0,0,0,680,1251,null,null,103,0,0,0,1354,0,0,0,4,39,43,0,0,0,4,39,43,{"$f":"VLOOKUP(A1054,'Pivot Norm'!A:B,2,FALSE)","v":4},1,"18725011",5,5,6,5,4,6,0,0,0,0]
["1872501","1872502",{"$f":"VLOOKUP(B1055, 'School List'!F:G,2,FALSE)","v":"Kennedy A/DD/FM"},"Magnet 2",0,0,0,0,425,null,null,10,0,0,0,435,0,0,0,0,17,17,0,0,0,0,17,17,{"$f":"VLOOKUP(A1055,'Pivot Norm'!A:B,2,FALSE)","v":4},2,"18725012",0,0,0,0,0,0,0,0,0,0]
["1872501","1872508",{"$f":"VLOOKUP(B1056, 'School List'!F:G,2,FALSE)","v":"Kennedy Gifted/Md Mg"},"Magnet 2",0,0,0,0,475,null,null,null,0,0,0,475,0,0,0,0,19,19,0,0,0,0,19,19,{"$f":"VLOOKUP(A1056,'Pivot Norm'!A:B,2,FALSE)","v":4},3,"18725013",0,0,0,0,0,0,0,0,0,0]
["1872501","1872509",{"$f":"VLOOKUP(B1057, 'School List'!F:G,2,FALSE)","v":"Kennedy HS GLEA Mag"},"Magnet 2",0,0,0,0,110,null,null,null,null,null,null,110,0,0,0,0,5,5,0,0,0,0,0,0,{"$f":"VLOOKUP(A1057,'Pivot Norm'!A:B,2,FALSE)","v":4},4,"18725014",0,0,0,0,0,0,0,0,0,0]
["1872701","1872701",{"$f":"VLOOKUP(B1058, 'School List'!F:G,2,FALSE)","v":"King-Drew Med Mag"},"Magnet 2",0,0,0,0,1500,null,null,2,0,0,0,1502,0,0,0,0,60,60,0,0,0,0,60,60,{"$f":"VLOOKUP(A1058,'Pivot Norm'!A:B,2,FALSE)","v":1},1,"18727011",3,3,4,3,3,4,0,0,0,0]
["1872901","1872901",{"$f":"VLOOKUP(B1059, 'School List'!F:G,2,FALSE)","v":"Lincoln SH"},"PHBAO",0,0,0,383,652,null,null,82,0,0,0,734,0,0,0,3,21,24,0,0,0,2,20,22,{"$f":"VLOOKUP(A1059,'Pivot Norm'!A:B,2,FALSE)","v":3},1,"18729011",2,2,3,2,2,3,0,0,0,0]
["1872901","1872902",{"$f":"VLOOKUP(B1060, 'School List'!F:G,2,FALSE)","v":"Lincoln SH STM Mag"},"Magnet 2",0,0,0,0,200,null,null,null,0,0,0,200,0,0,0,0,8,8,0,0,0,0,8,8,{"$f":"VLOOKUP(A1060,'Pivot Norm'!A:B,2,FALSE)","v":3},2,"18729012",0,0,0,0,0,0,0,0,1,0]
["1872901","1872908",{"$f":"VLOOKUP(B1061, 'School List'!F:G,2,FALSE)","v":"Lincoln ESP Magnet"},"Magnet 2",0,0,0,0,162,null,null,null,0,0,0,162,0,0,0,0,7,7,0,0,0,0,7,7,{"$f":"VLOOKUP(A1061,'Pivot Norm'!A:B,2,FALSE)","v":3},3,"18729013",0,0,0,0,0,0,0,0,0,0]
["1873601","1873601",{"$f":"VLOOKUP(B1062, 'School List'!F:G,2,FALSE)","v":"Los Angeles SH"},"PHBAO",0,0,0,377,742,null,null,66,0,0,0,808,0,0,0,3,24,27,0,0,0,3,24,27,{"$f":"VLOOKUP(A1062,'Pivot Norm'!A:B,2,FALSE)","v":2},1,"18736011",2,2,3,2,2,3,0,0,1,0]
["1873601","1873602",{"$f":"VLOOKUP(B1063, 'School List'!F:G,2,FALSE)","v":"Los Angeles STEAM Mg"},"Magnet 2",0,0,0,0,274,null,null,1,0,0,0,275,0,0,0,0,11,11,0,0,0,0,11,11,{"$f":"VLOOKUP(A1063,'Pivot Norm'!A:B,2,FALSE)","v":2},2,"18736012",0,0,0,0,0,0,0,0,0,0]
["1873801","1873801",{"$f":"VLOOKUP(B1064, 'School List'!F:G,2,FALSE)","v":"Downtwn Business Mag"},"Magnet 2",0,0,0,0,625,null,null,null,0,0,0,625,0,0,0,0,25,25,0,0,0,0,26,26,{"$f":"VLOOKUP(A1064,'Pivot Norm'!A:B,2,FALSE)","v":2},1,"18738011",2,2,3,2,2,3,0,0,0,0]
["1873801","1873803",{"$f":"VLOOKUP(B1065, 'School List'!F:G,2,FALSE)","v":"Downtown CS/DMA/E Mg"},"Magnet 2",0,0,0,0,350,null,null,null,0,0,0,350,0,0,0,0,14,14,0,0,0,0,14,14,{"$f":"VLOOKUP(A1065,'Pivot Norm'!A:B,2,FALSE)","v":2},2,"18738012",0,0,0,0,0,0,0,0,0,0]
["1874101","1874101",{"$f":"VLOOKUP(B1066, 'School List'!F:G,2,FALSE)","v":"LACES Mag"},"Magnet 1",0,0,675,0,892,null,null,1,0,0,0,1568,0,0,25,0,33,58,0,0,25,0,33,58,{"$f":"VLOOKUP(A1066,'Pivot Norm'!A:B,2,FALSE)","v":1},1,"18741011",3,3,4,3,3,4,0,0,0,0]
["1874301","1874301",{"$f":"VLOOKUP(B1067, 'School List'!F:G,2,FALSE)","v":"Manual Arts SH"},"PHBAO",0,0,0,324,742,null,null,32,0,0,0,774,0,0,0,2,24,26,0,0,0,2,24,26,{"$f":"VLOOKUP(A1067,'Pivot Norm'!A:B,2,FALSE)","v":2},1,"18743011",2,2,3,2,2,3,2,0,0,0]
["1874301","1874302",{"$f":"VLOOKUP(B1068, 'School List'!F:G,2,FALSE)","v":"Manual Arts Col Prep"},"Magnet 2",0,0,0,0,325,null,null,null,0,0,0,325,0,0,0,0,13,13,0,0,0,0,13,13,{"$f":"VLOOKUP(A1068,'Pivot Norm'!A:B,2,FALSE)","v":2},2,"18743012",0,0,0,0,0,0,0,0,0,0]
["1874801","1874801",{"$f":"VLOOKUP(B1069, 'School List'!F:G,2,FALSE)","v":"West Adams Prep SH"},"PHBAO",0,0,0,461,842,null,null,86,0,0,0,928,0,0,0,3,27,30,0,0,0,3,29,32,{"$f":"VLOOKUP(A1069,'Pivot Norm'!A:B,2,FALSE)","v":3},1,"18748011",2,2,3,2,2,3,0,0,0,0]
["1874801","1874802",{"$f":"VLOOKUP(B1070, 'School List'!F:G,2,FALSE)","v":"W Adams FA Mag"},"Magnet 2",0,0,0,0,66,null,null,null,0,0,0,66,0,0,0,0,3,3,0,0,0,0,2,2,{"$f":"VLOOKUP(A1070,'Pivot Norm'!A:B,2,FALSE)","v":3},2,"18748012",0,0,0,0,0,0,0,0,0,0]
["1874801","1874803",{"$f":"VLOOKUP(B1071, 'School List'!F:G,2,FALSE)","v":"W Adams PA Mag"},"Magnet 2",0,0,0,0,127,null,null,1,0,0,0,128,0,0,0,0,6,6,0,0,0,0,4,4,{"$f":"VLOOKUP(A1071,'Pivot Norm'!A:B,2,FALSE)","v":3},3,"18748013",0,0,0,0,0,0,0,0,0,0]
["1875001","1875001",{"$f":"VLOOKUP(B1072, 'School List'!F:G,2,FALSE)","v":"Marshall SH"},"PHBAO",0,0,0,847,1614,null,null,96,0,0,0,1710,0,0,0,5,51,56,0,0,0,5,52,57,{"$f":"VLOOKUP(A1072,'Pivot Norm'!A:B,2,FALSE)","v":2},1,"18750011",5,4,5,5,4,6,0,0,0,0]
["1875001","1875002",{"$f":"VLOOKUP(B1073, 'School List'!F:G,2,FALSE)","v":"Marshall Gifted Mag"},"Magnet 1",0,0,0,0,406,null,null,null,0,0,0,406,0,0,0,0,15,15,0,0,0,0,15,15,{"$f":"VLOOKUP(A1073,'Pivot Norm'!A:B,2,FALSE)","v":2},2,"18750012",0,0,0,0,0,0,0,0,0,0]
["1875401","1875401",{"$f":"VLOOKUP(B1074, 'School List'!F:G,2,FALSE)","v":"Bravo Medical Mag"},"Magnet 2",0,0,0,0,1650,null,null,null,0,0,0,1650,0,0,0,0,66,66,0,0,0,0,66,66,{"$f":"VLOOKUP(A1074,'Pivot Norm'!A:B,2,FALSE)","v":1},1,"18754011",3,3,4,4,3,5,0,0,0,0]
["1876001","1876001",{"$f":"VLOOKUP(B1075, 'School List'!F:G,2,FALSE)","v":"Middle College HS"},"PHBAO",0,0,0,216,389,null,null,null,0,0,0,389,0,0,0,2,13,15,0,0,0,2,13,15,{"$f":"VLOOKUP(A1075,'Pivot Norm'!A:B,2,FALSE)","v":1},1,"18760011",1,1,2,1,1,2,0,0,0,0]
["1876801","1876801",{"$f":"VLOOKUP(B1076, 'School List'!F:G,2,FALSE)","v":"Monroe SH"},"PHBAO",0,0,0,769,1271,null,null,139,0,0,0,1410,0,0,0,5,40,45,0,0,0,5,39,44,{"$f":"VLOOKUP(A1076,'Pivot Norm'!A:B,2,FALSE)","v":5},1,"18768011",4,4,5,4,3,5,1,0,0,0]
["1876801","1876802",{"$f":"VLOOKUP(B1077, 'School List'!F:G,2,FALSE)","v":"Monroe Police Acd Mg"},"Magnet 2",0,0,0,0,144,null,null,3,0,0,0,147,0,0,0,0,6,6,0,0,0,0,6,6,{"$f":"VLOOKUP(A1077,'Pivot Norm'!A:B,2,FALSE)","v":5},2,"18768012",0,0,0,0,0,0,0,0,0,0]
["1876801","1876803",{"$f":"VLOOKUP(B1078, 'School List'!F:G,2,FALSE)","v":"Monroe Law/Gov Mag"},"Magnet 2",0,0,0,0,253,null,null,null,0,0,0,253,0,0,0,0,11,11,0,0,0,0,10,10,{"$f":"VLOOKUP(A1078,'Pivot Norm'!A:B,2,FALSE)","v":5},3,"18768013",0,0,0,0,0,0,0,0,0,0]
["1876801","1876810",{"$f":"VLOOKUP(B1079, 'School List'!F:G,2,FALSE)","v":"POPP"},"PHBAO",0,0,0,0,22,null,null,null,0,0,0,22,0,0,0,0,1,1,0,0,0,0,1,1,{"$f":"VLOOKUP(A1079,'Pivot Norm'!A:B,2,FALSE)","v":5},4,"18768014",0,0,0,0,0,0,0,0,0,0]
["1876801","1876812",{"$f":"VLOOKUP(B1080, 'School List'!F:G,2,FALSE)","v":"Monroe FA Mag"},"Magnet 2",0,0,0,0,120,null,null,2,0,0,0,122,0,0,0,0,5,5,0,0,0,0,4,4,{"$f":"VLOOKUP(A1080,'Pivot Norm'!A:B,2,FALSE)","v":5},5,"18768015",0,0,0,0,0,0,0,0,0,0]
["1877401","1877401",{"$f":"VLOOKUP(B1081, 'School List'!F:G,2,FALSE)","v":"Contreras LC Glbl St"},"PHBAO",0,0,0,169,323,null,null,1,0,0,0,324,0,0,0,1,11,12,0,0,0,1,11,12,{"$f":"VLOOKUP(A1081,'Pivot Norm'!A:B,2,FALSE)","v":1},1,"18774011",1,0.5,2,1,0.5,2,0,0,0,0.5]
["1877901","1877901",{"$f":"VLOOKUP(B1082, 'School List'!F:G,2,FALSE)","v":"Narbonne SH"},"PHBAO",0,0,0,661,1123,null,null,101,0,0,0,1224,0,0,0,4,36,40,0,0,0,4,36,40,{"$f":"VLOOKUP(A1082,'Pivot Norm'!A:B,2,FALSE)","v":3},1,"18779011",4,4,5,4,3,5,0,0,0,0]
["1877901","1877902",{"$f":"VLOOKUP(B1083, 'School List'!F:G,2,FALSE)","v":"Narbonne STEAM Mag"},"Magnet 2",0,0,0,0,450,null,null,3,0,0,0,453,0,0,0,0,18,18,0,0,0,0,18,18,{"$f":"VLOOKUP(A1083,'Pivot Norm'!A:B,2,FALSE)","v":3},2,"18779012",0,0,0,0,0,0,0,0,0,0]
["1877901","1877911",{"$f":"VLOOKUP(B1084, 'School List'!F:G,2,FALSE)","v":"Narbonne BET Mag"},"Magnet 2",0,0,0,0,241,null,null,5,0,0,0,246,0,0,0,0,10,10,0,0,0,0,7,7,{"$f":"VLOOKUP(A1084,'Pivot Norm'!A:B,2,FALSE)","v":3},3,"18779013",0,0,0,0,0,0,1,0,0,0]
["1878601","1878601",{"$f":"VLOOKUP(B1085, 'School List'!F:G,2,FALSE)","v":"No Hollywood SH"},"PHBAO",0,0,0,965,1699,null,null,67,0,0,0,1766,0,0,0,6,53,59,0,0,0,6,53,59,{"$f":"VLOOKUP(A1085,'Pivot Norm'!A:B,2,FALSE)","v":4},1,"18786011",5,5,7,5,4,7,0,0,0,0]
["1878601","1878602",{"$f":"VLOOKUP(B1086, 'School List'!F:G,2,FALSE)","v":"No Hollywood Hg Mag"},"Magnet 1",0,0,0,0,297,null,null,null,0,0,0,297,0,0,0,0,11,11,0,0,0,0,11,11,{"$f":"VLOOKUP(A1086,'Pivot Norm'!A:B,2,FALSE)","v":4},2,"18786012",0,0,0,0,0,0,0,0,0,0]
["1878601","1878603",{"$f":"VLOOKUP(B1087, 'School List'!F:G,2,FALSE)","v":"NHHS/LA Zoo Biol Mag"},"Magnet 1",0,0,0,0,297,null,null,3,0,0,0,300,0,0,0,0,11,11,0,0,0,0,11,11,{"$f":"VLOOKUP(A1087,'Pivot Norm'!A:B,2,FALSE)","v":4},3,"18786013",0,0,0,0,0,0,0,0,0,0]
["1878601","1878612",{"$f":"VLOOKUP(B1088, 'School List'!F:G,2,FALSE)","v":"N Hollywood STEM Mag"},"Magnet 1",0,0,0,0,270,null,null,2,0,0,0,272,0,0,0,0,10,10,0,0,0,0,8,8,{"$f":"VLOOKUP(A1088,'Pivot Norm'!A:B,2,FALSE)","v":4},4,"18786014",0,0,0,0,0,0,0,0,0,0]
["1881401","1881401",{"$f":"VLOOKUP(B1089, 'School List'!F:G,2,FALSE)","v":"Reseda Charter HS"},"PHBAO",0,0,90,431,683,null,1,110,0,0,0,884,0,0,4,3,22,29,0,0,2,2,20,24,{"$f":"VLOOKUP(A1089,'Pivot Norm'!A:B,2,FALSE)","v":4},1,"18814011",3,3,4,3,3,4,0,0,0,0]
["1881401","1881402",{"$f":"VLOOKUP(B1090, 'School List'!F:G,2,FALSE)","v":"Reseda CHS PA Mag"},"Magnet 2",0,0,0,0,250,null,null,3,0,0,0,253,0,0,0,0,10,10,0,0,0,0,10,10,{"$f":"VLOOKUP(A1090,'Pivot Norm'!A:B,2,FALSE)","v":4},2,"18814012",0,0,0,0,0,0,0,0,0,0]
["1881401","1881403",{"$f":"VLOOKUP(B1091, 'School List'!F:G,2,FALSE)","v":"Reseda CHS Sci Mag"},"Magnet 2",0,0,0,0,313,null,null,null,0,0,0,313,0,0,0,0,13,13,0,0,0,0,11,11,{"$f":"VLOOKUP(A1091,'Pivot Norm'!A:B,2,FALSE)","v":4},3,"18814013",0,0,0,0,0,0,0,0,0,0]
["1881401","1881409",{"$f":"VLOOKUP(B1092, 'School List'!F:G,2,FALSE)","v":"Reseda CHS AME Mag"},"Magnet 2",0,0,0,0,146,null,null,5,0,0,0,151,0,0,0,0,6,6,0,0,0,0,5,5,{"$f":"VLOOKUP(A1092,'Pivot Norm'!A:B,2,FALSE)","v":4},4,"18814014",0,0,0,0,0,0,0,0,0,0]
["1883801","1883801",{"$f":"VLOOKUP(B1093, 'School List'!F:G,2,FALSE)","v":"Narbonne SH Harts LA"},"PHBAO",0,0,0,214,365,null,null,10,0,0,0,375,0,0,0,2,12,14,0,0,0,2,12,14,{"$f":"VLOOKUP(A1093,'Pivot Norm'!A:B,2,FALSE)","v":1},1,{"$f":"A1093&AD1093","v":"18838011"},1,0.5,2,1,1,2,0,0,0,0]
["1884201","1884201",{"$f":"VLOOKUP(B1094, 'School List'!F:G,2,FALSE)","v":"SOCES Mag"},"Magnet 1",0,360,648,0,972,2,3,null,0,0,0,1985,0,14,24,0,36,74,0,13,24,0,37,74,{"$f":"VLOOKUP(A1094,'Pivot Norm'!A:B,2,FALSE)","v":1},1,"18842011",4,3,5,5,3,5,0,0,0,0]
["1884301","1884301",{"$f":"VLOOKUP(B1095, 'School List'!F:G,2,FALSE)","v":"San Fernando SH"},"PHBAO",0,0,0,805,1406,null,null,152,0,0,0,1558,0,0,0,5,44,49,0,0,0,5,44,49,{"$f":"VLOOKUP(A1095,'Pivot Norm'!A:B,2,FALSE)","v":2},{"$f":"IF(A1095=A1094,AD1094+1,1)","v":1},"18843011",4,4,5,4,3,5,0,0,0,1]
["1884301","1884302",{"$f":"VLOOKUP(B1096, 'School List'!F:G,2,FALSE)","v":"San Fernando STEM Mag"},"Magnet 2",0,0,0,0,425,null,null,1,0,0,0,426,0,0,0,0,17,17,0,0,0,0,18,18,{"$f":"VLOOKUP(A1096,'Pivot Norm'!A:B,2,FALSE)","v":2},2,"18843012",0,0,0,0,0,0,0,0,0,0]
["1885001","1885001",{"$f":"VLOOKUP(B1097, 'School List'!F:G,2,FALSE)","v":"San Pedro SH"},"PHBAO",0,0,0,1006,1693,null,null,125,0,0,0,1818,0,0,0,6,53,59,0,0,0,5,51,56,{"$f":"VLOOKUP(A1097,'Pivot Norm'!A:B,2,FALSE)","v":5},1,"18850011",5,6,7,5,4,7,0,0,0,1]
["1885001","1885002",{"$f":"VLOOKUP(B1098, 'School List'!F:G,2,FALSE)","v":"San Pedro Pol Acd Mg"},"Magnet 2",0,0,0,0,100,null,null,7,0,0,0,107,0,0,0,0,4,4,0,0,0,0,4,4,{"$f":"VLOOKUP(A1098,'Pivot Norm'!A:B,2,FALSE)","v":5},2,"18850012",0,0,0,0,0,0,0,0,0,0]
["1885001","1885003",{"$f":"VLOOKUP(B1099, 'School List'!F:G,2,FALSE)","v":"San Pedro MS/T/M Mag"},"Magnet 1",0,0,0,0,352,null,null,1,0,0,0,353,0,0,0,0,13,13,0,0,0,0,13,13,{"$f":"VLOOKUP(A1099,'Pivot Norm'!A:B,2,FALSE)","v":5},3,"18850013",0,0,0,0,0,0,0,0,0,0]
["1885001","1885010",{"$f":"VLOOKUP(B1100, 'School List'!F:G,2,FALSE)","v":"San Pedro G/STEAM Mg"},"Magnet 2",0,0,0,0,325,null,null,null,0,0,0,325,0,0,0,0,13,13,0,0,0,0,13,13,{"$f":"VLOOKUP(A1100,'Pivot Norm'!A:B,2,FALSE)","v":5},4,"18850014",0,0,0,0,0,0,0,0,0,0]
["1885001","1885011",{"$f":"VLOOKUP(B1101, 'School List'!F:G,2,FALSE)","v":"San Pedro VAPA Mag"},"Magnet 2",0,0,0,0,200,null,null,2,0,0,0,202,0,0,0,0,8,8,0,0,0,0,5,5,{"$f":"VLOOKUP(A1101,'Pivot Norm'!A:B,2,FALSE)","v":5},5,"18850015",0,0,0,0,0,0,0,0,0,0]
["1885301","1885301",{"$f":"VLOOKUP(B1102, 'School List'!F:G,2,FALSE)","v":"Orthopaedic Hosp Mag"},"Magnet 2",0,0,0,0,750,null,null,null,0,0,0,750,0,0,0,0,30,30,0,0,0,0,30,30,{"$f":"VLOOKUP(A1102,'Pivot Norm'!A:B,2,FALSE)","v":1},1,"18853011",2,1,3,2,2,3,0,0,0,0]
["1886601","1886601",{"$f":"VLOOKUP(B1103, 'School List'!F:G,2,FALSE)","v":"Marquez SH HPIAM"},"PHBAO",0,0,0,367,741,null,null,10,0,0,0,751,0,0,0,3,24,27,0,0,0,3,24,27,{"$f":"VLOOKUP(A1103,'Pivot Norm'!A:B,2,FALSE)","v":1},1,"18866011",2,2,3,2,2,3,0,0,0,0]
["1886701","1886701",{"$f":"VLOOKUP(B1104, 'School List'!F:G,2,FALSE)","v":"Rivera LC Pub Srv"},"PHBAO",0,0,0,250,494,null,null,3,0,0,0,497,0,0,0,2,16,18,0,0,0,2,16,18,{"$f":"VLOOKUP(A1104,'Pivot Norm'!A:B,2,FALSE)","v":1},1,"18867011",1,1,2,1,1,2,1,0,1,0]
["1886801","1886801",{"$f":"VLOOKUP(B1105, 'School List'!F:G,2,FALSE)","v":"Rancho Domingz Prep"},"PHBAO",0,0,192,205,297,null,2,27,0,0,0,518,0,0,8,2,10,20,0,0,8,2,10,20,{"$f":"VLOOKUP(A1105,'Pivot Norm'!A:B,2,FALSE)","v":2},1,"18868011",2,1,3,2,2,3,0,0,1,0]
["1886801","1886802",{"$f":"VLOOKUP(B1106, 'School List'!F:G,2,FALSE)","v":"Rancho Dmngz L/G/PS Mg"},"Magnet 2",0,0,0,0,206,null,null,null,0,0,0,206,0,0,0,0,9,9,0,0,0,0,7,7,{"$f":"VLOOKUP(A1106,'Pivot Norm'!A:B,2,FALSE)","v":2},2,"18868012",0,0,0,0,0,0,0,0,0,0]
["1887101","1887101",{"$f":"VLOOKUP(B1107, 'School List'!F:G,2,FALSE)","v":"South Gate SH"},"PHBAO",0,0,0,975,1805,null,null,67,0,0,0,1872,0,0,0,6,57,63,0,0,0,6,59,65,{"$f":"VLOOKUP(A1107,'Pivot Norm'!A:B,2,FALSE)","v":2},1,"18871011",4,4,5,4,3,5,0,0,0,1]
["1887101","1887110",{"$f":"VLOOKUP(B1108, 'School List'!F:G,2,FALSE)","v":"South Gate HS PSB Mg"},"Magnet 2",0,0,0,0,136,null,null,null,null,null,null,136,0,0,0,0,6,6,0,0,0,0,0,0,{"$f":"VLOOKUP(A1108,'Pivot Norm'!A:B,2,FALSE)","v":2},2,"18871012",0,0,0,0,0,0,0,0,0,0]
["1887801","1887801",{"$f":"VLOOKUP(B1109, 'School List'!F:G,2,FALSE)","v":"Sylmar Charter HS"},"PHBAO",0,0,0,646,1046,null,null,117,0,0,0,1163,0,0,0,4,33,37,0,0,0,4,31,35,{"$f":"VLOOKUP(A1109,'Pivot Norm'!A:B,2,FALSE)","v":2},1,"18878011",3,3,4,3,3,4,0,0,0,0]
["1887801","1887802",{"$f":"VLOOKUP(B1110, 'School List'!F:G,2,FALSE)","v":"Sylmar CHS STM Mag"},"Magnet 2",0,0,0,0,425,null,null,null,0,0,0,425,0,0,0,0,17,17,0,0,0,0,17,17,{"$f":"VLOOKUP(A1110,'Pivot Norm'!A:B,2,FALSE)","v":2},2,"18878012",0,0,0,0,0,0,0,0,0,0]
["1888001","1888001",{"$f":"VLOOKUP(B1111, 'School List'!F:G,2,FALSE)","v":"William H Taft"},"Non-PHBAO",0,0,0,957,1826,null,null,69,0,0,0,1895,0,0,0,2,57,59,0,0,0,2,55,57,{"$f":"VLOOKUP(A1111,'Pivot Norm'!A:B,2,FALSE)","v":2},1,"18880011",5,5,6,5,4,6,0,0,0,0]
["1888001","1888007",{"$f":"VLOOKUP(B1112, 'School List'!F:G,2,FALSE)","v":"Taft Gifted/STEAM Mg"},"Magnet 1",0,0,0,0,497,null,null,null,0,0,0,497,0,0,0,0,19,19,0,0,0,0,17,17,{"$f":"VLOOKUP(A1112,'Pivot Norm'!A:B,2,FALSE)","v":2},2,"18880012",0,0,0,0,0,0,0,0,0,0]
["1888101","1888101",{"$f":"VLOOKUP(B1113, 'School List'!F:G,2,FALSE)","v":"South East SH"},"PHBAO",0,0,0,840,1413,null,null,82,0,0,0,1495,0,0,0,5,45,50,0,0,0,5,43,48,{"$f":"VLOOKUP(A1113,'Pivot Norm'!A:B,2,FALSE)","v":2},1,"18881011",4,4,5,4,3,5,0,0,0,0]
["1888101","1888108",{"$f":"VLOOKUP(B1114, 'School List'!F:G,2,FALSE)","v":"SEHS Tech/Media Mag"},"Magnet 2",0,0,0,0,474,null,null,1,0,0,0,475,0,0,0,0,19,19,0,0,0,0,17,17,{"$f":"VLOOKUP(A1114,'Pivot Norm'!A:B,2,FALSE)","v":2},2,"18881012",0,0,0,0,0,0,0,0,0,0]
["1888201","1888201",{"$f":"VLOOKUP(B1115, 'School List'!F:G,2,FALSE)","v":"Maywood Academy SH"},"PHBAO",0,0,0,660,1041,null,null,36,0,0,0,1077,0,0,0,4,33,37,0,0,0,3,32,35,{"$f":"VLOOKUP(A1115,'Pivot Norm'!A:B,2,FALSE)","v":1},1,"18882011",2,2,3,2,2,3,0,0,0,0]
["1888601","1888601",{"$f":"VLOOKUP(B1116, 'School List'!F:G,2,FALSE)","v":"University HS Charter"},"PHBAO",0,0,0,496,863,null,null,82,0,0,0,945,0,0,0,3,27,30,0,0,0,3,26,29,{"$f":"VLOOKUP(A1116,'Pivot Norm'!A:B,2,FALSE)","v":2},1,"18886011",3,3,4,3,3,4,0,0,0,0]
["1888601","1888607",{"$f":"VLOOKUP(B1117, 'School List'!F:G,2,FALSE)","v":"Univrsty CHS MAST Mg"},"Magnet 2",0,0,0,0,500,null,null,13,0,0,0,513,0,0,0,0,20,20,0,0,0,0,20,20,{"$f":"VLOOKUP(A1117,'Pivot Norm'!A:B,2,FALSE)","v":2},2,"18886012",0,0,0,0,0,0,0,0,0,0]
["1889301","1889301",{"$f":"VLOOKUP(B1118, 'School List'!F:G,2,FALSE)","v":"Van Nuys SH"},"PHBAO",0,0,0,593,1023,null,null,73,0,0,0,1096,0,0,0,4,32,36,0,0,0,4,33,37,{"$f":"VLOOKUP(A1118,'Pivot Norm'!A:B,2,FALSE)","v":4},1,"18893011",5,5,6,5,4,7,0,0,0,0]
["1889301","1889302",{"$f":"VLOOKUP(B1119, 'School List'!F:G,2,FALSE)","v":"Van Nuys Medical Mag"},"Magnet 2",0,0,0,0,300,null,null,1,0,0,0,301,0,0,0,0,12,12,0,0,0,0,12,12,{"$f":"VLOOKUP(A1119,'Pivot Norm'!A:B,2,FALSE)","v":4},2,"18893012",0,0,0,0,0,0,0,0,0,0]
["1889301","1889303",{"$f":"VLOOKUP(B1120, 'School List'!F:G,2,FALSE)","v":"Van Nuys SH STM Mag"},"Magnet 2",0,0,0,0,625,null,null,3,0,0,0,628,0,0,0,0,25,25,0,0,0,0,25,25,{"$f":"VLOOKUP(A1120,'Pivot Norm'!A:B,2,FALSE)","v":4},3,"18893013",0,0,0,0,0,0,0,0,0,0]
["1889301","1889304",{"$f":"VLOOKUP(B1121, 'School List'!F:G,2,FALSE)","v":"Van Nuys Per Arts Mg"},"Magnet 2",0,0,0,0,425,null,null,6,0,0,0,431,0,0,0,0,17,17,0,0,0,0,17,17,{"$f":"VLOOKUP(A1121,'Pivot Norm'!A:B,2,FALSE)","v":4},4,"18893014",0,0,0,0,0,0,0,0,0,0]
["1889801","1889801",{"$f":"VLOOKUP(B1122, 'School List'!F:G,2,FALSE)","v":"Valley Acad Arts/Sci"},"PHBAO",0,0,0,464,899,null,null,21,0,0,0,920,0,0,0,3,29,32,0,0,0,3,30,33,{"$f":"VLOOKUP(A1122,'Pivot Norm'!A:B,2,FALSE)","v":1},1,"18898011",2,2,3,2,2,3,0,0,0,0]
["1890101","1890101",{"$f":"VLOOKUP(B1123, 'School List'!F:G,2,FALSE)","v":"Chavez LA Tech Prep"},"PHBAO",0,0,0,182,340,null,null,6,0,0,0,346,0,0,0,2,11,13,0,0,0,2,11,13,{"$f":"VLOOKUP(A1123,'Pivot Norm'!A:B,2,FALSE)","v":1},1,"18901011",1,0.5,2,1,0.5,2,0,0,0,0.5]
["1890701","1890701",{"$f":"VLOOKUP(B1124, 'School List'!F:G,2,FALSE)","v":"Venice SH"},"PHBAO",0,0,0,574,943,null,null,98,0,0,0,1041,0,0,0,4,30,34,0,0,0,3,29,32,{"$f":"VLOOKUP(A1124,'Pivot Norm'!A:B,2,FALSE)","v":3},1,"18907011",4,4,5,4,3,5,0,0,0,1]
["1890701","1890702",{"$f":"VLOOKUP(B1125, 'School List'!F:G,2,FALSE)","v":"Venice SH WL/GS Mag"},"Magnet 2",0,0,0,0,475,null,null,9,0,0,0,484,0,0,0,0,19,19,0,0,0,0,19,19,{"$f":"VLOOKUP(A1125,'Pivot Norm'!A:B,2,FALSE)","v":3},2,"18907012",0,0,0,0,0,0,0,0,0,0]
["1890701","1890707",{"$f":"VLOOKUP(B1126, 'School List'!F:G,2,FALSE)","v":"Venice SH STEMM Mag"},"Magnet 2",0,0,0,0,525,null,null,5,0,0,0,530,0,0,0,0,21,21,0,0,0,0,19,19,{"$f":"VLOOKUP(A1126,'Pivot Norm'!A:B,2,FALSE)","v":3},3,"18907013",0,0,0,0,0,0,0,0,0,0]
["1891401","1891401",{"$f":"VLOOKUP(B1127, 'School List'!F:G,2,FALSE)","v":"Verdugo Hills SH"},"PHBAO",0,0,0,283,516,null,null,50,0,0,0,566,0,0,0,2,17,19,0,0,0,2,16,18,{"$f":"VLOOKUP(A1127,'Pivot Norm'!A:B,2,FALSE)","v":3},1,"18914011",2,3,4,2,2,4,0,0,0,0]
["1891401","1891402",{"$f":"VLOOKUP(B1128, 'School List'!F:G,2,FALSE)","v":"Vrdgo Hlls STEMM Mg"},"Magnet 1",0,0,0,0,406,null,null,null,0,0,0,406,0,0,0,0,15,15,0,0,0,0,15,15,{"$f":"VLOOKUP(A1128,'Pivot Norm'!A:B,2,FALSE)","v":3},2,"18914012",0,0,0,0,0,0,0,0,0,0]
["1891401","1891408",{"$f":"VLOOKUP(B1129, 'School List'!F:G,2,FALSE)","v":"Verdgo Hls VAPA Mag"},"Magnet 1",0,0,0,0,297,null,null,3,0,0,0,300,0,0,0,0,11,11,0,0,0,0,9,9,{"$f":"VLOOKUP(A1129,'Pivot Norm'!A:B,2,FALSE)","v":3},3,"18914013",0,0,0,0,0,0,1,0,0,0]
["1891701","1891701",{"$f":"VLOOKUP(B1130, 'School List'!F:G,2,FALSE)","v":"MaCES Magnet"},"Magnet 2",0,0,400,0,875,null,1,null,0,0,0,1276,0,0,16,0,35,51,0,0,18,0,34,52,{"$f":"VLOOKUP(A1130,'Pivot Norm'!A:B,2,FALSE)","v":1},1,"18917011",2,3,4,3,2,4,0,0,0,1]
["1892101","1892101",{"$f":"VLOOKUP(B1131, 'School List'!F:G,2,FALSE)","v":"Legacy SH STEAM"},"PHBAO",0,0,0,335,617,null,null,1,0,0,0,618,0,0,0,2,20,22,0,0,0,2,20,22,{"$f":"VLOOKUP(A1131,'Pivot Norm'!A:B,2,FALSE)","v":1},1,"18921011",1,1,2,1,1,2,0,0,0,0]
["1892801","1892801",{"$f":"VLOOKUP(B1132, 'School List'!F:G,2,FALSE)","v":"Washington Prep SH"},"PHBAO",0,0,0,203,393,null,null,55,0,0,0,448,0,0,0,2,13,15,0,0,0,2,13,15,{"$f":"VLOOKUP(A1132,'Pivot Norm'!A:B,2,FALSE)","v":2},1,"18928011",1,1,2,2,2,3,0,0,0,0]
["1892801","1892803",{"$f":"VLOOKUP(B1133, 'School List'!F:G,2,FALSE)","v":"Washington STEAM Mag"},"Magnet 2",0,0,0,0,243,null,null,7,0,0,0,250,0,0,0,0,10,10,0,0,0,0,10,10,{"$f":"VLOOKUP(A1133,'Pivot Norm'!A:B,2,FALSE)","v":2},2,"18928012",0,0,0,0,0,0,0,0,0,0]
["1894301","1894301",{"$f":"VLOOKUP(B1134, 'School List'!F:G,2,FALSE)","v":"WESM Hlth/Sports Med"},"Magnet 2",0,0,0,0,345,null,null,15,0,0,0,360,0,0,0,0,14,14,0,0,0,0,13,13,{"$f":"VLOOKUP(A1134,'Pivot Norm'!A:B,2,FALSE)","v":3},1,"18943011",2,1,3,2,2,3,1,0,0,0]
["1894301","1894309",{"$f":"VLOOKUP(B1135, 'School List'!F:G,2,FALSE)","v":"WES G/HG/HA/STEAM Mg"},"Magnet 2",0,0,0,0,147,null,null,null,0,0,0,147,0,0,0,0,6,6,0,0,0,0,6,6,{"$f":"VLOOKUP(A1135,'Pivot Norm'!A:B,2,FALSE)","v":3},2,"18943012",0,0,0,0,0,0,0,0,0,0]
["1894301","1894310",{"$f":"VLOOKUP(B1136, 'School List'!F:G,2,FALSE)","v":"WESM Env Natrl Sci"},"Magnet 2",0,0,0,0,212,null,null,11,0,0,0,223,0,0,0,0,9,9,0,0,0,0,8,8,{"$f":"VLOOKUP(A1136,'Pivot Norm'!A:B,2,FALSE)","v":3},3,"18943013",0,0,0,0,0,0,0,0,0,0]
[null,null,null,null,null,null,null,null,null,null,null,null,null,null,null,null,null,null,null,null,null,null,null,null,null,null,null,null,null,null,""]
["Total",null,null,null,{"$f":"SUM(E4:E1137)","v":139604},{"$f":"SUM(F4:F1137)","v":74395},87039,45459,117797,10311,5332,5190,3208,1498,4553,448927,6150,2990,3374,306,4059,16879,6232,2959,3274,295,3919,16679,2205,null,null,{"$f":"SUM(AF4:AF1137)","v":947},428,1707,957,393.5,1724,288,53,{"$f":"SUM(AN4:AN1137)","v":83},{"$f":"SUM(AO4:AO1137)","v":17}]
[]
[null,null,null,null,null,null,null,null,null,null,null,null,null,null,null,null,null,null,null,null,"Tchr Change",{"$f":"(V1138+AN1138)-(AB1138+AL1138+AM1138)","v":-58},{"$f":"V1138-AB1138","v":200},"Without off norm"]
[null,null,null,null,null,null,null,null,null,null,null,null,null,null,null,null,null,null,null,null,"Admin Change",{"$f":"AF1138-AI1138","v":-10}]
[null,null,null,null,null,null,null,null,null,null,null,null,null,null,null,null,null,null,null,null,"CNS Change",{"$f":"AG1138-(AJ1138+AO1138)","v":17.5}]
[null,null,null,null,null,null,null,null,null,null,null,null,null,null,null,null,null,null,null,null,"Clerical Change",{"$f":"AH1138-AK1138","v":-17}]

{"sheet":"Position Simulator","index":3,"n_rows":77,"n_cols":9,"rows_kept":77,"cut":false,"hidden":false,"merged":[[21,11,21,12],[18,2,18,8],[69,5,69,6],[19,5,19,8],[27,5,27,8],[19,2,19,3],[27,2,27,3],[26,2,26,8],[49,2,49,8],[69,2,69,3],[42,2,42,8],[76,2,76,8],[1,2,1,8],[2,2,2,8],[43,2,43,8],[45,2,45,8],[39,2,39,8],[63,3,63,5]]}
[]
[null,null,"2021-22 TEACHER PROJECTIONS"]
[null,null,"Instructions: enter value for fields highlighted in blue to simulate norm FTEs"]
[]
[null,null,"Indicate whether the school has elementary 6th grade enrollment (\"t\" if yes, \"f\" if no)"]
[]
[null,null,"6th grade elementary",null,{"$f":"IF(AND(SUM(D11:D17)+SUM(G11:G16)>0, D7=0), \"Please select t or f for most accurate simulation.\", \"\")","v":""}]
[]
[null,null,"Enter general ed enrollment by school and grade level"]
[null,null,"Grade","Enrollment",null,"Grade","Enrollment"]
[null,null,"TK and K",null,null,"G7"]
[null,null,"G1",null,null,"G8"]
[null,null,"G2",null,null,"G9"]
[null,null,"G3",null,null,"G10"]
[null,null,"G4",null,null,"G11"]
[null,null,"G5",null,null,"G12"]
[null,null,"G6"]
[]
[null,null,"\nAll Schools\n"]
[null,null,"Regular Schools",null,null,"Affiliated Charter Schools"]
[null,null,"Norm Category","District Funded Teachers",null,"Norm Category","District Funded Teachers","Charter Block Grant Funded Teachers","Total Teachers"]
[null,null,"Non-PHBAO",{"$f":"INDEX('Simulator Norming'!AL:AL, MATCH('Position Simulator'!C22&\"f\"&\"No\",'Simulator Norming'!$AN:$AN,0))","v":0},null,"Non-PHBAO",{"$f":"INDEX('Simulator Norming'!AC:AC, MATCH('Position Simulator'!F22&\"t\"&\"No\",'Simulator Norming'!$AN:$AN,0))","v":0},{"$f":"INDEX('Simulator Norming'!AJ:AJ, MATCH('Position Simulator'!F22&\"t\"&\"No\",'Simulator Norming'!$AN:$AN,0))","v":0},{"$f":"INDEX('Simulator Norming'!AL:AL, MATCH('Position Simulator'!F22&\"f\"&\"No\",'Simulator Norming'!$AN:$AN,0))","v":0}]
[null,null,"PHBAO",{"$f":"INDEX('Simulator Norming'!AL:AL, MATCH('Position Simulator'!C23&\"f\"&\"No\",'Simulator Norming'!$AN:$AN,0))","v":0},null,"PHBAO",{"$f":"INDEX('Simulator Norming'!AC:AC, MATCH('Position Simulator'!F23&\"t\"&\"No\",'Simulator Norming'!$AN:$AN,0))","v":0},{"$f":"INDEX('Simulator Norming'!AJ:AJ, MATCH('Position Simulator'!F23&\"t\"&\"No\",'Simulator Norming'!$AN:$AN,0))","v":0},{"$f":"INDEX('Simulator Norming'!AL:AL, MATCH('Position Simulator'!F23&\"f\"&\"No\",'Simulator Norming'!$AN:$AN,0))","v":0}]
[null,null,"Magnet I",{"$f":"INDEX('Simulator Norming'!AL:AL, MATCH('Position Simulator'!C24&\"f\"&\"No\",'Simulator Norming'!$AN:$AN,0))","v":0},null,"Magnet I",{"$f":"INDEX('Simulator Norming'!AC:AC, MATCH('Position Simulator'!F24&\"t\"&\"No\",'Simulator Norming'!$AN:$AN,0))","v":0},{"$f":"INDEX('Simulator Norming'!AJ:AJ, MATCH('Position Simulator'!F24&\"t\"&\"No\",'Simulator Norming'!$AN:$AN,0))","v":0},{"$f":"INDEX('Simulator Norming'!AL:AL, MATCH('Position Simulator'!F24&\"f\"&\"No\",'Simulator Norming'!$AN:$AN,0))","v":0}]
[null,null,"Magnet II",{"$f":"INDEX('Simulator Norming'!AL:AL, MATCH('Position Simulator'!C25&\"f\"&\"No\",'Simulator Norming'!$AN:$AN,0))","v":0},null,"Magnet II",{"$f":"INDEX('Simulator Norming'!AC:AC, MATCH('Position Simulator'!F25&\"t\"&\"No\",'Simulator Norming'!$AN:$AN,0))","v":0},{"$f":"INDEX('Simulator Norming'!AJ:AJ, MATCH('Position Simulator'!F25&\"t\"&\"No\",'Simulator Norming'!$AN:$AN,0))","v":0},{"$f":"INDEX('Simulator Norming'!AL:AL, MATCH('Position Simulator'!F25&\"f\"&\"No\",'Simulator Norming'!$AN:$AN,0))","v":0}]
[]
[null,null,"\nTargeted High Needs Schools\n"]
[null,null,"Regular Schools",null,null,"Affiliated Charter Schools"]
[null,null,"Norm Category","District Funded Teachers",null,"Norm Category","District Funded Teachers","Charter Block Grant Funded Teachers","Total Teachers"]
[null,null,"Non-PHBAO",{"$f":"INDEX('Simulator Norming'!AL:AL, MATCH('Position Simulator'!C30&\"f\"&\"Yes\",'Simulator Norming'!$AN:$AN,0))","v":0},null,"Non-PHBAO",{"$f":"INDEX('Simulator Norming'!AC:AC, MATCH('Position Simulator'!F30&\"t\"&\"Yes\",'Simulator Norming'!$AN:$AN,0))","v":0},{"$f":"INDEX('Simulator Norming'!AJ:AJ, MATCH('Position Simulator'!F30&\"t\"&\"Yes\",'Simulator Norming'!$AN:$AN,0))","v":0},{"$f":"INDEX('Simulator Norming'!AL:AL, MATCH('Position Simulator'!F30&\"f\"&\"Yes\",'Simulator Norming'!$AN:$AN,0))","v":0}]
[null,null,"PHBAO",{"$f":"INDEX('Simulator Norming'!AL:AL, MATCH('Position Simulator'!C31&\"f\"&\"Yes\",'Simulator Norming'!$AN:$AN,0))","v":0},null,"PHBAO",{"$f":"INDEX('Simulator Norming'!AC:AC, MATCH('Position Simulator'!F31&\"t\"&\"Yes\",'Simulator Norming'!$AN:$AN,0))","v":0},{"$f":"INDEX('Simulator Norming'!AJ:AJ, MATCH('Position Simulator'!F31&\"t\"&\"Yes\",'Simulator Norming'!$AN:$AN,0))","v":0},{"$f":"INDEX('Simulator Norming'!AL:AL, MATCH('Position Simulator'!F31&\"f\"&\"Yes\",'Simulator Norming'!$AN:$AN,0))","v":0}]
[null,null,"Magnet I",{"$f":"INDEX('Simulator Norming'!AL:AL, MATCH('Position Simulator'!C32&\"f\"&\"Yes\",'Simulator Norming'!$AN:$AN,0))","v":0},null,"Magnet I",{"$f":"INDEX('Simulator Norming'!AC:AC, MATCH('Position Simulator'!F32&\"t\"&\"Yes\",'Simulator Norming'!$AN:$AN,0))","v":0},{"$f":"INDEX('Simulator Norming'!AJ:AJ, MATCH('Position Simulator'!F32&\"t\"&\"Yes\",'Simulator Norming'!$AN:$AN,0))","v":0},{"$f":"INDEX('Simulator Norming'!AL:AL, MATCH('Position Simulator'!F32&\"f\"&\"Yes\",'Simulator Norming'!$AN:$AN,0))","v":0}]
[null,null,"Magnet II",{"$f":"INDEX('Simulator Norming'!AL:AL, MATCH('Position Simulator'!C33&\"f\"&\"Yes\",'Simulator Norming'!$AN:$AN,0))","v":0},null,"Magnet II",{"$f":"INDEX('Simulator Norming'!AC:AC, MATCH('Position Simulator'!F33&\"t\"&\"Yes\",'Simulator Norming'!$AN:$AN,0))","v":0},{"$f":"INDEX('Simulator Norming'!AJ:AJ, MATCH('Position Simulator'!F33&\"t\"&\"Yes\",'Simulator Norming'!$AN:$AN,0))","v":0},{"$f":"INDEX('Simulator Norming'!AL:AL, MATCH('Position Simulator'!F33&\"f\"&\"Yes\",'Simulator Norming'!$AN:$AN,0))","v":0}]
[]
[null,null,"Notes:"]
[null,null,"• District Funded Teachers - funded by Central"]
[null,null,"• Charter Block Grant Funded Teachers - funded by School"]
[null,null,"• Schools that converted to Affiliated Charter in 2013-14 or thereafter - follow projections under \"Regular Schools\"."]
[]
[null,null,"SUBJECT TO CHANGE"]
[]
[]
[null,null,"2021-22 CLERICAL, ADMINISTRATOR & COUNSELOR PROJECTIONS"]
[null,null,"Instructions: enter value for fields highlighted in blue to simulate norm FTEs"]
[]
[null,null,"Indicate whether the school has elementary 6th grade enrollment (\"t\" if yes, \"f\" if no)"]
[]
[null,null,"6th grade elementary",null,{"$f":"IF(AND(SUM(D53:D61)+SUM(G53:G62)>0, D48=0), \"Please select t or f for most accurate simulation.\", \"\")","v":""}]
[]
[null,null,"Enter total enrollment for the home school plus any magnet center, dual language center, and OLC by grade level.  Include any SDP, Pre-K SDP, SPS, and ETK counts."]
[]
[null,null,"Grade","Enrollment",null,"Grade","Enrollment"]
[null,null,"TK and K",null,null,"G9"]
[null,null,"G1",null,null,"G10"]
[null,null,"G2",null,null,"G11"]
[null,null,"G3",null,null,"G12"]
[null,null,"G4",null,null,"SDP K-5(6)"]
[null,null,"G5",null,null,"SDP 6-8"]
[null,null,"G6",null,null,"SDP 9-12"]
[null,null,"G7",null,null,"TE (ETK)"]
[null,null,"G8",null,null,"PRE-K SDP"]
[null,null,null,null,null,"STATE PRESCHOOL"]
[]
[null,null,null,"Staffing"]
[null,null,null,"Administrators",null,{"$f":"'Simulator Norming'!O24","v":0}]
[null,null,null,"Counselors",null,{"$f":"'Simulator Norming'!T24","v":0}]
[null,null,null,"Clerks",null,{"$f":"'Simulator Norming'!J24","v":0}]
[null,null,null,"Total",null,{"$f":"SUM(F65:F67)","v":0}]
[]
[null,null,"Administrator Staffing Details",null,null,"Clerical Staffing Details"]
[null,null,"Principal",{"$f":"'Simulator Norming'!P24","v":0},null,"School Admin Assistant",{"$f":"'Simulator Norming'!K24","v":0}]
[null,null,"APSCS",{"$f":"'Simulator Norming'!Q24","v":0},null,"Special Ed Clerical Support",{"$f":"'Simulator Norming'!L24","v":0}]
[null,null,"AP",{"$f":"'Simulator Norming'!R24","v":0},null,"Additional Clerical Support",{"$f":"'Simulator Norming'!M24","v":0}]
[null,null,"Total",{"$f":"SUM(D71:D73)","v":0},null,"Total",{"$f":"SUM(G71:G73)","v":0}]
[]
[]
[null,null,"SUBJECT TO CHANGE"]

{"sheet":"Simulator Norming","index":4,"n_rows":24,"n_cols":40,"rows_kept":24,"cut":false,"hidden":true,"merged":[]}
["Norm Category","Affiliated","High Needs School","K-3","4-5 (6)","6-8","9-10","9-12","K-3 Dist","K-3 TIIG","K-3 Net TIIG","K-3 State","K-3 Net CSR","24 to 1   K-3 Tot","4-5 Dist","4-5 TIIG","4-5 Net TIIG","4-5 Tot","6-8 Dist","6-8 TIIG","6-8 Net TIIG","6-8 Tot","9-12 Dist","9-12 Mag TIIG","9-12 Net Mag TIIG","9-12 Subtotal","9-10 TIIG CSR","9-12 Total","Total District Funded",".","K-3 TIIG - Affiliated Charters","4-6 TIIG - Affiliated Charters","6-8 TIIG - Affiliated Charters","9-12 TIIG - Affiliated Charters","9-10 TIIG - Affiliated Charters","Total Charter Block Funded",".","Total Teachers","Norm Category","Index"]
["Desegregated/Receiver","f","No",{"$f":"SUM('Position Simulator'!$D$11:$D$14)","v":0},{"$f":"IF('Position Simulator'!$D$7=\"t\",SUM('Position Simulator'!$D$15:$D$17),SUM('Position Simulator'!$D$15:$D$16))","v":0},{"$f":"IF('Position Simulator'!$D$7=\"t\",SUM('Position Simulator'!$G$11:$G$12),'Position Simulator'!$D$17+SUM('Position Simulator'!$G$11:$G$12))","v":0},{"$f":"IF(OR($A2=\"Magnet 1\",$A2=\"Magnet 2\"),0,SUM('Position Simulator'!$G$13:$G$14))","v":0},{"$f":"SUM('Position Simulator'!$G$13:$G$16)","v":0},{"$f":"IF($D2=0,0,VLOOKUP($D2,'All Schools'!A:C,3,TRUE))","v":0},{"$f":"IF($D2=0,0,IF($A2=\"PHBAO\",VLOOKUP($D2,'All Schools'!I:K,3,TRUE),IF($A2=\"Desegregated/Receiver\",VLOOKUP($D2,'All Schools'!A:C,3,TRUE),IF($A2=\"Magnet 2\",VLOOKUP($D2,'All Schools'!M:O,3,TRUE),IF($A2=\"Magnet 1\",VLOOKUP($D2,'All Schools'!Q:S,3,TRUE))))))","v":0},{"$f":"IF(AND($B2=\"t\",OR($A2=\"PHBAO\",$A2=\"Desegregated/Receiver\")),0,J2-I2)","v":0},{"$f":"IF($D2=0,0,VLOOKUP($D2,'All Schools'!E:G,3,TRUE))","v":0},{"$f":"L2-J2","v":0},{"$f":"I2+K2+M2","v":0},{"$f":"IF($E2=0,0,IF(A2=\"Magnet 1\",VLOOKUP($E2,'All Schools'!U:W,3,TRUE),VLOOKUP($E2,'All Schools'!CC:CE,3,TRUE)))","v":0},{"$f":"IF($E2=0,0,IF($A2=\"PHBAO\",VLOOKUP($E2,'All Schools'!Y:AA,3,TRUE),IF($A2=\"Desegregated/Receiver\",VLOOKUP($E2,'All Schools'!AC:AE,3,TRUE),IF($A2=\"Magnet 2\",VLOOKUP($E2,'All Schools'!AG:AI,3,TRUE),IF($A2=\"Magnet 1\",VLOOKUP($E2,'All Schools'!AK:AM,3,TRUE))))))","v":0},{"$f":"IF(AND($B2=\"t\",OR($A2=\"PHBAO\",$A2=\"Desegregated/Receiver\")),0,P2-O2)","v":0},{"$f":"O2+Q2","v":0},{"$f":"IF($F2=0,0,VLOOKUP($F2,'All Schools'!AO:AQ,3,TRUE))","v":0},{"$f":"IF($F2=0,0,IF($A2=\"PHBAO\",VLOOKUP($F2,'All Schools'!AS:AU,3,TRUE),IF($A2=\"Desegregated/Receiver\",VLOOKUP($F2,'All Schools'!AW:AY,3,TRUE),IF($A2=\"Magnet 2\",VLOOKUP($F2,'All Schools'!BA:BC,3,TRUE),IF($A2=\"Magnet 1\",VLOOKUP($F2,'All Schools'!BE:BG,3,TRUE))))))","v":0},{"$f":"IF(AND($B2=\"t\",OR($A2=\"PHBAO\",$A2=\"Desegregated/Receiver\")),0,T2-S2)","v":0},{"$f":"S2+U2","v":0},{"$f":"IF($H2=0,0,VLOOKUP($H2,'All Schools'!BI:BK,3,TRUE))","v":0},{"$f":"IF(OR($H2=0,$A2=\"PHBAO\",$A2=\"Desegregated/Receiver\"),0,IF($A2=\"Magnet 2\",VLOOKUP($H2,'All Schools'!BU:BW,3,TRUE),IF($A2=\"Magnet 1\",VLOOKUP($H2,'All Schools'!BY:CA,3,TRUE))))","v":0},{"$f":"IF(OR($A2=\"Magnet 1\", $A2=\"Magnet 2\"), X2-W2,0)","v":0},{"$f":"W2+Y2","v":0},{"$f":"IF(OR($G2=0,$A2=\"Magnet 2\", $A2=\"Magnet 1\"),0,IF(AND($B2=\"t\",OR($A2=\"PHBAO\",$A2=\"Desegregated/Receiver\")),0,IF($A2=\"PHBAO\",VLOOKUP($G2,'All Schools'!BM:BO,3,TRUE),IF($A2=\"Desegregated/Receiver\",VLOOKUP($G2,'All Schools'!BQ:BS,3,TRUE)))))","v":0},{"$f":"W2+Y2+AA2","v":0},{"$f":"N2+R2+V2+AB2","v":0},null,{"$f":"IF(OR($B2=\"f\",$A2=\"Magnet 1\", $A2=\"Magnet 2\"), 0, J2-I2)","v":0},{"$f":"IF(OR($B2=\"f\",$A2=\"Magnet 1\",$A2=\"Magnet 2\"),0,P2-O2)","v":0},{"$f":"IF(OR($B2=\"f\",$A2=\"Magnet 1\",$A2=\"Magnet 2\"),0,T2-S2)","v":0},{"$f":"0","v":0},{"$f":"IF(OR($G2=0,$A2=\"Magnet 2\",$A2=\"Magnet 1\",$B2=\"f\"),0,IF($A2=\"PHBAO\",VLOOKUP($G2,'All Schools'!BM:BO,3,TRUE),IF($A2=\"Desegregated/Receiver\",VLOOKUP($G2,'All Schools'!BQ:BS,3,TRUE))))","v":0},{"$f":"SUM(AE2:AI2)","v":0},null,{"$f":"AC2+AJ2","v":0},"Non-PHBAO",{"$f":"CONCATENATE(AM2,B2,C2)","v":"Non-PHBAOfNo"}]
["Desegregated/Receiver","t","No",{"$f":"SUM('Position Simulator'!$D$11:$D$14)","v":0},{"$f":"IF('Position Simulator'!$D$7=\"t\",SUM('Position Simulator'!$D$15:$D$17),SUM('Position Simulator'!$D$15:$D$16))","v":0},{"$f":"IF('Position Simulator'!$D$7=\"t\",SUM('Position Simulator'!$G$11:$G$12),'Position Simulator'!$D$17+SUM('Position Simulator'!$G$11:$G$12))","v":0},{"$f":"IF(OR($A3=\"Magnet 1\",$A3=\"Magnet 2\"),0,SUM('Position Simulator'!$G$13:$G$14))","v":0},{"$f":"SUM('Position Simulator'!$G$13:$G$16)","v":0},{"$f":"IF($D3=0,0,VLOOKUP($D3,'All Schools'!A:C,3,TRUE))","v":0},{"$f":"IF($D3=0,0,IF($A3=\"PHBAO\",VLOOKUP($D3,'All Schools'!I:K,3,TRUE),IF($A3=\"Desegregated/Receiver\",VLOOKUP($D3,'All Schools'!A:C,3,TRUE),IF($A3=\"Magnet 2\",VLOOKUP($D3,'All Schools'!M:O,3,TRUE),IF($A3=\"Magnet 1\",VLOOKUP($D3,'All Schools'!Q:S,3,TRUE))))))","v":0},{"$f":"IF(AND($B3=\"t\",OR($A3=\"PHBAO\",$A3=\"Desegregated/Receiver\")),0,J3-I3)","v":0},{"$f":"IF($D3=0,0,VLOOKUP($D3,'All Schools'!E:G,3,TRUE))","v":0},{"$f":"L3-J3","v":0},{"$f":"I3+K3+M3","v":0},{"$f":"IF($E3=0,0,IF(A3=\"Magnet 1\",VLOOKUP($E3,'All Schools'!U:W,3,TRUE),VLOOKUP($E3,'All Schools'!CC:CE,3,TRUE)))","v":0},{"$f":"IF($E3=0,0,IF($A3=\"PHBAO\",VLOOKUP($E3,'All Schools'!Y:AA,3,TRUE),IF($A3=\"Desegregated/Receiver\",VLOOKUP($E3,'All Schools'!AC:AE,3,TRUE),IF($A3=\"Magnet 2\",VLOOKUP($E3,'All Schools'!AG:AI,3,TRUE),IF($A3=\"Magnet 1\",VLOOKUP($E3,'All Schools'!AK:AM,3,TRUE))))))","v":0},{"$f":"IF(AND($B3=\"t\",OR($A3=\"PHBAO\",$A3=\"Desegregated/Receiver\")),0,P3-O3)","v":0},0,{"$f":"IF($F3=0,0,VLOOKUP($F3,'All Schools'!AO:AQ,3,TRUE))","v":0},{"$f":"IF($F3=0,0,IF($A3=\"PHBAO\",VLOOKUP($F3,'All Schools'!AS:AU,3,TRUE),IF($A3=\"Desegregated/Receiver\",VLOOKUP($F3,'All Schools'!AW:AY,3,TRUE),IF($A3=\"Magnet 2\",VLOOKUP($F3,'All Schools'!BA:BC,3,TRUE),IF($A3=\"Magnet 1\",VLOOKUP($F3,'All Schools'!BE:BG,3,TRUE))))))","v":0},{"$f":"IF(AND($B3=\"t\",OR($A3=\"PHBAO\",$A3=\"Desegregated/Receiver\")),0,T3-S3)","v":0},0,{"$f":"IF($H3=0,0,VLOOKUP($H3,'All Schools'!BI:BK,3,TRUE))","v":0},{"$f":"IF(OR($H3=0,$A3=\"PHBAO\",$A3=\"Desegregated/Receiver\"),0,IF($A3=\"Magnet 2\",VLOOKUP($H3,'All Schools'!BU:BW,3,TRUE),IF($A3=\"Magnet 1\",VLOOKUP($H3,'All Schools'!BY:CA,3,TRUE))))","v":0},{"$f":"IF(OR($A3=\"Magnet 1\", $A3=\"Magnet 2\"), X3-W3,0)","v":0},0,{"$f":"IF(OR($G3=0,$A3=\"Magnet 2\", $A3=\"Magnet 1\"),0,IF(AND($B3=\"t\",OR($A3=\"PHBAO\",$A3=\"Desegregated/Receiver\")),0,IF($A3=\"PHBAO\",VLOOKUP($G3,'All Schools'!BM:BO,3,TRUE),IF($A3=\"Desegregated/Receiver\",VLOOKUP($G3,'All Schools'!BQ:BS,3,TRUE)))))","v":0},0,{"$f":"N3+R3+V3+AB3","v":0},null,{"$f":"IF(OR($B3=\"f\",$A3=\"Magnet 1\", $A3=\"Magnet 2\"), 0, J3-I3)","v":0},{"$f":"IF(OR($B3=\"f\",$A3=\"Magnet 1\",$A3=\"Magnet 2\"),0,P3-O3)","v":0},{"$f":"IF(OR($B3=\"f\",$A3=\"Magnet 1\",$A3=\"Magnet 2\"),0,T3-S3)","v":0},{"$f":"0","v":0},{"$f":"IF(OR($G3=0,$A3=\"Magnet 2\",$A3=\"Magnet 1\",$B3=\"f\"),0,IF($A3=\"PHBAO\",VLOOKUP($G3,'All Schools'!BM:BO,3,TRUE),IF($A3=\"Desegregated/Receiver\",VLOOKUP($G3,'All Schools'!BQ:BS,3,TRUE))))","v":0},{"$f":"SUM(AE3:AI3)","v":0},null,{"$f":"AC3+AJ3","v":0},"Non-PHBAO",{"$f":"CONCATENATE(AM3,B3,C3)","v":"Non-PHBAOtNo"}]
["PHBAO","f","No",{"$f":"SUM('Position Simulator'!$D$11:$D$14)","v":0},{"$f":"IF('Position Simulator'!$D$7=\"t\",SUM('Position Simulator'!$D$15:$D$17),SUM('Position Simulator'!$D$15:$D$16))","v":0},{"$f":"IF('Position Simulator'!$D$7=\"t\",SUM('Position Simulator'!$G$11:$G$12),'Position Simulator'!$D$17+SUM('Position Simulator'!$G$11:$G$12))","v":0},{"$f":"IF(OR($A4=\"Magnet 1\",$A4=\"Magnet 2\"),0,SUM('Position Simulator'!$G$13:$G$14))","v":0},{"$f":"SUM('Position Simulator'!$G$13:$G$16)","v":0},{"$f":"IF($D4=0,0,VLOOKUP($D4,'All Schools'!A:C,3,TRUE))","v":0},{"$f":"IF($D4=0,0,IF($A4=\"PHBAO\",VLOOKUP($D4,'All Schools'!I:K,3,TRUE),IF($A4=\"Desegregated/Receiver\",VLOOKUP($D4,'All Schools'!A:C,3,TRUE),IF($A4=\"Magnet 2\",VLOOKUP($D4,'All Schools'!M:O,3,TRUE),IF($A4=\"Magnet 1\",VLOOKUP($D4,'All Schools'!Q:S,3,TRUE))))))","v":0},{"$f":"IF(AND($B4=\"t\",OR($A4=\"PHBAO\",$A4=\"Desegregated/Receiver\")),0,J4-I4)","v":0},{"$f":"IF($D4=0,0,VLOOKUP($D4,'All Schools'!E:G,3,TRUE))","v":0},{"$f":"L4-J4","v":0},{"$f":"I4+K4+M4","v":0},{"$f":"IF($E4=0,0,IF(A4=\"Magnet 1\",VLOOKUP($E4,'All Schools'!U:W,3,TRUE),VLOOKUP($E4,'All Schools'!CC:CE,3,TRUE)))","v":0},{"$f":"IF($E4=0,0,IF($A4=\"PHBAO\",VLOOKUP($E4,'All Schools'!Y:AA,3,TRUE),IF($A4=\"Desegregated/Receiver\",VLOOKUP($E4,'All Schools'!AC:AE,3,TRUE),IF($A4=\"Magnet 2\",VLOOKUP($E4,'All Schools'!AG:AI,3,TRUE),IF($A4=\"Magnet 1\",VLOOKUP($E4,'All Schools'!AK:AM,3,TRUE))))))","v":0},{"$f":"IF(AND($B4=\"t\",OR($A4=\"PHBAO\",$A4=\"Desegregated/Receiver\")),0,P4-O4)","v":0},{"$f":"O4+Q4","v":0},{"$f":"IF($F4=0,0,VLOOKUP($F4,'All Schools'!AO:AQ,3,TRUE))","v":0},{"$f":"IF($F4=0,0,IF($A4=\"PHBAO\",VLOOKUP($F4,'All Schools'!AS:AU,3,TRUE),IF($A4=\"Desegregated/Receiver\",VLOOKUP($F4,'All Schools'!AW:AY,3,TRUE),IF($A4=\"Magnet 2\",VLOOKUP($F4,'All Schools'!BA:BC,3,TRUE),IF($A4=\"Magnet 1\",VLOOKUP($F4,'All Schools'!BE:BG,3,TRUE))))))","v":0},{"$f":"IF(AND($B4=\"t\",OR($A4=\"PHBAO\",$A4=\"Desegregated/Receiver\")),0,T4-S4)","v":0},{"$f":"S4+U4","v":0},{"$f":"IF($H4=0,0,VLOOKUP($H4,'All Schools'!BI:BK,3,TRUE))","v":0},{"$f":"IF(OR($H4=0,$A4=\"PHBAO\",$A4=\"Desegregated/Receiver\"),0,IF($A4=\"Magnet 2\",VLOOKUP($H4,'All Schools'!BU:BW,3,TRUE),IF($A4=\"Magnet 1\",VLOOKUP($H4,'All Schools'!BY:CA,3,TRUE))))","v":0},{"$f":"IF(OR($A4=\"Magnet 1\", $A4=\"Magnet 2\"), X4-W4,0)","v":0},{"$f":"W4+Y4","v":0},{"$f":"IF(OR($G4=0,$A4=\"Magnet 2\", $A4=\"Magnet 1\"),0,IF(AND($B4=\"t\",OR($A4=\"PHBAO\",$A4=\"Desegregated/Receiver\")),0,IF($A4=\"PHBAO\",VLOOKUP($G4,'All Schools'!BM:BO,3,TRUE),IF($A4=\"Desegregated/Receiver\",VLOOKUP($G4,'All Schools'!BQ:BS,3,TRUE)))))","v":0},{"$f":"W4+Y4+AA4","v":0},{"$f":"N4+R4+V4+AB4","v":0},null,{"$f":"IF(OR($B4=\"f\",$A4=\"Magnet 1\", $A4=\"Magnet 2\"), 0, J4-I4)","v":0},{"$f":"IF(OR($B4=\"f\",$A4=\"Magnet 1\",$A4=\"Magnet 2\"),0,P4-O4)","v":0},{"$f":"IF(OR($B4=\"f\",$A4=\"Magnet 1\",$A4=\"Magnet 2\"),0,T4-S4)","v":0},{"$f":"0","v":0},{"$f":"IF(OR($G4=0,$A4=\"Magnet 2\",$A4=\"Magnet 1\",$B4=\"f\"),0,IF($A4=\"PHBAO\",VLOOKUP($G4,'All Schools'!BM:BO,3,TRUE),IF($A4=\"Desegregated/Receiver\",VLOOKUP($G4,'All Schools'!BQ:BS,3,TRUE))))","v":0},{"$f":"SUM(AE4:AI4)","v":0},null,{"$f":"AC4+AJ4","v":0},"PHBAO","PHBAOfNo"]
["PHBAO","t","No",{"$f":"SUM('Position Simulator'!$D$11:$D$14)","v":0},{"$f":"IF('Position Simulator'!$D$7=\"t\",SUM('Position Simulator'!$D$15:$D$17),SUM('Position Simulator'!$D$15:$D$16))","v":0},{"$f":"IF('Position Simulator'!$D$7=\"t\",SUM('Position Simulator'!$G$11:$G$12),'Position Simulator'!$D$17+SUM('Position Simulator'!$G$11:$G$12))","v":0},{"$f":"IF(OR($A5=\"Magnet 1\",$A5=\"Magnet 2\"),0,SUM('Position Simulator'!$G$13:$G$14))","v":0},{"$f":"SUM('Position Simulator'!$G$13:$G$16)","v":0},{"$f":"IF($D5=0,0,VLOOKUP($D5,'All Schools'!A:C,3,TRUE))","v":0},{"$f":"IF($D5=0,0,IF($A5=\"PHBAO\",VLOOKUP($D5,'All Schools'!I:K,3,TRUE),IF($A5=\"Desegregated/Receiver\",VLOOKUP($D5,'All Schools'!A:C,3,TRUE),IF($A5=\"Magnet 2\",VLOOKUP($D5,'All Schools'!M:O,3,TRUE),IF($A5=\"Magnet 1\",VLOOKUP($D5,'All Schools'!Q:S,3,TRUE))))))","v":0},{"$f":"IF(AND($B5=\"t\",OR($A5=\"PHBAO\",$A5=\"Desegregated/Receiver\")),0,J5-I5)","v":0},{"$f":"IF($D5=0,0,VLOOKUP($D5,'All Schools'!E:G,3,TRUE))","v":0},{"$f":"L5-J5","v":0},{"$f":"I5+K5+M5","v":0},{"$f":"IF($E5=0,0,IF(A5=\"Magnet 1\",VLOOKUP($E5,'All Schools'!U:W,3,TRUE),VLOOKUP($E5,'All Schools'!CC:CE,3,TRUE)))","v":0},{"$f":"IF($E5=0,0,IF($A5=\"PHBAO\",VLOOKUP($E5,'All Schools'!Y:AA,3,TRUE),IF($A5=\"Desegregated/Receiver\",VLOOKUP($E5,'All Schools'!AC:AE,3,TRUE),IF($A5=\"Magnet 2\",VLOOKUP($E5,'All Schools'!AG:AI,3,TRUE),IF($A5=\"Magnet 1\",VLOOKUP($E5,'All Schools'!AK:AM,3,TRUE))))))","v":0},{"$f":"IF(AND($B5=\"t\",OR($A5=\"PHBAO\",$A5=\"Desegregated/Receiver\")),0,P5-O5)","v":0},{"$f":"O5+Q5","v":0},{"$f":"IF($F5=0,0,VLOOKUP($F5,'All Schools'!AO:AQ,3,TRUE))","v":0},{"$f":"IF($F5=0,0,IF($A5=\"PHBAO\",VLOOKUP($F5,'All Schools'!AS:AU,3,TRUE),IF($A5=\"Desegregated/Receiver\",VLOOKUP($F5,'All Schools'!AW:AY,3,TRUE),IF($A5=\"Magnet 2\",VLOOKUP($F5,'All Schools'!BA:BC,3,TRUE),IF($A5=\"Magnet 1\",VLOOKUP($F5,'All Schools'!BE:BG,3,TRUE))))))","v":0},{"$f":"IF(AND($B5=\"t\",OR($A5=\"PHBAO\",$A5=\"Desegregated/Receiver\")),0,T5-S5)","v":0},{"$f":"S5+U5","v":0},{"$f":"IF($H5=0,0,VLOOKUP($H5,'All Schools'!BI:BK,3,TRUE))","v":0},{"$f":"IF(OR($H5=0,$A5=\"PHBAO\",$A5=\"Desegregated/Receiver\"),0,IF($A5=\"Magnet 2\",VLOOKUP($H5,'All Schools'!BU:BW,3,TRUE),IF($A5=\"Magnet 1\",VLOOKUP($H5,'All Schools'!BY:CA,3,TRUE))))","v":0},{"$f":"IF(OR($A5=\"Magnet 1\", $A5=\"Magnet 2\"), X5-W5,0)","v":0},{"$f":"W5+Y5","v":0},{"$f":"IF(OR($G5=0,$A5=\"Magnet 2\", $A5=\"Magnet 1\"),0,IF(AND($B5=\"t\",OR($A5=\"PHBAO\",$A5=\"Desegregated/Receiver\")),0,IF($A5=\"PHBAO\",VLOOKUP($G5,'All Schools'!BM:BO,3,TRUE),IF($A5=\"Desegregated/Receiver\",VLOOKUP($G5,'All Schools'!BQ:BS,3,TRUE)))))","v":0},{"$f":"W5+Y5+AA5","v":0},{"$f":"N5+R5+V5+AB5","v":0},null,{"$f":"IF(OR($B5=\"f\",$A5=\"Magnet 1\", $A5=\"Magnet 2\"), 0, J5-I5)","v":0},{"$f":"IF(OR($B5=\"f\",$A5=\"Magnet 1\",$A5=\"Magnet 2\"),0,P5-O5)","v":0},{"$f":"IF(OR($B5=\"f\",$A5=\"Magnet 1\",$A5=\"Magnet 2\"),0,T5-S5)","v":0},{"$f":"0","v":0},{"$f":"IF(OR($G5=0,$A5=\"Magnet 2\",$A5=\"Magnet 1\",$B5=\"f\"),0,IF($A5=\"PHBAO\",VLOOKUP($G5,'All Schools'!BM:BO,3,TRUE),IF($A5=\"Desegregated/Receiver\",VLOOKUP($G5,'All Schools'!BQ:BS,3,TRUE))))","v":0},{"$f":"SUM(AE5:AI5)","v":0},null,{"$f":"AC5+AJ5","v":0},"PHBAO","PHBAOtNo"]
["Magnet 1","f","No",{"$f":"SUM('Position Simulator'!$D$11:$D$14)","v":0},{"$f":"IF('Position Simulator'!$D$7=\"t\",SUM('Position Simulator'!$D$15:$D$17),SUM('Position Simulator'!$D$15:$D$16))","v":0},{"$f":"IF('Position Simulator'!$D$7=\"t\",SUM('Position Simulator'!$G$11:$G$12),'Position Simulator'!$D$17+SUM('Position Simulator'!$G$11:$G$12))","v":0},{"$f":"IF(OR($A6=\"Magnet 1\",$A6=\"Magnet 2\"),0,SUM('Position Simulator'!$G$13:$G$14))","v":0},{"$f":"SUM('Position Simulator'!$G$13:$G$16)","v":0},{"$f":"IF($D6=0,0,VLOOKUP($D6,'All Schools'!A:C,3,TRUE))","v":0},{"$f":"IF($D6=0,0,IF($A6=\"PHBAO\",VLOOKUP($D6,'All Schools'!I:K,3,TRUE),IF($A6=\"Desegregated/Receiver\",VLOOKUP($D6,'All Schools'!A:C,3,TRUE),IF($A6=\"Magnet 2\",VLOOKUP($D6,'All Schools'!M:O,3,TRUE),IF($A6=\"Magnet 1\",VLOOKUP($D6,'All Schools'!Q:S,3,TRUE))))))","v":0},0,{"$f":"IF($D6=0,0,VLOOKUP($D6,'All Schools'!E:G,3,TRUE))","v":0},0,0,{"$f":"IF($E6=0,0,IF(A6=\"Magnet 1\",VLOOKUP($E6,'All Schools'!U:W,3,TRUE),VLOOKUP($E6,'All Schools'!CC:CE,3,TRUE)))","v":0},{"$f":"IF($E6=0,0,IF($A6=\"PHBAO\",VLOOKUP($E6,'All Schools'!Y:AA,3,TRUE),IF($A6=\"Desegregated/Receiver\",VLOOKUP($E6,'All Schools'!AC:AE,3,TRUE),IF($A6=\"Magnet 2\",VLOOKUP($E6,'All Schools'!AG:AI,3,TRUE),IF($A6=\"Magnet 1\",VLOOKUP($E6,'All Schools'!AK:AM,3,TRUE))))))","v":0},0,0,{"$f":"IF($F6=0,0,VLOOKUP($F6,'All Schools'!AO:AQ,3,TRUE))","v":0},{"$f":"IF($F6=0,0,IF($A6=\"PHBAO\",VLOOKUP($F6,'All Schools'!AS:AU,3,TRUE),IF($A6=\"Desegregated/Receiver\",VLOOKUP($F6,'All Schools'!AW:AY,3,TRUE),IF($A6=\"Magnet 2\",VLOOKUP($F6,'All Schools'!BA:BC,3,TRUE),IF($A6=\"Magnet 1\",VLOOKUP($F6,'All Schools'!BE:BG,3,TRUE))))))","v":0},0,0,{"$f":"IF($H6=0,0,VLOOKUP($H6,'All Schools'!BI:BK,3,TRUE))","v":0},{"$f":"IF(OR($H6=0,$A6=\"PHBAO\",$A6=\"Desegregated/Receiver\"),0,IF($A6=\"Magnet 2\",VLOOKUP($H6,'All Schools'!BU:BW,3,TRUE),IF($A6=\"Magnet 1\",VLOOKUP($H6,'All Schools'!BY:CA,3,TRUE))))","v":0},0,0,{"$f":"IF(OR($G6=0,$A6=\"Magnet 2\", $A6=\"Magnet 1\"),0,IF(AND($B6=\"t\",OR($A6=\"PHBAO\",$A6=\"Desegregated/Receiver\")),0,IF($A6=\"PHBAO\",VLOOKUP($G6,'All Schools'!BM:BO,3,TRUE),IF($A6=\"Desegregated/Receiver\",VLOOKUP($G6,'All Schools'!BQ:BS,3,TRUE)))))","v":0},0,0,null,0,0,0,{"$f":"0","v":0},{"$f":"IF(OR($G6=0,$A6=\"Magnet 2\",$A6=\"Magnet 1\",$B6=\"f\"),0,IF($A6=\"PHBAO\",VLOOKUP($G6,'All Schools'!BM:BO,3,TRUE),IF($A6=\"Desegregated/Receiver\",VLOOKUP($G6,'All Schools'!BQ:BS,3,TRUE))))","v":0},0,null,0,"Magnet I","Magnet IfNo"]
["Magnet 1","t","No",{"$f":"SUM('Position Simulator'!$D$11:$D$14)","v":0},{"$f":"IF('Position Simulator'!$D$7=\"t\",SUM('Position Simulator'!$D$15:$D$17),SUM('Position Simulator'!$D$15:$D$16))","v":0},{"$f":"IF('Position Simulator'!$D$7=\"t\",SUM('Position Simulator'!$G$11:$G$12),'Position Simulator'!$D$17+SUM('Position Simulator'!$G$11:$G$12))","v":0},{"$f":"IF(OR($A7=\"Magnet 1\",$A7=\"Magnet 2\"),0,SUM('Position Simulator'!$G$13:$G$14))","v":0},{"$f":"SUM('Position Simulator'!$G$13:$G$16)","v":0},{"$f":"IF($D7=0,0,VLOOKUP($D7,'All Schools'!A:C,3,TRUE))","v":0},{"$f":"IF($D7=0,0,IF($A7=\"PHBAO\",VLOOKUP($D7,'All Schools'!I:K,3,TRUE),IF($A7=\"Desegregated/Receiver\",VLOOKUP($D7,'All Schools'!A:C,3,TRUE),IF($A7=\"Magnet 2\",VLOOKUP($D7,'All Schools'!M:O,3,TRUE),IF($A7=\"Magnet 1\",VLOOKUP($D7,'All Schools'!Q:S,3,TRUE))))))","v":0},0,{"$f":"IF($D7=0,0,VLOOKUP($D7,'All Schools'!E:G,3,TRUE))","v":0},0,0,{"$f":"IF($E7=0,0,IF(A7=\"Magnet 1\",VLOOKUP($E7,'All Schools'!U:W,3,TRUE),VLOOKUP($E7,'All Schools'!CC:CE,3,TRUE)))","v":0},{"$f":"IF($E7=0,0,IF($A7=\"PHBAO\",VLOOKUP($E7,'All Schools'!Y:AA,3,TRUE),IF($A7=\"Desegregated/Receiver\",VLOOKUP($E7,'All Schools'!AC:AE,3,TRUE),IF($A7=\"Magnet 2\",VLOOKUP($E7,'All Schools'!AG:AI,3,TRUE),IF($A7=\"Magnet 1\",VLOOKUP($E7,'All Schools'!AK:AM,3,TRUE))))))","v":0},0,0,{"$f":"IF($F7=0,0,VLOOKUP($F7,'All Schools'!AO:AQ,3,TRUE))","v":0},{"$f":"IF($F7=0,0,IF($A7=\"PHBAO\",VLOOKUP($F7,'All Schools'!AS:AU,3,TRUE),IF($A7=\"Desegregated/Receiver\",VLOOKUP($F7,'All Schools'!AW:AY,3,TRUE),IF($A7=\"Magnet 2\",VLOOKUP($F7,'All Schools'!BA:BC,3,TRUE),IF($A7=\"Magnet 1\",VLOOKUP($F7,'All Schools'!BE:BG,3,TRUE))))))","v":0},0,0,{"$f":"IF($H7=0,0,VLOOKUP($H7,'All Schools'!BI:BK,3,TRUE))","v":0},{"$f":"IF(OR($H7=0,$A7=\"PHBAO\",$A7=\"Desegregated/Receiver\"),0,IF($A7=\"Magnet 2\",VLOOKUP($H7,'All Schools'!BU:BW,3,TRUE),IF($A7=\"Magnet 1\",VLOOKUP($H7,'All Schools'!BY:CA,3,TRUE))))","v":0},0,0,{"$f":"IF(OR($G7=0,$A7=\"Magnet 2\", $A7=\"Magnet 1\"),0,IF(AND($B7=\"t\",OR($A7=\"PHBAO\",$A7=\"Desegregated/Receiver\")),0,IF($A7=\"PHBAO\",VLOOKUP($G7,'All Schools'!BM:BO,3,TRUE),IF($A7=\"Desegregated/Receiver\",VLOOKUP($G7,'All Schools'!BQ:BS,3,TRUE)))))","v":0},0,0,null,0,0,0,{"$f":"0","v":0},{"$f":"IF(OR($G7=0,$A7=\"Magnet 2\",$A7=\"Magnet 1\",$B7=\"f\"),0,IF($A7=\"PHBAO\",VLOOKUP($G7,'All Schools'!BM:BO,3,TRUE),IF($A7=\"Desegregated/Receiver\",VLOOKUP($G7,'All Schools'!BQ:BS,3,TRUE))))","v":0},0,null,0,"Magnet I","Magnet ItNo"]
["Magnet 2","f","No",{"$f":"SUM('Position Simulator'!$D$11:$D$14)","v":0},{"$f":"IF('Position Simulator'!$D$7=\"t\",SUM('Position Simulator'!$D$15:$D$17),SUM('Position Simulator'!$D$15:$D$16))","v":0},{"$f":"IF('Position Simulator'!$D$7=\"t\",SUM('Position Simulator'!$G$11:$G$12),'Position Simulator'!$D$17+SUM('Position Simulator'!$G$11:$G$12))","v":0},{"$f":"IF(OR($A8=\"Magnet 1\",$A8=\"Magnet 2\"),0,SUM('Position Simulator'!$G$13:$G$14))","v":0},{"$f":"SUM('Position Simulator'!$G$13:$G$16)","v":0},{"$f":"IF($D8=0,0,VLOOKUP($D8,'All Schools'!A:C,3,TRUE))","v":0},{"$f":"IF($D8=0,0,IF($A8=\"PHBAO\",VLOOKUP($D8,'All Schools'!I:K,3,TRUE),IF($A8=\"Desegregated/Receiver\",VLOOKUP($D8,'All Schools'!A:C,3,TRUE),IF($A8=\"Magnet 2\",VLOOKUP($D8,'All Schools'!M:O,3,TRUE),IF($A8=\"Magnet 1\",VLOOKUP($D8,'All Schools'!Q:S,3,TRUE))))))","v":0},0,{"$f":"IF($D8=0,0,VLOOKUP($D8,'All Schools'!E:G,3,TRUE))","v":0},0,0,{"$f":"IF($E8=0,0,IF(A8=\"Magnet 1\",VLOOKUP($E8,'All Schools'!U:W,3,TRUE),VLOOKUP($E8,'All Schools'!CC:CE,3,TRUE)))","v":0},{"$f":"IF($E8=0,0,IF($A8=\"PHBAO\",VLOOKUP($E8,'All Schools'!Y:AA,3,TRUE),IF($A8=\"Desegregated/Receiver\",VLOOKUP($E8,'All Schools'!AC:AE,3,TRUE),IF($A8=\"Magnet 2\",VLOOKUP($E8,'All Schools'!AG:AI,3,TRUE),IF($A8=\"Magnet 1\",VLOOKUP($E8,'All Schools'!AK:AM,3,TRUE))))))","v":0},0,0,{"$f":"IF($F8=0,0,VLOOKUP($F8,'All Schools'!AO:AQ,3,TRUE))","v":0},{"$f":"IF($F8=0,0,IF($A8=\"PHBAO\",VLOOKUP($F8,'All Schools'!AS:AU,3,TRUE),IF($A8=\"Desegregated/Receiver\",VLOOKUP($F8,'All Schools'!AW:AY,3,TRUE),IF($A8=\"Magnet 2\",VLOOKUP($F8,'All Schools'!BA:BC,3,TRUE),IF($A8=\"Magnet 1\",VLOOKUP($F8,'All Schools'!BE:BG,3,TRUE))))))","v":0},0,0,{"$f":"IF($H8=0,0,VLOOKUP($H8,'All Schools'!BI:BK,3,TRUE))","v":0},{"$f":"IF(OR($H8=0,$A8=\"PHBAO\",$A8=\"Desegregated/Receiver\"),0,IF($A8=\"Magnet 2\",VLOOKUP($H8,'All Schools'!BU:BW,3,TRUE),IF($A8=\"Magnet 1\",VLOOKUP($H8,'All Schools'!BY:CA,3,TRUE))))","v":0},0,0,{"$f":"IF(OR($G8=0,$A8=\"Magnet 2\", $A8=\"Magnet 1\"),0,IF(AND($B8=\"t\",OR($A8=\"PHBAO\",$A8=\"Desegregated/Receiver\")),0,IF($A8=\"PHBAO\",VLOOKUP($G8,'All Schools'!BM:BO,3,TRUE),IF($A8=\"Desegregated/Receiver\",VLOOKUP($G8,'All Schools'!BQ:BS,3,TRUE)))))","v":0},0,0,null,0,0,0,{"$f":"0","v":0},{"$f":"IF(OR($G8=0,$A8=\"Magnet 2\",$A8=\"Magnet 1\",$B8=\"f\"),0,IF($A8=\"PHBAO\",VLOOKUP($G8,'All Schools'!BM:BO,3,TRUE),IF($A8=\"Desegregated/Receiver\",VLOOKUP($G8,'All Schools'!BQ:BS,3,TRUE))))","v":0},0,null,0,"Magnet II","Magnet IIfNo"]
["Magnet 2","t","No",{"$f":"SUM('Position Simulator'!$D$11:$D$14)","v":0},{"$f":"IF('Position Simulator'!$D$7=\"t\",SUM('Position Simulator'!$D$15:$D$17),SUM('Position Simulator'!$D$15:$D$16))","v":0},{"$f":"IF('Position Simulator'!$D$7=\"t\",SUM('Position Simulator'!$G$11:$G$12),'Position Simulator'!$D$17+SUM('Position Simulator'!$G$11:$G$12))","v":0},{"$f":"IF(OR($A9=\"Magnet 1\",$A9=\"Magnet 2\"),0,SUM('Position Simulator'!$G$13:$G$14))","v":0},{"$f":"SUM('Position Simulator'!$G$13:$G$16)","v":0},{"$f":"IF($D9=0,0,VLOOKUP($D9,'All Schools'!A:C,3,TRUE))","v":0},{"$f":"IF($D9=0,0,IF($A9=\"PHBAO\",VLOOKUP($D9,'All Schools'!I:K,3,TRUE),IF($A9=\"Desegregated/Receiver\",VLOOKUP($D9,'All Schools'!A:C,3,TRUE),IF($A9=\"Magnet 2\",VLOOKUP($D9,'All Schools'!M:O,3,TRUE),IF($A9=\"Magnet 1\",VLOOKUP($D9,'All Schools'!Q:S,3,TRUE))))))","v":0},0,{"$f":"IF($D9=0,0,VLOOKUP($D9,'All Schools'!E:G,3,TRUE))","v":0},0,0,{"$f":"IF($E9=0,0,IF(A9=\"Magnet 1\",VLOOKUP($E9,'All Schools'!U:W,3,TRUE),VLOOKUP($E9,'All Schools'!CC:CE,3,TRUE)))","v":0},{"$f":"IF($E9=0,0,IF($A9=\"PHBAO\",VLOOKUP($E9,'All Schools'!Y:AA,3,TRUE),IF($A9=\"Desegregated/Receiver\",VLOOKUP($E9,'All Schools'!AC:AE,3,TRUE),IF($A9=\"Magnet 2\",VLOOKUP($E9,'All Schools'!AG:AI,3,TRUE),IF($A9=\"Magnet 1\",VLOOKUP($E9,'All Schools'!AK:AM,3,TRUE))))))","v":0},0,0,{"$f":"IF($F9=0,0,VLOOKUP($F9,'All Schools'!AO:AQ,3,TRUE))","v":0},{"$f":"IF($F9=0,0,IF($A9=\"PHBAO\",VLOOKUP($F9,'All Schools'!AS:AU,3,TRUE),IF($A9=\"Desegregated/Receiver\",VLOOKUP($F9,'All Schools'!AW:AY,3,TRUE),IF($A9=\"Magnet 2\",VLOOKUP($F9,'All Schools'!BA:BC,3,TRUE),IF($A9=\"Magnet 1\",VLOOKUP($F9,'All Schools'!BE:BG,3,TRUE))))))","v":0},0,0,{"$f":"IF($H9=0,0,VLOOKUP($H9,'All Schools'!BI:BK,3,TRUE))","v":0},{"$f":"IF(OR($H9=0,$A9=\"PHBAO\",$A9=\"Desegregated/Receiver\"),0,IF($A9=\"Magnet 2\",VLOOKUP($H9,'All Schools'!BU:BW,3,TRUE),IF($A9=\"Magnet 1\",VLOOKUP($H9,'All Schools'!BY:CA,3,TRUE))))","v":0},0,0,{"$f":"IF(OR($G9=0,$A9=\"Magnet 2\", $A9=\"Magnet 1\"),0,IF(AND($B9=\"t\",OR($A9=\"PHBAO\",$A9=\"Desegregated/Receiver\")),0,IF($A9=\"PHBAO\",VLOOKUP($G9,'All Schools'!BM:BO,3,TRUE),IF($A9=\"Desegregated/Receiver\",VLOOKUP($G9,'All Schools'!BQ:BS,3,TRUE)))))","v":0},0,0,null,0,0,0,{"$f":"0","v":0},{"$f":"IF(OR($G9=0,$A9=\"Magnet 2\",$A9=\"Magnet 1\",$B9=\"f\"),0,IF($A9=\"PHBAO\",VLOOKUP($G9,'All Schools'!BM:BO,3,TRUE),IF($A9=\"Desegregated/Receiver\",VLOOKUP($G9,'All Schools'!BQ:BS,3,TRUE))))","v":0},0,null,0,"Magnet II","Magnet IItNo"]
[null,null,null,null,null,null,null,null,null,null,null,null,null,null,null,null,null,null,null,null,null,null,null,null,null,null,null,null,null,null,null,null,null,null,null,null,null,null,null,""]
["Desegregated/Receiver","f","Yes",{"$f":"SUM('Position Simulator'!$D$11:$D$14)","v":0},{"$f":"IF('Position Simulator'!$D$7=\"t\",SUM('Position Simulator'!$D$15:$D$17),SUM('Position Simulator'!$D$15:$D$16))","v":0},{"$f":"IF('Position Simulator'!$D$7=\"t\",SUM('Position Simulator'!$G$11:$G$12),'Position Simulator'!$D$17+SUM('Position Simulator'!$G$11:$G$12))","v":0},{"$f":"IF(OR($A11=\"Magnet 1\",$A11=\"Magnet 2\"),0,SUM('Position Simulator'!$G$13:$G$14))","v":0},{"$f":"SUM('Position Simulator'!$G$13:$G$16)","v":0},{"$f":"IF($D11=0,0,VLOOKUP($D11,'High Needs'!A:C,3,TRUE))","v":0},{"$f":"IF($D2=0,0,IF($A2=\"PHBAO\",VLOOKUP($D2,'High Needs'!I:K,3,TRUE),IF($A2=\"Desegregated/Receiver\",VLOOKUP($D2,'High Needs'!A:C,3,TRUE),IF($A2=\"Magnet 2\",VLOOKUP($D2,'High Needs'!M:O,3,TRUE),IF($A2=\"Magnet 1\",VLOOKUP($D2,'High Needs'!Q:S,3,TRUE))))))","v":0},0,{"$f":"IF($D11=0,0,VLOOKUP($D11,'High Needs'!E:G,3,TRUE))","v":0},0,0,{"$f":"IF($E11=0,0,IF(A11=\"Magnet 1\",VLOOKUP($E11,'High Needs'!U:W,3,TRUE),VLOOKUP($E11,'High Needs'!CC:CE,3,TRUE)))","v":0},{"$f":"IF($E11=0,0,IF($A11=\"PHBAO\",VLOOKUP($E11,'High Needs'!Y:AA,3,TRUE),IF($A11=\"Desegregated/Receiver\",VLOOKUP($E11,'High Needs'!AC:AE,3,TRUE),IF($A11=\"Magnet 2\",VLOOKUP($E11,'High Needs'!AG:AI,3,TRUE),IF($A11=\"Magnet 1\",VLOOKUP($E11,'High Needs'!AK:AM,3,TRUE))))))","v":0},0,0,{"$f":"IF($F11=0,0,VLOOKUP($F11,'High Needs'!AO:AQ,3,TRUE))","v":0},{"$f":"IF($F11=0,0,IF($A11=\"PHBAO\",VLOOKUP($F11,'High Needs'!AS:AU,3,TRUE),IF($A11=\"Desegregated/Receiver\",VLOOKUP($F11,'High Needs'!AW:AY,3,TRUE),IF($A11=\"Magnet 2\",VLOOKUP($F11,'High Needs'!BA:BC,3,TRUE),IF($A11=\"Magnet 1\",VLOOKUP($F11,'High Needs'!BE:BG,3,TRUE))))))","v":0},0,0,{"$f":"IF($H11=0,0,VLOOKUP($H11,'High Needs'!BI:BK,3,TRUE))","v":0},{"$f":"IF(OR($H11=0,$A11=\"PHBAO\",$A11=\"Desegregated/Receiver\"),0,IF($A11=\"Magnet 2\",VLOOKUP($H11,'High Needs'!BU:BW,3,TRUE),IF($A11=\"Magnet 1\",VLOOKUP($H11,'High Needs'!BY:CA,3,TRUE))))","v":0},0,0,{"$f":"IF(OR($G11=0,$A11=\"Magnet 2\", $A11=\"Magnet 1\"),0,IF(AND($B11=\"t\",OR($A11=\"PHBAO\",$A11=\"Desegregated/Receiver\")),0,IF($A11=\"PHBAO\",VLOOKUP($G11,'High Needs'!BM:BO,3,TRUE),IF($A11=\"Desegregated/Receiver\",VLOOKUP($G11,'High Needs'!BQ:BS,3,TRUE)))))","v":0},0,0,null,0,0,0,{"$f":"0","v":0},{"$f":"IF(OR($G11=0,$A11=\"Magnet 2\",$A11=\"Magnet 1\",$B11=\"f\"),0,IF($A11=\"PHBAO\",VLOOKUP($G11,'High Needs'!BM:BO,3,TRUE),IF($A11=\"Desegregated/Receiver\",VLOOKUP($G11,'High Needs'!BQ:BS,3,TRUE))))","v":0},0,null,0,"Non-PHBAO","Non-PHBAOfYes"]
["Desegregated/Receiver","t","Yes",{"$f":"SUM('Position Simulator'!$D$11:$D$14)","v":0},{"$f":"IF('Position Simulator'!$D$7=\"t\",SUM('Position Simulator'!$D$15:$D$17),SUM('Position Simulator'!$D$15:$D$16))","v":0},{"$f":"IF('Position Simulator'!$D$7=\"t\",SUM('Position Simulator'!$G$11:$G$12),'Position Simulator'!$D$17+SUM('Position Simulator'!$G$11:$G$12))","v":0},{"$f":"IF(OR($A12=\"Magnet 1\",$A12=\"Magnet 2\"),0,SUM('Position Simulator'!$G$13:$G$14))","v":0},{"$f":"SUM('Position Simulator'!$G$13:$G$16)","v":0},{"$f":"IF($D12=0,0,VLOOKUP($D12,'High Needs'!A:C,3,TRUE))","v":0},{"$f":"IF($D3=0,0,IF($A3=\"PHBAO\",VLOOKUP($D3,'High Needs'!I:K,3,TRUE),IF($A3=\"Desegregated/Receiver\",VLOOKUP($D3,'High Needs'!A:C,3,TRUE),IF($A3=\"Magnet 2\",VLOOKUP($D3,'High Needs'!M:O,3,TRUE),IF($A3=\"Magnet 1\",VLOOKUP($D3,'High Needs'!Q:S,3,TRUE))))))","v":0},0,{"$f":"IF($D12=0,0,VLOOKUP($D12,'High Needs'!E:G,3,TRUE))","v":0},0,0,{"$f":"IF($E12=0,0,IF(A12=\"Magnet 1\",VLOOKUP($E12,'High Needs'!U:W,3,TRUE),VLOOKUP($E12,'High Needs'!CC:CE,3,TRUE)))","v":0},{"$f":"IF($E12=0,0,IF($A12=\"PHBAO\",VLOOKUP($E12,'High Needs'!Y:AA,3,TRUE),IF($A12=\"Desegregated/Receiver\",VLOOKUP($E12,'High Needs'!AC:AE,3,TRUE),IF($A12=\"Magnet 2\",VLOOKUP($E12,'High Needs'!AG:AI,3,TRUE),IF($A12=\"Magnet 1\",VLOOKUP($E12,'High Needs'!AK:AM,3,TRUE))))))","v":0},0,0,{"$f":"IF($F12=0,0,VLOOKUP($F12,'High Needs'!AO:AQ,3,TRUE))","v":0},{"$f":"IF($F12=0,0,IF($A12=\"PHBAO\",VLOOKUP($F12,'High Needs'!AS:AU,3,TRUE),IF($A12=\"Desegregated/Receiver\",VLOOKUP($F12,'High Needs'!AW:AY,3,TRUE),IF($A12=\"Magnet 2\",VLOOKUP($F12,'High Needs'!BA:BC,3,TRUE),IF($A12=\"Magnet 1\",VLOOKUP($F12,'High Needs'!BE:BG,3,TRUE))))))","v":0},0,0,{"$f":"IF($H12=0,0,VLOOKUP($H12,'High Needs'!BI:BK,3,TRUE))","v":0},{"$f":"IF(OR($H12=0,$A12=\"PHBAO\",$A12=\"Desegregated/Receiver\"),0,IF($A12=\"Magnet 2\",VLOOKUP($H12,'High Needs'!BU:BW,3,TRUE),IF($A12=\"Magnet 1\",VLOOKUP($H12,'High Needs'!BY:CA,3,TRUE))))","v":0},0,0,{"$f":"IF(OR($G12=0,$A12=\"Magnet 2\", $A12=\"Magnet 1\"),0,IF(AND($B12=\"t\",OR($A12=\"PHBAO\",$A12=\"Desegregated/Receiver\")),0,IF($A12=\"PHBAO\",VLOOKUP($G12,'High Needs'!BM:BO,3,TRUE),IF($A12=\"Desegregated/Receiver\",VLOOKUP($G12,'High Needs'!BQ:BS,3,TRUE)))))","v":0},0,0,null,0,0,0,{"$f":"0","v":0},{"$f":"IF(OR($G12=0,$A12=\"Magnet 2\",$A12=\"Magnet 1\",$B12=\"f\"),0,IF($A12=\"PHBAO\",VLOOKUP($G12,'High Needs'!BM:BO,3,TRUE),IF($A12=\"Desegregated/Receiver\",VLOOKUP($G12,'High Needs'!BQ:BS,3,TRUE))))","v":0},0,null,0,"Non-PHBAO","Non-PHBAOtYes"]
["PHBAO","f","Yes",{"$f":"SUM('Position Simulator'!$D$11:$D$14)","v":0},{"$f":"IF('Position Simulator'!$D$7=\"t\",SUM('Position Simulator'!$D$15:$D$17),SUM('Position Simulator'!$D$15:$D$16))","v":0},{"$f":"IF('Position Simulator'!$D$7=\"t\",SUM('Position Simulator'!$G$11:$G$12),'Position Simulator'!$D$17+SUM('Position Simulator'!$G$11:$G$12))","v":0},{"$f":"IF(OR($A13=\"Magnet 1\",$A13=\"Magnet 2\"),0,SUM('Position Simulator'!$G$13:$G$14))","v":0},{"$f":"SUM('Position Simulator'!$G$13:$G$16)","v":0},{"$f":"IF($D13=0,0,VLOOKUP($D13,'High Needs'!A:C,3,TRUE))","v":0},{"$f":"IF($D4=0,0,IF($A4=\"PHBAO\",VLOOKUP($D4,'High Needs'!I:K,3,TRUE),IF($A4=\"Desegregated/Receiver\",VLOOKUP($D4,'High Needs'!A:C,3,TRUE),IF($A4=\"Magnet 2\",VLOOKUP($D4,'High Needs'!M:O,3,TRUE),IF($A4=\"Magnet 1\",VLOOKUP($D4,'High Needs'!Q:S,3,TRUE))))))","v":0},{"$f":"IF(AND($B13=\"t\",OR($A13=\"PHBAO\",$A13=\"Desegregated/Receiver\")),0,J13-I13)","v":0},{"$f":"IF($D13=0,0,VLOOKUP($D13,'High Needs'!E:G,3,TRUE))","v":0},{"$f":"L13-J13","v":0},{"$f":"I13+K13+M13","v":0},{"$f":"IF($E13=0,0,IF(A13=\"Magnet 1\",VLOOKUP($E13,'High Needs'!U:W,3,TRUE),VLOOKUP($E13,'High Needs'!CC:CE,3,TRUE)))","v":0},{"$f":"IF($E13=0,0,IF($A13=\"PHBAO\",VLOOKUP($E13,'High Needs'!Y:AA,3,TRUE),IF($A13=\"Desegregated/Receiver\",VLOOKUP($E13,'High Needs'!AC:AE,3,TRUE),IF($A13=\"Magnet 2\",VLOOKUP($E13,'High Needs'!AG:AI,3,TRUE),IF($A13=\"Magnet 1\",VLOOKUP($E13,'High Needs'!AK:AM,3,TRUE))))))","v":0},{"$f":"IF(AND($B13=\"t\",OR($A13=\"PHBAO\",$A13=\"Desegregated/Receiver\")),0,P13-O13)","v":0},{"$f":"O13+Q13","v":0},{"$f":"IF($F13=0,0,VLOOKUP($F13,'High Needs'!AO:AQ,3,TRUE))","v":0},{"$f":"IF($F13=0,0,IF($A13=\"PHBAO\",VLOOKUP($F13,'High Needs'!AS:AU,3,TRUE),IF($A13=\"Desegregated/Receiver\",VLOOKUP($F13,'High Needs'!AW:AY,3,TRUE),IF($A13=\"Magnet 2\",VLOOKUP($F13,'High Needs'!BA:BC,3,TRUE),IF($A13=\"Magnet 1\",VLOOKUP($F13,'High Needs'!BE:BG,3,TRUE))))))","v":0},{"$f":"IF(AND($B13=\"t\",OR($A13=\"PHBAO\",$A13=\"Desegregated/Receiver\")),0,T13-S13)","v":0},{"$f":"S13+U13","v":0},{"$f":"IF($H13=0,0,VLOOKUP($H13,'High Needs'!BI:BK,3,TRUE))","v":0},{"$f":"IF(OR($H13=0,$A13=\"PHBAO\",$A13=\"Desegregated/Receiver\"),0,IF($A13=\"Magnet 2\",VLOOKUP($H13,'High Needs'!BU:BW,3,TRUE),IF($A13=\"Magnet 1\",VLOOKUP($H13,'High Needs'!BY:CA,3,TRUE))))","v":0},{"$f":"IF(OR($A13=\"Magnet 1\", $A13=\"Magnet 2\"), X13-W13,0)","v":0},{"$f":"W13+Y13","v":0},{"$f":"IF(OR($G13=0,$A13=\"Magnet 2\", $A13=\"Magnet 1\"),0,IF(AND($B13=\"t\",OR($A13=\"PHBAO\",$A13=\"Desegregated/Receiver\")),0,IF($A13=\"PHBAO\",VLOOKUP($G13,'High Needs'!BM:BO,3,TRUE),IF($A13=\"Desegregated/Receiver\",VLOOKUP($G13,'High Needs'!BQ:BS,3,TRUE)))))","v":0},{"$f":"W13+Y13+AA13","v":0},{"$f":"N13+R13+V13+AB13","v":0},null,{"$f":"IF(OR($B13=\"f\",$A13=\"Magnet 1\", $A13=\"Magnet 2\"), 0, J13-I13)","v":0},{"$f":"IF(OR($B13=\"f\",$A13=\"Magnet 1\",$A13=\"Magnet 2\"),0,P13-O13)","v":0},{"$f":"IF(OR($B13=\"f\",$A13=\"Magnet 1\",$A13=\"Magnet 2\"),0,T13-S13)","v":0},{"$f":"0","v":0},{"$f":"IF(OR($G13=0,$A13=\"Magnet 2\",$A13=\"Magnet 1\",$B13=\"f\"),0,IF($A13=\"PHBAO\",VLOOKUP($G13,'High Needs'!BM:BO,3,TRUE),IF($A13=\"Desegregated/Receiver\",VLOOKUP($G13,'High Needs'!BQ:BS,3,TRUE))))","v":0},{"$f":"SUM(AE13:AI13)","v":0},null,{"$f":"AC13+AJ13","v":0},"PHBAO","PHBAOfYes"]
["PHBAO","t","Yes",{"$f":"SUM('Position Simulator'!$D$11:$D$14)","v":0},{"$f":"IF('Position Simulator'!$D$7=\"t\",SUM('Position Simulator'!$D$15:$D$17),SUM('Position Simulator'!$D$15:$D$16))","v":0},{"$f":"IF('Position Simulator'!$D$7=\"t\",SUM('Position Simulator'!$G$11:$G$12),'Position Simulator'!$D$17+SUM('Position Simulator'!$G$11:$G$12))","v":0},{"$f":"IF(OR($A14=\"Magnet 1\",$A14=\"Magnet 2\"),0,SUM('Position Simulator'!$G$13:$G$14))","v":0},{"$f":"SUM('Position Simulator'!$G$13:$G$16)","v":0},{"$f":"IF($D14=0,0,VLOOKUP($D14,'High Needs'!A:C,3,TRUE))","v":0},{"$f":"IF($D5=0,0,IF($A5=\"PHBAO\",VLOOKUP($D5,'High Needs'!I:K,3,TRUE),IF($A5=\"Desegregated/Receiver\",VLOOKUP($D5,'High Needs'!A:C,3,TRUE),IF($A5=\"Magnet 2\",VLOOKUP($D5,'High Needs'!M:O,3,TRUE),IF($A5=\"Magnet 1\",VLOOKUP($D5,'High Needs'!Q:S,3,TRUE))))))","v":0},{"$f":"IF(AND($B14=\"t\",OR($A14=\"PHBAO\",$A14=\"Desegregated/Receiver\")),0,J14-I14)","v":0},{"$f":"IF($D14=0,0,VLOOKUP($D14,'High Needs'!E:G,3,TRUE))","v":0},{"$f":"L14-J14","v":0},{"$f":"I14+K14+M14","v":0},{"$f":"IF($E14=0,0,IF(A14=\"Magnet 1\",VLOOKUP($E14,'High Needs'!U:W,3,TRUE),VLOOKUP($E14,'High Needs'!CC:CE,3,TRUE)))","v":0},{"$f":"IF($E14=0,0,IF($A14=\"PHBAO\",VLOOKUP($E14,'High Needs'!Y:AA,3,TRUE),IF($A14=\"Desegregated/Receiver\",VLOOKUP($E14,'High Needs'!AC:AE,3,TRUE),IF($A14=\"Magnet 2\",VLOOKUP($E14,'High Needs'!AG:AI,3,TRUE),IF($A14=\"Magnet 1\",VLOOKUP($E14,'High Needs'!AK:AM,3,TRUE))))))","v":0},{"$f":"IF(AND($B14=\"t\",OR($A14=\"PHBAO\",$A14=\"Desegregated/Receiver\")),0,P14-O14)","v":0},{"$f":"O14+Q14","v":0},{"$f":"IF($F14=0,0,VLOOKUP($F14,'High Needs'!AO:AQ,3,TRUE))","v":0},{"$f":"IF($F14=0,0,IF($A14=\"PHBAO\",VLOOKUP($F14,'High Needs'!AS:AU,3,TRUE),IF($A14=\"Desegregated/Receiver\",VLOOKUP($F14,'High Needs'!AW:AY,3,TRUE),IF($A14=\"Magnet 2\",VLOOKUP($F14,'High Needs'!BA:BC,3,TRUE),IF($A14=\"Magnet 1\",VLOOKUP($F14,'High Needs'!BE:BG,3,TRUE))))))","v":0},{"$f":"IF(AND($B14=\"t\",OR($A14=\"PHBAO\",$A14=\"Desegregated/Receiver\")),0,T14-S14)","v":0},{"$f":"S14+U14","v":0},{"$f":"IF($H14=0,0,VLOOKUP($H14,'High Needs'!BI:BK,3,TRUE))","v":0},{"$f":"IF(OR($H14=0,$A14=\"PHBAO\",$A14=\"Desegregated/Receiver\"),0,IF($A14=\"Magnet 2\",VLOOKUP($H14,'High Needs'!BU:BW,3,TRUE),IF($A14=\"Magnet 1\",VLOOKUP($H14,'High Needs'!BY:CA,3,TRUE))))","v":0},{"$f":"IF(OR($A14=\"Magnet 1\", $A14=\"Magnet 2\"), X14-W14,0)","v":0},{"$f":"W14+Y14","v":0},{"$f":"IF(OR($G14=0,$A14=\"Magnet 2\", $A14=\"Magnet 1\"),0,IF(AND($B14=\"t\",OR($A14=\"PHBAO\",$A14=\"Desegregated/Receiver\")),0,IF($A14=\"PHBAO\",VLOOKUP($G14,'High Needs'!BM:BO,3,TRUE),IF($A14=\"Desegregated/Receiver\",VLOOKUP($G14,'High Needs'!BQ:BS,3,TRUE)))))","v":0},{"$f":"W14+Y14+AA14","v":0},{"$f":"N14+R14+V14+AB14","v":0},null,{"$f":"IF(OR($B14=\"f\",$A14=\"Magnet 1\", $A14=\"Magnet 2\"), 0, J14-I14)","v":0},{"$f":"IF(OR($B14=\"f\",$A14=\"Magnet 1\",$A14=\"Magnet 2\"),0,P14-O14)","v":0},{"$f":"IF(OR($B14=\"f\",$A14=\"Magnet 1\",$A14=\"Magnet 2\"),0,T14-S14)","v":0},{"$f":"0","v":0},{"$f":"IF(OR($G14=0,$A14=\"Magnet 2\",$A14=\"Magnet 1\",$B14=\"f\"),0,IF($A14=\"PHBAO\",VLOOKUP($G14,'High Needs'!BM:BO,3,TRUE),IF($A14=\"Desegregated/Receiver\",VLOOKUP($G14,'High Needs'!BQ:BS,3,TRUE))))","v":0},{"$f":"SUM(AE14:AI14)","v":0},null,{"$f":"AC14+AJ14","v":0},"PHBAO","PHBAOtYes"]
["Magnet 1","f","Yes",{"$f":"SUM('Position Simulator'!$D$11:$D$14)","v":0},{"$f":"IF('Position Simulator'!$D$7=\"t\",SUM('Position Simulator'!$D$15:$D$17),SUM('Position Simulator'!$D$15:$D$16))","v":0},{"$f":"IF('Position Simulator'!$D$7=\"t\",SUM('Position Simulator'!$G$11:$G$12),'Position Simulator'!$D$17+SUM('Position Simulator'!$G$11:$G$12))","v":0},{"$f":"IF(OR($A15=\"Magnet 1\",$A15=\"Magnet 2\"),0,SUM('Position Simulator'!$G$13:$G$14))","v":0},{"$f":"SUM('Position Simulator'!$G$13:$G$16)","v":0},{"$f":"IF($D15=0,0,VLOOKUP($D15,'High Needs'!A:C,3,TRUE))","v":0},{"$f":"IF($D6=0,0,IF($A6=\"PHBAO\",VLOOKUP($D6,'High Needs'!I:K,3,TRUE),IF($A6=\"Desegregated/Receiver\",VLOOKUP($D6,'High Needs'!A:C,3,TRUE),IF($A6=\"Magnet 2\",VLOOKUP($D6,'High Needs'!M:O,3,TRUE),IF($A6=\"Magnet 1\",VLOOKUP($D6,'High Needs'!Q:S,3,TRUE))))))","v":0},0,{"$f":"IF($D15=0,0,VLOOKUP($D15,'High Needs'!E:G,3,TRUE))","v":0},0,0,{"$f":"IF($E15=0,0,IF(A15=\"Magnet 1\",VLOOKUP($E15,'High Needs'!U:W,3,TRUE),VLOOKUP($E15,'High Needs'!CC:CE,3,TRUE)))","v":0},{"$f":"IF($E15=0,0,IF($A15=\"PHBAO\",VLOOKUP($E15,'High Needs'!Y:AA,3,TRUE),IF($A15=\"Desegregated/Receiver\",VLOOKUP($E15,'High Needs'!AC:AE,3,TRUE),IF($A15=\"Magnet 2\",VLOOKUP($E15,'High Needs'!AG:AI,3,TRUE),IF($A15=\"Magnet 1\",VLOOKUP($E15,'High Needs'!AK:AM,3,TRUE))))))","v":0},0,0,{"$f":"IF($F15=0,0,VLOOKUP($F15,'High Needs'!AO:AQ,3,TRUE))","v":0},{"$f":"IF($F15=0,0,IF($A15=\"PHBAO\",VLOOKUP($F15,'High Needs'!AS:AU,3,TRUE),IF($A15=\"Desegregated/Receiver\",VLOOKUP($F15,'High Needs'!AW:AY,3,TRUE),IF($A15=\"Magnet 2\",VLOOKUP($F15,'High Needs'!BA:BC,3,TRUE),IF($A15=\"Magnet 1\",VLOOKUP($F15,'High Needs'!BE:BG,3,TRUE))))))","v":0},0,0,{"$f":"IF($H15=0,0,VLOOKUP($H15,'High Needs'!BI:BK,3,TRUE))","v":0},{"$f":"IF(OR($H15=0,$A15=\"PHBAO\",$A15=\"Desegregated/Receiver\"),0,IF($A15=\"Magnet 2\",VLOOKUP($H15,'High Needs'!BU:BW,3,TRUE),IF($A15=\"Magnet 1\",VLOOKUP($H15,'High Needs'!BY:CA,3,TRUE))))","v":0},0,0,{"$f":"IF(OR($G15=0,$A15=\"Magnet 2\", $A15=\"Magnet 1\"),0,IF(AND($B15=\"t\",OR($A15=\"PHBAO\",$A15=\"Desegregated/Receiver\")),0,IF($A15=\"PHBAO\",VLOOKUP($G15,'High Needs'!BM:BO,3,TRUE),IF($A15=\"Desegregated/Receiver\",VLOOKUP($G15,'High Needs'!BQ:BS,3,TRUE)))))","v":0},0,0,null,0,0,0,{"$f":"0","v":0},{"$f":"IF(OR($G15=0,$A15=\"Magnet 2\",$A15=\"Magnet 1\",$B15=\"f\"),0,IF($A15=\"PHBAO\",VLOOKUP($G15,'High Needs'!BM:BO,3,TRUE),IF($A15=\"Desegregated/Receiver\",VLOOKUP($G15,'High Needs'!BQ:BS,3,TRUE))))","v":0},0,null,0,"Magnet I","Magnet IfYes"]
["Magnet 1","t","Yes",{"$f":"SUM('Position Simulator'!$D$11:$D$14)","v":0},{"$f":"IF('Position Simulator'!$D$7=\"t\",SUM('Position Simulator'!$D$15:$D$17),SUM('Position Simulator'!$D$15:$D$16))","v":0},{"$f":"IF('Position Simulator'!$D$7=\"t\",SUM('Position Simulator'!$G$11:$G$12),'Position Simulator'!$D$17+SUM('Position Simulator'!$G$11:$G$12))","v":0},{"$f":"IF(OR($A16=\"Magnet 1\",$A16=\"Magnet 2\"),0,SUM('Position Simulator'!$G$13:$G$14))","v":0},{"$f":"SUM('Position Simulator'!$G$13:$G$16)","v":0},{"$f":"IF($D16=0,0,VLOOKUP($D16,'High Needs'!A:C,3,TRUE))","v":0},{"$f":"IF($D7=0,0,IF($A7=\"PHBAO\",VLOOKUP($D7,'High Needs'!I:K,3,TRUE),IF($A7=\"Desegregated/Receiver\",VLOOKUP($D7,'High Needs'!A:C,3,TRUE),IF($A7=\"Magnet 2\",VLOOKUP($D7,'High Needs'!M:O,3,TRUE),IF($A7=\"Magnet 1\",VLOOKUP($D7,'High Needs'!Q:S,3,TRUE))))))","v":0},0,{"$f":"IF($D16=0,0,VLOOKUP($D16,'High Needs'!E:G,3,TRUE))","v":0},0,0,{"$f":"IF($E16=0,0,IF(A16=\"Magnet 1\",VLOOKUP($E16,'High Needs'!U:W,3,TRUE),VLOOKUP($E16,'High Needs'!CC:CE,3,TRUE)))","v":0},{"$f":"IF($E16=0,0,IF($A16=\"PHBAO\",VLOOKUP($E16,'High Needs'!Y:AA,3,TRUE),IF($A16=\"Desegregated/Receiver\",VLOOKUP($E16,'High Needs'!AC:AE,3,TRUE),IF($A16=\"Magnet 2\",VLOOKUP($E16,'High Needs'!AG:AI,3,TRUE),IF($A16=\"Magnet 1\",VLOOKUP($E16,'High Needs'!AK:AM,3,TRUE))))))","v":0},0,0,{"$f":"IF($F16=0,0,VLOOKUP($F16,'High Needs'!AO:AQ,3,TRUE))","v":0},{"$f":"IF($F16=0,0,IF($A16=\"PHBAO\",VLOOKUP($F16,'High Needs'!AS:AU,3,TRUE),IF($A16=\"Desegregated/Receiver\",VLOOKUP($F16,'High Needs'!AW:AY,3,TRUE),IF($A16=\"Magnet 2\",VLOOKUP($F16,'High Needs'!BA:BC,3,TRUE),IF($A16=\"Magnet 1\",VLOOKUP($F16,'High Needs'!BE:BG,3,TRUE))))))","v":0},0,0,{"$f":"IF($H16=0,0,VLOOKUP($H16,'High Needs'!BI:BK,3,TRUE))","v":0},{"$f":"IF(OR($H16=0,$A16=\"PHBAO\",$A16=\"Desegregated/Receiver\"),0,IF($A16=\"Magnet 2\",VLOOKUP($H16,'High Needs'!BU:BW,3,TRUE),IF($A16=\"Magnet 1\",VLOOKUP($H16,'High Needs'!BY:CA,3,TRUE))))","v":0},0,0,{"$f":"IF(OR($G16=0,$A16=\"Magnet 2\", $A16=\"Magnet 1\"),0,IF(AND($B16=\"t\",OR($A16=\"PHBAO\",$A16=\"Desegregated/Receiver\")),0,IF($A16=\"PHBAO\",VLOOKUP($G16,'High Needs'!BM:BO,3,TRUE),IF($A16=\"Desegregated/Receiver\",VLOOKUP($G16,'High Needs'!BQ:BS,3,TRUE)))))","v":0},0,0,null,0,0,0,{"$f":"0","v":0},{"$f":"IF(OR($G16=0,$A16=\"Magnet 2\",$A16=\"Magnet 1\",$B16=\"f\"),0,IF($A16=\"PHBAO\",VLOOKUP($G16,'High Needs'!BM:BO,3,TRUE),IF($A16=\"Desegregated/Receiver\",VLOOKUP($G16,'High Needs'!BQ:BS,3,TRUE))))","v":0},0,null,0,"Magnet I","Magnet ItYes"]
["Magnet 2","f","Yes",{"$f":"SUM('Position Simulator'!$D$11:$D$14)","v":0},{"$f":"IF('Position Simulator'!$D$7=\"t\",SUM('Position Simulator'!$D$15:$D$17),SUM('Position Simulator'!$D$15:$D$16))","v":0},{"$f":"IF('Position Simulator'!$D$7=\"t\",SUM('Position Simulator'!$G$11:$G$12),'Position Simulator'!$D$17+SUM('Position Simulator'!$G$11:$G$12))","v":0},{"$f":"IF(OR($A17=\"Magnet 1\",$A17=\"Magnet 2\"),0,SUM('Position Simulator'!$G$13:$G$14))","v":0},{"$f":"SUM('Position Simulator'!$G$13:$G$16)","v":0},{"$f":"IF($D17=0,0,VLOOKUP($D17,'High Needs'!A:C,3,TRUE))","v":0},{"$f":"IF($D8=0,0,IF($A8=\"PHBAO\",VLOOKUP($D8,'High Needs'!I:K,3,TRUE),IF($A8=\"Desegregated/Receiver\",VLOOKUP($D8,'High Needs'!A:C,3,TRUE),IF($A8=\"Magnet 2\",VLOOKUP($D8,'High Needs'!M:O,3,TRUE),IF($A8=\"Magnet 1\",VLOOKUP($D8,'High Needs'!Q:S,3,TRUE))))))","v":0},0,{"$f":"IF($D17=0,0,VLOOKUP($D17,'High Needs'!E:G,3,TRUE))","v":0},0,0,{"$f":"IF($E17=0,0,IF(A17=\"Magnet 1\",VLOOKUP($E17,'High Needs'!U:W,3,TRUE),VLOOKUP($E17,'High Needs'!CC:CE,3,TRUE)))","v":0},{"$f":"IF($E17=0,0,IF($A17=\"PHBAO\",VLOOKUP($E17,'High Needs'!Y:AA,3,TRUE),IF($A17=\"Desegregated/Receiver\",VLOOKUP($E17,'High Needs'!AC:AE,3,TRUE),IF($A17=\"Magnet 2\",VLOOKUP($E17,'High Needs'!AG:AI,3,TRUE),IF($A17=\"Magnet 1\",VLOOKUP($E17,'High Needs'!AK:AM,3,TRUE))))))","v":0},0,0,{"$f":"IF($F17=0,0,VLOOKUP($F17,'High Needs'!AO:AQ,3,TRUE))","v":0},{"$f":"IF($F17=0,0,IF($A17=\"PHBAO\",VLOOKUP($F17,'High Needs'!AS:AU,3,TRUE),IF($A17=\"Desegregated/Receiver\",VLOOKUP($F17,'High Needs'!AW:AY,3,TRUE),IF($A17=\"Magnet 2\",VLOOKUP($F17,'High Needs'!BA:BC,3,TRUE),IF($A17=\"Magnet 1\",VLOOKUP($F17,'High Needs'!BE:BG,3,TRUE))))))","v":0},0,0,{"$f":"IF($H17=0,0,VLOOKUP($H17,'High Needs'!BI:BK,3,TRUE))","v":0},{"$f":"IF(OR($H17=0,$A17=\"PHBAO\",$A17=\"Desegregated/Receiver\"),0,IF($A17=\"Magnet 2\",VLOOKUP($H17,'High Needs'!BU:BW,3,TRUE),IF($A17=\"Magnet 1\",VLOOKUP($H17,'High Needs'!BY:CA,3,TRUE))))","v":0},0,0,{"$f":"IF(OR($G17=0,$A17=\"Magnet 2\", $A17=\"Magnet 1\"),0,IF(AND($B17=\"t\",OR($A17=\"PHBAO\",$A17=\"Desegregated/Receiver\")),0,IF($A17=\"PHBAO\",VLOOKUP($G17,'High Needs'!BM:BO,3,TRUE),IF($A17=\"Desegregated/Receiver\",VLOOKUP($G17,'High Needs'!BQ:BS,3,TRUE)))))","v":0},0,0,null,0,0,0,{"$f":"0","v":0},{"$f":"IF(OR($G17=0,$A17=\"Magnet 2\",$A17=\"Magnet 1\",$B17=\"f\"),0,IF($A17=\"PHBAO\",VLOOKUP($G17,'High Needs'!BM:BO,3,TRUE),IF($A17=\"Desegregated/Receiver\",VLOOKUP($G17,'High Needs'!BQ:BS,3,TRUE))))","v":0},0,null,0,"Magnet II","Magnet IIfYes"]
["Magnet 2","t","Yes",{"$f":"SUM('Position Simulator'!$D$11:$D$14)","v":0},{"$f":"IF('Position Simulator'!$D$7=\"t\",SUM('Position Simulator'!$D$15:$D$17),SUM('Position Simulator'!$D$15:$D$16))","v":0},{"$f":"IF('Position Simulator'!$D$7=\"t\",SUM('Position Simulator'!$G$11:$G$12),'Position Simulator'!$D$17+SUM('Position Simulator'!$G$11:$G$12))","v":0},{"$f":"IF(OR($A18=\"Magnet 1\",$A18=\"Magnet 2\"),0,SUM('Position Simulator'!$G$13:$G$14))","v":0},{"$f":"SUM('Position Simulator'!$G$13:$G$16)","v":0},{"$f":"IF($D18=0,0,VLOOKUP($D18,'High Needs'!A:C,3,TRUE))","v":0},{"$f":"IF($D9=0,0,IF($A9=\"PHBAO\",VLOOKUP($D9,'High Needs'!I:K,3,TRUE),IF($A9=\"Desegregated/Receiver\",VLOOKUP($D9,'High Needs'!A:C,3,TRUE),IF($A9=\"Magnet 2\",VLOOKUP($D9,'High Needs'!M:O,3,TRUE),IF($A9=\"Magnet 1\",VLOOKUP($D9,'High Needs'!Q:S,3,TRUE))))))","v":0},0,{"$f":"IF($D18=0,0,VLOOKUP($D18,'High Needs'!E:G,3,TRUE))","v":0},0,0,{"$f":"IF($E18=0,0,IF(A18=\"Magnet 1\",VLOOKUP($E18,'High Needs'!U:W,3,TRUE),VLOOKUP($E18,'High Needs'!CC:CE,3,TRUE)))","v":0},{"$f":"IF($E18=0,0,IF($A18=\"PHBAO\",VLOOKUP($E18,'High Needs'!Y:AA,3,TRUE),IF($A18=\"Desegregated/Receiver\",VLOOKUP($E18,'High Needs'!AC:AE,3,TRUE),IF($A18=\"Magnet 2\",VLOOKUP($E18,'High Needs'!AG:AI,3,TRUE),IF($A18=\"Magnet 1\",VLOOKUP($E18,'High Needs'!AK:AM,3,TRUE))))))","v":0},0,0,{"$f":"IF($F18=0,0,VLOOKUP($F18,'High Needs'!AO:AQ,3,TRUE))","v":0},{"$f":"IF($F18=0,0,IF($A18=\"PHBAO\",VLOOKUP($F18,'High Needs'!AS:AU,3,TRUE),IF($A18=\"Desegregated/Receiver\",VLOOKUP($F18,'High Needs'!AW:AY,3,TRUE),IF($A18=\"Magnet 2\",VLOOKUP($F18,'High Needs'!BA:BC,3,TRUE),IF($A18=\"Magnet 1\",VLOOKUP($F18,'High Needs'!BE:BG,3,TRUE))))))","v":0},0,0,{"$f":"IF($H18=0,0,VLOOKUP($H18,'High Needs'!BI:BK,3,TRUE))","v":0},{"$f":"IF(OR($H18=0,$A18=\"PHBAO\",$A18=\"Desegregated/Receiver\"),0,IF($A18=\"Magnet 2\",VLOOKUP($H18,'High Needs'!BU:BW,3,TRUE),IF($A18=\"Magnet 1\",VLOOKUP($H18,'High Needs'!BY:CA,3,TRUE))))","v":0},0,0,{"$f":"IF(OR($G18=0,$A18=\"Magnet 2\", $A18=\"Magnet 1\"),0,IF(AND($B18=\"t\",OR($A18=\"PHBAO\",$A18=\"Desegregated/Receiver\")),0,IF($A18=\"PHBAO\",VLOOKUP($G18,'High Needs'!BM:BO,3,TRUE),IF($A18=\"Desegregated/Receiver\",VLOOKUP($G18,'High Needs'!BQ:BS,3,TRUE)))))","v":0},0,0,null,0,0,0,{"$f":"0","v":0},{"$f":"IF(OR($G18=0,$A18=\"Magnet 2\",$A18=\"Magnet 1\",$B18=\"f\"),0,IF($A18=\"PHBAO\",VLOOKUP($G18,'High Needs'!BM:BO,3,TRUE),IF($A18=\"Desegregated/Receiver\",VLOOKUP($G18,'High Needs'!BQ:BS,3,TRUE))))","v":0},0,null,0,"Magnet II","Magnet IItYes"]
[]
[]
[]
[]
["6th Grade Elem","Clerical Enrollment","Admin Enrollment","CNS Enrollment","Elem","MS","SH","Highest Enrollment",".","Clerical FTEs","SAA","SPED Support","Add'l",".","Admin FTEs","Principal","APSCS","AP",".","Counselor FTEs"]
[{"$f":"'Position Simulator'!D48","v":0},{"$f":"SUM('Position Simulator'!$D$53:$D$61)+SUM('Position Simulator'!$G$53:$G$61)","v":0},{"$f":"SUM('Position Simulator'!$D$53:$D$61)+SUM('Position Simulator'!$G$53:$G$62)","v":0},{"$f":"IF(A24=\"t\",SUM('Position Simulator'!$D$60:$D$61)+SUM('Position Simulator'!$G$53:$G$56)+SUM('Position Simulator'!$G$58:$G$59),SUM('Position Simulator'!$D$59:$D$61)+SUM('Position Simulator'!$G$53:$G$56)+SUM('Position Simulator'!$G$58:$G$59))","v":0},{"$f":"IF($A24=\"t\",SUM('Position Simulator'!D53:D59)+'Position Simulator'!G57+SUM('Position Simulator'!G60:G62),SUM('Position Simulator'!D53:D58)+'Position Simulator'!G57+SUM('Position Simulator'!G60:G62))","v":0},{"$f":"IF($A24=\"t\",SUM('Position Simulator'!D60:D61)+'Position Simulator'!G58, SUM('Position Simulator'!D59:D61)+'Position Simulator'!G58)","v":0},{"$f":"SUM('Position Simulator'!G53:G56)+'Position Simulator'!G59","v":0},{"$f":"IF(G24>0,\"SH\",IF(F24>0,\"MS\",IF(E24>0,\"ES\",\"\")))","v":""},null,{"$f":"IF($B24=0,0,IF($H24=\"ES\",VLOOKUP($B24,'All Schools'!$CH:$CN,7,TRUE),IF($H24=\"MS\",VLOOKUP($B24,'All Schools'!$CP:$CV,7,TRUE),IF($H24=\"SH\",VLOOKUP($B24,'All Schools'!$CX:$DD,7,TRUE),\"\"))))","v":0},{"$f":"IF($B24=0,0,IF($H24=\"ES\",VLOOKUP($B24,'All Schools'!$CH:$CN,4,TRUE),IF($H24=\"MS\",VLOOKUP($B24,'All Schools'!$CP:$CV,4,TRUE),IF($H24=\"SH\",VLOOKUP($B24,'All Schools'!$CX:$DD,4,TRUE),\"\"))))","v":0},{"$f":"IF($B24=0,0,IF($H24=\"ES\",VLOOKUP($B24,'All Schools'!$CH:$CN,5,TRUE),IF($H24=\"MS\",VLOOKUP($B24,'All Schools'!$CP:$CV,5,TRUE),IF($H24=\"SH\",VLOOKUP($B24,'All Schools'!$CX:$DD,5,TRUE),\"\"))))","v":0},{"$f":"IF($B24=0,0,IF($H24=\"ES\",VLOOKUP($B24,'All Schools'!$CH:$CN,6,TRUE),IF($H24=\"MS\",VLOOKUP($B24,'All Schools'!$CP:$CV,6,TRUE),IF($H24=\"SH\",VLOOKUP($B24,'All Schools'!$CX:$DD,6,TRUE),\"\"))))","v":0},null,{"$f":"IF($C24=0,0,IF($H24=\"ES\",VLOOKUP($C24,'All Schools'!$DF:$DK,6,TRUE),VLOOKUP($C24,'All Schools'!$DM:$DS,7,TRUE)))","v":0},{"$f":"IF($C24=0,0,IF($H24=\"ES\",VLOOKUP($C24,'All Schools'!$DF:$DK,4,TRUE),VLOOKUP($C24,'All Schools'!$DM:$DS,4,TRUE)))","v":0},{"$f":"IF($C24=0,0,IF($H24=\"ES\",0,VLOOKUP($C24,'All Schools'!$DM:$DS,5,TRUE)))","v":0},{"$f":"IF($C24=0,0,IF($H24=\"ES\",VLOOKUP($C24,'All Schools'!$DF:$DK,5,TRUE),VLOOKUP($C24,'All Schools'!$DM:$DS,6,TRUE)))","v":0},null,{"$f":"IF($D24=0,0,VLOOKUP($D24,'All Schools'!DU:DW,3,TRUE))","v":0}]

{"sheet":"ECAST Lookup","index":5,"n_rows":1203,"n_cols":12,"rows_kept":1203,"cut":false,"hidden":true,"merged":[]}
["School","School Name","Short Name","Within 20","Above 20","Above 20 Final","Final Short Name","Char Count",null,"School Type","School Type Final"]
["1190801","Leichman Career Preparatory & Transit Ct","Leichman Career PTC",{"$f":"IF(LEN(B2)<=20,B2,\"\")","v":""},{"$f":"IF(D2=\"\",PROPER(C2),\"\")","v":"Leichman Career Ptc"},"Leichman Career PTC",{"$f":"IF(F2=\"\",D2,F2)","v":"Leichman Career PTC"},{"$f":"LEN(G2)","v":19},null,"Community Day School","Community Day School",{"$f":"LEN(K2)","v":20}]
["1191001","Miller CTC","MILLER CTC",{"$f":"IF(LEN(B3)<=20,B3,\"\")","v":"Miller CTC"},{"$f":"IF(D3=\"\",PROPER(C3),\"\")","v":""},"",{"$f":"IF(F3=\"\",D3,F3)","v":"Miller CTC"},{"$f":"LEN(G3)","v":10},null,"Continuation High School","Continuation HS",{"$f":"LEN(K3)","v":15}]
["1191401","Widney Career Prep & Tran Ctr","Widney Career Prep","","Widney Career Prep","Widney Career Prep","Widney Career Prep",18,null,"Dual Language Ctr - Elementary","DLC, Elementary",15]
["1191701","Riley HS Cyesis","RILEY HS CYESIS","Riley HS Cyesis","","","Riley HS Cyesis",15,null,"Dual Language Ctr - PC","DLC, Primary Ctr",16]
["1191801","Mc Alister HS Cyesis","MC ALISTER HS CYESIS","Mc Alister HS Cyesis","","","Mc Alister HS Cyesis",20,null,"Elementary School","Elementary School",17]
["1194101","Banneker Center & Transition Center","Banneker CTC","","Banneker Ctc","Banneker CTC","Banneker CTC",12,null,"Independent Study","Independent Study",17]
["1194401","Carlson Hosp (K-12)","CARLSON HOSP (K-12)","Carlson Hosp (K-12)","","","Carlson Hosp (K-12)",19,null,"Magnet Ctr -Elementary","Magnet Ctr, Elem",16]
["1194402","Carlson Home School (K12)","Carlson Home School","","Carlson Home School","Carlson Home School","Carlson Home School",19,null,"Magnet Ctr -Middle School","Magnet Ctr, MS",14]
["1194701","Lokrantz Sp Ed Ctr","LOKRANTZ SP ED CTR","Lokrantz Sp Ed Ctr","","","Lokrantz Sp Ed Ctr",18,null,"Magnet Ctr -Senior High","Magnet Ctr, SH",14]
["1194801","Lowman Sp Ed & Career Transition Center","Lowman Sp Ed & CTC","","Lowman Sp Ed & Ctc","Lowman Sp Ed & CTC","Lowman Sp Ed & CTC",18,null,"Magnet Ctr-SPAN","Magnet Ctr, Span",16]
["1194901","Marlton","MARLTON","Marlton","","","Marlton",7,null,"Magnet School - ELEM","Magnet School, Elem",19]
["1195201","Mcbride Sp Ed Ctr","MCBRIDE SP ED CTR","Mcbride Sp Ed Ctr","","","Mcbride Sp Ed Ctr",17,null,"Magnet School - MS","Magnet School, MS",17]
["1195202","CTC - West","CTC - WEST","CTC - West","","","CTC - West",10,null,"Magnet School - SHS","Magnet School, SH",17]
["1195301","Perez Sp Ed Ctr","PEREZ SP ED CTR","Perez Sp Ed Ctr","","","Perez Sp Ed Ctr",15,null,"Middle School","Middle School",13]
["1195501","Sophia T Salvin Spec Ed Center","Sophia T Salvin Spec","","Sophia T Salvin Spec","Sophia T Salvin Spec","Sophia T Salvin Spec",20,null,"Opportunity School","Opportunity School",18]
["1195701","Willenberg Sp Ed Ctr","WILLENBERG SP ED CTR","Willenberg Sp Ed Ctr","","","Willenberg Sp Ed Ctr",20,null,"Primary Center","Primary Center",14]
["1201401","Albion El","ALBION EL","Albion El","","","Albion El",9,null,"Senior High School","Senior High School",18]
["1202701","Aldama El","ALDAMA EL","Aldama El","","","Aldama El",9,null,"Span Magnet School","Span Magnet School",18]
["1202702","Aldama El DL Two-Way Im Spanish","Aldama El DTS","","Aldama El Dts","Aldama El DTS","Aldama El DTS",13,null,"Span School","Span School",11]
["1204101","Alexandria El","ALEXANDRIA EL","Alexandria El","","","Alexandria El",13,null,"Special Education School","Special Ed School",17]
["1204102","Alexandria Ave. El DL Two-Way Im Spanish","Alexandria El DTS","","Alexandria El Dts","Alexandria El DTS","Alexandria El DTS",17]
["1204201","Harvard El","HARVARD EL","Harvard El","","","Harvard El",10]
["1204202","Harvard El DL Two-Way Im Spanish","Harvard El DTS","","Harvard El Dts","Harvard El DTS","Harvard El DTS",14]
["1206801","Allesandro El","ALLESANDRO EL","Allesandro El","","","Allesandro El",13]
["1206802","Allesndro Coop Lr Mg","ALLESNDRO COOP LR MG","Allesndro Coop Lr Mg","","","Allesndro Coop Lr Mg",20]
["1208201","Alta Loma El","ALTA LOMA EL","Alta Loma El","","","Alta Loma El",12]
["1208202","Alta Loma El DL Two-Way Im Spanish","Alta Loma El DTS","","Alta Loma El Dts","Alta Loma El DTS","Alta Loma El DTS",16]
["1208901","Ambler El","AMBLER EL","Ambler El","","","Ambler El",9]
["1208902","Ambler Avenue Elementary Gifted Magnet","Ambler Av Gifted Mag","","Ambler Av Gifted Mag","Ambler Av Gifted Mag","Ambler Av Gifted Mag",20]
["1208903","Ambler El DL Two-Way Im Spanish","Ambler El DTS","","Ambler El Dts","Ambler El DTS","Ambler El DTS",13]
["1209601","Amestoy El","AMESTOY EL","Amestoy El","","","Amestoy El",10]
["1209602","Amestoy ES Multilingual/Multicultural Mg","Amestoy ES ML/MC Mag","","Amestoy Es Ml/Mc Mag","Amestoy ES Ml/MC Mag","Amestoy ES Ml/MC Mag",20]
["1209603","Amestoy El DL Two-Way Im Japanese",{"$error":"#N/A"},"",{"$error":"#N/A"},"Amestoy El DTJ","Amestoy El DTJ",14]
["1211001","Anatola El","ANATOLA EL","Anatola El","","","Anatola El",10]
["1211701","Andasol El","ANDASOL EL","Andasol El","","","Andasol El",10]
["1212301","Angeles Mesa El","ANGELES MESA EL","Angeles Mesa El","","","Angeles Mesa El",15]
["1212302","Angeles Mesa ES DREAMS Magnet","Angls Msa DREAMS Mg","","Angls Msa Dreams Mg",{"$f":"C38","v":"Angls Msa DREAMS Mg"},"Angls Msa DREAMS Mg",19]
["1213701","Ann El","ANN EL","Ann El","","","Ann El",6]
["1214601","Annalee El","ANNALEE EL","Annalee El","","","Annalee El",10]
["1214602","Annalee Av ES STEAM Mag","Annalee Av STEAM Mag","","Annalee Av Steam Mag","Annalee Av STEAM Mag","Annalee Av STEAM Mag",20]
["1215101","Annandale El","ANNANDALE EL","Annandale El","","","Annandale El",12]
["1216401","Apperson El","APPERSON EL","Apperson El","","","Apperson El",11]
["1217801","Aragon El","ARAGON EL","Aragon El","","","Aragon El",9]
["1219201","Arlington Hts El","ARLINGTON HTS EL","Arlington Hts El","","","Arlington Hts El",16]
["1219202","Arlington Hts El DL Two-Way Im Spanish","Arlington Hts DTS","","Arlington Hts Dts","Arlington Hts DTS","Arlington Hts DTS",17]
["1220501","Arminta El","ARMINTA EL","Arminta El","","","Arminta El",10]
["1221901","Ascot El","ASCOT EL","Ascot El","","","Ascot El",8]
["1223301","Atwater El","ATWATER EL","Atwater El","","","Atwater El",10]
["1223302","Atwater El DL Two-Way Im Spanish","Atwater El DTS","","Atwater El Dts","Atwater El DTS","Atwater El DTS",14]
["1224701","Avalon Gardens El","AVALON GARDENS EL","Avalon Gardens El","","","Avalon Gardens El",17]
["1225001","Acad For Enrch Sci","ACAD FOR ENRCH SCI","Acad For Enrch Sci","","","Acad For Enrch Sci",18]
["1226901","Balboa G/HA Mag","BALBOA G/HA MAG","Balboa G/HA Mag","","","Balboa G/HA Mag",15]
["1227401","Baldwin Hills El","BALDWIN HILLS EL","Baldwin Hills El","","","Baldwin Hills El",16]
["1227402","Baldwin Hills Elementary Gifted Magnet","Bldwn Hls Gifted Mag","","Bldwn Hls Gifted Mag","Bldwn Hls Gifted Mag","Bldwn Hls Gifted Mag",20]
["1228801","Bandini El","BANDINI EL","Bandini El","","","Bandini El",10]
["1228802","Bandini St El DL Two-Way Im Spanish","Bandini St El DTS","","Bandini St El Dts","Bandini St El DTS","Bandini St El DTS",17]
["1230101","De La Torre Jr El","DE LA TORRE JR EL","De La Torre Jr El","","","De La Torre Jr El",17]
["1230102","De La Torre ES STEAM Magnet","De la Torre STEAM Mg","","De La Torre Steam Mg","De La Torre STEAM Mg","De La Torre STEAM Mg",20]
["1230201","Obama El","OBAMA EL","Obama El","","","Obama El",8]
["1230301","Porter Ranch School","PORTER RANCH SCHOOL","Porter Ranch School","","","Porter Ranch School",19]
["1230302","Porter Ranch School DL Two-Way Im Korean","Porter Ranch Sch DTK","","Porter Ranch Sch Dtk","Porter Ranch Sch DTK","Porter Ranch Sch DTK",20]
["1230601","Playa Vista Elementary Sch","PLAYA VISTA EL SCH","","Playa Vista El Sch","Playa Vista El Sch","Playa Vista El Sch",18]
["1230701","Lee Med Hlth Mag","LEE MED HLTH MAG","Lee Med Hlth Mag","","","Lee Med Hlth Mag",16]
["1230801","Ride El Smart Acad","RIDE EL SMART ACAD","Ride El Smart Acad","","","Ride El Smart Acad",18]
["1230901","Willow El","WILLOW EL","Willow El","","","Willow El",9]
["1230902","Willow El DL Two-Way Im Spanish","Willow El DTS",{"$f":"IF(LEN(B67)<=20,B67,\"\")","v":""},{"$f":"IF(D67=\"\",PROPER(C67),\"\")","v":"Willow El Dts"},"Willow El DTS",{"$f":"IF(F67=\"\",D67,F67)","v":"Willow El DTS"},{"$f":"LEN(G67)","v":13}]
["1231101","Poindexter Lamotte El","POINDEXTER LAMOTTE E","","Poindexter Lamotte E","Poindexter Lamotte El","Poindexter Lamotte El",21]
["1231201","Lawson Acad A/M/S","LAWSON ACAD A/M/S","Lawson Acad A/M/S","","","Lawson Acad A/M/S",17]
["1231301","Moore M/S/T Acad","MOORE M/S/T ACAD","Moore M/S/T Acad","","","Moore M/S/T Acad",16]
["1231501","Barton Hill El","BARTON HILL EL","Barton Hill El","","","Barton Hill El",14]
["1231502","Barton Hill ES Maritime STEAM Magnet","Barton Hill MSTEAM M","","Barton Hill Msteam M","Barton Hill M STEAM Mg","Barton Hill M STEAM Mg",22]
["1232301","Bassett El","BASSETT EL","Bassett El","","","Bassett El",10]
["1232302","Bassett St ES Environmental STEM Magnet","Bassett ES ESTEM Mag","","Bassett Es Estem Mag","Bassett ES STEM Mag","Bassett ES STEM Mag",19]
["1232901","Beachy El","BEACHY EL","Beachy El","","","Beachy El",9]
["1233501","Beckford Chtr Enr St","BECKFORD CHTR ENR ST","Beckford Chtr Enr St","","","Beckford Chtr Enr St",20]
["1234201","Beethoven El","BEETHOVEN EL","Beethoven El","","","Beethoven El",12]
["1236901","RFK Ambsdr Glbl Edu","RFK AMBSDR GLBL EDU","RFK Ambsdr Glbl Edu","","","RFK Ambsdr Glbl Edu",19]
["1236902","Rfk Ambsdr Glbl DL One-Way Im Spanish","RFK Ambsdr Gbl DOS","","Rfk Ambsdr Gbl Dos","RFK Ambsdr Gbl DOS","RFK Ambsdr Gbl DOS",18]
["1236903","Rfk Ambsdr Glbl Ed DL Two-Way Im Korean","RFK Ambsdr Gbl DTK","","Rfk Ambsdr Gbl Dtk","RFK Ambsdr Gbl DTK","RFK Ambsdr Gbl DTK",18]
["1237201","Ochoa LC","OCHOA LC","Ochoa LC","","","Ochoa LC",8]
["1237202","Ochoa Lc DL Two-Way Im Spanish","Ochoa LC DTS","","Ochoa Lc Dts","Ochoa LC DTS","Ochoa LC DTS",12]
["1237501","Hughes El","HUGHES EL","Hughes El","","","Hughes El",9]
["1237502","Teresa P Hughes Elem Science/Tech/Math Magnet","Hughes El STM Mag","","Hughes El Stm Mag","Hughes El STEM Mag","Hughes El STEM Mag",18]
["1237801","Nueva Vista El","NUEVA VISTA EL","Nueva Vista El","","","Nueva Vista El",14]
["1237802","Nueva Vista Elem Visual And Performing Arts","Nueva Vista VAPA Mag","","Nueva Vista Vapa Mag","Nueva Vista VAPA Mag","Nueva Vista VAPA Mag",20]
["1238101","Maywood El","MAYWOOD EL","Maywood El","","","Maywood El",10]
["1238102","Maywood ES Computer Science Magnet","Maywood CS Mag","","Maywood Cs Mag","Maywood CS Mag","Maywood CS Mag",14]
["1238301","Esperanza El","ESPERANZA EL","Esperanza El","","","Esperanza El",12]
["1238401","Politi El","POLITI EL","Politi El","","","Politi El",9]
["1238501","Gratts LA for YS","GRATTS LA FOR YS","Gratts LA for YS","","","Gratts LA for YS",16]
["1238502","Gratts LA For YS DL One-Way Im Spanish","Gratts LA for YS DOS","","Gratts La For Ys Dos","Gratts LA for YS DOS","Gratts LA for YS DOS",20]
["1238601","Del Olmo El","DEL OLMO EL","Del Olmo El","","","Del Olmo El",11]
["1239101","Huntington Park El","HUNTINGTON PARK EL","Huntington Park El","","","Huntington Park El",18]
["1239102","Huntington Pk El DL Two-Way Im Spanish","Huntington Pk DTS","","Huntington Pk Dts","Huntington Pk DTS","Huntington Pk DTS",17]
["1239201","Olympic PC","OLYMPIC PC","Olympic PC","","","Olympic PC",10]
["1239301","Lake St Primary","LAKE ST PRIMARY","Lake St Primary","","","Lake St Primary",15]
["1239701","Belvedere El","BELVEDERE EL","Belvedere El","","","Belvedere El",12]
["1243801","Bertrand El","BERTRAND EL","Bertrand El","","","Bertrand El",11]
["1247001","Blythe El","BLYTHE EL","Blythe El","","","Blythe El",9]
["1247301","Bonita El","BONITA EL","Bonita El","","","Bonita El",9]
["1247901","Braddock Drive El","BRADDOCK DRIVE EL","Braddock Drive El","","","Braddock Drive El",17]
["1247902","Braddock Drive Elementary Gifted Magnet","Braddock Gifted Mag","","Braddock Gifted Mag","Braddock Gifted Mag","Braddock Gifted Mag",19]
["1247903","Braddock Dr El DL Two-Way Im Mandarin","Braddock Dr El DTM","","Braddock Dr El Dtm","Braddock Dr El DTM","Braddock Dr El DTM",18]
["1248601","Brainard El","BRAINARD EL","Brainard El","","","Brainard El",11]
["1249301","Breed El","BREED EL","Breed El","","","Breed El",8]
["1250701","Brentwood Sci Mag","BRENTWOOD SCI MAG","Brentwood Sci Mag","","","Brentwood Sci Mag",17]
["1252101","Bridge El","BRIDGE EL","Bridge El","","","Bridge El",9]
["1252701","Broad Ave El","BROAD AVE EL","Broad Ave El","","","Broad Ave El",12]
["1252702","Broad Ave El DL Two-Way Im Spanish","Broad Ave El DTS","","Broad Ave El Dts","Broad Ave El DTS","Broad Ave El DTS",16]
["1253001","Broadacres El","BROADACRES EL","Broadacres El","","","Broadacres El",13]
["1253002","Broadacres Av ES Visual/Perf Arts Magnet",{"$error":"#N/A"},"",{"$error":"#N/A"},"Broadacres VAPA Mag","Broadacres VAPA Mag",19]
["1253401","Broadway El","BROADWAY EL","Broadway El","","","Broadway El",11]
["1253402","Broadway El DL Two-Way Im Spanish","Broadway El DTS","","Broadway El Dts","Broadway El DTS","Broadway El DTS",15]
["1253403","Broadway El DL Two-Way Im Mandarin","Broadway El DTM","","Broadway El Dtm","Broadway El DTM","Broadway El DTM",15]
["1254201","White El","WHITE EL","White El","","","White El",8]
["1254202","White ES Visual Arts Magnet","White ES Vis Art Mag","","White Es Vis Art Mag","White Es Vis Art Mag","White Es Vis Art Mag",20]
["1254301","Lafayette Park PC","LAFAYETTE PARK PC","Lafayette Park PC","","","Lafayette Park PC",17]
["1254401","Macarthur Park VPA","MACARTHUR PARK VPA","Macarthur Park VPA","","","Macarthur Park VPA",18]
["1254402","Macarthur Park VPA DL Two-Way Im Spanish","MacArthur Pk Vpa DTS","","Macarthur Pk Vpa Dts","Macarthur Pk VPA DTS","Macarthur Pk VPA DTS",20]
["1254801","Brockton El","BROCKTON EL","Brockton El","","","Brockton El",11]
["1256201","Brooklyn Ave El","BROOKLYN AVE EL","Brooklyn Ave El","","","Brooklyn Ave El",15]
["1258901","Bryson El","BRYSON EL","Bryson El","","","Bryson El",9]
["1258902","Bryson Avenue Elem Science/Tech/Math Mag","Bryson Av El STM Mag","","Bryson Av El Stm Mag","Bryson Av El STEM Mag","Bryson Av El STEM Mag",21]
["1260301","Buchanan El","BUCHANAN EL","Buchanan El","","","Buchanan El",11]
["1260302","Buchanan Street Elem Science/Tech/Math Magnet","Buchanan El STM Mag","","Buchanan El Stm Mag","Buchanan El STEM Mag","Buchanan El STEM Mag",20]
["1260303","Buchanan El DL Two-Way Im Spanish","Buchanan El DL (INC)","","Buchanan El Dl (Inc)","Buchanan El DL ","Buchanan El DL ",15]
["1261601","Budlong El","BUDLONG EL","Budlong El","","","Budlong El",10]
["1261901","Wilshire Park El","WILSHIRE PARK EL","Wilshire Park El","","","Wilshire Park El",16]
["1263001","Burbank El","BURBANK EL","Burbank El","","","Burbank El",10]
["1263002","Burbank El Gifted Global Learning Mag","Burbank Gifted/GL Mg",{"$f":"IF(LEN(B131)<=20,B131,\"\")","v":""},{"$f":"IF(D131=\"\",PROPER(C131),\"\")","v":"Burbank Gifted/Gl Mg"},"Burbank Gifted/GL Mg",{"$f":"IF(F131=\"\",D131,F131)","v":"Burbank Gifted/GL Mg"},{"$f":"LEN(G131)","v":20}]
["1264401","Saturn El","SATURN EL","Saturn El","","","Saturn El",9]
["1264402","Saturn St ES Arts/Media Magnet","Saturn AM Mag","","Saturn Am Mag","Saturn Arts/Media Mag","Saturn Arts/Media Mag",21]
["1265801","Burton El","BURTON EL","Burton El","","","Burton El",9]
["1267101","Bushnell Way El","BUSHNELL WAY EL","Bushnell Way El","","","Bushnell Way El",15]
["1267102","Bushnell Way El DL Two-Way Im Spanish","Bushnell Way DTS","","Bushnell Way Dts","Bushnell Way DTS","Bushnell Way DTS",16]
["1268001","Elementary CDS","ELEMENTARY CDS","Elementary CDS","","","Elementary CDS",14]
["1268501","Cabrillo El","CABRILLO EL","Cabrillo El","","","Cabrillo El",11]
["1268502","Cabrillo Av ES STEAM Magnet","Cabrillo STEAM Mag","","Cabrillo Steam Mag","Cabrillo STEAM Mag","Cabrillo STEAM Mag",18]
["1269901","Cahuenga El","CAHUENGA EL","Cahuenga El","","","Cahuenga El",11]
["1269902","Cahuenga El DL One-Way Im Spanish","Cahuenga El DOS","","Cahuenga El Dos","Cahuenga El DOS","Cahuenga El DOS",15]
["1269903","Cahuenga El DL Two-Way Im Korean","Cahuenga El DTK","","Cahuenga El Dtk","Cahuenga El DTK","Cahuenga El DTK",15]
["1270101","Kim El","KIM EL","Kim El","","","Kim El",6]
["1270102","Kim El DL Two-Way Im Spanish","Kim El DTS","","Kim El Dts","Kim El DTS","Kim El DTS",10]
["1270103","Kim El DL One-Way Im Korean","Kim El DOK","","Kim El Dok","Kim El DOK","Kim El DOK",10]
["1270401","Calabash CA","CALABASH CA","Calabash CA","","","Calabash CA",11]
["1270601","Calahan Street Elementary","Calahan St EL","","Calahan St El","Calahan St El","Calahan St El",13]
["1271201","Calvert Chtr For ES","CALVERT CHTR FOR ES","Calvert Chtr For ES","","","Calvert Chtr For ES",19]
["1272601","Camellia El","CAMELLIA EL","Camellia El","","","Camellia El",11]
["1272602","Camellia Ave El DL Two-Way Im Spanish","Camellia El DTS","","Camellia El Dts","Camellia El DTS","Camellia El DTS",15]
["1274001","Canfield El","CANFIELD EL","Canfield El","","","Canfield El",11]
["1274101","Community El Mag CS","COMMUNITY EL MAG CS","Community El Mag CS","","","Community El Mag CS",19]
["1275301","Canoga Park El","CANOGA PARK EL","Canoga Park El","","","Canoga Park El",14]
["1276701","Cantara El","CANTARA EL","Cantara El","","","Cantara El",10]
["1276702","Cantara St ES Visual/Perf Arts Magnet","Cantara VAPA Mag","","Cantara Vapa Mag","Cantara VAPA Mag","Cantara VAPA Mag",16]
["1278101","Canterbury El","CANTERBURY EL","Canterbury El","","","Canterbury El",13]
["1278102","Canterbury Avenue Elementary Gifted Magnet","Canterbury Gifted Mg","","Canterbury Gifted Mg","Canterbury Gifted Mg","Canterbury Gifted Mg",20]
["1279501","Canyon El","CANYON EL","Canyon El","","","Canyon El",9]
["1280201","Capistrano El","CAPISTRANO EL","Capistrano El","","","Capistrano El",13]
["1281501","Caroldale Lrng Comm","CAROLDALE LRNG COMM","Caroldale Lrng Comm","","","Caroldale Lrng Comm",19]
["1282201","Carpenter Community Center","Carpenter Comm Ctr","","Carpenter Comm Ctr","Carpenter Comm Ctr","Carpenter Comm Ctr",18]
["1283601","Carson El","CARSON EL","Carson El","","","Carson El",9]
["1284901","Carthay El ES Mag","CARTHAY EL ES MAG","Carthay El ES Mag","","","Carthay El ES Mag",17]
["1286301","Castelar El","CASTELAR EL","Castelar El","","","Castelar El",11]
["1286302","Castelar El DL Two-Way Im Mandarin","Castelar St El DTM","","Castelar St El Dtm","Castelar St El DTM","Castelar St El DTM",18]
["1287701","Castle Hts El","CASTLE HTS EL","Castle Hts El","","","Castle Hts El",13]
["1287702","Castle Heights El World Lang Im Spanish","Castle Hts El DWS","","Castle Hts El Dws","Castle Hts El DWS","Castle Hts El DWS",17]
["1288101","Castlebay Lane Charter","Castlebay Lane","","Castlebay Lane","Castlebay Lane","Castlebay Lane",14]
["1289001","Catskill El","CATSKILL EL","Catskill El","","","Catskill El",11]
["1289002","Catskill El DL Two-Way Im Spanish","Catskill El DTS","","Catskill El Dts","Catskill El DTS","Catskill El DTS",15]
["1293901","Carson-Gore Academy","CARSON-GORE ACADEMY","Carson-Gore Academy","","","Carson-Gore Academy",19]
["1293902","Carson-Gore El DL Two-Way Im Spanish","Carson-Gore DTS","","Carson-Gore Dts","Carson-Gore DTS","Carson-Gore DTS",15]
["1294201","Estrella El","ESTRELLA EL","Estrella El","","","Estrella El",11]
["1294301","Jones El","JONES EL","Jones El","","","Jones El",8]
["1294401","Huerta El","HUERTA EL","Huerta El","","","Huerta El",9]
["1294501","Century Park El","CENTURY PARK EL","Century Park El","","","Century Park El",15]
["1295901","Chandler El","Chandler El","Chandler El","","","Chandler El",11]
["1298601","Chapman El","CHAPMAN EL","Chapman El","","","Chapman El",10]
["1298602","Chapman El DL Two-Way Im Mandarin","Chapman El DTM","","Chapman El Dtm","Chapman El DTM","Chapman El DTM",14]
["1300201","Charnock Road El","CHARNOCK ROAD EL","Charnock Road El","","","Charnock Road El",16]
["1301401","Chase El","CHASE EL","Chase El","","","Chase El",8]
["1302701","Chatsworth Park ES UP/CD Magnet","Chatsworth UP/CD Mag","","Chatsworth Up/Cd Mag","Chatsworth UP/CD Mag","Chatsworth UP/CD Mag",20]
["1304101","Cheremoya El","CHEREMOYA EL","Cheremoya El","","","Cheremoya El",12]
["1306801","Cienega El","CIENEGA EL","Cienega El","","","Cienega El",10]
["1306802","Cienega El DL Two-Way Im Spanish","Cienega El DTS","","Cienega El Dts","Cienega El DTS","Cienega El DTS",14]
["1308201","Cimarron El","CIMARRON EL","Cimarron El","","","Cimarron El",11]
["1308202","Cimarron Av ES STEAM Magnet","Cimarron STEAM Mag","","Cimarron Steam Mag","Cimarron STEAM Mag","Cimarron STEAM Mag",18]
["1309601","City Terrace El","CITY TERRACE EL","City Terrace El","","","City Terrace El",15]
["1309602","City Terrace El DL Two-Way Im Mandarin","City Terrace DTM","","City Terrace Dtm","City Terrace DTM","City Terrace DTM",16]
["1311001","Clifford El","CLIFFORD EL","Clifford El","","","Clifford El",11]
["1312301","Clover El","CLOVER EL","Clover El","","","Clover El",9]
["1313701","Cohasset El","COHASSET EL","Cohasset El","","","Cohasset El",11]
["1313702","Cohasset El DL One-Way Im Spanish","Cohasset St El DOS","","Cohasset St El Dos","Cohasset St El DOS","Cohasset St El DOS",18]
["1315101","Coldwater Cyn El","COLDWATER CYN EL","Coldwater Cyn El","","","Coldwater Cyn El",16]
["1315102","Coldwater Cyn DL Two-Way Im Spanish","Coldwater Cyn DTS",{"$f":"IF(LEN(B195)<=20,B195,\"\")","v":""},{"$f":"IF(D195=\"\",PROPER(C195),\"\")","v":"Coldwater Cyn Dts"},"Coldwater Cyn DTS",{"$f":"IF(F195=\"\",D195,F195)","v":"Coldwater Cyn DTS"},{"$f":"LEN(G195)","v":17}]
["1316401","Colfax Charter El","COLFAX CHARTER EL","Colfax Charter El","","","Colfax Charter El",17]
["1317801","Coliseum El","COLISEUM EL","Coliseum El","","","Coliseum El",11]
["1319201","Commonwealth El","COMMONWEALTH EL","Commonwealth El","","","Commonwealth El",15]
["1319202","Commonwealth Avenue Elem Gifted Arts/Tech","Commonwealth GAT Mag","","Commonwealth Gat Mag","Commonwealth GAT Mag","Commonwealth GAT Mag",20]
["1320501","Compton El","COMPTON EL","Compton El","","","Compton El",10]
["1321001","Madison El","MADISON EL","Madison El","","","Madison El",10]
["1321002","Madison El DL Two-Way Im Spanish","Madison El DTS","","Madison El Dts","Madison El DTS","Madison El DTS",14]
["1321901","Corona El","CORONA EL","Corona El","","","Corona El",9]
["1322001","Escutia PC","ESCUTIA PC","Escutia PC","","","Escutia PC",10]
["1324701","Plasencia El","PLASENCIA EL","Plasencia El","","","Plasencia El",12]
["1324702","Plasencia ES STEAM Magnet","Plasencia STEAM Mag","","Plasencia Steam Mag","Plasencia STEAM Mag","Plasencia STEAM Mag",19]
["1326001","Cowan El","COWAN EL","Cowan El","","","Cowan El",8]
["1326002","Cowan Avenue Elem Gifted Int Humanities","Cowan Gifted/IH Mag","","Cowan Gifted/Ih Mag","Cowan Gifted/IH Mag","Cowan Gifted/IH Mag",19]
["1326003","Cowan El DL World Lang Im Spanish","Cowan El DWS","","Cowan El Dws","Cowan El DWS","Cowan El DWS",12]
["1328801","Crescent Hts L/A/S/J","CRESCENT HTS L/A/S/J","Crescent Hts L/A/S/J","","","Crescent Hts L/A/S/J",20]
["1330201","Crestwood St ES STEAM Magnet","Crestwood STEAM Mag","","Crestwood Steam Mag","Crestwood STEAM Mag","Crestwood STEAM Mag",19]
["1331101","Westside Glbl Awr Mg","WESTSIDE GLBL AWR MG","Westside Glbl Awr Mg","","","Westside Glbl Awr Mg",20]
["1331501","Dena El","DENA EL","Dena El","","","Dena El",7]
["1332901","Dahlia Heights El","DAHLIA HTS EL","Dahlia Heights El","","","Dahlia Heights El",17]
["1333501","Danube El","DANUBE EL","Danube El","","","Danube El",9]
["1334001","Darby Avenue Elementary","Darby Ave El","","Darby Ave El","Darby Ave El","Darby Ave El",12]
["1335601","Dayton Heights El","DAYTON HEIGHTS EL","Dayton Heights El","","","Dayton Heights El",17]
["1335602","Dayton Heights ES Urban Env Science Mag","Dayton Hts UES Mag","","Dayton Hts Ues Mag","Dayton Hts UES Mag","Dayton Hts UES Mag",18]
["1337701","Dearborn El CA","DEARBORN EL CA","Dearborn El CA","","","Dearborn El CA",14]
["1338401","Del Amo El","DEL AMO EL","Del Amo El","","","Del Amo El",10]
["1339701","Delevan Drive El","DELEVAN DRIVE EL","Delevan Drive El","","","Delevan Drive El",16]
["1342501","Denker El","DENKER EL","Denker El","","","Denker El",9]
["1342502","Denker El DL Two-Way Im Korean","Denker Ave El DTK","","Denker Ave El Dtk","Denker Ave El DTK","Denker Ave El DTK",17]
["1342601","Garza PC","GARZA PC","Garza PC","","","Garza PC",8]
["1343801","Dixie Cyn Comm Chtr","DIXIE CYN COMM CHTR","Dixie Cyn Comm Chtr","","","Dixie Cyn Comm Chtr",19]
["1345201","Dolores El","DOLORES EL","Dolores El","","","Dolores El",10]
["1346601","Dominguez El","DOMINGUEZ EL","Dominguez El","","","Dominguez El",12]
["1346602","Dominguez El DL Two-Way Im Spanish","Dominguez El DTS","","Dominguez El Dts","Dominguez El DTS","Dominguez El DTS",16]
["1347901","Dorris Place El","DORRIS PLACE EL","Dorris Place El","","","Dorris Place El",15]
["1349301","Dyer El","DYER EL","Dyer El","","","Dyer El",7]
["1350001","Midcity Prescott Mag","Mid-City PSES Mag","Midcity Prescott Mag","","","Midcity Prescott Mag",20]
["1350701","Eagle Rock El","EAGLE ROCK EL","Eagle Rock El","","","Eagle Rock El",13]
["1350702","Eagle Rock Hg El Mag","EAGLE ROCK HG EL MAG","Eagle Rock Hg El Mag","","","Eagle Rock Hg El Mag",20]
["1350703","Eagle Rck G/HA El Mg","Egl Rck El Gifted Mg","Eagle Rck G/HA El Mg","","","Eagle Rck G/HA El Mg",20]
["1352101","Eastman El","EASTMAN EL","Eastman El","","","Eastman El",10]
["1352102","Eastman El DL One & Two-Way Im Spanish","Eastman El DTS&DOS","","Eastman El Dts&Dos","Eastman El DTS & DOS","Eastman El DTS & DOS",20]
["1354101","El Dorado El","EL DORADO EL","El Dorado El","","","El Dorado El",12]
["1354501","El Oro Way Chtr CES","EL ORO WAY CHTR CES","El Oro Way Chtr CES","","","El Oro Way Chtr CES",19]
["1354801","Elizabeth LC","ELIZABETH LC","Elizabeth LC","","","Elizabeth LC",12]
["1354805","Elizabeth LC DL Two-Way Im Arabic","Elizabeth LC DTA","","Elizabeth Lc Dta","Elizabeth LC DTA","Elizabeth LC DTA",16]
["1356201","El Sereno El","EL SERENO EL","El Sereno El","","","El Sereno El",12]
["1357401","Sendak El","SENDAK EL","Sendak El","","","Sendak El",9]
["1357402","Sendak ES Arts/Comm/Technology Magnet","Sendak A/C/T Mag","","Sendak A/C/T Mag","Sendak A/C/T Mag","Sendak A/C/T Mag",16]
["1357501","Elysian Heights ES Arts Magnet","Elysian Hts Arts Mag","","Elysian Hts Arts Mag","Elysian Hts Arts Mag","Elysian Hts Arts Mag",20]
["1357601","Parks LC","PARKS LC","Parks LC","","","Parks LC",8]
["1357701","Bellingham El","BELLINGHAM EL","Bellingham El","","","Bellingham El",13]
["1358901","Emelita St El","Emelita St El","Emelita St El","","","Emelita St El",13]
["1361001","Enadia Way Tech Charter","Enadia Way","","Enadia Way","Enadia Way","Enadia Way",10]
["1361601","Encino Charter El","ENCINO CHARTER EL","Encino Charter El","","","Encino Charter El",17]
["1363001","Erwin El","ERWIN EL","Erwin El","","","Erwin El",8]
["1364001","Eshelman El","ESHELMAN EL","Eshelman El","","","Eshelman El",11]
["1367101","Euclid El","EUCLID EL","Euclid El","","","Euclid El",9]
["1367102","Euclid Av ES Gifted/STEAM Magnet","Euclid ES GSTEAM Mag","","Euclid Es Gsteam Mag","Euclid ES GSTEAM Mag","Euclid ES GSTEAM Mag",20]
["1367103","Euclid El DL Two-Way Im Spanish","Euclid Ave El DTS","","Euclid Ave El Dts","Euclid Ave El DTS","Euclid Ave El DTS",17]
["1369901","Evergreen El","EVERGREEN EL","Evergreen El","","","Evergreen El",12]
["1371201","Fair El","FAIR EL","Fair El","","","Fair El",7]
["1372601","Fairburn El","FAIRBURN EL","Fairburn El","","","Fairburn El",11]
["1374001","Farmdale El","FARMDALE EL","Farmdale El","","","Farmdale El",11]
["1374002","Farmdale El DL Two-Way Im Spanish","Farmdale El DOS",{"$f":"IF(LEN(B259)<=20,B259,\"\")","v":""},{"$f":"IF(D259=\"\",PROPER(C259),\"\")","v":"Farmdale El Dos"},"Farmdale El DOS",{"$f":"IF(F259=\"\",D259,F259)","v":"Farmdale El DOS"},{"$f":"LEN(G259)","v":15}]
["1375301","Fernangeles El","FERNANGELES EL","Fernangeles El","","","Fernangeles El",14]
["1375302","Fernangeles DL One & Two-Way Im Spanish","Fernangeles DTS&DOS","","Fernangeles Dts&Dos","Fernangeles DTS & DOS","Fernangeles DTS & DOS",21]
["1376701","15th St El","15TH ST EL","15th St El","","","15th St El",10]
["1378101","54th St El","54TH ST EL","54th St El","","","54th St El",10]
["1379501","59th St El","59TH ST EL","59th St El","","","59th St El",10]
["1380801","52nd St El","52ND ST EL","52nd St El","","","52nd St El",10]
["1382201","Figueroa El","FIGUEROA EL","Figueroa El","","","Figueroa El",11]
["1382901","Broadous El","BROADOUS EL","Broadous El","","","Broadous El",11]
["1382902","Hillery T Broadous Elem Science/Tech/Math","Broadous El STM Mag","","Broadous El Stm Mag","Broadous El STEM Mag","Broadous El STEM Mag",20]
["1383601","1st St El","1ST ST EL","1st St El","","","1st St El",9]
["1384901","Fishburn El","FISHBURN EL","Fishburn El","","","Fishburn El",11]
["1384902","Fishburn El DL Two-Way Im Spanish","Fishburn El DTS","","Fishburn El Dts","Fishburn El DTS","Fishburn El DTS",15]
["1387701","Fletcher Dr El","FLETCHER DR EL","Fletcher Dr El","","","Fletcher Dr El",14]
["1387702","Fletcher Dr ES STEAM Magnet","Fletcher STEAM Mag","","Fletcher Steam Mag","Fletcher STEAM Mag","Fletcher STEAM Mag",18]
["1389001","Florence El","FLORENCE EL","Florence El","","","Florence El",11]
["1389002","Florence El DL Two-Way Im Spanish","Florence El DTS","","Florence El Dts","Florence El DTS","Florence El DTS",15]
["1391801","Ford Blvd El","FORD BLVD EL","Ford Blvd El","","","Ford Blvd El",12]
["1391802","Ford Blvd El DL Two-Way Im Spanish","Ford Blvd El DTS","","Ford Blvd El Dts","Ford Blvd El DTS","Ford Blvd El DTS",16]
["1393201","49th St El","49TH ST EL","49th St El","","","49th St El",10]
["1395901","42nd St El","42ND ST EL","42nd St El","","","42nd St El",10]
["1395902","42nd St El DL World Lang Im Spanish","42nd St El DWS","","42Nd St El Dws","42nd St El DWS","42nd St El DWS",14]
["1397301","4th St El","4TH ST EL","4th St El","","","4th St El",9]
["1397302","4th Street El DL Two-Way Im Spanish",{"$error":"#N/A"},"",{"$error":"#N/A"},"4th Street El DTS","4th Street El DTS",17]
["1397401","4th Street Primary Center","4th St Primary Ctr","","4Th St Primary Ctr",{"$f":"C283","v":"4th St Primary Ctr"},"4th St Primary Ctr",18]
["1397402","4th St PC DL Two-Way Im Spanish","4th St PC DTS","","4Th St Pc Dts","4th St PC DTS","4th St PC DTS",13]
["1398601","Franklin El","FRANKLIN EL","Franklin El","","","Franklin El",11]
["1401401","Fries El","FRIES EL","Fries El","","","Fries El",8]
["1402001","Bakewell PC","BAKEWELL PC","Bakewell PC","","","Bakewell PC",11]
["1402701","Fullbright El","FULLBRIGHT EL","Fullbright El","","","Fullbright El",13]
["1402702","Fullbright Ave El DL Two-Way Im Spanish","Fullbright El DTS","","Fullbright El Dts","Fullbright El DTS","Fullbright El DTS",17]
["1404101","Gardena El","GARDENA EL","Gardena El","","","Gardena El",10]
["1404102","Gardena El DL Two-Way Im Spanish","Gardena El DTS","","Gardena El Dts","Gardena El DTS","Gardena El DTS",14]
["1405501","Garden Grove El","GARDEN GROVE EL","Garden Grove El","","","Garden Grove El",15]
["1406801","Gardner El","GARDNER EL","Gardner El","","","Gardner El",10]
["1408201","Garvanza ES Tech/Leadership Magnet","Garvanza ES Tech/Lea","","Garvanza Es Tech/Lea","Garvanza ES Tech/Lea","Garvanza ES Tech/Lea",20]
["1409601","Gates El","GATES EL","Gates El","","","Gates El",8]
["1409602","Gates El DL Two-Way Im Spanish","Gates St El DTS","","Gates St El Dts","Gates St El DTS","Gates St El DTS",15]
["1409603","Gates St El DL Two-Way Im Mandarin","Gates St El  DTM","","Gates St El  Dtm","Gates St El  DTM","Gates St El  DTM",16]
["1411001","Gault El","GAULT EL","Gault El","","","Gault El",8]
["1411701","Germain Acad AA","GERMAIN ACAD AA","Germain Acad AA","","","Germain Acad AA",15]
["1412301","Glassell Park ES STEAM Magnet","Glassell Pk STEAM Mg","","Glassell Pk Steam Mg","Glassell Pk STEAM Mg","Glassell Pk STEAM Mg",20]
["1413001","Gledhill El","GLEDHILL EL","Gledhill El","","","Gledhill El",11]
["1413002","Gledhill Street Elem Science/Tech/Math Magnet","Gledhill El STM Mag","","Gledhill El Stm Mag","Gledhill El STEM Mag","Gledhill El STEM Mag",20]
["1413701","Glen Alta El","GLEN ALTA EL","Glen Alta El","","","Glen Alta El",12]
["1416401","Glenfeliz Blvd El","GLENFELIZ BLVD EL","Glenfeliz Blvd El","","","Glenfeliz Blvd El",17]
["1419201","Glenwood El","GLENWOOD EL","Glenwood El","","","Glenwood El",11]
["1421901","Graham El","GRAHAM EL","Graham El","","","Graham El",9]
["1421902","Graham El DL Two-Way Im Spanish","Graham El DTS","","Graham El Dts","Graham El DTS","Graham El DTS",13]
["1423301","Granada Elementary","Granada El","Granada Elementary","","","Granada Elementary",18]
["1424701","Grand View El","GRAND VIEW EL","Grand View El","","","Grand View El",13]
["1424702","Grand View El DL Two-Way Im Spanish","Grand View El DTS","","Grand View El Dts","Grand View El DTS","Grand View El DTS",17]
["1426001","Grant El","GRANT EL","Grant El","","","Grant El",8]
["1426002","Grant El DL Two-Way Im Armenian","Grant St El DTR","","Grant St El Dtr","Grant St El DTR","Grant St El DTR",15]
["1427401","Grape El","GRAPE EL","Grape El","","","Grape El",8]
["1429501","Gridley El","GRIDLEY EL","Gridley El","","","Gridley El",10]
["1429502","Gridley El DL Two-Way Im Spanish","Gridley St El DTS","","Gridley St El Dts","Gridley St El DTS","Gridley St El DTS",17]
["1430101","Griffin El","GRIFFIN EL","Griffin El","","","Griffin El",10]
["1431501","Gulf El","GULF EL","Gulf El","","","Gulf El",7]
["1431502","Gulf ES STEAM Magnet","Gulf ES STEAM","Gulf ES STEAM Magnet","","","Gulf ES STEAM Magnet",20]
["1432201","Arroyo Seco Musm Sci","ARROYO SECO MUSM SCI","Arroyo Seco Musm Sci","","","Arroyo Seco Musm Sci",20]
["1432901","Haddon El","HADDON EL","Haddon El","","","Haddon El",9]
["1432902","Haddon Av ES STEAM Magnet","Haddon STEAM Mag","","Haddon Steam Mag","Haddon STEAM Mag","Haddon STEAM Mag",16]
["1434201","Halldale El","HALLDALE EL","Halldale El","","","Halldale El",11]
["1434901","Hamlin CA","HAMLIN CA",{"$f":"IF(LEN(B323)<=20,B323,\"\")","v":"Hamlin CA"},{"$f":"IF(D323=\"\",PROPER(C323),\"\")","v":""},"",{"$f":"IF(F323=\"\",D323,F323)","v":"Hamlin CA"},{"$f":"LEN(G323)","v":9}]
["1435601","Anton El","ANTON EL","Anton El","","","Anton El",8]
["1435602","Anton El DL Two-Way Im Spanish","Anton El DTS","","Anton El Dts","Anton El DTS","Anton El DTS",12]
["1439701","Hancock Park El","HANCOCK PARK EL","Hancock Park El","","","Hancock Park El",15]
["1442501","Harbor City El","HARBOR CITY EL","Harbor City El","","","Harbor City El",14]
["1443101","Harding El","HARDING EL","Harding El","","","Harding El",10]
["1443801","Harrison El","HARRISON EL","Harrison El","","","Harrison El",11]
["1443802","Harrison El DL Two-Way Im Spanish","Harrison El DTS","","Harrison El Dts","Harrison El DTS","Harrison El DTS",15]
["1444501","Hart St El","HART ST EL","Hart St El","","","Hart St El",10]
["1445201","Haskell STEAM Magnet","Haskell STEAM Magnet","Haskell STEAM Magnet","","","Haskell STEAM Magnet",20]
["1446601","Hawaiian El","HAWAIIAN EL","Hawaiian El","","","Hawaiian El",11]
["1446602","Hawaiian ES STEAM Magnet","Hawaiian ES","","Hawaiian Es","Hawaiian ES","Hawaiian ES",11]
["1447301","Haynes CES","HAYNES CES","Haynes CES","","","Haynes CES",10]
["1449301","Hazeltine El","HAZELTINE EL","Hazeltine El","","","Hazeltine El",12]
["1449302","Hazeltine El DL Two-Way Im Spanish","Hazeltine El DTS","","Hazeltine El Dts","Hazeltine El DTS","Hazeltine El DTS",16]
["1450701","Heliotrope El","HELIOTROPE EL","Heliotrope El","","","Heliotrope El",13]
["1451501","Herrick El","HERRICK EL","Herrick El","","","Herrick El",10]
["1452101","Hesby Oaks Lead Chtr","HESBY OAKS LEAD CHTR","Hesby Oaks Lead Chtr","","","Hesby Oaks Lead Chtr",20]
["1452801","Hillcrest Dr El","HILLCREST DR EL","Hillcrest Dr El","","","Hillcrest Dr El",15]
["1452802","Hillcrest Drive Elementary Music Magnet","Hillcrest El Mus Mag","","Hillcrest El Mus Mag","Hillcrest El Mus Mag","Hillcrest El Mus Mag",20]
["1452803","Hillcrest Dr El DL Two-Way Im Spanish","Hillcrest El DTS","","Hillcrest El Dts","Hillcrest El DTS","Hillcrest El DTS",16]
["1453401","Hillside El","HILLSIDE EL","Hillside El","","","Hillside El",11]
["1454801","Hobart Blvd El","HOBART BLVD EL","Hobart Blvd El","","","Hobart Blvd El",14]
["1454802","Hobart Blvd El DL Two-Way Im Spanish","Hobart Blvd DTS","","Hobart Blvd Dts","Hobart Blvd DTS","Hobart Blvd DTS",15]
["1456201","Holmes El","HOLMES EL","Holmes El","","","Holmes El",9]
["1457501","Hooper El","HOOPER EL","Hooper El","","","Hooper El",9]
["1457502","Hooper El DL Two-Way Im Spanish","Hooper El DTS","","Hooper El Dts","Hooper El DTS","Hooper El DTS",13]
["1457601","Hooper PC","HOOPER PC","Hooper PC","","","Hooper PC",9]
["1457602","Hooper PC El DL Two-Way Im Spanish","Hooper PC DTS","","Hooper Pc Dts","Hooper PC DTS","Hooper PC DTS",13]
["1458901","Hoover El","HOOVER EL","Hoover El","","","Hoover El",9]
["1460301","Hubbard El","HUBBARD EL","Hubbard El","","","Hubbard El",10]
["1460302","Hubbard St ES STEAM Magnet","Hubbard STEAM Mag","","Hubbard Steam Mag","Hubbard STEAM Mag","Hubbard STEAM Mag",17]
["1461601","Humphreys El","HUMPHREYS EL","Humphreys El","","","Humphreys El",12]
["1461602","Humphreys Avenue Elem Science/Tech/Math","Humphreys El STM Mag","","Humphreys El Stm Mag","Humphreys El STEM Mag","Humphreys El STEM Mag",21]
["1461603","Humphreys El DL Two-Way Im Spanish","Humphreys El DTS","","Humphreys El Dts","Humphreys El DTS","Humphreys El DTS",16]
["1463001","Huntington Dr El","HUNTINGTON DR EL","Huntington Dr El","","","Huntington Dr El",16]
["1463002","Huntington Dr El DL Two-Way Im Spanish","Huntington Dr El DTS","","Huntington Dr El Dts","Huntington Dr El DTS","Huntington Dr El DTS",20]
["1464001","Walnut Park El","WALNUT PARK EL","Walnut Park El","","","Walnut Park El",14]
["1464002","Walnut Park El DL Two-Way Im Spanish","Walnut Prk El DTS","","Walnut Prk El Dts","Walnut Prk El DTS","Walnut Prk El DTS",17]
["1464101","San Antonio El","SAN ANTONIO EL","San Antonio El","","","San Antonio El",14]
["1464102","San Antonio ES STEM Magnet","San Antonio STEM Mag","","San Antonio Stem Mag","San Antonio STEM Mag","San Antonio STEM Mag",20]
["1464201","Pacific Blvd School","PACIFIC BLVD SCHOOL","Pacific Blvd School","","","Pacific Blvd School",19]
["1464202","Pacific Blvd El DL Two-Way Im Spanish","Pacific Blvd El DTS","","Pacific Blvd El Dts","Pacific Blvd El DTS","Pacific Blvd El DTS",19]
["1465801","YES Academy","YES ACADEMY","YES Academy","","","YES Academy",11]
["1467101","Ivanhoe El","IVANHOE EL","Ivanhoe El","","","Ivanhoe El",10]
["1468001","Lizarraga El","LIZARRAGA EL","Lizarraga El","","","Lizarraga El",12]
["1468002","Lizarraga El DL Two-Way Im Spanish",{"$error":"#N/A"},"",{"$error":"#N/A"},"Lizarraga El DTS","Lizarraga El DTS",16]
["1468101","Harmony El","HARMONY EL","Harmony El","","","Harmony El",10]
["1468102","Harmony El DL Two-Way Im Spanish","Harmony El DTS","","Harmony El Dts","Harmony El DTS","Harmony El DTS",14]
["1468501","Aurora El","AURORA EL","Aurora El","","","Aurora El",9]
["1468502","Aurora El DL Two-Way Im Spanish","Aurora El DTS","","Aurora El Dts","Aurora El DTS","Aurora El DTS",13]
["1469201","Justice St Acad Chtr","JUSTICE ST ACAD CHTR","Justice St Acad Chtr","","","Justice St Acad Chtr",20]
["1469601","Kennedy El","KENNEDY EL","Kennedy El","","","Kennedy El",10]
["1469901","Kenter Canyon Elementary Charter","Kenter Canyon","","Kenter Canyon","Kenter Canyon","Kenter Canyon",13]
["1471201","Kentwood El","KENTWOOD EL","Kentwood El","","","Kentwood El",11]
["1472601","Kester El","KESTER EL","Kester El","","","Kester El",9]
["1472602","Kester Avenue Elementary Gifted Magnet","Kester El Gifted Mag","","Kester El Gifted Mag","Kester El Gifted Mag","Kester El Gifted Mag",20]
["1476001","Kittridge El","KITTRIDGE EL","Kittridge El","","","Kittridge El",12]
["1476002","Kittridge El DL Two-Way Im Spanish","Kittridge El DTS","","Kittridge El Dts","Kittridge El DTS","Kittridge El DTS",16]
["1476003","Kittridge El DL Two-Way Im Armenian","Kittridge El DTR","","Kittridge El Dtr","Kittridge El DTR","Kittridge El DTR",16]
["1476201","Knollwood Prep Acad","KNOLLWOOD PREP ACAD","Knollwood Prep Acad","","","Knollwood Prep Acad",19]
["1476401","Lanai El","LANAI EL","Lanai El","","","Lanai El",8]
["1476701","Lane El","LANE EL","Lane El","","","Lane El",7]
["1477501","Langdon El","LANGDON EL","Langdon El","","","Langdon El",10]
["1477601","Primary Academy","PRIMARY ACADEMY",{"$f":"IF(LEN(B387)<=20,B387,\"\")","v":"Primary Academy"},{"$f":"IF(D387=\"\",PROPER(C387),\"\")","v":""},"",{"$f":"IF(F387=\"\",D387,F387)","v":"Primary Academy"},{"$f":"LEN(G387)","v":15}]
["1478101","Lankershim El","LANKERSHIM EL","Lankershim El","","","Lankershim El",13]
["1478601","La Salle El","LA SALLE EL","La Salle El","","","La Salle El",11]
["1478602","La Salle El DL Two-Way Im Spanish","La SalleÂ El DTS","","La Salleâ El Dts","La Salle El DTS","La Salle El DTS",15]
["1479001","Lassen El","LASSEN EL","Lassen El","","","Lassen El",9]
["1479002","Lassen El DL Two-Way Im Spanish","Lassen El DTS","","Lassen El Dts","Lassen El DTS","Lassen El DTS",13]
["1479501","Latona El","LATONA EL","Latona El","","","Latona El",9]
["1479502","Latona El DL Two-Way Im Spanish","Latona El DTS","","Latona El Dts","Latona El DTS","Latona El DTS",13]
["1480801","Laurel Cinematic Arts Creative Tech Mag","Laurel CACT Mag","","Laurel Cact Mag","Laurel CACT Mag","Laurel CACT Mag",15]
["1482901","Leapwood El","LEAPWOOD EL","Leapwood El","","","Leapwood El",11]
["1483601","Leland El","LELAND EL","Leland El","","","Leland El",9]
["1483602","Leland St ES Global Awareness Magnet","Leland GA Mag","","Leland Ga Mag","Leland GA Mag","Leland GA Mag",13]
["1484901","Lemay El","LEMAY EL","Lemay El","","","Lemay El",8]
["1486301","Liberty El","LIBERTY EL","Liberty El","","","Liberty El",10]
["1487001","Liggett El","LIGGETT EL","Liggett El","","","Liggett El",10]
["1487701","Lillian El","LILLIAN EL","Lillian El","","","Lillian El",10]
["1488101","Limerick El","LIMERICK EL","Limerick El","","","Limerick El",11]
["1488102","Limerick Ave El DL Two-Way Im Spanish","Limerick Ave El DTS","","Limerick Ave El Dts","Limerick Ave El DTS","Limerick Ave El DTS",19]
["1488701","Lockhurst Dr Chtr El","LOCKHURST DR CHTR EL","Lockhurst Dr Chtr El","","","Lockhurst Dr Chtr El",20]
["1489001","Lockwood El","LOCKWOOD EL","Lockwood El","","","Lockwood El",11]
["1490401","Logan Academy of Global Ecology","Logan Acad Globl Eco","","Logan Acad Globl Eco","Logan Acad Globl Eco","Logan Acad Globl Eco",20]
["1490402","Logan El DL Two-Way Im Spanish","Logan St El DTS","","Logan St El Dts","Logan St El DTS","Logan St El DTS",15]
["1491801","Loma Vista El","LOMA VISTA EL","Loma Vista El","","","Loma Vista El",13]
["1491802","Loma Vista El DL Two-Way Im Spanish","Loma Vista El DTS","","Loma Vista El Dts","Loma Vista El DTS","Loma Vista El DTS",17]
["1493201","Lomita Math/Sci Mag","LOMITA MATH/SCI MAG","Lomita Math/Sci Mag","","","Lomita Math/Sci Mag",19]
["1494501","Lorena El","LORENA EL","Lorena El","","","Lorena El",9]
["1494502","Lorena St. El DL Two-Way Im Spanish","Lorena St El DTS","","Lorena St El Dts","Lorena St El DTS","Lorena St El DTS",16]
["1495901","Loreto El","LORETO EL","Loreto El","","","Loreto El",9]
["1495902","Loreto El DL Two-Way Im Spanish","Loreto St El DTS","","Loreto St El Dts","Loreto St El DTS","Loreto St El DTS",16]
["1497301","Lorne El","LORNE EL","Lorne El","","","Lorne El",8]
["1497302","Lorne Street Elem Science/Tech/Math Magnet","Lorne St El STM Mag","","Lorne St El Stm Mag","Lorne St El STEM Mag","Lorne St El STEM Mag",20]
["1498001","Pio Pico MS","PIO PICO MS","Pio Pico MS","","","Pio Pico MS",11]
["1498201","Los Angeles El","LOS ANGELES EL","Los Angeles El","","","Los Angeles El",14]
["1498301","Mariposa-Nabi PC","MARIPOSA-NABI PC","Mariposa-Nabi PC","","","Mariposa-Nabi PC",16]
["1498601","Los Feliz STEMM Magnet","LOS FELIZ STEMM MAG","","Los Feliz Stemm Mag","Los Feliz STEMM Mag","Los Feliz STEMM Mag",19]
["1501401","Loyola Village ES Fine/Performing Arts Magnet","Loyola Vill ES MAG","","Loyola Vill Es Mag","Loyola Vill ES Mag","Loyola Vill ES Mag",18]
["1501601","Coughlin El","COUGHLIN EL","Coughlin El","","","Coughlin El",11]
["1505501","Magnolia El","MAGNOLIA EL","Magnolia El","","","Magnolia El",11]
["1505502","Magnolia El DL One & Two-Way Im Spanish","Magnolia El DTS&DOS","","Magnolia El Dts&Dos","Magnolia El DTS & DOS","Magnolia El DTS & DOS",21]
["1506801","Main St El","MAIN ST EL","Main St El","","","Main St El",10]
["1506802","Main St El DL Two-Way Im Spanish","Main St El DTS","","Main St El Dts","Main St El DTS","Main St El DTS",14]
["1508201","Malabar El","MALABAR EL","Malabar El","","","Malabar El",10]
["1508202","Malabar St El DL Two-Way Im Spanish","Malabar St El DTS","","Malabar St El Dts","Malabar St El DTS","Malabar St El DTS",17]
["1509601","Manchester El","MANCHESTER EL","Manchester El","","","Manchester El",13]
["1509602","Manchester Av ES Comm/Broadcasting Mag","Manchester C/B Mag","","Manchester C/B Mag","Manchester C/B Mag","Manchester C/B Mag",18]
["1511001","Manhattan Place El","MANHATTAN PLACE EL","Manhattan Place El","","","Manhattan Place El",18]
["1511101","Alexander Sci Ctr Sc","ALEXANDER SCI CTR SC","Alexander Sci Ctr Sc","","","Alexander Sci Ctr Sc",20]
["1511102","Alexander Sci Ctr DL Two-Way Im Spanish","Alexander SCS DTS","","Alexander Scs Dts","Alexander SCS DTS","Alexander SCS DTS",17]
["1511201","Jones PC","JONES PC","Jones PC","","","Jones PC",8]
["1511301","Mack El","Mack EL","Mack El","","","Mack El",7]
["1511302","Mack El DL Two-Way Im Spanish","Mack El DTS","","Mack El Dts","Mack El DTS","Mack El DTS",11]
["1513701","Marianna El","MARIANNA EL","Marianna El","","","Marianna El",11]
["1513702","Marianna Ave El DL Two-Way Im Spanish","Marianna El DTS","","Marianna El Dts","Marianna El DTS","Marianna El DTS",15]
["1515301","Orchard Academies 2B","ORCHARD ACADEMIES 2B","Orchard Academies 2B","","","Orchard Academies 2B",20]
["1515401","Orchard Academies 2C","ORCHARD ACADEMIES 2C","Orchard Academies 2C","","","Orchard Academies 2C",20]
["1516401","Marquez Charter","MARQUEZ CHARTER","Marquez Charter","","","Marquez Charter",15]
["1517001","Lexington Ave PC","LEXINGTON AVE PC","Lexington Ave PC","","","Lexington Ave PC",16]
["1517301","Dr. Julian Nava Learning Academy","Dr. Julian Nava Acad","","Dr. Julian Nava Acad","Dr. Julian Nava Acad","Dr. Julian Nava Acad",20]
["1517801","Marvin El","MARVIN EL","Marvin El","","","Marvin El",9]
["1517802","Marvin Dual Lang Mag","MARVIN DUAL LANG MAG","Marvin Dual Lang Mag","","","Marvin Dual Lang Mag",20]
["1519201","Mar Vista El","MAR VISTA EL","Mar Vista El","","","Mar Vista El",12]
["1519301","Walnut Park MS STEM","WALNUT PARK MS STEM","Walnut Park MS STEM","","","Walnut Park MS STEM",19]
["1519801","Mayall El","MAYALL EL","Mayall El","","","Mayall El",9]
["1520501","Mayberry El","MAYBERRY EL","Mayberry El","","","Mayberry El",11]
["1520502","Mayberry El DL Two-Way Im Spanish","Mayberry St El DTS",{"$f":"IF(LEN(B451)<=20,B451,\"\")","v":""},{"$f":"IF(D451=\"\",PROPER(C451),\"\")","v":"Mayberry St El Dts"},"Mayberry St El DTS",{"$f":"IF(F451=\"\",D451,F451)","v":"Mayberry St El DTS"},{"$f":"LEN(G451)","v":18}]
["1521901","Melrose M/S/T Mag","MELROSE M/S/T MAG","Melrose M/S/T Mag","","","Melrose M/S/T Mag",17]
["1523301","Melvin El","MELVIN EL","Melvin El","","","Melvin El",9]
["1523302","Melvin Av ES Humanities/Leadership Mag","Melvin Hum/Lead Mag","","Melvin Hum/Lead Mag","Melvin Hum/Lead Mag","Melvin Hum/Lead Mag",19]
["1524001","Katherine Johnson STEM Academy","Johnson STEM Academy","","Johnson Stem Academy","Johnson STEM Academy","Johnson STEM Academy",20]
["1524701","Menlo El","MENLO EL","Menlo El","","","Menlo El",8]
["1524702","Menlo Ave. El Two-Way Im Spanish",{"$error":"#N/A"},"",{"$error":"#N/A"},"Menlo Ave El DTS","Menlo Ave El DTS",16]
["1528801","Micheltorena El","MICHELTORENA EL","Micheltorena El","","","Micheltorena El",15]
["1528802","Micheltorena DL Two-Way Im Spanish","Micheltorena El DTS","","Micheltorena El Dts","Micheltorena El DTS","Micheltorena El DTS",19]
["1530101","Middleton El","MIDDLETON EL","Middleton El","","","Middleton El",12]
["1530201","Middleton PC","MIDDLETON PC","Middleton PC","","","Middleton PC",12]
["1531501","Miles El","MILES EL","Miles El","","","Miles El",8]
["1531502","Miles Avenue Elem Science/Tech/Math Magnet","Miles Av El STM Mag","","Miles Av El Stm Mag","Miles Av El STEM Mag","Miles Av El STEM Mag",20]
["1531503","Miles El DL Two-Way Im Spanish","Miles Ave El DTS","","Miles Ave El Dts","Miles Ave El DTS","Miles Ave El DTS",16]
["1532101","Miller El","MILLER EL","Miller El","","","Miller El",9]
["1532901","Miramonte El","MIRAMONTE EL","Miramonte El","","","Miramonte El",12]
["1532902","Miramonte El DL Two-Way Im Spanish","Miramonte El DTS","","Miramonte El Dts","Miramonte El DTS","Miramonte El DTS",16]
["1534201","Monlux El","MONLUX EL","Monlux El","","","Monlux El",9]
["1534202","John B Monlux Elem Science/Tech/Math Mag","Monlux El STM Mag","","Monlux El Stm Mag","Monlux El STEM Mag","Monlux El STEM Mag",18]
["1538401","Monte Vista El","MONTE VISTA EL","Monte Vista El","","","Monte Vista El",14]
["1538402","Monte Vista St ES Film/Comm Magnet","Monte Vista FC Mag","","Monte Vista Fc Mag","Monte Vista FC Mag","Monte Vista FC Mag",18]
["1538501","Riordan PC","RIORDAN PC","Riordan PC","","","Riordan PC",10]
["1538502","Riordan PC DL World Lang Im French","Riordan PC DWF","","Riordan Pc Dwf","Riordan PC DWF","Riordan PC DWF",14]
["1539701","Morningside El","MORNINGSIDE EL","Morningside El","","","Morningside El",14]
["1540401","Mountain View El","MOUNTAIN VIEW EL","Mountain View El","","","Mountain View El",16]
["1540402","Mountain View El DL Two-Way Im Armenian","Mountain View El DTR","","Mountain View El Dtr","Mountain View El DTR","Mountain View El DTR",20]
["1541101","Mt Washington El","MT WASHINGTON EL","Mt Washington El","","","Mt Washington El",16]
["1542501","Multnomah El","MULTNOMAH EL","Multnomah El","","","Multnomah El",12]
["1542502","Multnomah Street Elementary Gifted Magnet","Multnomah Gifted Mag","","Multnomah Gifted Mag","Multnomah Gifted Mag","Multnomah Gifted Mag",20]
["1542503","Multnomah Env Sc Mag","MULTNOMAH ENV SC MAG","Multnomah Env Sc Mag","","","Multnomah Env Sc Mag",20]
["1543801","Murchison El","MURCHISON EL","Murchison El","","","Murchison El",12]
["1544601","Napa El","NAPA EL","Napa El","","","Napa El",7]
["1544602","Napa St El DL Two-Way Im Spanish","Napa St El DTS","","Napa St El Dts","Napa St El DTS","Napa St El DTS",14]
["1545201","Nestle Ave Charter","NESTLE AVE CHARTER","Nestle Ave Charter","","","Nestle Ave Charter",18]
["1545901","Nevada El","NEVADA EL","Nevada El","","","Nevada El",9]
["1545902","Nevada El DL Two-Way Im Spanish","Nevada El DTS","","Nevada El Dts","Nevada El DTS","Nevada El DTS",13]
["1546601","Nevin El","NEVIN EL","Nevin El","","","Nevin El",8]
["1547901","Newcastle El","NEWCASTLE EL","Newcastle El","","","Newcastle El",12]
["1550501","9th St El","9TH ST EL","9th St El","","","9th St El",9]
["1552101","95th St El","95TH ST EL","95th St El","","","95th St El",10]
["1553401","99th St El","99TH ST EL","99th St El","","","99th St El",10]
["1554801","92nd St El","92ND ST EL","92nd St El","","","92nd St El",10]
["1556201","Barrett El","BARRETT EL","Barrett El","","","Barrett El",10]
["1556202","Barrett El DL Two-Way Im Spanish","Barrett El DTS","","Barrett El Dts","Barrett El DTS","Barrett El DTS",14]
["1557501","96th St El","96TH ST EL","96th St El","","","96th St El",10]
["1557502","96th St El DL Two-Way Im Spanish","96th St El DTS","","96Th St El Dts",{"$f":"C496","v":"96th St El DTS"},"96th St El DTS",14]
["1558201","93rd St El","93RD ST EL","93rd St El","","","93rd St El",10]
["1558202","93rd St El DL Two-Way Im Spanish","93rd St El DTS","","93Rd St El Dts",{"$f":"C498","v":"93rd St El DTS"},"93rd St El DTS",14]
["1558203","93rd St ES STEAM Magnet","93rd St STEAM","","93Rd St Steam",{"$f":"C499","v":"93rd St STEAM"},"93rd St STEAM",13]
["1560301","Noble El","NOBLE EL","Noble El","","","Noble El",8]
["1560401","Panorama City El","PANORAMA CITY EL","Panorama City El","","","Panorama City El",16]
["1563001","Normandie El","NORMANDIE EL","Normandie El","","","Normandie El",12]
["1563002","Normandie El DL Two-Way Im Spanish","Normandie Ave El DTS","","Normandie Ave El Dts","Normandie Ave El DTS","Normandie Ave El DTS",20]
["1564401","Normont El","NORMONT EL","Normont El","","","Normont El",10]
["1564402","Normont El DL Two-Way Im Spanish","Normont El  DTS","","Normont El  Dts","Normont El  DTS","Normont El  DTS",15]
["1569901","Norwood El","NORWOOD EL","Norwood El","","","Norwood El",10]
["1572601","O Melveny El","O MELVENY EL","O Melveny El","","","O Melveny El",12]
["1574001","118th St El","118TH ST EL","118th St El","","","118th St El",11]
["1574002","118th St El DL Two-Way Im Spanish","118th St El DTS","","118Th St El Dts","118th St El DTS","118th St El DTS",15]
["1575301","186th St El","186TH ST EL","186th St El","","","186th St El",11]
["1578101","Flournoy El","FLOURNOY EL","Flournoy El","","","Flournoy El",11]
["1578102","Flournoy ES STEAM Magnet","Flournoy STEAM Mag","","Flournoy Steam Mag","Flournoy STEAM Mag","Flournoy STEAM Mag",18]
["1578103","Flournoy El DL Two-Way Im Spanish",{"$error":"#N/A"},"",{"$error":"#N/A"},"Flournoy El DTS","Flournoy El DTS",15]
["1580801","156th St El","156TH ST EL","156th St El","","","156th St El",11]
["1582201","153rd St El","153RD ST EL",{"$f":"IF(LEN(B515)<=20,B515,\"\")","v":"153rd St El"},{"$f":"IF(D515=\"\",PROPER(C515),\"\")","v":""},"",{"$f":"IF(F515=\"\",D515,F515)","v":"153rd St El"},{"$f":"LEN(G515)","v":11}]
["1582202","153rd St El DL Two-Way Im Spanish","153rd ST EL DTS","","153Rd St El Dts","153rd St EL DTS","153rd St EL DTS",15]
["1583601","109th St El","109TH ST EL","109th St El","","","109th St El",11]
["1584901","Griffith Joyner El","GRIFFITH JOYNER EL","Griffith Joyner El","","","Griffith Joyner El",18]
["1584902","Griffith Joyner ES Visual/Perf Arts Mag","Griffith Jnr VAPA Mg","","Griffith Jnr Vapa Mg","Griffith Jyner VAPA Mg","Griffith Jyner VAPA Mg",22]
["1585701","107th St El","107TH ST EL","107th St El","","","107th St El",11]
["1585702","107th St ES STEAM Magnet","107th St STEAM Mag","","107Th St Steam Mag",{"$f":"C521","v":"107th St STEAM Mag"},"107th St STEAM Mag",18]
["1586301","116th St El","116TH ST EL","116th St El","","","116th St El",11]
["1586302","116th St El DL Two-Way Im Spanish","116th St El DTS","","116Th St El Dts","116th St El DTS","116th St El DTS",15]
["1587701","135th St El","135TH ST EL","135th St El","","","135th St El",11]
["1587702","135th St El DL Two-Way Im Spanish","135th St El DTS","","135Th St El Dts","135th St El DTS","135th St El DTS",15]
["1588401","112th St El","112TH ST EL","112th St El","","","112th St El",11]
["1588701","122nd St El","122ND ST EL","122nd St El","","","122nd St El",11]
["1588702","122nd St El DL Two-Way Im Spanish","122nd St El DTS","","122Nd St El Dts","122nd St El DTS","122nd St El DTS",15]
["1588901","Open Charter Magnet","Open Charter","Open Charter Magnet","","","Open Charter Magnet",19]
["1589401","Osceola El","OSCEOLA EL","Osceola El","","","Osceola El",10]
["1590401","Overland El","OVERLAND EL","Overland El","","","Overland El",11]
["1591801","Oxnard El","OXNARD EL","Oxnard El","","","Oxnard El",9]
["1595901","Palisades Charter El","PALISADES CHARTER EL","Palisades Charter El","","","Palisades Charter El",20]
["1598601","Palms El","PALMS EL","Palms El","","","Palms El",8]
["1600501","Park Ave El","PARK AVE EL","Park Ave El","","","Park Ave El",11]
["1600502","Park Ave El DL Two-Way Im Spanish","Park Ave El DTS","","Park Ave El Dts","Park Ave El DTS","Park Ave El DTS",15]
["1601301","Park Western El","PARK WESTERN EL","Park Western El","","","Park Western El",15]
["1601302","Park Western Pl ES Gifted/STEAM Magnet","Park Wstrn GSTEAM Mg","","Park Wstrn Gsteam Mg","Park Wstrn GSTEAM Mg","Park Wstrn GSTEAM Mg",20]
["1602101","Parmelee El","PARMELEE EL","Parmelee El","","","Parmelee El",11]
["1602102","Parmelee Ave El DL Two-Way Im Spanish","Parmelee Ave El DTS","","Parmelee Ave El Dts","Parmelee Ave El DTS","Parmelee Ave El DTS",19]
["1602701","Parthenia Academy of Arts and Technology","Parthenia Ac Art Tec","","Parthenia Ac Art Tec","Parthenia Ac Art Tech","Parthenia Ac Art Tech",21]
["1605201","Paseo Del Rey Nat Sc","PASEO DEL REY NAT SC","Paseo Del Rey Nat Sc","","","Paseo Del Rey Nat Sc",20]
["1606801","Pinewood El","PINEWOOD EL","Pinewood El","","","Pinewood El",11]
["1608701","Girls Acad Leader, Dr. King Sch for STEM","GALA Dr King Sc STEM","","Gala Dr King Sc Stem","GALA Dr King Sc STEM","GALA Dr King Sc STEM",20]
["1609601","Plainview Academc CA","PLAINVIEW ACADEMC CA","Plainview Academc CA","","","Plainview Academc CA",20]
["1611001","Playa Del Rey El","PLAYA DEL REY EL","Playa Del Rey El","","","Playa Del Rey El",16]
["1612301","Plummer El","PLUMMER EL","Plummer El","","","Plummer El",10]
["1613701","Pt Fermin Mar Sci Mg","PT FERMIN MAR SCI MG","Pt Fermin Mar Sci Mg","","","Pt Fermin Mar Sci Mg",20]
["1614001","Pomelo Community CS","POMELO COMMUNITY CS","Pomelo Community CS","","","Pomelo Community CS",19]
["1614002","Pomelo CCES Arts/Sciences Magnet","Pomelo Arts/Sci Mag","","Pomelo Arts/Sci Mag","Pomelo Arts/Sci Mag","Pomelo Arts/Sci Mag",19]
["1614801","President El","PRESIDENT EL","President El","","","President El",12]
["1614802","President El DL Two-Way Im Spanish","President Ave El DTS","","President Ave El Dts","President Ave El DTS","President Ave El DTS",20]
["1615801","Purche El","PURCHE EL","Purche El","","","Purche El",9]
["1615802","Purche ES STEAM Magnet","Purche STEAM Mag","","Purche Steam Mag","Purche STEAM Mag","Purche STEAM Mag",16]
["1616401","Queen Anne El","QUEEN ANNE EL","Queen Anne El","","","Queen Anne El",13]
["1616402","Queen Anne El DL Two-Way Im Spanish","Queen Anne Pl El DTS","","Queen Anne Pl El Dts","Queen Anne Pl El DTS","Queen Anne Pl El DTS",20]
["1617801","Ramona El","RAMONA EL","Ramona El","","","Ramona El",9]
["1617901","Kingsley El","KINGSLEY EL","Kingsley El","","","Kingsley El",11]
["1617902","Kingsley El DL Two-Way Im Spanish","Kingsley El DTS","","Kingsley El Dts","Kingsley El DTS","Kingsley El DTS",15]
["1619201","Ranchito El","RANCHITO EL","Ranchito El","","","Ranchito El",11]
["1619202","Ranchito Ave El DL Two-Way Im Spanish","Ranchito Ave DTS","","Ranchito Ave Dts","Ranchito Ave DTS","Ranchito Ave DTS",16]
["1621901","Raymond Ave El","RAYMOND AVE EL","Raymond Ave El","","","Raymond Ave El",14]
["1623301","Reseda El","RESEDA EL","Reseda El","","","Reseda El",9]
["1626001","Richland El","RICHLAND EL","Richland El","","","Richland El",11]
["1626002","Richland El DL Two-Way Im French","Richland Av El DTF","","Richland Av El Dtf","Richland Av El DTF","Richland Av El DTF",18]
["1627401","Hamasaki El","HAMASAKI EL","Hamasaki El","","","Hamasaki El",11]
["1627402","Hamasaki ES Medical/ Science Magnet","Hamasaki Med/Sci Mag","","Hamasaki Med/Sci Mag","Hamasaki Med/Sci Mag","Hamasaki Med/Sci Mag",20]
["1628801","Rio Vista El","RIO VISTA EL","Rio Vista El","","","Rio Vista El",12]
["1630101","Ritter El","RITTER EL","Ritter El","","","Ritter El",9]
["1631501","Riverside Drive Charter","Riverside Drive","","Riverside Drive","Riverside Drive","Riverside Drive",15]
["1632901","Rockdale VAPA Mag","ROCKDALE VAPA MAG","Rockdale VAPA Mag","","","Rockdale VAPA Mag",17]
["1634201","Coeur D Alene El","COEUR D ALENE EL","Coeur D Alene El","","","Coeur D Alene El",16]
["1635601","Roscoe El","ROSCOE EL","Roscoe El","","","Roscoe El",9]
["1635602","Roscoe El DL Two-Way Ime Spanish","Roscoe El DTS","","Roscoe El Dts","Roscoe El DTS","Roscoe El DTS",13]
["1636301","Roscomare El","ROSCOMARE EL","Roscomare El","","","Roscomare El",12]
["1637001","Rosemont El","ROSEMONT EL","Rosemont El","","","Rosemont El",11]
["1638401","Rosewood Av ES Urban/Plan Des Magnet","Rosewood UP/UD Mag","","Rosewood Up/Ud Mag","Rosewood UP/UD Mag","Rosewood UP/UD Mag",18]
["1642501","Rowan El","ROWAN EL","Rowan El","","","Rowan El",8]
["1642502","Rowan Ave El DL Two-Way Im Spanish","Rowan Ave El DTSRowa",{"$f":"IF(LEN(B579)<=20,B579,\"\")","v":""},{"$f":"IF(D579=\"\",PROPER(C579),\"\")","v":"Rowan Ave El Dtsrowa"},"Rowan Ave El DTS",{"$f":"IF(F579=\"\",D579,F579)","v":"Rowan Ave El DTS"},{"$f":"LEN(G579)","v":16}]
["1642601","Amanecer PC","AMANECER PC","Amanecer PC","","","Amanecer PC",11]
["1643801","Russell El","RUSSELL EL","Russell El","","","Russell El",10]
["1643802","Russell Elementary Gifted Magnet","Russell El Gifted Mg","","Russell El Gifted Mg","Russell El Gifted Mg","Russell El Gifted Mg",20]
["1645201","San Fernando El","SAN FERNANDO EL","San Fernando El","","","San Fernando El",15]
["1645202","San Fernando El DL Two-Way Im Spanish","San Fernando El DTS","","San Fernando El Dts","San Fernando El DTS","San Fernando El DTS",19]
["1646601","San Gabriel El","SAN GABRIEL EL","San Gabriel El","","","San Gabriel El",14]
["1646602","San Gabriel El DL Two-Way Im Spanish","San Gabriel DTS","","San Gabriel Dts","San Gabriel DTS","San Gabriel DTS",15]
["1647901","San Jose El","SAN JOSE EL","San Jose El","","","San Jose El",11]
["1647902","San Jose Hg Mag","SAN JOSE HG MAG","San Jose Hg Mag","","","San Jose Hg Mag",15]
["1649301","San Pascual Avenue Elementary STEAM Magnet","San Pascual STEAM Mg","","San Pascual Steam Mg","San Pascual STEAM Mg","San Pascual STEAM Mg",20]
["1650101","San Fernando MS IAM","SAN FERNANDO MS IAM","San Fernando MS IAM","","","San Fernando MS IAM",19]
["1650701","San Pedro El","SAN PEDRO EL","San Pedro El","","","San Pedro El",12]
["1653401","King Jr El","KING JR EL","King Jr El","","","King Jr El",10]
["1653402","King Jr El DL Two-Way Im Spanish","King Jr El DTS","","King Jr El Dts","King Jr El DTS","King Jr El DTS",14]
["1654901","Hollywood Elementary School","Hollywood ES","","Hollywood Es","Hollywood ES","Hollywood ES",12]
["1656501","Saticoy El","SATICOY EL","Saticoy El","","","Saticoy El",10]
["1656502","Saticoy El DL Two-Way Im Armenian","Saticoy El DTR","","Saticoy El Dtr","Saticoy El DTR","Saticoy El DTR",14]
["1657501","2nd St El","2ND ST EL","2nd St El","","","2nd St El",9]
["1657502","2nd St El DL Two-Way Im Spanish","2nd St El DTS","","2Nd St El Dts","2nd St El DTS","2nd St El DTS",13]
["1658901","Selma El","SELMA EL","Selma El","","","Selma El",8]
["1660601","Serrania CES","SERRANIA CES","Serrania CES","","","Serrania CES",12]
["1661601","7th St ES Arts Integration Magnet","7TH ST EL","","7Th St El","7th St El","7th St El",9]
["1663001","75th St El","75TH ST EL","75th St El","","","75th St El",10]
["1663002","75Th St El DL Two-Way Im Spanish","75th St El DTS","","75Th St El Dts","75th St El DTS","75th St El DTS",14]
["1664401","74th St El","74TH ST EL","74th St El","","","74th St El",10]
["1664402","74th Street Elementary Gifted Magnet","74th St El Gifted Mg","","74Th St El Gifted Mg","74th St El Gifted Mg","74th St El Gifted Mg",20]
["1665801","Mc Kinley El","MC KINLEY EL","Mc Kinley El","","","Mc Kinley El",12]
["1666501","Sharp El","SHARP EL","Sharp El","","","Sharp El",8]
["1667101","Shenandoah El","SHENANDOAH EL","Shenandoah El","","","Shenandoah El",13]
["1668501","Sheridan St El","SHERIDAN ST EL","Sheridan St El","","","Sheridan St El",14]
["1668502","Sheridan El DL Two-Way Im Spanish","Sheridan El DTS","","Sheridan El Dts","Sheridan El DTS","Sheridan El DTS",15]
["1669901","Sherman Oaks El CS","SHERMAN OAKS EL CS","Sherman Oaks El CS","","","Sherman Oaks El CS",18]
["1671201","Shirley El","SHIRLEY EL","Shirley El","","","Shirley El",10]
["1674001","Short El","SHORT EL","Short El","","","Short El",8]
["1675301","Sierra Park El","SIERRA PARK EL","Sierra Park El","","","Sierra Park El",14]
["1676701","Sierra Vista El","SIERRA VISTA EL","Sierra Vista El","","","Sierra Vista El",15]
["1678101","6th Ave El","6TH AVE EL","6th Ave El","","","6th Ave El",10]
["1678102","6th Av El DL Two-Way Im Spanish","6th Ave El DTS","","6Th Ave El Dts","6th Ave El DTS","6th Ave El DTS",14]
["1679501","Gil Garcetti Learning Academy","G. Garcetti Lrng Aca","","G. Garcetti Lrng Aca","G. Garcetti Lrng Aca","G. Garcetti Lrng Aca",20]
["1680801","61st St El","61ST ST EL","61st St El","","","61st St El",10]
["1680802","61st St El DL Two-Way Im Spanish","61st St El DTS","","61St St El Dts","61st St El DTS","61st St El DTS",14]
["1682201","66th St El","66TH ST EL","66th St El","","","66th St El",10]
["1683601","Solano El","SOLANO EL","Solano El","","","Solano El",9]
["1684901","Soto El","SOTO EL","Soto El","","","Soto El",7]
["1686301","South Park El","SOUTH PARK EL","South Park El","","","South Park El",13]
["1686302","South Park El DL Two-Way Im Spanish","South Park El DTS","","South Park El Dts","South Park El DTS","South Park El DTS",17]
["1686701","Bridges School","BRIDGES SCHOOL","Bridges School","","","Bridges School",14]
["1686801","Obama Global Prep Acad","OBAMA GLBL PREP ACAD","","Obama Glbl Prep Acad","Obama Glbl Prep Acad","Obama Glbl Prep Acad",20]
["1686801","Obama Global Prep Acad","OBAMA GLBL PREP ACAD","","Obama Glbl Prep Acad","Obama Glbl Prep Acad","Obama Glbl Prep Acad",20]
["1686802","Obama GPA STEAM Magnet","Obama GPA STEAM Mag","","Obama Gpa Steam Mag",{"$f":"C629","v":"Obama GPA STEAM Mag"},"Obama GPA STEAM Mag",19]
["1686901","Knox El","KNOX EL","Knox El","","","Knox El",7]
["1686902","Knox El DL Two-Way Im Spanish","Knox El DTS","","Knox El Dts","Knox El DTS","Knox El DTS",11]
["1686903","Knox ES Visual/Performing Arts Magnet","Knox VAPA Mag","","Knox Vapa Mag","Knox VAPA Mag","Knox VAPA Mag",13]
["1687001","S Shores Per Arts Mg","S SHORES PER ARTS MG","S Shores Per Arts Mg","","","S Shores Per Arts Mg",20]
["1687201","Wisdom El","WISDOM EL","Wisdom El","","","Wisdom El",9]
["1687301","Escalante El","ESCALANTE EL","Escalante El","","","Escalante El",12]
["1687501","San Miguel El","SAN MIGUEL EL","San Miguel El","","","San Miguel El",13]
["1687502","San Miguel ES Steam Magnet","San Miguel STM Mag","","San Miguel Stm Mag","San Miguel STEM Mag","San Miguel STEM Mag",19]
["1687503","San Miguel El DL Two-Way Im Spanish","San Miguel El DTS","","San Miguel El Dts","San Miguel El DTS","San Miguel El DTS",17]
["1687504","San Miguel El DL World Lang Im Mandarin","San Miguel El DWM","","San Miguel El Dwm","San Miguel El Dwm","San Miguel El Dwm",17]
["1687801","Montara Ave El","MONTARA AVE EL","Montara Ave El","","","Montara Ave El",14]
["1687802","Montara Avenue Elem Science/Tech/Math Mag","Montara El STM Mag","","Montara El Stm Mag","Montara El STEM Mag","Montara El STEM Mag",19]
["1687803","Montara Ave El DL Two-Way Im Spanish","Montara Ave El DTS","","Montara Ave El Dts","Montara Ave El DTS","Montara Ave El DTS",18]
["1688001","Independence El","INDEPENDENCE EL",{"$f":"IF(LEN(B643)<=20,B643,\"\")","v":"Independence El"},{"$f":"IF(D643=\"\",PROPER(C643),\"\")","v":""},"",{"$f":"IF(F643=\"\",D643,F643)","v":"Independence El"},{"$f":"LEN(G643)","v":15}]
["1688002","Independence Elementary STEM Magnet","Independence STEM Mg","","Independence Stem Mg","Independence STEM Mg","Independence STEM Mg",20]
["1688003","Independence El DL Two-Way Im Spanish","Independence DTS","","Independence Dts","Independence DTS","Independence DTS",16]
["1688401","Roybal-Allard El","ROYBAL-ALLARD EL","Roybal-Allard El","","","Roybal-Allard El",16]
["1688402","Roybal-Allard El DL Two-Way Im Spanish","Roybal-Allard El DTS","","Roybal-Allard El Dts","Roybal-Allard El DTS","Roybal-Allard El DTS",20]
["1688403","Roybal-Allard ES DREAMS Magnet","Rybl-Allrd DREAMS Mg","","Rybl-Allrd Dreams Mg","Rybl-Allrd DREAMS Mg","Rybl-Allrd DREAMS Mg",20]
["1688601","BACA Arts Acad","BACA ARTS ACAD","BACA Arts Acad","","","BACA Arts Acad",14]
["1688602","Baca Arts Acad DL Two-Way Im Spanish","Baca Arts Aca DTS","","Baca Arts Aca Dts","Baca Arts Aca DTS","Baca Arts Aca DTS",17]
["1689001","Stagg El","STAGG EL","Stagg El","","","Stagg El",8]
["1690401","Stanford El","STANFORD EL","Stanford El","","","Stanford El",11]
["1690402","Stanford Ave El DL Two-Way Im Spanish","Stanford Ave El DTS","","Stanford Ave El Dts","Stanford Ave El DTS","Stanford Ave El DTS",19]
["1690501","Stanford PC","STANFORD PC","Stanford PC","","","Stanford PC",11]
["1690502","Stanford PC El DL Two-Way Im Spanish","Stanford PC DTS","","Stanford Pc Dts","Stanford PC DTS","Stanford PC DTS",15]
["1691801","State El","STATE EL","State El","","","State El",8]
["1691802","State St El DL Two-Way Im Spanish","State St El DTS","","State St El Dts","State St El DTS","State St El DTS",15]
["1692001","Hope El","HOPE EL","Hope El","","","Hope El",7]
["1693201","Sterry El","STERRY EL","Sterry El","","","Sterry El",9]
["1694501","Stonehurst Av ES STEAM Magnet","Stonehurst STEAM Mag","","Stonehurst Steam Mag","Stonehurst STEAM Mag","Stonehurst STEAM Mag",20]
["1695201","Stoner El","STONER EL","Stoner El","","","Stoner El",9]
["1695202","Stoner El DL One-Way Im Spanish","Stoner Ave El DOS","","Stoner Ave El Dos","Stoner Ave El DOS","Stoner Ave El DOS",17]
["1695901","Strathern El","STRATHERN EL","Strathern El","","","Strathern El",12]
["1697301","Sunland El","SUNLAND EL","Sunland El","","","Sunland El",10]
["1697302","Sunland Elementary Gifted Magnet","Sunland El Gifted Mg","","Sunland El Gifted Mg","Sunland El Gifted Mg","Sunland El Gifted Mg",20]
["1698601","Sunny Brae El","SUNNY BRAE EL","Sunny Brae El","","","Sunny Brae El",13]
["1698602","Sunny Brae Av ES Global Awareness Magnet","Sunny Brae GA Mag","","Sunny Brae Ga Mag","Sunny Brae GA Mag","Sunny Brae GA Mag",17]
["1698603","Sunny Brae El DL Two-Way Im Spanish","Sunny Brae El DTS","","Sunny Brae El Dts","Sunny Brae El DTS","Sunny Brae El DTS",17]
["1698801","Sunrise El","SUNRISE EL","Sunrise El","","","Sunrise El",10]
["1698802","Sunrise El DL Two-Way Im Spanish","Sunrise El DTS","","Sunrise El Dts","Sunrise El DTS","Sunrise El DTS",14]
["1700701","Superior El","SUPERIOR EL","Superior El","","","Superior El",11]
["1701401","Sylmar El","SYLMAR EL","Sylmar El","","","Sylmar El",9]
["1702701","Sylvan Park El","SYLVAN PARK EL","Sylvan Park El","","","Sylvan Park El",14]
["1703501","Taper El","TAPER EL","Taper El","","","Taper El",8]
["1703502","Taper ES STEAM Magnet","Taper STEAM Mag","","Taper Steam Mag","Taper STEAM Mag","Taper STEAM Mag",15]
["1704101","Tarzana El","TARZANA EL","Tarzana El","","","Tarzana El",10]
["1706801","Telfair El","TELFAIR EL","Telfair El","","","Telfair El",10]
["1706802","Telfair Ave El DL Two-Way Im Spanish","Telfair Ave El DTS","","Telfair Ave El Dts","Telfair Ave El DTS","Telfair Ave El DTS",18]
["1708201","10th St El","10TH ST EL","10th St El","","","10th St El",10]
["1711001","3rd St El","3RD ST EL","3rd St El","","","3rd St El",9]
["1711002","3rd St El DL Two-Way Im Korean","3rd St El DTK","","3Rd St El Dtk","3rd St El DTK","3rd St El DTK",13]
["1711003","3rd Street ES Gifted Magnet","3rd St ES Gifted Mag","","3Rd St Es Gifted Mag","3rd St ES Gifted Mag","3rd St ES Gifted Mag",20]
["1712301","Bradley Glbl Awr Mag","BRADLEY GLBL AWR MAG","Bradley Glbl Awr Mag","","","Bradley Glbl Awr Mag",20]
["1713701","32nd/USC Per Art Mag","32ND/USC PER ART MAG","32nd/USC Per Art Mag","","","32nd/USC Per Art Mag",20]
["1713702","LAUSD/USC Media Arts/Engineering Magnet","LAUSD/USC","","Lausd/Usc","LAUSD/USC","LAUSD/USC",9]
["1715101","Weemes El","WEEMES EL","Weemes El","","","Weemes El",9]
["1716401","Bright El","BRIGHT EL","Bright El","","","Bright El",9]
["1717801","Toland Way El","TOLAND WAY EL","Toland Way El","","","Toland Way El",13]
["1719201","Toluca Lake El","TOLUCA LAKE EL","Toluca Lake El","","","Toluca Lake El",14]
["1719801","Topanga El CS","TOPANGA EL CS","Topanga El CS","","","Topanga El CS",13]
["1720101","Topeka Charter for Advanced Studies","Topeka Charter","","Topeka Charter","Topeka Charter","Topeka Charter",14]
["1720501","Towne El","TOWNE EL","Towne El","","","Towne El",8]
["1721901","Trinity El","TRINITY EL","Trinity El","","","Trinity El",10]
["1721902","Trinity St El DL Two-Way Im Spanish","Trinity St El DTS","","Trinity St El Dts","Trinity St El DTS","Trinity St El DTS",17]
["1722001","Maple PC","MAPLE PC","Maple PC","","","Maple PC",8]
["1722002","Maple PC DL Two-Way Im Spanish","MAPLE PC DTS","","Maple Pc Dts","Maple PC DTS","Maple PC DTS",12]
["1724701","Tulsa El","TULSA EL","Tulsa El","","","Tulsa El",8]
["1726001","Tweedy El","TWEEDY EL","Tweedy El","","","Tweedy El",9]
["1726002","Tweedy EL DL Two-Way Im Spanish","Tweedy EL DTS","","Tweedy El Dts","Tweedy El DTS","Tweedy El DTS",13]
["1727401","20th St El","20TH ST EL","20th St El","","","20th St El",10]
["1727402","20th St El DL Two-Way Im Spanish","20th St El DTS","","20Th St El Dts","20th St El DTS","20th St El DTS",14]
["1728801","28th St El","28TH ST EL","28th St El","","","28th St El",10]
["1728802","28th St El DL One-Way Im Spanish","28th St El DOS","","28Th St El Dos","28th St El DOS","28th St El DOS",14]
["1730101","24th St El","24TH ST EL","24th St El","","","24th St El",10]
["1732901","232nd Pl El","232ND PL EL","232nd Pl El","","","232nd Pl El",11]
["1732902","232nd Pl ES STEMM Magnet","232nd STEMM Mag","","232Nd Stemm Mag","232nd STEMM Mag","232nd STEMM Mag",15]
["1734201","Meyler El","MEYLER EL",{"$f":"IF(LEN(B707)<=20,B707,\"\")","v":"Meyler El"},{"$f":"IF(D707=\"\",PROPER(C707),\"\")","v":""},"",{"$f":"IF(F707=\"\",D707,F707)","v":"Meyler El"},{"$f":"LEN(G707)","v":9}]
["1734202","Meyler El DL Two-Way Im Spanish","Meyler St El DTS","","Meyler St El Dts","Meyler St El DTS","Meyler St El DTS",16]
["1735601","Union El","UNION EL","Union El","","","Union El",8]
["1737001","Utah El","UTAH EL","Utah El","","","Utah El",7]
["1738401","Valerio El","VALERIO EL","Valerio El","","","Valerio El",10]
["1739001","Lake Balboa College Prep Magnet K-12","Lake Balboa Clg Prep","","Lake Balboa Clg Prep","Lake Balboa Clg Prep","Lake Balboa Clg Prep",20]
["1739701","Valley View El","VALLEY VIEW EL","Valley View El","","","Valley View El",14]
["1739801","Alta California El","ALTA CALIFORNIA EL","Alta California El","","","Alta California El",18]
["1739802","Alta California ES Gifted/STEAM Magnet","Alta Cal GSTEAM Mag","","Alta Cal Gsteam Mag","Alta Cal GSTEAM Mag","Alta Cal GSTEAM Mag",19]
["1739901","Korenstein El","KORENSTEIN EL","Korenstein El","","","Korenstein El",13]
["1740001","Vista Del Valle Acad","VISTA DEL VALLE ACAD","Vista Del Valle Acad","","","Vista Del Valle Acad",20]
["1740002","Vista Del Valle Ac DL Two-Way Im Spanish","Vista del Valle DTS","","Vista Del Valle Dts","Vista Del Valle DTS","Vista Del Valle DTS",19]
["1740101","Cardenas El","CARDENAS EL","Cardenas El","","","Cardenas El",11]
["1740201","Mosk El","MOSK EL","Mosk El","","","Mosk El",7]
["1740202","Mosk ES STEAM Magnet","Mosk STEAM Mag","Mosk ES STEAM Magnet","","","Mosk ES STEAM Magnet",20]
["1740401","Santana Arts Academy","SANTANA ARTS ACADEMY","Santana Arts Academy","","","Santana Arts Academy",20]
["1740402","Santana Arts Acad DL Two-Way Im Spanish","Santana Arts Aca DTS","","Santana Arts Aca Dts","Santana Arts Aca DTS","Santana Arts Aca DTS",20]
["1740801","Sylmar Ldshp Acad","SYLMAR LDSHP ACAD","Sylmar Ldshp Acad","","","Sylmar Ldshp Acad",17]
["1741101","Vanalden El","VANALDEN EL","Vanalden El","","","Vanalden El",11]
["1741901","Van Deene El","VAN DEENE EL","Van Deene El","","","Van Deene El",12]
["1742201","Van Gogh Charter","Van Gogh","Van Gogh Charter","","","Van Gogh Charter",16]
["1742501","Van Ness El","VAN NESS EL","Van Ness El","","","Van Ness El",11]
["1743201","Columbus Ave El","COLUMBUS AVE EL","Columbus Ave El","","","Columbus Ave El",15]
["1743801","Van Nuys El","VAN NUYS EL","Van Nuys El","","","Van Nuys El",11]
["1746601","Vena El","VENA EL","Vena El","","","Vena El",7]
["1746602","Vena Avenue Elementary Gifted Magnet","Vena El Gifted Mag","","Vena El Gifted Mag","Vena El Gifted Mag","Vena El Gifted Mag",18]
["1747901","Vermont El","VERMONT EL","Vermont El","","","Vermont El",10]
["1749301","Vernon City El","VERNON CITY EL","Vernon City El","","","Vernon City El",14]
["1750701","Victoria El","VICTORIA EL","Victoria El","","","Victoria El",11]
["1752101","Victory El","VICTORY EL","Victory El","","","Victory El",10]
["1752102","Victory Bl ES STEAM Magnet","Victory STEAM Mag","","Victory Steam Mag","Victory STEAM Mag","Victory STEAM Mag",17]
["1753401","Vine El","VINE EL","Vine El","","","Vine El",7]
["1754801","Vinedale College Preparatory Academy","Vinedale College Pep","","Vinedale College Pep","Vinedale College Pep","Vinedale College Pep",20]
["1754801","Vinedale College Preparatory Academy","Vinedale College Pep","","Vinedale College Pep","Vinedale College Pep","Vinedale College Pep",20]
["1756201","Vintage Math/Sci Mag","VINTAGE MATH/SCI MAG","Vintage Math/Sci Mag","","","Vintage Math/Sci Mag",20]
["1756601","University Pathways Public Svc Academy","Univ Pathwys Pub Srv","","Univ Pathwys Pub Srv","Univ Pathwys Pub Srv","Univ Pathwys Pub Srv",20]
["1756701","University Pathways Medical Mag Academy","Univ Pathwys Medical","","Univ Pathwys Medical","Univ Pathwys Medical","Univ Pathwys Medical",20]
["1756901","Boys Academic Leadership Academy","Boys Acad Leader","","Boys Acad Leader","Boys Acad Leader","Boys Acad Leader",16]
["1757401","Horace Mann UCLA Community School","Horace Mann UCLA","","Horace Mann Ucla","Horace Mann UCLA","Horace Mann UCLA",16]
["1757501","Virginia El","VIRGINIA EL","Virginia El","","","Virginia El",11]
["1757502","Virginia Rd El DL Two-Way Im Spanish","Virginia Rd El DTS","","Virginia Rd El Dts","Virginia Rd El DTS","Virginia Rd El DTS",18]
["1758901","Wadsworth El","WADSWORTH EL","Wadsworth El","","","Wadsworth El",12]
["1760301","Walgrove El","WALGROVE EL","Walgrove El","","","Walgrove El",11]
["1760401","The Science Academy STEM Magnet","Science Ac STEM Mag","","Science Ac Stem Mag","Science Ac STEM Mag","Science Ac STEM Mag",19]
["1761401","Nava Coll Prep Acad","NAVA COLL PREP ACAD","Nava Coll Prep Acad","","","Nava Coll Prep Acad",19]
["1761501","Boyle Heights HS STEM Magnet","Boyle Hts STEM Mag","","Boyle Hts Stem Mag","Boyle Hts STEM Mag","Boyle Hts STEM Mag",18]
["1761601","Warner El","WARNER EL","Warner El","","","Warner El",9]
["1763001","Washington PC","WASHINGTON PC","Washington PC","","","Washington PC",13]
["1763002","Washington PC DL Two-Way Im Spanish","Washington PC DTS","","Washington Pc Dts","Washington PC DTS","Washington PC DTS",17]
["1763401","Weigand El","WEIGAND EL","Weigand El","","","Weigand El",10]
["1763701","Welby Way Charter ES & GHA Magnet","Welby Way Chtr","","Welby Way Chtr","Welby Way Chtr","Welby Way Chtr",14]
["1763702","Welby Way Charter Elementary Gifted Magnet","Welby Way Gifted Mag","","Welby Way Gifted Mag","Welby Way Gifted Mag","Welby Way Gifted Mag",20]
["1764001","Chavez El","CHAVEZ EL","Chavez El","","","Chavez El",9]
["1764401","West Athens El","WEST ATHENS EL","West Athens El","","","West Athens El",14]
["1764901","West Hollywood El","WEST HOLLYWOOD EL","West Hollywood El","","","West Hollywood El",17]
["1765401","West Vernon El","WEST VERNON EL","West Vernon El","","","West Vernon El",14]
["1765601","Carson Acad Med Arts","CARSON ACAD MED ARTS","Carson Acad Med Arts","","","Carson Acad Med Arts",20]
["1765701","Carson Acad Ed & Emp","CARSON ACAD ED & EMP","Carson Acad Ed & Emp","","","Carson Acad Ed & Emp",20]
["1765801","Sylmar Academy Biotech Health/Eng Magnet","Sylmar Acad BH/E Mag","","Sylmar Acad Bh/E Mag","Sylmar Acad BH/E Mag","Sylmar Acad BH/E Mag",20]
["1766401","Legacy SH VAPA","LEGACY SH VAPA","Legacy SH VAPA","","","Legacy SH VAPA",14]
["1766501","Hawkins SH CHAS","HAWKINS SH CHAS","Hawkins SH CHAS","","","Hawkins SH CHAS",15]
["1766601","Hawkins SH RISE","HAWKINS SH RISE","Hawkins SH RISE","","","Hawkins SH RISE",15]
["1766701","Dymally SH","DYMALLY SH","Dymally SH","","","Dymally SH",10]
["1766702","Dymally HS Biomed Science/Research Mag","Dymally BMS/R Mag","","Dymally Bms/R Mag","Dymally BMS/R Mag","Dymally BMS/R Mag",17]
["1766901","Marquez SH Soc Jus","MARQUEZ SH SOC JUS",{"$f":"IF(LEN(B771)<=20,B771,\"\")","v":"Marquez SH Soc Jus"},{"$f":"IF(D771=\"\",PROPER(C771),\"\")","v":""},"",{"$f":"IF(F771=\"\",D771,F771)","v":"Marquez SH Soc Jus"},{"$f":"LEN(G771)","v":18}]
["1767101","Western Av Tech/Eng/Comm/Hum Magnet","Western Av TECH Mag","","Western Av Tech Mag","Western Av Tech Mag","Western Av Tech Mag",19]
["1767101","Western Av Tech/Eng/Comm/Hum Magnet","Western Av TECH Mag","","Western Av Tech Mag","Western Av Tech Mag","Western Av Tech Mag",19]
["1769901","Westminster ES Math/Tech/Env Stud Magnet","Westminster MTES Mag","","Westminster Mtes Mag","Westminster MTES Mag","Westminster MTES Mag",20]
["1771201","Westport Hts El","WESTPORT HTS EL","Westport Hts El","","","Westport Hts El",15]
["1771501","Chavez LA Artes Mag","CHAVEZ LA ARTES MAG","Chavez LA Artes Mag","","","Chavez LA Artes Mag",19]
["1771601","Chavez LA SJ Hum Ac","CHAVEZ LA SJ HUM AC","Chavez LA SJ Hum Ac","","","Chavez LA SJ Hum Ac",19]
["1771701","Chavez LA ASE","CHAVEZ LA ASE","Chavez LA ASE","","","Chavez LA ASE",13]
["1771801","Rivera LC Com & Tech","RIVERA LC COM & TECH","Rivera LC Com & Tech","","","Rivera LC Com & Tech",20]
["1771901","Diego Rivera LC Green Design STEAM Acad","Rivera LC STEAM Acad","","Rivera Lc Steam Acad","Rivera LC STEAM Acad","Rivera LC STEAM Acad",20]
["1772101","Rivera LC Perf Arts","RIVERA LC PERF ARTS","Rivera LC Perf Arts","","","Rivera LC Perf Arts",19]
["1772201","Dr. Maya Angelou Community Senior High","Dr. Maya Angelou","","Dr. Maya Angelou","Dr. Maya Angelou","Dr. Maya Angelou",16]
["1772501","Marquez SH LIBRA","MARQUEZ SH LIBRA","Marquez SH LIBRA","","","Marquez SH LIBRA",16]
["1773401","Bernstein SH STEM","BERNSTEIN SH STEM","Bernstein SH STEM","","","Bernstein SH STEM",17]
["1774001","Westwood Chtr El","WESTWOOD CHTR EL","Westwood Chtr El","","","Westwood Chtr El",16]
["1774901","Roosevelt SH","ROOSEVELT SH","Roosevelt SH","","","Roosevelt SH",12]
["1774902","Roosevelt HS Law/Public Services Magnet","Roosevelt LPS Mag","","Roosevelt Lps Mag","Roosevelt LPS Mag","Roosevelt LPS Mag",17]
["1775101","Roosevelt Senior High Science/Tech/Math","Roosevelt SH STM Mag","","Roosevelt Sh Stm Mag","Roosevelt SH STM Mag","Roosevelt SH STM Mag",20]
["1775201","Solis Learning Acad","SOLIS LEARNING ACAD","Solis Learning Acad","","","Solis Learning Acad",19]
["1776101","CDS Johnson","CDS JOHNSON","CDS Johnson","","","CDS Johnson",11]
["1776701","White Point El","WHITE POINT EL","White Point El","","","White Point El",14]
["1777101","RFK Ambsdr Glbl Ldsh","RFK AMBSDR GLBL LDSH","RFK Ambsdr Glbl Ldsh","","","RFK Ambsdr Glbl Ldsh",20]
["1777201","Torres Renaissance","TORRES RENAISSANCE","Torres Renaissance","","","Torres Renaissance",18]
["1777301","Torres Eng & Tech","TORRES ENG & TECH","Torres Eng & Tech","","","Torres Eng & Tech",17]
["1777401","Wilbur El","WILBUR EL","Wilbur El","","","Wilbur El",9]
["1777501","Torres Hum/Art/Tech","TORRES HUM/ART/TECH","Torres Hum/Art/Tech","","","Torres Hum/Art/Tech",19]
["1777701","Torres HS Social Justice Ldshp Ac Magnet","Torres HS SJLA Mag","","Torres Hs Sjla Mag","Torres HS SJLA Mag","Torres HS SJLA Mag",18]
["1778001","RFK UCLA Comm Sch","RFK UCLA COMM SCH","RFK UCLA Comm Sch","","","RFK UCLA Comm Sch",17]
["1778002","RFK UCLA Comm Sch DL One-Way Im Spanish","RFK UCLA Comm DOS","","Rfk Ucla Comm Dos","RFK UCLA Comm DOS","RFK UCLA Comm DOS",17]
["1778101","Wilmington Park El","WILMINGTON PARK EL","Wilmington Park El","","","Wilmington Park El",18]
["1778301","RFK Comm Schs-New Open World Acad K-12","RFK Comm Schs-New","","Rfk Comm Schs-New","RFK Comm Schs-New","RFK Comm Schs-New",17]
["1779501","Wilshire Crest El","WILSHIRE CREST EL","Wilshire Crest El","","","Wilshire Crest El",17]
["1779502","Wilshire Crest El DL Two-Way Im Spanish","Wilshire Crst DTS","","Wilshire Crst Dts","Wilshire Crst DTS","Wilshire Crst DTS",17]
["1780801","Wilton Pl El","WILTON PL EL","Wilton Pl El","","","Wilton Pl El",12]
["1780802","Wilton Pl El DL Two-Way Im Spanish","Wilton Pl El DTS","","Wilton Pl El Dts","Wilton Pl El DTS","Wilton Pl El DTS",16]
["1780803","Wilton Pl El DL Two-Way Im Korean","Wilton Pl El DTK","","Wilton Pl El Dtk","Wilton Pl El DTK","Wilton Pl El DTK",16]
["1782201","Windsor M/S Aero Mag","WINDSOR M/S AERO MAG","Windsor M/S Aero Mag","","","Windsor M/S Aero Mag",20]
["1783601","Winnetka El","WINNETKA EL","Winnetka El","","","Winnetka El",11]
["1784901","Wonderland El","WONDERLAND EL","Wonderland El","","","Wonderland El",13]
["1784902","Wonderland G/HA Mag","Wonderland Gifted Mg","Wonderland G/HA Mag","","","Wonderland G/HA Mag",19]
["1786301","Woodcrest El","WOODCREST EL","Woodcrest El","","","Woodcrest El",12]
["1787701","Woodlake Elementary Community Charter","Woodlake Charter","","Woodlake Charter","Woodlake Charter","Woodlake Charter",16]
["1789001","Woodland Hills CES","WOODLAND HILLS CES","Woodland Hills CES","","","Woodland Hills CES",18]
["1789501","Valley Oaks Center for Enr Studies Mag","Valley Oaks CES Mag","","Valley Oaks Ces Mag","Valley Oaks CES Mag","Valley Oaks CES Mag",19]
["1790401","Woodlawn El","WOODLAWN EL","Woodlawn El","","","Woodlawn El",11]
["1790402","Woodlawn Ave El DL Two-Way Im Spanish","Woodlawn Ave El DTS","","Woodlawn Ave El Dts","Woodlawn Ave El DTS","Woodlawn Ave El DTS",19]
["1795901","Yorkdale El","YORKDALE EL","Yorkdale El","","","Yorkdale El",11]
["1800901","Adams MS","ADAMS MS","Adams MS","","","Adams MS",8]
["1800902","John Adams MS Gifted Magnet","Adams MS Gifted Mag","","Adams Ms Gifted Mag",{"$f":"C819","v":"Adams MS Gifted Mag"},"Adams MS Gifted Mag",19]
["1802801","Audubon MS","AUDUBON MS","Audubon MS","","","Audubon MS",10]
["1802802","Audubon MS Gifted Magnet","Audubon MS Gifted Mg","","Audubon Ms Gifted Mg","Audubon MS Gifted Mg","Audubon MS Gifted Mg",20]
["1803801","Bancroft MS","BANCROFT MS","Bancroft MS","","","Bancroft MS",11]
["1803802","Bancroft Per Art Mag","BANCROFT PER ART MAG","Bancroft Per Art Mag","","","Bancroft Per Art Mag",20]
["1803803","Hubert Howe Bancroft MS Gifted STEAM Mag","Bancroft GSTEAM Mag","","Bancroft Gsteam Mag","Bancroft GSTEAM Mag","Bancroft GSTEAM Mag",19]
["1804501","Castro MS","CASTRO MS","Castro MS","","","Castro MS",9]
["1804701","Belvedere MS","BELVEDERE MS","Belvedere MS","","","Belvedere MS",12]
["1804702","Belvedere Media Mag","BELVEDERE MEDIA MAG","Belvedere Media Mag","","","Belvedere Media Mag",19]
["1804703","Belvedere MS STEAM Magnet","Belvedere STEAM Mag","","Belvedere Steam Mag","Belvedere STEAM Mag","Belvedere STEAM Mag",19]
["1805701","Berendo MS","BERENDO MS","Berendo MS","","","Berendo MS",10]
["1805801","Liechty MS","LIECHTY MS","Liechty MS","","","Liechty MS",10]
["1806001","Bethune MS","BETHUNE MS","Bethune MS","","","Bethune MS",10]
["1806002","Mary Mcleod Bethune MS Science/Tech/Math","Bethune MS STM Mag","","Bethune Ms Stm Mag","Bethune MS STM Mag","Bethune MS STM Mag",18]
["1806201","Clinton MS","CLINTON MS","Clinton MS","","","Clinton MS",10]
["1806401","Kim Academy","KIM ACADEMY","Kim Academy","","","Kim Academy",11]
["1806601","Burbank MS Arts/Tech/Comm Magnet","Burbank MS Arts/Tech",{"$f":"IF(LEN(B835)<=20,B835,\"\")","v":""},{"$f":"IF(D835=\"\",PROPER(C835),\"\")","v":"Burbank Ms Arts/Tech"},"Burbank MS Arts/Tech",{"$f":"IF(F835=\"\",D835,F835)","v":"Burbank MS Arts/Tech"},{"$f":"LEN(G835)","v":20}]
["1806603","Burbank Police Ac Mg","BURBANK POLICE AC MG","Burbank Police Ac Mg","","","Burbank Police Ac Mg",20]
["1807501","Burroughs MS","BURROUGHS MS","Burroughs MS","","","Burroughs MS",12]
["1807502","John Burroughs MS Gifted Magnet","Burroughs Gifted Mag","","Burroughs Gifted Mag","Burroughs Gifted Mag","Burroughs Gifted Mag",20]
["1808001","Byrd MS","BYRD MS","Byrd MS","","","Byrd MS",7]
["1808002","Richard E Byrd MS Science/Tech/Math Magnet","Byrd MS STM Mag","","Byrd Ms Stm Mag","Byrd MS STM Mag","Byrd MS STM Mag",15]
["1809001","Carnegie MS","CARNEGIE MS","Carnegie MS","","","Carnegie MS",11]
["1809002","Carnegie MS Medical Magnet","Carnegie Medical Mag","","Carnegie Medical Mag","Carnegie Medical Mag","Carnegie Medical Mag",20]
["1809201","CDS London","CDS LONDON","CDS London","","","CDS London",10]
["1809401","Carver MS","CARVER MS","Carver MS","","","Carver MS",9]
["1810201","Columbus MS","COLUMBUS MS","Columbus MS","","","Columbus MS",11]
["1810202","Columbus MS M/S/Med","Columbus MS MMS Mag","Columbus MS M/S/Med","","","Columbus MS M/S/Med",19]
["1810203","Columbus MS Media Arts/Comm Magnet","Columbus MS MAC Mag","","Columbus Ms Mac Mag","Columbus MS MAC Mag","Columbus MS MAC Mag",19]
["1810301","Curtiss MS","CURTISS MS","Curtiss MS","","","Curtiss MS",10]
["1810302","Curtiss MS STEAM Magnet","Curtiss STEAM Mag","","Curtiss Steam Mag","Curtiss STEAM Mag","Curtiss STEAM Mag",17]
["1810401","Dana MS","DANA MS","Dana MS","","","Dana MS",7]
["1810402","Dana STEAM Magnet","Dana STEAM Magnet","Dana STEAM Magnet","","","Dana STEAM Magnet",17]
["1810701","Gaspar De Portola Charter Middle","Gaspar de Portola CM","","Gaspar De Portola Cm","Gaspar de Portola CM","Gaspar de Portola CM",20]
["1810702","Portola Highly Gifted Magnet","Portola HG Magnet","","Portola Hg Magnet","Portola HG Magnet","Portola HG Magnet",17]
["1810703","Academy of Integrated Arts & Technology","Acad of Int Art","","Acad Of Int Art","Acad of Int Art","Acad of Int Art",15]
["1811001","Dodson MS","DODSON MS","Dodson MS","","","Dodson MS",9]
["1811002","Rudecinda Sepulveda Dodson MS Gifted Mag","Dodson MS Gifted Mag","","Dodson Ms Gifted Mag","Dodson MS Gifted Mag","Dodson MS Gifted Mag",20]
["1811003","Dodson MS Visual/Performing Arts Magnet","Dodson VAPA Mag","","Dodson Vapa Mag","Dodson VAPA Mag","Dodson VAPA Mag",15]
["1811201","Drew MS","DREW MS","Drew MS","","","Drew MS",7]
["1811202","Charles Drew MS Gifted Magnet","Drew MS Gifted Mag","","Drew Ms Gifted Mag","Drew MS Gifted Mag","Drew MS Gifted Mag",18]
["1811301","Edison MS","EDISON MS","Edison MS","","","Edison MS",9]
["1811601","Romer MS","ROMER MS","Romer MS","","","Romer MS",8]
["1811602","Romer STEM Magnet","Romer STEM","Romer STEM Magnet","","","Romer STEM Magnet",17]
["1811603","Romer MS Gifted/Humanities Magnet","Romer G/HG/HA/H Mag","","Romer G/Hg/Ha/H Mag","Romer G/HG/HA/H Mag","Romer G/HG/HA/H Mag",19]
["1811701","Vista MS","VISTA MS","Vista MS","","","Vista MS",8]
["1811703","Vista MS Sports Med/College Prep Magnet","Vista SMCP Mag","","Vista Smcp Mag","Vista SMCP Mag","Vista SMCP Mag",14]
["1811704","Vista MS Gifted STEAM Magnet","Vista GSTEAM Mag","","Vista Gsteam Mag","Vista GSTEAM Mag","Vista GSTEAM Mag",16]
["1811705","Vista MS Law/Gov/Social Just/Lead Magnet","Vista MS LGSJL Mag","","Vista Ms Lgsjl Mag","Vista MS LGSJL Mag","Vista MS LGSJL Mag",18]
["1811801","El Sereno MS","EL SERENO MS","El Sereno MS","","","El Sereno MS",12]
["1811802","El Sereno MS Science/Tech/Math Magnet","El Sereno STM Mag","","El Sereno Stm Mag","El Sereno STEM Mag","El Sereno STEM Mag",18]
["1811803","El Sereno MS Gifted Magnet","El Sereno Gifted Mag","","El Sereno Gifted Mag","El Sereno Gifted Mag","El Sereno Gifted Mag",20]
["1811804","El Sereno MS Env Sci/Humanitarian Magnet","El Sereno ESH Mag","","El Sereno Esh Mag","El Sereno ESH Mag","El Sereno ESH Mag",17]
["1812301","Emerson Comm Charter","EMERSON COMM CH","Emerson Comm Charter","","","Emerson Comm Charter",20]
["1812701","Fleming MS","FLEMING MS","Fleming MS","","","Fleming MS",10]
["1812702","Alexander Fleming MS Science/Tech/Math Mag","Fleming MS STM Mag","","Fleming Ms Stm Mag","Fleming MS STM Mag","Fleming MS STM Mag",18]
["1813201","Foshay LC","FOSHAY LC","Foshay LC","","","Foshay LC",9]
["1813701","Frost MS","FROST MS","Frost MS","","","Frost MS",8]
["1813702","Frost MS Steam Magnet","Frost MS STM Mag","","Frost Ms Stm Mag","Frost MS STEM Mag","Frost MS STEM Mag",17]
["1813703","Frost MS Gifted/Music Conserv Magnet","Frost MS GMC Mag","","Frost Ms Gmc Mag","Frost MS GMC Mag","Frost MS GMC Mag",16]
["1814201","Fulton College Prep","FULTON COLLEGE PREP","Fulton College Prep","","","Fulton College Prep",19]
["1814204","Fulton Communication Arts/Music Magnet","Fulton CAM Mag","","Fulton Cam Mag","Fulton CAM Mag","Fulton CAM Mag",14]
["1815101","Gage MS","GAGE MS","Gage MS","","","Gage MS",7]
["1815102","Henry T Gage MS Science/Tech/Math Magnet","Gage MS STM Mag","","Gage Ms Stm Mag","Gage MS STEM Mag","Gage MS STEM Mag",16]
["1815301","Southeast MS","SOUTHEAST MS","Southeast MS","","","Southeast MS",12]
["1815302","Southeast MS DREAMS Magnet","Southeast DREAMS Mg","","Southeast Dreams Mg","Southeast DREAMS Mg","Southeast DREAMS Mg",19]
["1816001","Gompers MS","GOMPERS MS","Gompers MS","","","Gompers MS",10]
["1816002","Gompers MS STEAM Magnet","Gompers STEAM Mag","","Gompers Steam Mag","Gompers STEAM Mag","Gompers STEAM Mag",17]
["1816801","Griffith MS STEAM Magnet","Griffith MS","","Griffith Ms","Griffith MS","Griffith MS",11]
["1816901","George E Hale Charter Acad","G E Hale Chrtr Acad","","G E Hale Chrtr Acad","G E Hale Chrtr Acad","G E Hale Chrtr Acad",19]
["1816902","George Ellery Hale Charter Aca Gifted St","Hale Gifted/STEAM Mg","","Hale Gifted/Steam Mg","Hale Gifted/STEAM Mg","Hale Gifted/STEAM Mg",20]
["1816903","Hale Charter Academy VAPA Magnet","Hale VAPA Mag","","Hale Vapa Mag","Hale VAPA Mag","Hale VAPA Mag",13]
["1817001","Harte Prep MS","HARTE PREP MS","Harte Prep MS","","","Harte Prep MS",13]
["1817401","Henry MS","HENRY MS","Henry MS","","","Henry MS",8]
["1817402","Henry MS Comp/M/S Mg","HENRY MS COMP/M/S MG","Henry MS Comp/M/S Mg","","","Henry MS Comp/M/S Mg",20]
["1817403","Henry Visual And Performing Arts Magnet","Henry MS VAPA Mag","","Henry Ms Vapa Mag","Henry MS VAPA Mag","Henry MS VAPA Mag",17]
["1817901","Hollenbeck MS","HOLLENBECK MS","Hollenbeck MS","","","Hollenbeck MS",13]
["1817902","Hollenbeck MS STEMM Magnet","Hollenbeck STEAMM Mg","","Hollenbeck Steamm Mg","Hollenbeck STEAMM Mg","Hollenbeck STEAMM Mg",20]
["1817903","Hollenbeck MS Law/Public Service Magnet","Hollenbeck L/PS Mag","","Hollenbeck L/Ps Mag","Hollenbeck L/PS Mag","Hollenbeck L/PS Mag",19]
["1818201","Holmes MS","HOLMES MS","Holmes MS","","","Holmes MS",9]
["1818202","Holmes Int Human Mag","HOLMES INT HUMAN MAG",{"$f":"IF(LEN(B899)<=20,B899,\"\")","v":"Holmes Int Human Mag"},{"$f":"IF(D899=\"\",PROPER(C899),\"\")","v":""},"",{"$f":"IF(F899=\"\",D899,F899)","v":"Holmes Int Human Mag"},{"$f":"LEN(G899)","v":20}]
["1818901","Irving MME Mag","IRVING MME MAG","Irving MME Mag","","","Irving MME Mag",14]
["1820001","Los Angeles Acad MS","LOS ANGELES ACAD MS","Los Angeles Acad MS","","","Los Angeles Acad MS",19]
["1820002","Los Angeles Academy STEAM Magnet","LA Academy STEAM Mag","","La Academy Steam Mag","LA Academy STEAM Mag","LA Academy STEAM Mag",20]
["1820601","RFK Sch Vis Arts/Hum","RFK SCH VIS ARTS/HUM","RFK Sch Vis Arts/Hum","","","RFK Sch Vis Arts/Hum",20]
["1820701","Contreras LC ALC","CONTRERAS LC ALC","Contreras LC ALC","","","Contreras LC ALC",16]
["1820801","King Film/Media Mag","KING FILM/MEDIA MAG","King Film/Media Mag","","","King Film/Media Mag",19]
["1820802","Thomas Starr King MS Gifted/Arts/Technology","King MS Gifted/AT Mg","","King Ms Gifted/At Mg","King MS Gifted/AT Mg","King MS Gifted/AT Mg",20]
["1820803","King MS ESTEAM Magnet","King ESTEAM Mag","","King Esteam Mag","King ESTEAM Mag","King ESTEAM Mag",15]
["1821701","Lawrence MS","LAWRENCE MS","Lawrence MS","","","Lawrence MS",11]
["1821702","Ernest Lawrence MS Gifted Magnet","Lawrence Gifted Mag","","Lawrence Gifted Mag","Lawrence Gifted Mag","Lawrence Gifted Mag",19]
["1821703","Lawrence MS Pioneering Science Magnet","Lawrence Pio Sci Mag","","Lawrence Pio Sci Mag","Lawrence Pio Sci Mag","Lawrence Pio Sci Mag",20]
["1822601","Le Conte MS","LE CONTE MS","Le Conte MS","","","Le Conte MS",11]
["1822602","Le Conte HEAT Magnet","Le Conte HEAT Magnet","Le Conte HEAT Magnet","","","Le Conte HEAT Magnet",20]
["1822603","Le Conte CES CA Mag","LE CONTE CES CA MAG","Le Conte CES CA Mag","","","Le Conte CES CA Mag",19]
["1822801","Maclay MS","MACLAY MS","Maclay MS","","","Maclay MS",9]
["1823001","Madison MS","MADISON MS","Madison MS","","","Madison MS",10]
["1823002","Madison M/S/Med Mag","MADISON M/S/MED MAG","Madison M/S/Med Mag","","","Madison M/S/Med Mag",19]
["1823003","Madison Computer Sci/Eng Design Magnet","Madison CSED Mag","","Madison Csed Mag","Madison CSED Mag","Madison CSED Mag",16]
["1823501","Marina Del Rey MS","MARINA DEL REY MS","Marina Del Rey MS","","","Marina Del Rey MS",17]
["1823502","Marina Del Rey PA Mg","MARINA DEL REY PA MG","Marina Del Rey PA Mg","","","Marina Del Rey PA Mg",20]
["1823701","Markham MS","MARKHAM MS","Markham MS","","","Markham MS",10]
["1823702","Markham Hlth CAR Mag","MARKHAM HLTH CAR MAG","Markham Hlth CAR Mag","","","Markham Hlth CAR Mag",20]
["1823703","Markham MS Visual/Performing Arts Magnet","Markham MS VAPA Mag","","Markham Ms Vapa Mag","Markham MS VAPA Mag","Markham MS VAPA Mag",19]
["1823801","Robert A. Millikan Affiliated Chtr & PAM","Robert A. Millikan","","Robert A. Millikan","Robert A. Millikan","Robert A. Millikan",18]
["1823802","Millikan Charter MS Performing Arts Mag","Millikan CMS PA Mag","","Millikan Cms Pa Mag","Millikan CMS PA Mag","Millikan CMS PA Mag",19]
["1823804","Millikan Charter MS Socl/Gndr Equity Mg","Millikan CMS SGE Mag","","Millikan Cms Sge Mag","Millikan CMS SGE Mag","Millikan CMS SGE Mag",20]
["1824001","Mount Gleason MS","MOUNT GLEASON MS","Mount Gleason MS","","","Mount Gleason MS",16]
["1824002","Mount Gleason MS Gifted Magnet","Mt Gleason Gifted Mg","","Mt Gleason Gifted Mg","Mt Gleason Gifted Mg","Mt Gleason Gifted Mg",20]
["1824003","Mount Gleason MS STEAM Magnet","Mt Gleason STEAM Mg","","Mt Gleason Steam Mg","Mt Gleason STEAM Mg","Mt Gleason STEAM Mg",19]
["1824501","Cochran MS","COCHRAN MS","Cochran MS","","","Cochran MS",10]
["1825501","Muir MS","MUIR MS","Muir MS","","","Muir MS",7]
["1825502","John Muir MS Science/Tech/Math Magnet","Muir MS STM Mag","","Muir Ms Stm Mag","Muir MS STEM Mag","Muir MS STEM Mag",16]
["1825901","Mulholland MS","MULHOLLAND MS","Mulholland MS","","","Mulholland MS",13]
["1825902","Mulholland MS Police Academy","Mulholland MS Police","","Mulholland Ms Police","Mulholland MS Police","Mulholland MS Police",20]
["1825903","Mulholland Robotics Magnet","Mulholland Robotics","","Mulholland Robotics","Mulholland Robotics","Mulholland Robotics",19]
["1826401","Nightingale MS","NIGHTINGALE MS","Nightingale MS","","","Nightingale MS",14]
["1826402","Nightingale BET Magnet","Nightingale BET Mag","","Nightingale Bet Mag","Nightingale BET Mag","Nightingale BET Mag",19]
["1826403","Florence Nightingale MS Gifted STEM Magnet","Nightingale GSTEM Mg","","Nightingale Gstem Mg","Nightingale GSTEM Mg","Nightingale GSTEM Mg",20]
["1826404","Nightingale MS Med/Hea/Kinesiology Mag","Nightingale M/H/K Mg","","Nightingale M/H/K Mg","Nightingale M/H/K Mg","Nightingale M/H/K Mg",20]
["1826801","Nimitz MS","NIMITZ MS","Nimitz MS","","","Nimitz MS",9]
["1826802","Chester W Nimitz MS Science/Technology/Math","Nimitz MS STM Mag","","Nimitz Ms Stm Mag","Nimitz MS STEM Mag","Nimitz MS STEM Mag",18]
["1827201","Alfred B. Nobel Charter Middle","Alfred B. Nobel","","Alfred B. Nobel","Alfred B. Nobel","Alfred B. Nobel",15]
["1827202","Nobel Charter MS STEAM Magnet","Nobel CMS STEAM Mag","","Nobel Cms Steam Mag","Nobel CMS STEAM Mag","Nobel CMS STEAM Mag",19]
["1828301","Northridge MS","NORTHRIDGE MS","Northridge MS","","","Northridge MS",13]
["1828303","Northridge MS Medical/Health Careers Mag","Northridge Med/HC Mg","","Northridge Med/Hc Mg","Northridge Med/HC Mg","Northridge Med/HC Mg",20]
["1830601","Olive Vista MS","OLIVE VISTA MS","Olive Vista MS","","","Olive Vista MS",14]
["1830602","Olive Vista MS STEAM Magnet","Olive Vista STEAM Mg","","Olive Vista Steam Mg","Olive Vista STEAM Mg","Olive Vista STEAM Mg",20]
["1832101","Pacoima MS","PACOIMA MS","Pacoima MS","","","Pacoima MS",10]
["1832102","Pacoima MS Film/Media/Perf Arts Magnet","Pacoima FMPA Mag","","Pacoima Fmpa Mag","Pacoima FMPA Mag","Pacoima FMPA Mag",16]
["1832103","Pacoima MS Computer Science/Math Magnet","Pacoima MS CS/M Mag","","Pacoima Ms Cs/M Mag","Pacoima MS CS/M Mag","Pacoima MS CS/M Mag",19]
["1834001","Palms MS","PALMS MS","Palms MS","","","Palms MS",8]
["1834002","Palms MS Gifted Magnet","Palms MS Gifted Mag","","Palms Ms Gifted Mag","Palms MS Gifted Mag","Palms MS Gifted Mag",19]
["1834003","PalMS MS Modern Media/Comm. Magnet","Palms MMC Mag","","Palms Mmc Mag","Palms MMC Mag","Palms MMC Mag",13]
["1834401","Woodland Hills Acad","WOODLAND HILLS ACAD","Woodland Hills Acad","","","Woodland Hills Acad",19]
["1834402","Woodland Hills Academy Humanities Magnet","Woodland Hls Hum Mag","","Woodland Hls Hum Mag","Woodland Hls Hum Mag","Woodland Hls Hum Mag",20]
["1835201","Peary MS","PEARY MS","Peary MS","","","Peary MS",8]
["1835202","Peary MS STEAM Magnet","Peary STEAM Mag","","Peary Steam Mag","Peary STEAM Mag","Peary STEAM Mag",15]
["1835203","Peary MS Gifted Magnet","Peary Gifted Mag","","Peary Gifted Mag","Peary Gifted Mag","Peary Gifted Mag",16]
["1835401","Porter MS","PORTER MS","Porter MS","","","Porter MS",9]
["1835402","George K Porter MS Gifted Magnet","Porter MS Gifted Mag","","Porter Ms Gifted Mag","Porter MS Gifted Mag","Porter MS Gifted Mag",20]
["1835501","Reed MS","REED MS","Reed MS","","","Reed MS",7]
["1835601","Revere MS","REVERE MS","Revere MS","","","Revere MS",9]
["1835602","Paul Revere Charter MS Science/Tech/Math","Revere CMS STM Mag","","Revere Cms Stm Mag","Revere CMS STEM Mag","Revere CMS STEM Mag",19]
["1835801","San Fernando MS","SAN FERNANDO MS",{"$f":"IF(LEN(B963)<=20,B963,\"\")","v":"San Fernando MS"},{"$f":"IF(D963=\"\",PROPER(C963),\"\")","v":""},"",{"$f":"IF(F963=\"\",D963,F963)","v":"San Fernando MS"},{"$f":"LEN(G963)","v":15}]
["1836301","Sepulveda MS","SEPULVEDA MS","Sepulveda MS","","","Sepulveda MS",12]
["1836302","Francisco Sepulveda MS Gifted Magnet","Sepulveda Gifted Mag","","Sepulveda Gifted Mag","Sepulveda Gifted Mag","Sepulveda Gifted Mag",20]
["1836303","Sepulveda MS Kine/Sports Medicine Magnet","Sepulveda KSM Mag","","Sepulveda Ksm Mag","Sepulveda KSM Mag","Sepulveda KSM Mag",17]
["1837701","South Gate MS","SOUTH GATE MS","South Gate MS","","","South Gate MS",13]
["1837702","South Gate MS Science/Tech/Math Magnet","South Gate MS STM Mg","","South Gate Ms Stm Mg","South Gate MS STEM Mg","South Gate MS STEM Mg",21]
["1838701","Robert L Stevenson College & Career Prep","Stevenson Col Car Pr","","Stevenson Col Car Pr","Stevenson Col Car Pr","Stevenson Col Car Pr",20]
["1838702","Stevenson Col & Car Prep Gifted Magnet","Stvnsn C&CP Gift Mag","","Stvnsn C&Cp Gift Mag","Stvnsn C&CP Gift Mag","Stvnsn C&CP Gift Mag",20]
["1838703","Stevenson Col & Car Prep Ca Magnet","Stvnsn C&P CA Mag","","Stvnsn C&P Ca Mag","Stvnsn C&P CA Mag","Stvnsn C&P CA Mag",17]
["1839001","Walnut Park MS SJ/SL","WALNUT PARK MS SJ/SL","Walnut Park MS SJ/SL","","","Walnut Park MS SJ/SL",20]
["1839601","Sun Valley ET Mag","SUN VALLEY ET MAG","Sun Valley ET Mag","","","Sun Valley ET Mag",17]
["1839602","Sun Valley ES Mag","SUN VALLEY ES MAG","Sun Valley ES Mag","","","Sun Valley ES Mag",17]
["1839603","Sun Valley BSEL Mag","SUN VALLEY BSEL MAG","Sun Valley BSEL Mag","","","Sun Valley BSEL Mag",19]
["1840601","Sutter MS","SUTTER MS","Sutter MS","","","Sutter MS",9]
["1840602","Sutter MS STEAM Magnet","Sutter STEAM Mag","","Sutter Steam Mag","Sutter STEAM Mag","Sutter STEAM Mag",16]
["1842501","Mark Twain MS","MARK TWAIN MS","Mark Twain MS","","","Mark Twain MS",13]
["1842502","Mark Twain WL Mag","MARK TWAIN WL MAG","Mark Twain WL Mag","","","Mark Twain WL Mag",17]
["1843401","Van Nuys MS","VAN NUYS MS","Van Nuys MS","","","Van Nuys MS",11]
["1843402","Van Nuys MS STEAM Magnet","Van Nuys STEAM Mag","","Van Nuys Steam Mag","Van Nuys STEAM Mag","Van Nuys STEAM Mag",18]
["1846201","Virgil MS","VIRGIL MS","Virgil MS","","","Virgil MS",9]
["1846202","Virgil Med & Health Sci Magnet","Virgil Med&Health Sc","","Virgil Med&Health Sc","Virgil Med&Health Sc","Virgil Med&Health Sc",20]
["1848101","Webster MS","WEBSTER MS","Webster MS","","","Webster MS",10]
["1848102","Webster MS STEAM Magnet","Webster MS STEAM","","Webster Ms Steam","Webster MS STEAM","Webster MS STEAM",16]
["1848701","White MS","WHITE MS","White MS","","","White MS",8]
["1848702","White STEAM Magnet","White STEAM","White STEAM Magnet","","","White STEAM Magnet",18]
["1849001","Wilmington MS STEAM Magnet","Wilmington STEAM Mag","","Wilmington Steam Mag","Wilmington STEAM Mag","Wilmington STEAM Mag",20]
["1849301","Wright Eng & Design Magnet","WRIGHT ENG & DES MAG","","Wright Eng & Des Mag","Wright Eng & Des Mag","Wright Eng & Des Mag",20]
["1849303","Wright MS Gifted Magnet","Wright Gifted Mag","","Wright Gifted Mag","Wright Gifted Mag","Wright Gifted Mag",17]
["1849701","Secondary CDS","SECONDARY CDS","Secondary CDS","","","Secondary CDS",13]
["1850101","RFK LA SH Arts","RFK LA SH ARTS","RFK LA SH Arts","","","RFK LA SH Arts",14]
["1850601","CDS Aggeler","CDS AGGELER","CDS Aggeler","","","CDS Aggeler",11]
["1850701","Aggeler HS","AGGELER HS","Aggeler HS","","","Aggeler HS",10]
["1851301","Northridge Acad SH","NORTHRIDGE ACAD SH","Northridge Acad SH","","","Northridge Acad SH",18]
["1851601","Cortines Sch Of VPA","CORTINES SCH OF VPA","Cortines Sch Of VPA","","","Cortines Sch Of VPA",19]
["1851701","Contreras Bus Tour","CONTRERAS BUS TOUR","Contreras Bus Tour","","","Contreras Bus Tour",18]
["1851801","Dr. R.A. Vladovic Harbor Tchr Prep Acad","Dr. Vladovic HTPA","","Dr. Vladovic Htpa","Dr. Vladovic HTPA","Dr. Vladovic HTPA",17]
["1852701","Contreras LC Soc Jus","CONTRERAS LC SOC JUS","Contreras LC Soc Jus","","","Contreras LC Soc Jus",20]
["1852901","Banning SH","BANNING SH","Banning SH","","","Banning SH",10]
["1852902","Banning HS College Preparatory Magnet","Banning Col Prep Mag","","Banning Col Prep Mag","Banning Col Prep Mag","Banning Col Prep Mag",20]
["1852907","Phineas Banning Senior High Firefighter","Banning SH FF Mag","","Banning Sh Ff Mag","Banning SH FF Mag","Banning SH FF Mag",17]
["1852908","Phineas Banning Senior High STEAM Magnet","Banning SH STEAM Mag","","Banning Sh Steam Mag","Banning SH STEAM Mag","Banning SH STEAM Mag",20]
["1852909","Banning HS Police Academy Magnet","Banning PA Mag","","Banning Pa Mag","Banning PA Mag","Banning PA Mag",14]
["1853101","Dan M. Isaacs Avalon High School","Dan Isaacs Avalon HS","","Dan Isaacs Avalon Hs","Dan Isaacs Avalon HS","Dan Isaacs Avalon HS",20]
["1853601","Bell SH","BELL SH","Bell SH","","","Bell SH",7]
["1853614","Bell SH Gifted Science/Tech/Eng/Math Mag","Bell Gifted/STEM Mag","","Bell Gifted/Stem Mag","Bell Gifted/STEM Mag","Bell Gifted/STEM Mag",20]
["1854301","Belmont SH","BELMONT SH","Belmont SH","","","Belmont SH",10]
["1854401","Roybal LC","ROYBAL LC","Roybal LC","","","Roybal LC",9]
["1854406","Roybal LC Innov Cine Arts/Music Prod Mag","Roybal ICAMP Mag","","Roybal Icamp Mag","Roybal ICAMP Mag","Roybal ICAMP Mag",16]
["1854501","Newmark HS","NEWMARK HS","Newmark HS","","","Newmark HS",10]
["1855801","Pearl Journ/Comm Mag","PEARL JOURN/COMM MAG","Pearl Journ/Comm Mag","","","Pearl Journ/Comm Mag",20]
["1855901","Independence HS","INDEPENDENCE HS","Independence HS","","","Independence HS",15]
["1857101","Canoga Park SH","CANOGA PARK SH","Canoga Park SH","","","Canoga Park SH",14]
["1857102","Canoga Park HS Eng & Env/Vet Sci Magnet","Canoga Park EEVS Mag","","Canoga Park Eevs Mag","Canoga Park EEVS Mag","Canoga Park EEVS Mag",20]
["1857106","Canoga Park HS Comm Arts/Media Magnet","Canoga Park CAM Mag","","Canoga Park Cam Mag","Canoga Park CAM Mag","Canoga Park CAM Mag",19]
["1857301","Owensmouth HS","OWENSMOUTH HS","Owensmouth HS","","","Owensmouth HS",13]
["1857501","Carson SH","CARSON SH","Carson SH","","","Carson SH",9]
["1857510","Carson HS Musical Ent/Digital Art Magnet","Carson HS MEDiA Mag","","Carson Hs Media Mag","Carson HS MEDiA Mag","Carson HS MEDiA Mag",19]
["1857701","Sotomayor Art/Sciences Magnet","Sotomayor Art/Sci Mg","","Sotomayor Art/Sci Mg","Sotomayor Art/Sci Mg","Sotomayor Art/Sci Mg",20]
["1857801","Eagle Tree Contn HS","EAGLE TREE CONTN HS","Eagle Tree Contn HS","","","Eagle Tree Contn HS",19]
["1858001","Central HS","CENTRAL HS","Central HS","","","Central HS",10]
["1858301","Chatsworth Chtr HS","CHATSWORTH CHTR HS","Chatsworth Chtr HS","","","Chatsworth Chtr HS",18]
["1858309","Chatsworth Charter HS GSTEAM Magnet","Chatsworth GSTEAM Mg","","Chatsworth Gsteam Mg","Chatsworth GSTEAM Mg","Chatsworth GSTEAM Mg",20]
["1858501","Stoney Point HS","STONEY POINT HS","Stoney Point HS","","","Stoney Point HS",15]
["1858901","CDS Johnston","CDS JOHNSTON","CDS Johnston","","","CDS Johnston",12]
["1859001","Cleveland Chtr HS","CLEVELAND CHTR HS",{"$f":"IF(LEN(B1027)<=20,B1027,\"\")","v":"Cleveland Chtr HS"},{"$f":"IF(D1027=\"\",PROPER(C1027),\"\")","v":""},"",{"$f":"IF(F1027=\"\",D1027,F1027)","v":"Cleveland Chtr HS"},{"$f":"LEN(G1027)","v":17}]
["1859002","Cleveland Human Mag","CLEVELAND HUMAN MAG","Cleveland Human Mag","","","Cleveland Human Mag",19]
["1859007","Cleveland Charter HS GMS Magnet","Cleveland GMS Mag","","Cleveland Gms Mag","Cleveland GMS Mag","Cleveland GMS Mag",17]
["1859101","Wooden HS","WOODEN HS","Wooden HS","","","Wooden HS",9]
["1859601","Crenshaw STEMM Mag","CRENSHAW STEMM MAG","Crenshaw STEMM Mag","","","Crenshaw STEMM Mag",18]
["1859801","Young HS","YOUNG HS","Young HS","","","Young HS",8]
["1860001","Dorsey SH","DORSEY SH","Dorsey SH","","","Dorsey SH",9]
["1860002","Susan Miller Dorsey SH Science/Tech/Math","Dorsey SH STM Mag","","Dorsey Sh Stm Mag","Dorsey SH STM Mag","Dorsey SH STM Mag",17]
["1860003","Dorsey HS Sports Medicine/Law Magnet","Dorsey L/PS/PPS Mag","","Dorsey L/Ps/Pps Mag","Dorsey L/PS/PPS Mag","Dorsey L/PS/PPS Mag",19]
["1860009","Dorsey HS Firefighter/EMS Magnet","Dorsey FEMS Mag","","Dorsey Fems Mag","Dorsey FEMS Mag","Dorsey FEMS Mag",15]
["1860201","View Park Contn HS","VIEW PARK CONTN HS","View Park Contn HS","","","View Park Contn HS",18]
["1860601","Torres ELA PA Mag","TORRES ELA PA MAG","Torres ELA PA Mag","","","Torres ELA PA Mag",17]
["1860701","East Valley SH","EAST VALLEY SH","East Valley SH","","","East Valley SH",14]
["1860901","Arleta SH","ARLETA SH","Arleta SH","","","Arleta SH",9]
["1861001","Panorama SH","PANORAMA SH","Panorama SH","","","Panorama SH",11]
["1861007","Panorama HS Sports Med/Info Tech Magnet","Panorama SMIT Mag","","Panorama Smit Mag","Panorama SMIT Mag","Panorama SMIT Mag",17]
["1861008","Panorama HS Gifted STEAM Magnet","Panorama GSTEAM Mag","","Panorama Gsteam Mag","Panorama GSTEAM Mag","Panorama GSTEAM Mag",19]
["1861009","Panorama HS Social Justice/Lead Magnet","Panorama HS SJL Mag","","Panorama Hs Sjl Mag","Panorama HS SJL Mag","Panorama HS SJL Mag",19]
["1861101","Mendez SH","MENDEZ SH","Mendez SH","","","Mendez SH",9]
["1861201","Burke HS","BURKE HS","Burke HS","","","Burke HS",8]
["1861401","Eagle Rock HS","EAGLE ROCK HS","Eagle Rock HS","","","Eagle Rock HS",13]
["1861402","Eagle Rock High School Gifted Magnet","Egl Rck SH Gifted Mg","","Egl Rck Sh Gifted Mg","Eagle Rck SH Gifted Mg","Eagle Rck SH Gifted Mg",22]
["1861801","Wilson SH","WILSON SH","Wilson SH","","","Wilson SH",9]
["1861802","Wilson Police Acd Mg","WILSON POLICE ACD MG","Wilson Police Acd Mg","","","Wilson Police Acd Mg",20]
["1861803","Wilson Adm/Law Mag","WILSON ADM/LAW MAG","Wilson Adm/Law Mag","","","Wilson Adm/Law Mag",18]
["1861810","Woodrow Wilson Senior High Firefighter Mag","Wilson SH FF Mag","","Wilson Sh Ff Mag","Wilson SH FF Mag","Wilson SH FF Mag",16]
["1862101","Fairfax SH","FAIRFAX SH","Fairfax SH","","","Fairfax SH",10]
["1862102","Fairfax Vis Arts Mag","FAIRFAX VIS ARTS MAG","Fairfax Vis Arts Mag","","","Fairfax Vis Arts Mag",20]
["1862108","Fairfax HS Police Academy Magnet","Fairfax PA Mag","","Fairfax Pa Mag","Fairfax PA Mag","Fairfax PA Mag",14]
["1862301","Whitman HS","WHITMAN HS","Whitman HS","","","Whitman HS",10]
["1863601","Polytechnic SH","POLYTECHNIC SH","Polytechnic SH","","","Polytechnic SH",14]
["1863602","John H Francis Polytechnic SH Sci/Tech/Math","Polytechnic STM Mag","","Polytechnic Stm Mag","Polytechnic STEM Mag","Polytechnic STEM Mag",20]
["1863801","Lewis HS","LEWIS HS","Lewis HS","","","Lewis HS",8]
["1864301","Franklin SH","FRANKLIN SH","Franklin SH","","","Franklin SH",11]
["1864302","Benjamin Franklin SH Science/Tech/Math Mag","Franklin SH STM Mag","","Franklin Sh Stm Mag","Franklin SH STM Mag","Franklin SH STM Mag",19]
["1864311","Franklin HS Dual Language Academy Magnet","Franklin DLA Mag","","Franklin Dla Mag","Franklin DLA Mag","Franklin DLA Mag",16]
["1864501","Highland Park HS","HIGHLAND PARK HS","Highland Park HS","","","Highland Park HS",16]
["1865001","Fremont SH","FREMONT SH","Fremont SH","","","Fremont SH",10]
["1865002","Fremont HS STEAM Magnet","Fremont STEAM Mag","","Fremont Steam Mag","Fremont STEAM Mag","Fremont STEAM Mag",17]
["1865201","Hope HS","HOPE HS","Hope HS","","","Hope HS",7]
["1866401","Gardena SH","GARDENA SH","Gardena SH","","","Gardena SH",10]
["1866402","Gardena HS Gobal Business Magnet","Gardena HS GB Mag","","Gardena Hs Gb Mag","Gardena HS GB Mag","Gardena HS GB Mag",17]
["1866407","Gardena HS Law/Public Service Magnet","Gardena L/PS Mag","","Gardena L/Ps Mag","Gardena L/PS Mag","Gardena L/PS Mag",16]
["1866601","Moneta HS","MONETA HS","Moneta HS","","","Moneta HS",9]
["1867001","CDS Alonzo","CDS ALONZO","CDS Alonzo","","","CDS Alonzo",10]
["1867701","Monterey HS","MONTEREY HS","Monterey HS","","","Monterey HS",11]
["1867901","Garfield SH","GARFIELD SH","Garfield SH","","","Garfield SH",11]
["1867902","Garfield Comp Sci Mg","GARFIELD COMP SCI MG","Garfield Comp Sci Mg","","","Garfield Comp Sci Mg",20]
["1868301","Grant SH","GRANT SH","Grant SH","","","Grant SH",8]
["1868302","Grant HS College Prep/Digital Arts Mag","Grant CP/DA Mag","","Grant Cp/Da Mag","Grant CP/DA Mag","Grant CP/DA Mag",15]
["1868308","Grant HS Hum For Interdiscip Studies Mag","Grant H for IS Mag","","Grant H For Is Mag","Grant H for IS Mag","Grant H for IS Mag",18]
["1868501","London HS","LONDON HS","London HS","","","London HS",9]
["1868601","Hamilton SH-Complex","HAMILTON SH-COMPLEX","Hamilton SH-Complex","","","Hamilton SH-Complex",19]
["1868602","Hamilton Music & Perf Arts Mag","Hamilton Music","","Hamilton Music","Hamilton Music","Hamilton Music",14]
["1868603","Hamilton Human Mag","HAMILTON HUMAN MAG","Hamilton Human Mag","","","Hamilton Human Mag",18]
["1868801","Cheviot Hills HS","CHEVIOT HILLS HS","Cheviot Hills HS","","","Cheviot Hills HS",16]
["1869301","Hollywood SH","HOLLYWOOD SH","Hollywood SH","","","Hollywood SH",12]
["1869302","Hollywood Per Art Mg","Hollywood Per Art Mg","Hollywood Per Art Mg","","","Hollywood Per Art Mg",20]
["1869307","Hollywood HS New Media Magnet","Hollywood HS","","Hollywood Hs","Hollywood HS","Hollywood HS",12]
["1869601","Bernstein SH","BERNSTEIN SH","Bernstein SH","","","Bernstein SH",12]
["1869602","Bernstein HS Cine Arts/Creative Tech Mag","Bernstein CA/CT Mag","","Bernstein Ca/Ct Mag","Bernstein CA/CT Mag","Bernstein CA/CT Mag",19]
["1870001","Huntington Park SH","HUNTINGTON PARK SH","Huntington Park SH","","","Huntington Park SH",18]
["1870018","Huntington Park HS STEAM Magnet","Hntngtn Pk STEAM Mag","","Hntngtn Pk Steam Mag","Hntngtn Pk STEAM Mag","Hntngtn Pk STEAM Mag",20]
["1870101","International St LC","INTERNATIONAL ST LC","International St LC","","","International St LC",19]
["1870201","San Antonio HS","SAN ANTONIO HS",{"$f":"IF(LEN(B1091)<=20,B1091,\"\")","v":"San Antonio HS"},{"$f":"IF(D1091=\"\",PROPER(C1091),\"\")","v":""},"",{"$f":"IF(F1091=\"\",D1091,F1091)","v":"San Antonio HS"},{"$f":"LEN(G1091)","v":14}]
["1871001","Early College Acad","EARLY COLLEGE ACAD","Early College Acad","","","Early College Acad",18]
["1871301","Hawkins SH C/DAGS","HAWKINS SH C/DAGS","Hawkins SH C/DAGS","","","Hawkins SH C/DAGS",17]
["1871401","Jefferson SH","JEFFERSON SH","Jefferson SH","","","Jefferson SH",12]
["1871601","Santee Educ Complex","SANTEE EDUC COMPLEX","Santee Educ Complex","","","Santee Educ Complex",19]
["1872101","Jordan SH","JORDAN SH","Jordan SH","","","Jordan SH",9]
["1872301","Rodia HS","Rodia HS","Rodia HS","","","Rodia HS",8]
["1872501","Kennedy SH","KENNEDY SH","Kennedy SH","","","Kennedy SH",10]
["1872502","Kennedy A/DD/FM Magnet","Kennedy A/DD/FM","","Kennedy A/Dd/Fm","Kennedy A/DD/FM","Kennedy A/DD/FM",15]
["1872508","John F Kennedy Senior High Gifted Medical Mag","Kennedy Gifted/Md Mg","","Kennedy Gifted/Md Mg","Kennedy Gifted/Md Mg","Kennedy Gifted/Md Mg",20]
["1872509","Kennedy HS Global Lead/Env Action Magnet","Kennedy HS GLEA Mag","","Kennedy Hs Glea Mag","Kennedy HS GLEA Mag","Kennedy HS GLEA Mag",19]
["1872601","AddaMS HS","ADDAMS HS","AddaMS HS","","","AddaMS HS",9]
["1872701","King-Drew Med Mag","KING-DREW MED MAG","King-Drew Med Mag","","","King-Drew Med Mag",17]
["1872901","Lincoln SH","LINCOLN SH","Lincoln SH","","","Lincoln SH",10]
["1872902","Abraham Lincoln SH Science/Tech/Math Mag","Lincoln SH STM Mag","","Lincoln Sh Stm Mag","Lincoln SH STM Mag","Lincoln SH STM Mag",18]
["1872908","Lincoln ESP Magnet","Lincoln ESP","Lincoln ESP Magnet","","","Lincoln ESP Magnet",18]
["1873001","CDS West Hollywood","CDS WEST HOLLYWOOD","CDS West Hollywood","","","CDS West Hollywood",18]
["1873101","Pueblo De LA HS","PUEBLO DE LA HS","Pueblo De LA HS","","","Pueblo De LA HS",15]
["1873601","Los Angeles SH","LOS ANGELES SH","Los Angeles SH","","","Los Angeles SH",14]
["1873602","Los Angeles HS STEAM Magnet","Los Angeles STEAM Mg","","Los Angeles Steam Mg","Los Angeles STEAM Mg","Los Angeles STEAM Mg",20]
["1873801","Downtwn Business Mag","DOWNTWN BUSINESS MAG","Downtwn Business Mag","","","Downtwn Business Mag",20]
["1873803","Downtown Computer Sci/Digital Media Arts","Downtown CS/DMA/E Mg","","Downtown Cs/Dma/E Mg","Downtown CS/DMA/E Mg","Downtown CS/DMA/E Mg",20]
["1874101","LACES Mag","LACES MAG","LACES Mag","","","LACES Mag",9]
["1874301","Manual Arts SH","MANUAL ARTS SH","Manual Arts SH","","","Manual Arts SH",14]
["1874302","Manual Arts Col Prep","MANUAL ARTS COL PREP","Manual Arts Col Prep","","","Manual Arts Col Prep",20]
["1874801","West Adams Prep SH","WEST ADAMS PREP SH","West Adams Prep SH","","","West Adams Prep SH",18]
["1874802","West Adams HS Firefighter Academy Magnet","W Adams FA Mag","","W Adams Fa Mag","W Adams FA Mag","W Adams FA Mag",14]
["1874803","West Adams HS Police Academy Magnet","W Adams PA Mag","","W Adams Pa Mag","W Adams PA Mag","W Adams PA Mag",14]
["1875001","Marshall SH","MARSHALL SH","Marshall SH","","","Marshall SH",11]
["1875002","John Marshall Senior High Gifted Magnet","Marshall Gifted Mag","","Marshall Gifted Mag","Marshall Gifted Mag","Marshall Gifted Mag",19]
["1875401","Bravo Medical Mag","BRAVO MEDICAL MAG","Bravo Medical Mag","","","Bravo Medical Mag",17]
["1875701","Metropolitan HS","METROPOLITAN HS","Metropolitan HS","","","Metropolitan HS",15]
["1876001","Middle College HS","MIDDLE COLLEGE HS","Middle College HS","","","Middle College HS",17]
["1876801","Monroe SH","MONROE SH","Monroe SH","","","Monroe SH",9]
["1876802","Monroe Police Acd Mg","MONROE POLICE ACD MG","Monroe Police Acd Mg","","","Monroe Police Acd Mg",20]
["1876803","Monroe Law/Gov Mag","MONROE LAW/GOV MAG","Monroe Law/Gov Mag","","","Monroe Law/Gov Mag",18]
["1876810","POPP","POPP","POPP","","","POPP",4]
["1876812","Monroe HS Firefighter Academy Magnet","Monroe FA Mag","","Monroe Fa Mag","Monroe FA Mag","Monroe FA Mag",13]
["1877001","Einstein HS","EINSTEIN HS","Einstein HS","","","Einstein HS",11]
["1877401","Contreras LC Glbl St","CONTRERAS LC GLBL ST","Contreras LC Glbl St","","","Contreras LC Glbl St",20]
["1877701","Kahlo HS","KAHLO HS","Kahlo HS","","","Kahlo HS",8]
["1877901","Narbonne SH","NARBONNE SH","Narbonne SH","","","Narbonne SH",11]
["1877902","Narbonne HS STEAM Magnet","Narbonne STEAM Mag","","Narbonne Steam Mag","Narbonne STEAM Mag","Narbonne STEAM Mag",18]
["1877911","Narbonne HS Bus/Entrep/Tech Magnet","Narbonne BET Mag","","Narbonne Bet Mag","Narbonne BET Mag","Narbonne BET Mag",16]
["1878101","Patton HS","PATTON HS","Patton HS","","","Patton HS",9]
["1878601","No Hollywood SH","NO HOLLYWOOD SH","No Hollywood SH","","","No Hollywood SH",15]
["1878602","No Hollywood Hg Mag","NO HOLLYWOOD HG MAG","No Hollywood Hg Mag","","","No Hollywood Hg Mag",19]
["1878603","NHHS/LA Zoo Biol Mag","NHHS/LA ZOO BIOL MAG","NHHS/LA Zoo Biol Mag","","","NHHS/LA Zoo Biol Mag",20]
["1878612","North Hollywood HS STEM Magnet","N Hollywood STEM Mag","","N Hollywood Stem Mag","N Hollywood STEM Mag","N Hollywood STEM Mag",20]
["1878801","Earhart HS","EARHART HS","Earhart HS","","","Earhart HS",10]
["1880101","City Of Angels","CITY OF ANGELS","City Of Angels","","","City Of Angels",14]
["1880701","Ramona HS","RAMONA HS","Ramona HS","","","Ramona HS",9]
["1881401","Reseda Charter High School","Reseda Charter HS","","Reseda Charter Hs","Reseda Charter HS","Reseda Charter HS",17]
["1881402","Reseda Charter HS Police Academy Magnet","Reseda CHS PA Mag","","Reseda Chs Pa Mag","Reseda CHS PA Mag","Reseda CHS PA Mag",17]
["1881403","Reseda Charter HS Science Magnet","Reseda CHS Sci Mag","","Reseda Chs Sci Mag","Reseda CHS Sci Mag","Reseda CHS Sci Mag",18]
["1881409","Reseda Charter HS Arts/Media/Ent Magnet","Reseda CHS AME Mag","","Reseda Chs Ame Mag","Reseda CHS AME Mag","Reseda CHS AME Mag",18]
["1881601","Grey HS","GREY HS","Grey HS","","","Grey HS",7]
["1883101","Boyle Heights HS","BOYLE HEIGHTS HS","Boyle Heights HS","","","Boyle Heights HS",16]
["1883801","Narbonne SH Harts LA","NARBONNE SH HARTS LA","Narbonne SH Harts LA","","","Narbonne SH Harts LA",20]
["1884201","SOCES Mag","SOCES MAG","SOCES Mag","","","SOCES Mag",9]
["1884301","San Fernando SH","SAN FERNANDO SH","San Fernando SH","","","San Fernando SH",15]
["1884302","San Fernando Senior High Science/Tech/Math","San Fernando STM Mag","","San Fernando Stm Mag","San Fernando STEM Mag","San Fernando STEM Mag",21]
["1884501","Mission HS","MISSION HS","Mission HS","","","Mission HS",10]
["1885001","San Pedro SH","SAN PEDRO SH","San Pedro SH","","","San Pedro SH",12]
["1885002","San Pedro Pol Acd Mg","SAN PEDRO POL ACD MG",{"$f":"IF(LEN(B1155)<=20,B1155,\"\")","v":"San Pedro Pol Acd Mg"},{"$f":"IF(D1155=\"\",PROPER(C1155),\"\")","v":""},"",{"$f":"IF(F1155=\"\",D1155,F1155)","v":"San Pedro Pol Acd Mg"},{"$f":"LEN(G1155)","v":20}]
["1885003","San Pedro Senior High Marine Science/Tech","San Pedro MS/T/M Mag","","San Pedro Ms/T/M Mag","San Pedro MS/T/M Mag","San Pedro MS/T/M Mag",20]
["1885010","San Pedro Senior High Gifted STEAM Magnet","San Pedro G/STEAM Mg","","San Pedro G/Steam Mg","San Pedro G/STEAM Mg","San Pedro G/STEAM Mg",20]
["1885011","San Pedro HS Visual/Perf Arts Magnet","San Pedro VAPA Mag","","San Pedro Vapa Mag","San Pedro VAPA Mag","San Pedro VAPA Mag",18]
["1885201","Angel's Gate HS","ANGEL'S GATE HS","Angel's Gate HS","","","Angel's Gate HS",15]
["1885301","Orthopaedic Hosp Mag","ORTHOPAEDIC HOSP MAG","Orthopaedic Hosp Mag","","","Orthopaedic Hosp Mag",20]
["1886601","Marquez SH HPIAM","MARQUEZ SH HPIAM","Marquez SH HPIAM","","","Marquez SH HPIAM",16]
["1886701","Rivera LC Pub Srv","RIVERA LC PUB SRV","Rivera LC Pub Srv","","","Rivera LC Pub Srv",17]
["1886801","Rancho Domingz Prep","RANCHO DOMINGZ PREP","Rancho Domingz Prep","","","Rancho Domingz Prep",19]
["1886802","Rancho Dominguez PS Law/Gov/Pub Serv Mag","Ran Dmngz L/G/PS Mag","","Ran Dmngz L/G/Ps Mag","Rancho Dmngz L/G/PS Mg","Rancho Dmngz L/G/PS Mg",22]
["1887101","South Gate SH","SOUTH GATE SH","South Gate SH","","","South Gate SH",13]
["1887110","South Gate HS Pub Service/Biomed Magnet","South Gate HS PSB Mg","","South Gate Hs Psb Mg","South Gate HS PSB Mg","South Gate HS PSB Mg",20]
["1887301","Odyssey HS","ODYSSEY HS","Odyssey HS","","","Odyssey HS",10]
["1887601","Evergreen HS","EVERGREEN HS","Evergreen HS","","","Evergreen HS",12]
["1887801","Sylmar Charter High School","Sylmar Charter HS","","Sylmar Charter Hs","Sylmar Charter HS","Sylmar Charter HS",17]
["1887802","Sylmar Charter HS Sci/Tech/Math Magnet","Sylmar CHS STM Mag","","Sylmar Chs Stm Mag","Sylmar CHS STM Mag","Sylmar CHS STM Mag",18]
["1888001","William Howard Taft Charter HS","William H Taft","","William H Taft","William H Taft","William H Taft",14]
["1888007","William Howard Taft Charter SH Gifted St","Taft Gifted/STEAM Mg","","Taft Gifted/Steam Mg","Taft Gifted/STEAM Mg","Taft Gifted/STEAM Mg",20]
["1888101","South East SH","SOUTH EAST SH","South East SH","","","South East SH",13]
["1888108","South East HS Steam Magnet","SEHS TECH/MEDIA MAG","","Sehs Tech/Media Mag","SEHS Tech/Media Mag","SEHS Tech/Media Mag",19]
["1888201","Maywood Academy SH","MAYWOOD ACADEMY SH","Maywood Academy SH","","","Maywood Academy SH",18]
["1888301","Thoreau HS","THOREAU HS","Thoreau HS","","","Thoreau HS",10]
["1888601","University High School Charter","University HS Chartr","","University Hs Chartr","University HS Charter","University HS Charter",21]
["1888607","University Charter HS Mth/Art/Sci/Tch Mg","Univrsty CHS MAST Mg","","Univrsty Chs Mast Mg","Univrsty CHS MAST Mg","Univrsty CHS MAST Mg",20]
["1889301","Van Nuys SH","VAN NUYS SH","Van Nuys SH","","","Van Nuys SH",11]
["1889302","Van Nuys Medical Mag","Van Nuys SH Med Mag","Van Nuys Medical Mag","","","Van Nuys Medical Mag",20]
["1889303","Van Nuys Senior High Science/Tech/Math Mag","Van Nuys SH STM Mag","","Van Nuys Sh Stm Mag","Van Nuys SH STM Mag","Van Nuys SH STM Mag",19]
["1889304","Van Nuys Per Arts Mg","Van Nuys SH PA Mag","Van Nuys Per Arts Mg","","","Van Nuys Per Arts Mg",20]
["1889501","Rogers HS","ROGERS HS","Rogers HS","","","Rogers HS",9]
["1889801","Valley Acad Arts/Sci","VALLEY ACAD ARTS/SCI","Valley Acad Arts/Sci","","","Valley Acad Arts/Sci",20]
["1890101","Chavez Learning Acad-Technology Prep","Chavez LA Tech Prep","","Chavez La Tech Prep","Chavez LA Tech Prep","Chavez LA Tech Prep",19]
["1890701","Venice SH","VENICE SH","Venice SH","","","Venice SH",9]
["1890702","Venice SH World Languages/Global Studies","Venice SH WL/GS Mag","","Venice Sh Wl/Gs Mag","Venice SH WL/GS Mag","Venice SH WL/GS Mag",19]
["1890707","Venice SH STEMM Mag","VENICE SH STEMM MAG","Venice SH STEMM Mag","","","Venice SH STEMM Mag",19]
["1890901","Phoenix HS","PHOENIX HS","Phoenix HS","","","Phoenix HS",10]
["1891401","Verdugo Hills SH","VERDUGO HILLS SH","Verdugo Hills SH","","","Verdugo Hills SH",16]
["1891402","Verdguo Hills HS STEMM Magnet","Vrdgo Hlls STEMM Mg","","Vrdgo Hlls Stemm Mg","Vrdgo Hlls STEMM Mg","Vrdgo Hlls STEMM Mg",19]
["1891408","Verdugo Hills SH Visual and Performing Acad","Verdgo Hls VAPA Mag","","Verdgo Hls Vapa Mag","Verdgo Hls VAPA Mag","Verdgo Hls VAPA Mag",19]
["1891601","Mt Lukens HS","MT LUKENS HS","Mt Lukens HS","","","Mt Lukens HS",12]
["1891701","Maywood Center for Enriched Studies Mag","MaCES Magnet","","Maces Magnet","MaCES Magnet","MaCES Magnet",12]
["1892101","Legacy SH STEAM","LEGACY SH STEAM","Legacy SH STEAM","","","Legacy SH STEAM",15]
["1892801","Washington Prep SH","WASHINGTON PREP SH","Washington Prep SH","","","Washington Prep SH",18]
["1892803","Washington Preparatory HS STEAM Magnet","Washington STEAM Mag","","Washington Steam Mag","Washington STEAM Mag","Washington STEAM Mag",20]
["1893001","Ellington HS","ELLINGTON HS","Ellington HS","","","Ellington HS",12]
["1894301","WESM Hlth/Sports Med","WESM HLTH/SPORTS MED","WESM Hlth/Sports Med","","","WESM Hlth/Sports Med",20]
["1894309","Westchester Gifted/STEAM Magnet","WES G/HG/HA/STEAM Mg","","Wes G/Hg/Ha/Steam Mg","WES G/HG/HA/STEAM Mg","WES G/HG/HA/STEAM Mg",20]
["1894310","WESM Env Natrl Sci","WESM ENV NATRL SCI","WESM Env Natrl Sci","","","WESM Env Natrl Sci",18]
["1894801","Yth Opp Unltd Alt HS","YTH OPP UNLTD ALT HS","Yth Opp Unltd Alt HS","","","Yth Opp Unltd Alt HS",20]
["1899101","CDS Tri-C","CDS TRI-C","CDS Tri-C","","","CDS Tri-C",9]

{"sheet":"School List","index":6,"n_rows":1135,"n_cols":9,"rows_kept":1135,"cut":false,"hidden":true,"merged":[]}
["Norm Day",null,null,null,null,"ECAST","Removed non-norm schools"]
["Cost Center","School Name","Combined",null,null,"Cost Center","School Name","Combined","Char Count"]
["1194901","Marlton",{"$f":"A3&\"-\"&B3","v":"1194901-Marlton"},null,null,"1194901",{"$f":"VLOOKUP(F3, 'ECAST Lookup'!A:G,7,FALSE)","v":"Marlton"},{"$f":"F3&\"-\"&G3","v":"1194901-Marlton"},{"$f":"LEN(H3)","v":15}]
["1201401","Albion El",{"$f":"A4&\"-\"&B4","v":"1201401-Albion El"},null,null,"1201401",{"$f":"VLOOKUP(F4, 'ECAST Lookup'!A:G,7,FALSE)","v":"Albion El"},{"$f":"F4&\"-\"&G4","v":"1201401-Albion El"},{"$f":"LEN(H4)","v":17}]
["1202701","Aldama El","1202701-Aldama El",null,null,"1202701",{"$f":"VLOOKUP(F5, 'ECAST Lookup'!A:G,7,FALSE)","v":"Aldama El"},{"$f":"F5&\"-\"&G5","v":"1202701-Aldama El"},{"$f":"LEN(H5)","v":17}]
["1202702","Aldama El DL Two-Way Im Spanish","1202702-Aldama El DL Two-Way Im Spanish",null,null,"1202702",{"$f":"VLOOKUP(F6, 'ECAST Lookup'!A:G,7,FALSE)","v":"Aldama El DTS"},"1202702-Aldama El DTS",21]
["1204101","Alexandria El","1204101-Alexandria El",null,null,"1204101",{"$f":"VLOOKUP(F7, 'ECAST Lookup'!A:G,7,FALSE)","v":"Alexandria El"},"1204101-Alexandria El",21]
["1204102","Alexandria Ave. El DL Two-Way Im Spanish","1204102-Alexandria Ave. El DL Two-Way Im Spanish",null,null,"1204102",{"$f":"VLOOKUP(F8, 'ECAST Lookup'!A:G,7,FALSE)","v":"Alexandria El DTS"},"1204102-Alexandria El DTS",25]
["1204201","Harvard El","1204201-Harvard El",null,null,"1204201",{"$f":"VLOOKUP(F9, 'ECAST Lookup'!A:G,7,FALSE)","v":"Harvard El"},"1204201-Harvard El",18]
["1204202","Harvard El DL Two-Way Im Spanish","1204202-Harvard El DL Two-Way Im Spanish",null,null,"1204202",{"$f":"VLOOKUP(F10, 'ECAST Lookup'!A:G,7,FALSE)","v":"Harvard El DTS"},"1204202-Harvard El DTS",22]
["1206801","Allesandro El","1206801-Allesandro El",null,null,"1206801",{"$f":"VLOOKUP(F11, 'ECAST Lookup'!A:G,7,FALSE)","v":"Allesandro El"},"1206801-Allesandro El",21]
["1206802","Allesndro Coop Lr Mg","1206802-Allesndro Coop Lr Mg",null,null,"1206802",{"$f":"VLOOKUP(F12, 'ECAST Lookup'!A:G,7,FALSE)","v":"Allesndro Coop Lr Mg"},"1206802-Allesndro Coop Lr Mg",28]
["1208201","Alta Loma El","1208201-Alta Loma El",null,null,"1208201",{"$f":"VLOOKUP(F13, 'ECAST Lookup'!A:G,7,FALSE)","v":"Alta Loma El"},"1208201-Alta Loma El",20]
["1208202","Alta Loma El DL Two-Way Im Spanish","1208202-Alta Loma El DL Two-Way Im Spanish",null,null,"1208202",{"$f":"VLOOKUP(F14, 'ECAST Lookup'!A:G,7,FALSE)","v":"Alta Loma El DTS"},"1208202-Alta Loma El DTS",24]
["1208901","Ambler El","1208901-Ambler El",null,null,"1208901",{"$f":"VLOOKUP(F15, 'ECAST Lookup'!A:G,7,FALSE)","v":"Ambler El"},"1208901-Ambler El",17]
["1208902","Ambler Avenue Elementary Gifted Magnet","1208902-Ambler Avenue Elementary Gifted Magnet",null,null,"1208902",{"$f":"VLOOKUP(F16, 'ECAST Lookup'!A:G,7,FALSE)","v":"Ambler Av Gifted Mag"},"1208902-Ambler Av Gifted Mag",28]
["1208903","Ambler El DL Two-Way Im Spanish","1208903-Ambler El DL Two-Way Im Spanish",null,null,"1208903",{"$f":"VLOOKUP(F17, 'ECAST Lookup'!A:G,7,FALSE)","v":"Ambler El DTS"},"1208903-Ambler El DTS",21]
["1209601","Amestoy El","1209601-Amestoy El",null,null,"1209601",{"$f":"VLOOKUP(F18, 'ECAST Lookup'!A:G,7,FALSE)","v":"Amestoy El"},"1209601-Amestoy El",18]
["1209602","Amestoy ES Multilingual/Multicultural Mg","1209602-Amestoy ES Multilingual/Multicultural Mg",null,null,"1209602",{"$f":"VLOOKUP(F19, 'ECAST Lookup'!A:G,7,FALSE)","v":"Amestoy ES Ml/MC Mag"},"1209602-Amestoy ES Ml/MC Mag",28]
["1211001","Anatola El","1211001-Anatola El",null,null,"1209603",{"$f":"VLOOKUP(F20, 'ECAST Lookup'!A:G,7,FALSE)","v":"Amestoy El DTJ"},"1209603-Amestoy El DTJ",22]
["1211701","Andasol El","1211701-Andasol El",null,null,"1211001",{"$f":"VLOOKUP(F21, 'ECAST Lookup'!A:G,7,FALSE)","v":"Anatola El"},"1211001-Anatola El",18]
["1212301","Angeles Mesa El","1212301-Angeles Mesa El",null,null,"1211701",{"$f":"VLOOKUP(F22, 'ECAST Lookup'!A:G,7,FALSE)","v":"Andasol El"},"1211701-Andasol El",18]
["1212302","Angeles Mesa ES DREAMS Magnet","1212302-Angeles Mesa ES DREAMS Magnet",null,null,"1212301",{"$f":"VLOOKUP(F23, 'ECAST Lookup'!A:G,7,FALSE)","v":"Angeles Mesa El"},"1212301-Angeles Mesa El",23]
["1213701","Ann El","1213701-Ann El",null,null,"1212302",{"$f":"VLOOKUP(F24, 'ECAST Lookup'!A:G,7,FALSE)","v":"Angls Msa DREAMS Mg"},"1212302-Angls Msa DREAMS Mg",27]
["1214601","Annalee El","1214601-Annalee El",null,null,"1213701",{"$f":"VLOOKUP(F25, 'ECAST Lookup'!A:G,7,FALSE)","v":"Ann El"},"1213701-Ann El",14]
["1214602","Annalee Av ES STEAM Mag","1214602-Annalee Av ES STEAM Mag",null,null,"1214601",{"$f":"VLOOKUP(F26, 'ECAST Lookup'!A:G,7,FALSE)","v":"Annalee El"},"1214601-Annalee El",18]
["1215101","Annandale El","1215101-Annandale El",null,null,"1214602",{"$f":"VLOOKUP(F27, 'ECAST Lookup'!A:G,7,FALSE)","v":"Annalee Av STEAM Mag"},"1214602-Annalee Av STEAM Mag",28]
["1216401","Apperson El","1216401-Apperson El",null,null,"1215101",{"$f":"VLOOKUP(F28, 'ECAST Lookup'!A:G,7,FALSE)","v":"Annandale El"},"1215101-Annandale El",20]
["1217801","Aragon El","1217801-Aragon El",null,null,"1216401",{"$f":"VLOOKUP(F29, 'ECAST Lookup'!A:G,7,FALSE)","v":"Apperson El"},"1216401-Apperson El",19]
["1219201","Arlington Hts El","1219201-Arlington Hts El",null,null,"1217801",{"$f":"VLOOKUP(F30, 'ECAST Lookup'!A:G,7,FALSE)","v":"Aragon El"},"1217801-Aragon El",17]
["1219202","Arlington Hts El DL Two-Way Im Spanish","1219202-Arlington Hts El DL Two-Way Im Spanish",null,null,"1219201",{"$f":"VLOOKUP(F31, 'ECAST Lookup'!A:G,7,FALSE)","v":"Arlington Hts El"},"1219201-Arlington Hts El",24]
["1220501","Arminta El","1220501-Arminta El",null,null,"1219202",{"$f":"VLOOKUP(F32, 'ECAST Lookup'!A:G,7,FALSE)","v":"Arlington Hts DTS"},"1219202-Arlington Hts DTS",25]
["1221901","Ascot El","1221901-Ascot El",null,null,"1220501",{"$f":"VLOOKUP(F33, 'ECAST Lookup'!A:G,7,FALSE)","v":"Arminta El"},"1220501-Arminta El",18]
["1223301","Atwater El","1223301-Atwater El",null,null,"1221901",{"$f":"VLOOKUP(F34, 'ECAST Lookup'!A:G,7,FALSE)","v":"Ascot El"},"1221901-Ascot El",16]
["1223302","Atwater El DL Two-Way Im Spanish","1223302-Atwater El DL Two-Way Im Spanish",null,null,"1223301",{"$f":"VLOOKUP(F35, 'ECAST Lookup'!A:G,7,FALSE)","v":"Atwater El"},"1223301-Atwater El",18]
["1224701","Avalon Gardens El","1224701-Avalon Gardens El",null,null,"1223302",{"$f":"VLOOKUP(F36, 'ECAST Lookup'!A:G,7,FALSE)","v":"Atwater El DTS"},"1223302-Atwater El DTS",22]
["1225001","Acad For Enrch Sci","1225001-Acad For Enrch Sci",null,null,"1224701",{"$f":"VLOOKUP(F37, 'ECAST Lookup'!A:G,7,FALSE)","v":"Avalon Gardens El"},"1224701-Avalon Gardens El",25]
["1226901","Balboa G/HA Mag","1226901-Balboa G/HA Mag",null,null,"1225001",{"$f":"VLOOKUP(F38, 'ECAST Lookup'!A:G,7,FALSE)","v":"Acad For Enrch Sci"},"1225001-Acad For Enrch Sci",26]
["1227401","Baldwin Hills El","1227401-Baldwin Hills El",null,null,"1226901",{"$f":"VLOOKUP(F39, 'ECAST Lookup'!A:G,7,FALSE)","v":"Balboa G/HA Mag"},"1226901-Balboa G/HA Mag",23]
["1227402","Baldwin Hills Elementary Gifted Magnet","1227402-Baldwin Hills Elementary Gifted Magnet",null,null,"1227401",{"$f":"VLOOKUP(F40, 'ECAST Lookup'!A:G,7,FALSE)","v":"Baldwin Hills El"},"1227401-Baldwin Hills El",24]
["1228801","Bandini El","1228801-Bandini El",null,null,"1227402",{"$f":"VLOOKUP(F41, 'ECAST Lookup'!A:G,7,FALSE)","v":"Bldwn Hls Gifted Mag"},"1227402-Bldwn Hls Gifted Mag",28]
["1228802","Bandini St El DL Two-Way Im Spanish","1228802-Bandini St El DL Two-Way Im Spanish",null,null,"1228801",{"$f":"VLOOKUP(F42, 'ECAST Lookup'!A:G,7,FALSE)","v":"Bandini El"},"1228801-Bandini El",18]
["1230101","De La Torre Jr El","1230101-De La Torre Jr El",null,null,"1228802",{"$f":"VLOOKUP(F43, 'ECAST Lookup'!A:G,7,FALSE)","v":"Bandini St El DTS"},"1228802-Bandini St El DTS",25]
["1230102","De La Torre ES STEAM Magnet","1230102-De La Torre ES STEAM Magnet",null,null,"1230101",{"$f":"VLOOKUP(F44, 'ECAST Lookup'!A:G,7,FALSE)","v":"De La Torre Jr El"},"1230101-De La Torre Jr El",25]
["1230201","Obama El","1230201-Obama El",null,null,"1230102",{"$f":"VLOOKUP(F45, 'ECAST Lookup'!A:G,7,FALSE)","v":"De La Torre STEAM Mg"},"1230102-De La Torre STEAM Mg",28]
["1230301","Porter Ranch School","1230301-Porter Ranch School",null,null,"1230201",{"$f":"VLOOKUP(F46, 'ECAST Lookup'!A:G,7,FALSE)","v":"Obama El"},"1230201-Obama El",16]
["1230302","Porter Ranch School DL Two-Way Im Korean","1230302-Porter Ranch School DL Two-Way Im Korean",null,null,"1230301",{"$f":"VLOOKUP(F47, 'ECAST Lookup'!A:G,7,FALSE)","v":"Porter Ranch School"},"1230301-Porter Ranch School",27]
["1230601","Playa Vista Elementary Sch","1230601-Playa Vista Elementary Sch",null,null,"1230302",{"$f":"VLOOKUP(F48, 'ECAST Lookup'!A:G,7,FALSE)","v":"Porter Ranch Sch DTK"},"1230302-Porter Ranch Sch DTK",28]
["1230701","Lee Med Hlth Mag","1230701-Lee Med Hlth Mag",null,null,"1230601",{"$f":"VLOOKUP(F49, 'ECAST Lookup'!A:G,7,FALSE)","v":"Playa Vista El Sch"},"1230601-Playa Vista El Sch",26]
["1230801","Ride El Smart Acad","1230801-Ride El Smart Acad",null,null,"1230701",{"$f":"VLOOKUP(F50, 'ECAST Lookup'!A:G,7,FALSE)","v":"Lee Med Hlth Mag"},"1230701-Lee Med Hlth Mag",24]
["1230901","Willow El","1230901-Willow El",null,null,"1230801",{"$f":"VLOOKUP(F51, 'ECAST Lookup'!A:G,7,FALSE)","v":"Ride El Smart Acad"},"1230801-Ride El Smart Acad",26]
["1230902","Willow El DL Two-Way Im Spanish","1230902-Willow El DL Two-Way Im Spanish",null,null,"1230901",{"$f":"VLOOKUP(F52, 'ECAST Lookup'!A:G,7,FALSE)","v":"Willow El"},"1230901-Willow El",17]
["1231101","Poindexter Lamotte El","1231101-Poindexter Lamotte El",null,null,"1230902",{"$f":"VLOOKUP(F53, 'ECAST Lookup'!A:G,7,FALSE)","v":"Willow El DTS"},"1230902-Willow El DTS",21]
["1231201","Lawson Acad A/M/S","1231201-Lawson Acad A/M/S",null,null,"1231101",{"$f":"VLOOKUP(F54, 'ECAST Lookup'!A:G,7,FALSE)","v":"Poindexter Lamotte El"},"1231101-Poindexter Lamotte El",29]
["1231301","Moore M/S/T Acad","1231301-Moore M/S/T Acad",null,null,"1231201",{"$f":"VLOOKUP(F55, 'ECAST Lookup'!A:G,7,FALSE)","v":"Lawson Acad A/M/S"},"1231201-Lawson Acad A/M/S",25]
["1231501","Barton Hill El","1231501-Barton Hill El",null,null,"1231301",{"$f":"VLOOKUP(F56, 'ECAST Lookup'!A:G,7,FALSE)","v":"Moore M/S/T Acad"},"1231301-Moore M/S/T Acad",24]
["1231502","Barton Hill ES Maritime STEAM Magnet","1231502-Barton Hill ES Maritime STEAM Magnet",null,null,"1231501",{"$f":"VLOOKUP(F57, 'ECAST Lookup'!A:G,7,FALSE)","v":"Barton Hill El"},"1231501-Barton Hill El",22]
["1232301","Bassett El","1232301-Bassett El",null,null,"1231502",{"$f":"VLOOKUP(F58, 'ECAST Lookup'!A:G,7,FALSE)","v":"Barton Hill M STEAM Mg"},"1231502-Barton Hill M STEAM Mg",30]
["1232901","Beachy El","1232901-Beachy El",null,null,"1232301",{"$f":"VLOOKUP(F59, 'ECAST Lookup'!A:G,7,FALSE)","v":"Bassett El"},"1232301-Bassett El",18]
["1233501","Beckford Chtr Enr St","1233501-Beckford Chtr Enr St",null,null,"1232302",{"$f":"VLOOKUP(F60, 'ECAST Lookup'!A:G,7,FALSE)","v":"Bassett ES STEM Mag"},"1232302-Bassett ES STEM Mag",27]
["1234201","Beethoven El","1234201-Beethoven El",null,null,"1232901",{"$f":"VLOOKUP(F61, 'ECAST Lookup'!A:G,7,FALSE)","v":"Beachy El"},"1232901-Beachy El",17]
["1236901","RFK Ambsdr Glbl Edu","1236901-RFK Ambsdr Glbl Edu",null,null,"1233501",{"$f":"VLOOKUP(F62, 'ECAST Lookup'!A:G,7,FALSE)","v":"Beckford Chtr Enr St"},"1233501-Beckford Chtr Enr St",28]
["1236902","Rfk Ambsdr Glbl DL One-Way Im Spanish","1236902-Rfk Ambsdr Glbl DL One-Way Im Spanish",null,null,"1234201",{"$f":"VLOOKUP(F63, 'ECAST Lookup'!A:G,7,FALSE)","v":"Beethoven El"},"1234201-Beethoven El",20]
["1236903","Rfk Ambsdr Glbl Ed DL Two-Way Im Korean","1236903-Rfk Ambsdr Glbl Ed DL Two-Way Im Korean",null,null,"1236901",{"$f":"VLOOKUP(F64, 'ECAST Lookup'!A:G,7,FALSE)","v":"RFK Ambsdr Glbl Edu"},"1236901-RFK Ambsdr Glbl Edu",27]
["1237201","Ochoa LC","1237201-Ochoa LC",null,null,"1236902",{"$f":"VLOOKUP(F65, 'ECAST Lookup'!A:G,7,FALSE)","v":"RFK Ambsdr Gbl DOS"},"1236902-RFK Ambsdr Gbl DOS",26]
["1237202","Ochoa Lc DL Two-Way Im Spanish","1237202-Ochoa Lc DL Two-Way Im Spanish",null,null,"1236903",{"$f":"VLOOKUP(F66, 'ECAST Lookup'!A:G,7,FALSE)","v":"RFK Ambsdr Gbl DTK"},"1236903-RFK Ambsdr Gbl DTK",26]
["1237501","Hughes El","1237501-Hughes El",null,null,"1237201",{"$f":"VLOOKUP(F67, 'ECAST Lookup'!A:G,7,FALSE)","v":"Ochoa LC"},"1237201-Ochoa LC",16]
["1237502","Teresa P Hughes Elem Science/Tech/Math Magnet",{"$f":"A68&\"-\"&B68","v":"1237502-Teresa P Hughes Elem Science/Tech/Math Magnet"},null,null,"1237202",{"$f":"VLOOKUP(F68, 'ECAST Lookup'!A:G,7,FALSE)","v":"Ochoa LC DTS"},"1237202-Ochoa LC DTS",20]
["1237801","Nueva Vista El","1237801-Nueva Vista El",null,null,"1237501",{"$f":"VLOOKUP(F69, 'ECAST Lookup'!A:G,7,FALSE)","v":"Hughes El"},{"$f":"F69&\"-\"&G69","v":"1237501-Hughes El"},{"$f":"LEN(H69)","v":17}]
["1237802","Nueva Vista Elem Visual And Performing Arts","1237802-Nueva Vista Elem Visual And Performing Arts",null,null,"1237502",{"$f":"VLOOKUP(F70, 'ECAST Lookup'!A:G,7,FALSE)","v":"Hughes El STEM Mag"},"1237502-Hughes El STEM Mag",26]
["1238101","Maywood El","1238101-Maywood El",null,null,"1237801",{"$f":"VLOOKUP(F71, 'ECAST Lookup'!A:G,7,FALSE)","v":"Nueva Vista El"},"1237801-Nueva Vista El",22]
["1238102","Maywood ES Computer Science Magnet","1238102-Maywood ES Computer Science Magnet",null,null,"1237802",{"$f":"VLOOKUP(F72, 'ECAST Lookup'!A:G,7,FALSE)","v":"Nueva Vista VAPA Mag"},"1237802-Nueva Vista VAPA Mag",28]
["1238301","Esperanza El","1238301-Esperanza El",null,null,"1238101",{"$f":"VLOOKUP(F73, 'ECAST Lookup'!A:G,7,FALSE)","v":"Maywood El"},"1238101-Maywood El",18]
["1238401","Politi El","1238401-Politi El",null,null,"1238102",{"$f":"VLOOKUP(F74, 'ECAST Lookup'!A:G,7,FALSE)","v":"Maywood CS Mag"},"1238102-Maywood CS Mag",22]
["1238501","Gratts LA for YS","1238501-Gratts LA for YS",null,null,"1238301",{"$f":"VLOOKUP(F75, 'ECAST Lookup'!A:G,7,FALSE)","v":"Esperanza El"},"1238301-Esperanza El",20]
["1238502","Gratts LA For YS DL One-Way Im Spanish","1238502-Gratts LA For YS DL One-Way Im Spanish",null,null,"1238401",{"$f":"VLOOKUP(F76, 'ECAST Lookup'!A:G,7,FALSE)","v":"Politi El"},"1238401-Politi El",17]
["1238601","Del Olmo El","1238601-Del Olmo El",null,null,"1238501",{"$f":"VLOOKUP(F77, 'ECAST Lookup'!A:G,7,FALSE)","v":"Gratts LA for YS"},"1238501-Gratts LA for YS",24]
["1239101","Huntington Park El","1239101-Huntington Park El",null,null,"1238502",{"$f":"VLOOKUP(F78, 'ECAST Lookup'!A:G,7,FALSE)","v":"Gratts LA for YS DOS"},"1238502-Gratts LA for YS DOS",28]
["1239102","Huntington Pk El DL Two-Way Im Spanish","1239102-Huntington Pk El DL Two-Way Im Spanish",null,null,"1238601",{"$f":"VLOOKUP(F79, 'ECAST Lookup'!A:G,7,FALSE)","v":"Del Olmo El"},"1238601-Del Olmo El",19]
["1239201","Olympic PC","1239201-Olympic PC",null,null,"1239101",{"$f":"VLOOKUP(F80, 'ECAST Lookup'!A:G,7,FALSE)","v":"Huntington Park El"},"1239101-Huntington Park El",26]
["1239301","Lake St Primary","1239301-Lake St Primary",null,null,"1239102",{"$f":"VLOOKUP(F81, 'ECAST Lookup'!A:G,7,FALSE)","v":"Huntington Pk DTS"},"1239102-Huntington Pk DTS",25]
["1239701","Belvedere El","1239701-Belvedere El",null,null,"1239201",{"$f":"VLOOKUP(F82, 'ECAST Lookup'!A:G,7,FALSE)","v":"Olympic PC"},"1239201-Olympic PC",18]
["1243801","Bertrand El","1243801-Bertrand El",null,null,"1239301",{"$f":"VLOOKUP(F83, 'ECAST Lookup'!A:G,7,FALSE)","v":"Lake St Primary"},"1239301-Lake St Primary",23]
["1247001","Blythe El","1247001-Blythe El",null,null,"1239701",{"$f":"VLOOKUP(F84, 'ECAST Lookup'!A:G,7,FALSE)","v":"Belvedere El"},"1239701-Belvedere El",20]
["1247301","Bonita El","1247301-Bonita El",null,null,"1243801",{"$f":"VLOOKUP(F85, 'ECAST Lookup'!A:G,7,FALSE)","v":"Bertrand El"},"1243801-Bertrand El",19]
["1247901","Braddock Drive El","1247901-Braddock Drive El",null,null,"1247001",{"$f":"VLOOKUP(F86, 'ECAST Lookup'!A:G,7,FALSE)","v":"Blythe El"},"1247001-Blythe El",17]
["1247902","Braddock Drive Elementary Gifted Magnet","1247902-Braddock Drive Elementary Gifted Magnet",null,null,"1247301",{"$f":"VLOOKUP(F87, 'ECAST Lookup'!A:G,7,FALSE)","v":"Bonita El"},"1247301-Bonita El",17]
["1247903","Braddock Dr El DL World Lang Im Mandarin","1247903-Braddock Dr El DL World Lang Im Mandarin",null,null,"1247901",{"$f":"VLOOKUP(F88, 'ECAST Lookup'!A:G,7,FALSE)","v":"Braddock Drive El"},"1247901-Braddock Drive El",25]
["1248601","Brainard El","1248601-Brainard El",null,null,"1247902",{"$f":"VLOOKUP(F89, 'ECAST Lookup'!A:G,7,FALSE)","v":"Braddock Gifted Mag"},"1247902-Braddock Gifted Mag",27]
["1249301","Breed El","1249301-Breed El",null,null,"1247903",{"$f":"VLOOKUP(F90, 'ECAST Lookup'!A:G,7,FALSE)","v":"Braddock Dr El DTM"},"1247903-Braddock Dr El DTM",26]
["1250701","Brentwood Sci Mag","1250701-Brentwood Sci Mag",null,null,"1248601",{"$f":"VLOOKUP(F91, 'ECAST Lookup'!A:G,7,FALSE)","v":"Brainard El"},"1248601-Brainard El",19]
["1252101","Bridge El","1252101-Bridge El",null,null,"1249301",{"$f":"VLOOKUP(F92, 'ECAST Lookup'!A:G,7,FALSE)","v":"Breed El"},"1249301-Breed El",16]
["1252701","Broad Ave El","1252701-Broad Ave El",null,null,"1250701",{"$f":"VLOOKUP(F93, 'ECAST Lookup'!A:G,7,FALSE)","v":"Brentwood Sci Mag"},"1250701-Brentwood Sci Mag",25]
["1252702","Broad Ave El DL Two-Way Im Spanish","1252702-Broad Ave El DL Two-Way Im Spanish",null,null,"1252101",{"$f":"VLOOKUP(F94, 'ECAST Lookup'!A:G,7,FALSE)","v":"Bridge El"},"1252101-Bridge El",17]
["1253001","Broadacres El","1253001-Broadacres El",null,null,"1252701",{"$f":"VLOOKUP(F95, 'ECAST Lookup'!A:G,7,FALSE)","v":"Broad Ave El"},"1252701-Broad Ave El",20]
["1253401","Broadway El","1253401-Broadway El",null,null,"1252702",{"$f":"VLOOKUP(F96, 'ECAST Lookup'!A:G,7,FALSE)","v":"Broad Ave El DTS"},"1252702-Broad Ave El DTS",24]
["1253402","Broadway El DL World Lang Im Spanish","1253402-Broadway El DL World Lang Im Spanish",null,null,"1253001",{"$f":"VLOOKUP(F97, 'ECAST Lookup'!A:G,7,FALSE)","v":"Broadacres El"},"1253001-Broadacres El",21]
["1253403","Broadway El DL World Lang Im Mandarin","1253403-Broadway El DL World Lang Im Mandarin",null,null,"1253002",{"$f":"VLOOKUP(F98, 'ECAST Lookup'!A:G,7,FALSE)","v":"Broadacres VAPA Mag"},"1253002-Broadacres VAPA Mag",27]
["1254201","White El","1254201-White El",null,null,"1253401",{"$f":"VLOOKUP(F99, 'ECAST Lookup'!A:G,7,FALSE)","v":"Broadway El"},"1253401-Broadway El",19]
["1254202","White ES Visual Arts Magnet","1254202-White ES Visual Arts Magnet",null,null,"1253402",{"$f":"VLOOKUP(F100, 'ECAST Lookup'!A:G,7,FALSE)","v":"Broadway El DTS"},"1253402-Broadway El DTS",23]
["1254301","Lafayette Park PC","1254301-Lafayette Park PC",null,null,"1253403",{"$f":"VLOOKUP(F101, 'ECAST Lookup'!A:G,7,FALSE)","v":"Broadway El DTM"},"1253403-Broadway El DTM",23]
["1254401","Macarthur Park VPA","1254401-Macarthur Park VPA",null,null,"1254201",{"$f":"VLOOKUP(F102, 'ECAST Lookup'!A:G,7,FALSE)","v":"White El"},"1254201-White El",16]
["1254402","Macarthur Park VPA DL Two-Way Im Spanish","1254402-Macarthur Park VPA DL Two-Way Im Spanish",null,null,"1254202",{"$f":"VLOOKUP(F103, 'ECAST Lookup'!A:G,7,FALSE)","v":"White Es Vis Art Mag"},"1254202-White Es Vis Art Mag",28]
["1254801","Brockton El","1254801-Brockton El",null,null,"1254301",{"$f":"VLOOKUP(F104, 'ECAST Lookup'!A:G,7,FALSE)","v":"Lafayette Park PC"},"1254301-Lafayette Park PC",25]
["1256201","Brooklyn Ave El","1256201-Brooklyn Ave El",null,null,"1254401",{"$f":"VLOOKUP(F105, 'ECAST Lookup'!A:G,7,FALSE)","v":"Macarthur Park VPA"},"1254401-Macarthur Park VPA",26]
["1258901","Bryson El","1258901-Bryson El",null,null,"1254402",{"$f":"VLOOKUP(F106, 'ECAST Lookup'!A:G,7,FALSE)","v":"Macarthur Pk VPA DTS"},"1254402-Macarthur Pk VPA DTS",28]
["1258902","Bryson Avenue Elem Science/Tech/Math Mag","1258902-Bryson Avenue Elem Science/Tech/Math Mag",null,null,"1254801",{"$f":"VLOOKUP(F107, 'ECAST Lookup'!A:G,7,FALSE)","v":"Brockton El"},"1254801-Brockton El",19]
["1260301","Buchanan El","1260301-Buchanan El",null,null,"1256201",{"$f":"VLOOKUP(F108, 'ECAST Lookup'!A:G,7,FALSE)","v":"Brooklyn Ave El"},"1256201-Brooklyn Ave El",23]
["1260302","Buchanan Street Elem Science/Tech/Math Magnet","1260302-Buchanan Street Elem Science/Tech/Math Magnet",null,null,"1258901",{"$f":"VLOOKUP(F109, 'ECAST Lookup'!A:G,7,FALSE)","v":"Bryson El"},"1258901-Bryson El",17]
["1261601","Budlong El","1261601-Budlong El",null,null,"1258902",{"$f":"VLOOKUP(F110, 'ECAST Lookup'!A:G,7,FALSE)","v":"Bryson Av El STEM Mag"},"1258902-Bryson Av El STEM Mag",29]
["1261901","Wilshire Park El","1261901-Wilshire Park El",null,null,"1260301",{"$f":"VLOOKUP(F111, 'ECAST Lookup'!A:G,7,FALSE)","v":"Buchanan El"},"1260301-Buchanan El",19]
["1263001","Burbank El","1263001-Burbank El",null,null,"1260302",{"$f":"VLOOKUP(F112, 'ECAST Lookup'!A:G,7,FALSE)","v":"Buchanan El STEM Mag"},"1260302-Buchanan El STEM Mag",28]
["1263002","Burbank El Gifted Global Learning Mag","1263002-Burbank El Gifted Global Learning Mag",null,null,"1260303",{"$f":"VLOOKUP(F113, 'ECAST Lookup'!A:G,7,FALSE)","v":"Buchanan El DL "},"1260303-Buchanan El DL ",23]
["1264401","Saturn El","1264401-Saturn El",null,null,"1261601",{"$f":"VLOOKUP(F114, 'ECAST Lookup'!A:G,7,FALSE)","v":"Budlong El"},"1261601-Budlong El",18]
["1264402","Saturn St ES Arts/Media Magnet","1264402-Saturn St ES Arts/Media Magnet",null,null,"1261901",{"$f":"VLOOKUP(F115, 'ECAST Lookup'!A:G,7,FALSE)","v":"Wilshire Park El"},"1261901-Wilshire Park El",24]
["1265801","Burton El","1265801-Burton El",null,null,"1263001",{"$f":"VLOOKUP(F116, 'ECAST Lookup'!A:G,7,FALSE)","v":"Burbank El"},"1263001-Burbank El",18]
["1267101","Bushnell Way El","1267101-Bushnell Way El",null,null,"1263002",{"$f":"VLOOKUP(F117, 'ECAST Lookup'!A:G,7,FALSE)","v":"Burbank Gifted/GL Mg"},"1263002-Burbank Gifted/GL Mg",28]
["1267102","Bushnell Way El DL Two-Way Im Spanish","1267102-Bushnell Way El DL Two-Way Im Spanish",null,null,"1264401",{"$f":"VLOOKUP(F118, 'ECAST Lookup'!A:G,7,FALSE)","v":"Saturn El"},"1264401-Saturn El",17]
["1268501","Cabrillo El","1268501-Cabrillo El",null,null,"1264402",{"$f":"VLOOKUP(F119, 'ECAST Lookup'!A:G,7,FALSE)","v":"Saturn Arts/Media Mag"},"1264402-Saturn Arts/Media Mag",29]
["1268502","Cabrillo Av ES STEAM Magnet","1268502-Cabrillo Av ES STEAM Magnet",null,null,"1265801",{"$f":"VLOOKUP(F120, 'ECAST Lookup'!A:G,7,FALSE)","v":"Burton El"},"1265801-Burton El",17]
["1269901","Cahuenga El","1269901-Cahuenga El",null,null,"1267101",{"$f":"VLOOKUP(F121, 'ECAST Lookup'!A:G,7,FALSE)","v":"Bushnell Way El"},"1267101-Bushnell Way El",23]
["1269902","Cahuenga El DL One-Way Im Spanish","1269902-Cahuenga El DL One-Way Im Spanish",null,null,"1267102",{"$f":"VLOOKUP(F122, 'ECAST Lookup'!A:G,7,FALSE)","v":"Bushnell Way DTS"},"1267102-Bushnell Way DTS",24]
["1269903","Cahuenga El DL Two-Way Im Korean","1269903-Cahuenga El DL Two-Way Im Korean",null,null,"1268501",{"$f":"VLOOKUP(F123, 'ECAST Lookup'!A:G,7,FALSE)","v":"Cabrillo El"},"1268501-Cabrillo El",19]
["1270101","Kim El","1270101-Kim El",null,null,"1268502",{"$f":"VLOOKUP(F124, 'ECAST Lookup'!A:G,7,FALSE)","v":"Cabrillo STEAM Mag"},"1268502-Cabrillo STEAM Mag",26]
["1270102","Kim El DL Two-Way Im Spanish","1270102-Kim El DL Two-Way Im Spanish",null,null,"1269901",{"$f":"VLOOKUP(F125, 'ECAST Lookup'!A:G,7,FALSE)","v":"Cahuenga El"},"1269901-Cahuenga El",19]
["1270103","Kim El DL One-Way Im Korean","1270103-Kim El DL One-Way Im Korean",null,null,"1269902",{"$f":"VLOOKUP(F126, 'ECAST Lookup'!A:G,7,FALSE)","v":"Cahuenga El DOS"},"1269902-Cahuenga El DOS",23]
["1270401","Calabash CA","1270401-Calabash CA",null,null,"1269903",{"$f":"VLOOKUP(F127, 'ECAST Lookup'!A:G,7,FALSE)","v":"Cahuenga El DTK"},"1269903-Cahuenga El DTK",23]
["1270601","Calahan Street Elementary","1270601-Calahan Street Elementary",null,null,"1270101",{"$f":"VLOOKUP(F128, 'ECAST Lookup'!A:G,7,FALSE)","v":"Kim El"},"1270101-Kim El",14]
["1271201","Calvert Chtr For ES","1271201-Calvert Chtr For ES",null,null,"1270102",{"$f":"VLOOKUP(F129, 'ECAST Lookup'!A:G,7,FALSE)","v":"Kim El DTS"},"1270102-Kim El DTS",18]
["1272601","Camellia El","1272601-Camellia El",null,null,"1270103",{"$f":"VLOOKUP(F130, 'ECAST Lookup'!A:G,7,FALSE)","v":"Kim El DOK"},"1270103-Kim El DOK",18]
["1272602","Camellia Ave El DL Two-Way Im Spanish","1272602-Camellia Ave El DL Two-Way Im Spanish",null,null,"1270401",{"$f":"VLOOKUP(F131, 'ECAST Lookup'!A:G,7,FALSE)","v":"Calabash CA"},"1270401-Calabash CA",19]
["1274001","Canfield El",{"$f":"A132&\"-\"&B132","v":"1274001-Canfield El"},null,null,"1270601",{"$f":"VLOOKUP(F132, 'ECAST Lookup'!A:G,7,FALSE)","v":"Calahan St El"},"1270601-Calahan St El",21]
["1274101","Community El Mag CS","1274101-Community El Mag CS",null,null,"1271201",{"$f":"VLOOKUP(F133, 'ECAST Lookup'!A:G,7,FALSE)","v":"Calvert Chtr For ES"},{"$f":"F133&\"-\"&G133","v":"1271201-Calvert Chtr For ES"},{"$f":"LEN(H133)","v":27}]
["1275301","Canoga Park El","1275301-Canoga Park El",null,null,"1272601",{"$f":"VLOOKUP(F134, 'ECAST Lookup'!A:G,7,FALSE)","v":"Camellia El"},"1272601-Camellia El",19]
["1276701","Cantara El","1276701-Cantara El",null,null,"1272602",{"$f":"VLOOKUP(F135, 'ECAST Lookup'!A:G,7,FALSE)","v":"Camellia El DTS"},"1272602-Camellia El DTS",23]
["1276702","Cantara St ES Visual/Perf Arts Magnet","1276702-Cantara St ES Visual/Perf Arts Magnet",null,null,"1274001",{"$f":"VLOOKUP(F136, 'ECAST Lookup'!A:G,7,FALSE)","v":"Canfield El"},"1274001-Canfield El",19]
["1278101","Canterbury El","1278101-Canterbury El",null,null,"1274101",{"$f":"VLOOKUP(F137, 'ECAST Lookup'!A:G,7,FALSE)","v":"Community El Mag CS"},"1274101-Community El Mag CS",27]
["1278102","Canterbury Avenue Elementary Gifted Magnet","1278102-Canterbury Avenue Elementary Gifted Magnet",null,null,"1275301",{"$f":"VLOOKUP(F138, 'ECAST Lookup'!A:G,7,FALSE)","v":"Canoga Park El"},"1275301-Canoga Park El",22]
["1279501","Canyon El","1279501-Canyon El",null,null,"1276701",{"$f":"VLOOKUP(F139, 'ECAST Lookup'!A:G,7,FALSE)","v":"Cantara El"},"1276701-Cantara El",18]
["1280201","Capistrano El","1280201-Capistrano El",null,null,"1276702",{"$f":"VLOOKUP(F140, 'ECAST Lookup'!A:G,7,FALSE)","v":"Cantara VAPA Mag"},"1276702-Cantara VAPA Mag",24]
["1281501","Caroldale Lrng Comm","1281501-Caroldale Lrng Comm",null,null,"1278101",{"$f":"VLOOKUP(F141, 'ECAST Lookup'!A:G,7,FALSE)","v":"Canterbury El"},"1278101-Canterbury El",21]
["1282201","Carpenter Community Center","1282201-Carpenter Community Center",null,null,"1278102",{"$f":"VLOOKUP(F142, 'ECAST Lookup'!A:G,7,FALSE)","v":"Canterbury Gifted Mg"},"1278102-Canterbury Gifted Mg",28]
["1283601","Carson El","1283601-Carson El",null,null,"1279501",{"$f":"VLOOKUP(F143, 'ECAST Lookup'!A:G,7,FALSE)","v":"Canyon El"},"1279501-Canyon El",17]
["1284901","Carthay El ES Mag","1284901-Carthay El ES Mag",null,null,"1280201",{"$f":"VLOOKUP(F144, 'ECAST Lookup'!A:G,7,FALSE)","v":"Capistrano El"},"1280201-Capistrano El",21]
["1286301","Castelar El","1286301-Castelar El",null,null,"1281501",{"$f":"VLOOKUP(F145, 'ECAST Lookup'!A:G,7,FALSE)","v":"Caroldale Lrng Comm"},"1281501-Caroldale Lrng Comm",27]
["1286302","Castelar El DL Two-Way Im Mandarin","1286302-Castelar El DL Two-Way Im Mandarin",null,null,"1282201",{"$f":"VLOOKUP(F146, 'ECAST Lookup'!A:G,7,FALSE)","v":"Carpenter Comm Ctr"},"1282201-Carpenter Comm Ctr",26]
["1287701","Castle Hts El","1287701-Castle Hts El",null,null,"1283601",{"$f":"VLOOKUP(F147, 'ECAST Lookup'!A:G,7,FALSE)","v":"Carson El"},"1283601-Carson El",17]
["1287702","Castle Heights El World Lang Im Spanish","1287702-Castle Heights El World Lang Im Spanish",null,null,"1284901",{"$f":"VLOOKUP(F148, 'ECAST Lookup'!A:G,7,FALSE)","v":"Carthay El ES Mag"},"1284901-Carthay El ES Mag",25]
["1288101","Castlebay Lane Charter","1288101-Castlebay Lane Charter",null,null,"1286301",{"$f":"VLOOKUP(F149, 'ECAST Lookup'!A:G,7,FALSE)","v":"Castelar El"},"1286301-Castelar El",19]
["1289001","Catskill El","1289001-Catskill El",null,null,"1286302",{"$f":"VLOOKUP(F150, 'ECAST Lookup'!A:G,7,FALSE)","v":"Castelar St El DTM"},"1286302-Castelar St El DTM",26]
["1289002","Catskill El DL Two-Way Im Spanish","1289002-Catskill El DL Two-Way Im Spanish",null,null,"1287701",{"$f":"VLOOKUP(F151, 'ECAST Lookup'!A:G,7,FALSE)","v":"Castle Hts El"},"1287701-Castle Hts El",21]
["1293901","Carson-Gore Academy","1293901-Carson-Gore Academy",null,null,"1287702",{"$f":"VLOOKUP(F152, 'ECAST Lookup'!A:G,7,FALSE)","v":"Castle Hts El DWS"},"1287702-Castle Hts El DWS",25]
["1293902","Carson-Gore El DL Two-Way Im Spanish","1293902-Carson-Gore El DL Two-Way Im Spanish",null,null,"1288101",{"$f":"VLOOKUP(F153, 'ECAST Lookup'!A:G,7,FALSE)","v":"Castlebay Lane"},"1288101-Castlebay Lane",22]
["1294201","Estrella El","1294201-Estrella El",null,null,"1289001",{"$f":"VLOOKUP(F154, 'ECAST Lookup'!A:G,7,FALSE)","v":"Catskill El"},"1289001-Catskill El",19]
["1294301","Jones El","1294301-Jones El",null,null,"1289002",{"$f":"VLOOKUP(F155, 'ECAST Lookup'!A:G,7,FALSE)","v":"Catskill El DTS"},"1289002-Catskill El DTS",23]
["1294401","Huerta El","1294401-Huerta El",null,null,"1293901",{"$f":"VLOOKUP(F156, 'ECAST Lookup'!A:G,7,FALSE)","v":"Carson-Gore Academy"},"1293901-Carson-Gore Academy",27]
["1294501","Century Park El","1294501-Century Park El",null,null,"1293902",{"$f":"VLOOKUP(F157, 'ECAST Lookup'!A:G,7,FALSE)","v":"Carson-Gore DTS"},"1293902-Carson-Gore DTS",23]
["1295901","Chandler El","1295901-Chandler El",null,null,"1294201",{"$f":"VLOOKUP(F158, 'ECAST Lookup'!A:G,7,FALSE)","v":"Estrella El"},"1294201-Estrella El",19]
["1298601","Chapman El","1298601-Chapman El",null,null,"1294301",{"$f":"VLOOKUP(F159, 'ECAST Lookup'!A:G,7,FALSE)","v":"Jones El"},"1294301-Jones El",16]
["1298602","Chapman El DL Two-Way Im Mandarin","1298602-Chapman El DL Two-Way Im Mandarin",null,null,"1294401",{"$f":"VLOOKUP(F160, 'ECAST Lookup'!A:G,7,FALSE)","v":"Huerta El"},"1294401-Huerta El",17]
["1300201","Charnock Road El","1300201-Charnock Road El",null,null,"1294501",{"$f":"VLOOKUP(F161, 'ECAST Lookup'!A:G,7,FALSE)","v":"Century Park El"},"1294501-Century Park El",23]
["1301401","Chase El","1301401-Chase El",null,null,"1295901",{"$f":"VLOOKUP(F162, 'ECAST Lookup'!A:G,7,FALSE)","v":"Chandler El"},"1295901-Chandler El",19]
["1302701","Chatsworth Park ES UP/CD Magnet","1302701-Chatsworth Park ES UP/CD Magnet",null,null,"1298601",{"$f":"VLOOKUP(F163, 'ECAST Lookup'!A:G,7,FALSE)","v":"Chapman El"},"1298601-Chapman El",18]
["1304101","Cheremoya El","1304101-Cheremoya El",null,null,"1298602",{"$f":"VLOOKUP(F164, 'ECAST Lookup'!A:G,7,FALSE)","v":"Chapman El DTM"},"1298602-Chapman El DTM",22]
["1306801","Cienega El","1306801-Cienega El",null,null,"1300201",{"$f":"VLOOKUP(F165, 'ECAST Lookup'!A:G,7,FALSE)","v":"Charnock Road El"},"1300201-Charnock Road El",24]
["1306802","Cienega El DL Two-Way Im Spanish","1306802-Cienega El DL Two-Way Im Spanish",null,null,"1301401",{"$f":"VLOOKUP(F166, 'ECAST Lookup'!A:G,7,FALSE)","v":"Chase El"},"1301401-Chase El",16]
["1308201","Cimarron El","1308201-Cimarron El",null,null,"1302701",{"$f":"VLOOKUP(F167, 'ECAST Lookup'!A:G,7,FALSE)","v":"Chatsworth UP/CD Mag"},"1302701-Chatsworth UP/CD Mag",28]
["1308202","Cimarron Av ES STEAM Magnet","1308202-Cimarron Av ES STEAM Magnet",null,null,"1304101",{"$f":"VLOOKUP(F168, 'ECAST Lookup'!A:G,7,FALSE)","v":"Cheremoya El"},"1304101-Cheremoya El",20]
["1309601","City Terrace El","1309601-City Terrace El",null,null,"1306801",{"$f":"VLOOKUP(F169, 'ECAST Lookup'!A:G,7,FALSE)","v":"Cienega El"},"1306801-Cienega El",18]
["1309602","City Terrace El DL Two-Way Im Mandarin","1309602-City Terrace El DL Two-Way Im Mandarin",null,null,"1306802",{"$f":"VLOOKUP(F170, 'ECAST Lookup'!A:G,7,FALSE)","v":"Cienega El DTS"},"1306802-Cienega El DTS",22]
["1311001","Clifford El","1311001-Clifford El",null,null,"1308201",{"$f":"VLOOKUP(F171, 'ECAST Lookup'!A:G,7,FALSE)","v":"Cimarron El"},"1308201-Cimarron El",19]
["1312301","Clover El","1312301-Clover El",null,null,"1308202",{"$f":"VLOOKUP(F172, 'ECAST Lookup'!A:G,7,FALSE)","v":"Cimarron STEAM Mag"},"1308202-Cimarron STEAM Mag",26]
["1313701","Cohasset El","1313701-Cohasset El",null,null,"1309601",{"$f":"VLOOKUP(F173, 'ECAST Lookup'!A:G,7,FALSE)","v":"City Terrace El"},"1309601-City Terrace El",23]
["1313702","Cohasset El DL One-Way Im Spanish","1313702-Cohasset El DL One-Way Im Spanish",null,null,"1309602",{"$f":"VLOOKUP(F174, 'ECAST Lookup'!A:G,7,FALSE)","v":"City Terrace DTM"},"1309602-City Terrace DTM",24]
["1315101","Coldwater Cyn El","1315101-Coldwater Cyn El",null,null,"1311001",{"$f":"VLOOKUP(F175, 'ECAST Lookup'!A:G,7,FALSE)","v":"Clifford El"},"1311001-Clifford El",19]
["1315102","Coldwater Cyn DL Two-Way Im Spanish","1315102-Coldwater Cyn DL Two-Way Im Spanish",null,null,"1312301",{"$f":"VLOOKUP(F176, 'ECAST Lookup'!A:G,7,FALSE)","v":"Clover El"},"1312301-Clover El",17]
["1316401","Colfax Charter El","1316401-Colfax Charter El",null,null,"1313701",{"$f":"VLOOKUP(F177, 'ECAST Lookup'!A:G,7,FALSE)","v":"Cohasset El"},"1313701-Cohasset El",19]
["1317801","Coliseum El","1317801-Coliseum El",null,null,"1313702",{"$f":"VLOOKUP(F178, 'ECAST Lookup'!A:G,7,FALSE)","v":"Cohasset St El DOS"},"1313702-Cohasset St El DOS",26]
["1319201","Commonwealth El","1319201-Commonwealth El",null,null,"1315101",{"$f":"VLOOKUP(F179, 'ECAST Lookup'!A:G,7,FALSE)","v":"Coldwater Cyn El"},"1315101-Coldwater Cyn El",24]
["1319202","Commonwealth Avenue Elem Gifted Arts/Tech","1319202-Commonwealth Avenue Elem Gifted Arts/Tech",null,null,"1315102",{"$f":"VLOOKUP(F180, 'ECAST Lookup'!A:G,7,FALSE)","v":"Coldwater Cyn DTS"},"1315102-Coldwater Cyn DTS",25]
["1320501","Compton El","1320501-Compton El",null,null,"1316401",{"$f":"VLOOKUP(F181, 'ECAST Lookup'!A:G,7,FALSE)","v":"Colfax Charter El"},"1316401-Colfax Charter El",25]
["1321001","Madison El","1321001-Madison El",null,null,"1317801",{"$f":"VLOOKUP(F182, 'ECAST Lookup'!A:G,7,FALSE)","v":"Coliseum El"},"1317801-Coliseum El",19]
["1321002","Madison El DL Two-Way Im Spanish","1321002-Madison El DL Two-Way Im Spanish",null,null,"1319201",{"$f":"VLOOKUP(F183, 'ECAST Lookup'!A:G,7,FALSE)","v":"Commonwealth El"},"1319201-Commonwealth El",23]
["1321901","Corona El","1321901-Corona El",null,null,"1319202",{"$f":"VLOOKUP(F184, 'ECAST Lookup'!A:G,7,FALSE)","v":"Commonwealth GAT Mag"},"1319202-Commonwealth GAT Mag",28]
["1322001","Escutia PC","1322001-Escutia PC",null,null,"1320501",{"$f":"VLOOKUP(F185, 'ECAST Lookup'!A:G,7,FALSE)","v":"Compton El"},"1320501-Compton El",18]
["1324701","Plasencia El","1324701-Plasencia El",null,null,"1321001",{"$f":"VLOOKUP(F186, 'ECAST Lookup'!A:G,7,FALSE)","v":"Madison El"},"1321001-Madison El",18]
["1324702","Plasencia ES STEAM Magnet","1324702-Plasencia ES STEAM Magnet",null,null,"1321002",{"$f":"VLOOKUP(F187, 'ECAST Lookup'!A:G,7,FALSE)","v":"Madison El DTS"},"1321002-Madison El DTS",22]
["1326001","Cowan El","1326001-Cowan El",null,null,"1321901",{"$f":"VLOOKUP(F188, 'ECAST Lookup'!A:G,7,FALSE)","v":"Corona El"},"1321901-Corona El",17]
["1326002","Cowan Avenue Elem Gifted Int Humanities","1326002-Cowan Avenue Elem Gifted Int Humanities",null,null,"1322001",{"$f":"VLOOKUP(F189, 'ECAST Lookup'!A:G,7,FALSE)","v":"Escutia PC"},"1322001-Escutia PC",18]
["1326003","Cowan El DL World Lang Im Spanish","1326003-Cowan El DL World Lang Im Spanish",null,null,"1324701",{"$f":"VLOOKUP(F190, 'ECAST Lookup'!A:G,7,FALSE)","v":"Plasencia El"},"1324701-Plasencia El",20]
["1328801","Crescent Hts L/A/S/J","1328801-Crescent Hts L/A/S/J",null,null,"1324702",{"$f":"VLOOKUP(F191, 'ECAST Lookup'!A:G,7,FALSE)","v":"Plasencia STEAM Mag"},"1324702-Plasencia STEAM Mag",27]
["1330201","Crestwood St ES STEAM Magnet","1330201-Crestwood St ES STEAM Magnet",null,null,"1326001",{"$f":"VLOOKUP(F192, 'ECAST Lookup'!A:G,7,FALSE)","v":"Cowan El"},"1326001-Cowan El",16]
["1331101","Westside Glbl Awr Mg","1331101-Westside Glbl Awr Mg",null,null,"1326002",{"$f":"VLOOKUP(F193, 'ECAST Lookup'!A:G,7,FALSE)","v":"Cowan Gifted/IH Mag"},"1326002-Cowan Gifted/IH Mag",27]
["1331501","Dena El","1331501-Dena El",null,null,"1326003",{"$f":"VLOOKUP(F194, 'ECAST Lookup'!A:G,7,FALSE)","v":"Cowan El DWS"},"1326003-Cowan El DWS",20]
["1332901","Dahlia Heights El","1332901-Dahlia Heights El",null,null,"1328801",{"$f":"VLOOKUP(F195, 'ECAST Lookup'!A:G,7,FALSE)","v":"Crescent Hts L/A/S/J"},"1328801-Crescent Hts L/A/S/J",28]
["1333501","Danube El",{"$f":"A196&\"-\"&B196","v":"1333501-Danube El"},null,null,"1330201",{"$f":"VLOOKUP(F196, 'ECAST Lookup'!A:G,7,FALSE)","v":"Crestwood STEAM Mag"},"1330201-Crestwood STEAM Mag",27]
["1334001","Darby Avenue Elementary","1334001-Darby Avenue Elementary",null,null,"1331101",{"$f":"VLOOKUP(F197, 'ECAST Lookup'!A:G,7,FALSE)","v":"Westside Glbl Awr Mg"},{"$f":"F197&\"-\"&G197","v":"1331101-Westside Glbl Awr Mg"},{"$f":"LEN(H197)","v":28}]
["1335601","Dayton Heights El","1335601-Dayton Heights El",null,null,"1331501",{"$f":"VLOOKUP(F198, 'ECAST Lookup'!A:G,7,FALSE)","v":"Dena El"},"1331501-Dena El",15]
["1335602","Dayton Heights ES Urban Env Science Mag","1335602-Dayton Heights ES Urban Env Science Mag",null,null,"1332901",{"$f":"VLOOKUP(F199, 'ECAST Lookup'!A:G,7,FALSE)","v":"Dahlia Heights El"},"1332901-Dahlia Heights El",25]
["1337701","Dearborn El CA","1337701-Dearborn El CA",null,null,"1333501",{"$f":"VLOOKUP(F200, 'ECAST Lookup'!A:G,7,FALSE)","v":"Danube El"},"1333501-Danube El",17]
["1338401","Del Amo El","1338401-Del Amo El",null,null,"1334001",{"$f":"VLOOKUP(F201, 'ECAST Lookup'!A:G,7,FALSE)","v":"Darby Ave El"},"1334001-Darby Ave El",20]
["1339701","Delevan Drive El","1339701-Delevan Drive El",null,null,"1335601",{"$f":"VLOOKUP(F202, 'ECAST Lookup'!A:G,7,FALSE)","v":"Dayton Heights El"},"1335601-Dayton Heights El",25]
["1342501","Denker El","1342501-Denker El",null,null,"1335602",{"$f":"VLOOKUP(F203, 'ECAST Lookup'!A:G,7,FALSE)","v":"Dayton Hts UES Mag"},"1335602-Dayton Hts UES Mag",26]
["1342502","Denker El DL Two-Way Im Korean","1342502-Denker El DL Two-Way Im Korean",null,null,"1337701",{"$f":"VLOOKUP(F204, 'ECAST Lookup'!A:G,7,FALSE)","v":"Dearborn El CA"},"1337701-Dearborn El CA",22]
["1342601","Garza PC","1342601-Garza PC",null,null,"1338401",{"$f":"VLOOKUP(F205, 'ECAST Lookup'!A:G,7,FALSE)","v":"Del Amo El"},"1338401-Del Amo El",18]
["1343801","Dixie Cyn Comm Chtr","1343801-Dixie Cyn Comm Chtr",null,null,"1339701",{"$f":"VLOOKUP(F206, 'ECAST Lookup'!A:G,7,FALSE)","v":"Delevan Drive El"},"1339701-Delevan Drive El",24]
["1345201","Dolores El","1345201-Dolores El",null,null,"1342501",{"$f":"VLOOKUP(F207, 'ECAST Lookup'!A:G,7,FALSE)","v":"Denker El"},"1342501-Denker El",17]
["1346601","Dominguez El","1346601-Dominguez El",null,null,"1342502",{"$f":"VLOOKUP(F208, 'ECAST Lookup'!A:G,7,FALSE)","v":"Denker Ave El DTK"},"1342502-Denker Ave El DTK",25]
["1346602","Dominguez El DL Two-Way Im Spanish","1346602-Dominguez El DL Two-Way Im Spanish",null,null,"1342601",{"$f":"VLOOKUP(F209, 'ECAST Lookup'!A:G,7,FALSE)","v":"Garza PC"},"1342601-Garza PC",16]
["1347901","Dorris Place El","1347901-Dorris Place El",null,null,"1343801",{"$f":"VLOOKUP(F210, 'ECAST Lookup'!A:G,7,FALSE)","v":"Dixie Cyn Comm Chtr"},"1343801-Dixie Cyn Comm Chtr",27]
["1349301","Dyer El","1349301-Dyer El",null,null,"1345201",{"$f":"VLOOKUP(F211, 'ECAST Lookup'!A:G,7,FALSE)","v":"Dolores El"},"1345201-Dolores El",18]
["1350001","Midcity Prescott Mag","1350001-Midcity Prescott Mag",null,null,"1346601",{"$f":"VLOOKUP(F212, 'ECAST Lookup'!A:G,7,FALSE)","v":"Dominguez El"},"1346601-Dominguez El",20]
["1350701","Eagle Rock El","1350701-Eagle Rock El",null,null,"1346602",{"$f":"VLOOKUP(F213, 'ECAST Lookup'!A:G,7,FALSE)","v":"Dominguez El DTS"},"1346602-Dominguez El DTS",24]
["1350702","Eagle Rock Hg El Mag","1350702-Eagle Rock Hg El Mag",null,null,"1347901",{"$f":"VLOOKUP(F214, 'ECAST Lookup'!A:G,7,FALSE)","v":"Dorris Place El"},"1347901-Dorris Place El",23]
["1350703","Eagle Rck G/HA El Mg","1350703-Eagle Rck G/HA El Mg",null,null,"1349301",{"$f":"VLOOKUP(F215, 'ECAST Lookup'!A:G,7,FALSE)","v":"Dyer El"},"1349301-Dyer El",15]
["1352101","Eastman El","1352101-Eastman El",null,null,"1350001",{"$f":"VLOOKUP(F216, 'ECAST Lookup'!A:G,7,FALSE)","v":"Midcity Prescott Mag"},"1350001-Midcity Prescott Mag",28]
["1352102","Eastman El DL One & Two-Way Im Spanish","1352102-Eastman El DL One & Two-Way Im Spanish",null,null,"1350701",{"$f":"VLOOKUP(F217, 'ECAST Lookup'!A:G,7,FALSE)","v":"Eagle Rock El"},"1350701-Eagle Rock El",21]
["1354101","El Dorado El","1354101-El Dorado El",null,null,"1350702",{"$f":"VLOOKUP(F218, 'ECAST Lookup'!A:G,7,FALSE)","v":"Eagle Rock Hg El Mag"},"1350702-Eagle Rock Hg El Mag",28]
["1354501","El Oro Way Chtr CES","1354501-El Oro Way Chtr CES",null,null,"1350703",{"$f":"VLOOKUP(F219, 'ECAST Lookup'!A:G,7,FALSE)","v":"Eagle Rck G/HA El Mg"},"1350703-Eagle Rck G/HA El Mg",28]
["1354801","Elizabeth LC","1354801-Elizabeth LC",null,null,"1352101",{"$f":"VLOOKUP(F220, 'ECAST Lookup'!A:G,7,FALSE)","v":"Eastman El"},"1352101-Eastman El",18]
["1354805","Elizabeth LC DL Two-Way Im Arabic","1354805-Elizabeth LC DL Two-Way Im Arabic",null,null,"1352102",{"$f":"VLOOKUP(F221, 'ECAST Lookup'!A:G,7,FALSE)","v":"Eastman El DTS & DOS"},"1352102-Eastman El DTS & DOS",28]
["1356201","El Sereno El","1356201-El Sereno El",null,null,"1354101",{"$f":"VLOOKUP(F222, 'ECAST Lookup'!A:G,7,FALSE)","v":"El Dorado El"},"1354101-El Dorado El",20]
["1357401","Sendak El","1357401-Sendak El",null,null,"1354501",{"$f":"VLOOKUP(F223, 'ECAST Lookup'!A:G,7,FALSE)","v":"El Oro Way Chtr CES"},"1354501-El Oro Way Chtr CES",27]
["1357402","Sendak ES Arts/Comm/Technology Magnet","1357402-Sendak ES Arts/Comm/Technology Magnet",null,null,"1354801",{"$f":"VLOOKUP(F224, 'ECAST Lookup'!A:G,7,FALSE)","v":"Elizabeth LC"},"1354801-Elizabeth LC",20]
["1357501","Elysian Heights ES Arts Magnet","1357501-Elysian Heights ES Arts Magnet",null,null,"1354805",{"$f":"VLOOKUP(F225, 'ECAST Lookup'!A:G,7,FALSE)","v":"Elizabeth LC DTA"},"1354805-Elizabeth LC DTA",24]
["1357601","Parks LC","1357601-Parks LC",null,null,"1356201",{"$f":"VLOOKUP(F226, 'ECAST Lookup'!A:G,7,FALSE)","v":"El Sereno El"},"1356201-El Sereno El",20]
["1357701","Bellingham El","1357701-Bellingham El",null,null,"1357401",{"$f":"VLOOKUP(F227, 'ECAST Lookup'!A:G,7,FALSE)","v":"Sendak El"},"1357401-Sendak El",17]
["1358901","Emelita St El","1358901-Emelita St El",null,null,"1357402",{"$f":"VLOOKUP(F228, 'ECAST Lookup'!A:G,7,FALSE)","v":"Sendak A/C/T Mag"},"1357402-Sendak A/C/T Mag",24]
["1361001","Enadia Way Tech Charter","1361001-Enadia Way Tech Charter",null,null,"1357501",{"$f":"VLOOKUP(F229, 'ECAST Lookup'!A:G,7,FALSE)","v":"Elysian Hts Arts Mag"},"1357501-Elysian Hts Arts Mag",28]
["1361601","Encino Charter El","1361601-Encino Charter El",null,null,"1357601",{"$f":"VLOOKUP(F230, 'ECAST Lookup'!A:G,7,FALSE)","v":"Parks LC"},"1357601-Parks LC",16]
["1363001","Erwin El","1363001-Erwin El",null,null,"1357701",{"$f":"VLOOKUP(F231, 'ECAST Lookup'!A:G,7,FALSE)","v":"Bellingham El"},"1357701-Bellingham El",21]
["1364001","Eshelman El","1364001-Eshelman El",null,null,"1358901",{"$f":"VLOOKUP(F232, 'ECAST Lookup'!A:G,7,FALSE)","v":"Emelita St El"},"1358901-Emelita St El",21]
["1367101","Euclid El","1367101-Euclid El",null,null,"1361001",{"$f":"VLOOKUP(F233, 'ECAST Lookup'!A:G,7,FALSE)","v":"Enadia Way"},"1361001-Enadia Way",18]
["1367102","Euclid Av ES Gifted/STEAM Magnet","1367102-Euclid Av ES Gifted/STEAM Magnet",null,null,"1361601",{"$f":"VLOOKUP(F234, 'ECAST Lookup'!A:G,7,FALSE)","v":"Encino Charter El"},"1361601-Encino Charter El",25]
["1367103","Euclid El DL Two-Way Im Spanish","1367103-Euclid El DL Two-Way Im Spanish",null,null,"1363001",{"$f":"VLOOKUP(F235, 'ECAST Lookup'!A:G,7,FALSE)","v":"Erwin El"},"1363001-Erwin El",16]
["1369901","Evergreen El","1369901-Evergreen El",null,null,"1364001",{"$f":"VLOOKUP(F236, 'ECAST Lookup'!A:G,7,FALSE)","v":"Eshelman El"},"1364001-Eshelman El",19]
["1371201","Fair El","1371201-Fair El",null,null,"1367101",{"$f":"VLOOKUP(F237, 'ECAST Lookup'!A:G,7,FALSE)","v":"Euclid El"},"1367101-Euclid El",17]
["1372601","Fairburn El","1372601-Fairburn El",null,null,"1367102",{"$f":"VLOOKUP(F238, 'ECAST Lookup'!A:G,7,FALSE)","v":"Euclid ES GSTEAM Mag"},"1367102-Euclid ES GSTEAM Mag",28]
["1374001","Farmdale El","1374001-Farmdale El",null,null,"1367103",{"$f":"VLOOKUP(F239, 'ECAST Lookup'!A:G,7,FALSE)","v":"Euclid Ave El DTS"},"1367103-Euclid Ave El DTS",25]
["1374002","Farmdale El DL Two-Way Im Spanish","1374002-Farmdale El DL Two-Way Im Spanish",null,null,"1369901",{"$f":"VLOOKUP(F240, 'ECAST Lookup'!A:G,7,FALSE)","v":"Evergreen El"},"1369901-Evergreen El",20]
["1375301","Fernangeles El","1375301-Fernangeles El",null,null,"1371201",{"$f":"VLOOKUP(F241, 'ECAST Lookup'!A:G,7,FALSE)","v":"Fair El"},"1371201-Fair El",15]
["1375302","Fernangeles DL One & Two-Way Im Spanish","1375302-Fernangeles DL One & Two-Way Im Spanish",null,null,"1372601",{"$f":"VLOOKUP(F242, 'ECAST Lookup'!A:G,7,FALSE)","v":"Fairburn El"},"1372601-Fairburn El",19]
["1376701","15th St El","1376701-15th St El",null,null,"1374001",{"$f":"VLOOKUP(F243, 'ECAST Lookup'!A:G,7,FALSE)","v":"Farmdale El"},"1374001-Farmdale El",19]
["1378101","54th St El","1378101-54th St El",null,null,"1374002",{"$f":"VLOOKUP(F244, 'ECAST Lookup'!A:G,7,FALSE)","v":"Farmdale El DOS"},"1374002-Farmdale El DOS",23]
["1379501","59th St El","1379501-59th St El",null,null,"1375301",{"$f":"VLOOKUP(F245, 'ECAST Lookup'!A:G,7,FALSE)","v":"Fernangeles El"},"1375301-Fernangeles El",22]
["1380801","52nd St El","1380801-52nd St El",null,null,"1375302",{"$f":"VLOOKUP(F246, 'ECAST Lookup'!A:G,7,FALSE)","v":"Fernangeles DTS & DOS"},"1375302-Fernangeles DTS & DOS",29]
["1382201","Figueroa El","1382201-Figueroa El",null,null,"1376701",{"$f":"VLOOKUP(F247, 'ECAST Lookup'!A:G,7,FALSE)","v":"15th St El"},"1376701-15th St El",18]
["1382901","Broadous El","1382901-Broadous El",null,null,"1378101",{"$f":"VLOOKUP(F248, 'ECAST Lookup'!A:G,7,FALSE)","v":"54th St El"},"1378101-54th St El",18]
["1382902","Hillery T Broadous Elem Science/Tech/Math","1382902-Hillery T Broadous Elem Science/Tech/Math",null,null,"1379501",{"$f":"VLOOKUP(F249, 'ECAST Lookup'!A:G,7,FALSE)","v":"59th St El"},"1379501-59th St El",18]
["1383601","1st St El","1383601-1st St El",null,null,"1380801",{"$f":"VLOOKUP(F250, 'ECAST Lookup'!A:G,7,FALSE)","v":"52nd St El"},"1380801-52nd St El",18]
["1384901","Fishburn El","1384901-Fishburn El",null,null,"1382201",{"$f":"VLOOKUP(F251, 'ECAST Lookup'!A:G,7,FALSE)","v":"Figueroa El"},"1382201-Figueroa El",19]
["1384902","Fishburn El DL Two-Way Im Spanish","1384902-Fishburn El DL Two-Way Im Spanish",null,null,"1382901",{"$f":"VLOOKUP(F252, 'ECAST Lookup'!A:G,7,FALSE)","v":"Broadous El"},"1382901-Broadous El",19]
["1387701","Fletcher Dr El","1387701-Fletcher Dr El",null,null,"1382902",{"$f":"VLOOKUP(F253, 'ECAST Lookup'!A:G,7,FALSE)","v":"Broadous El STEM Mag"},"1382902-Broadous El STEM Mag",28]
["1387702","Fletcher Dr ES STEAM Magnet","1387702-Fletcher Dr ES STEAM Magnet",null,null,"1383601",{"$f":"VLOOKUP(F254, 'ECAST Lookup'!A:G,7,FALSE)","v":"1st St El"},"1383601-1st St El",17]
["1389001","Florence El","1389001-Florence El",null,null,"1384901",{"$f":"VLOOKUP(F255, 'ECAST Lookup'!A:G,7,FALSE)","v":"Fishburn El"},"1384901-Fishburn El",19]
["1389002","Florence El DL Two-Way Im Spanish","1389002-Florence El DL Two-Way Im Spanish",null,null,"1384902",{"$f":"VLOOKUP(F256, 'ECAST Lookup'!A:G,7,FALSE)","v":"Fishburn El DTS"},"1384902-Fishburn El DTS",23]
["1391801","Ford Blvd El","1391801-Ford Blvd El",null,null,"1387701",{"$f":"VLOOKUP(F257, 'ECAST Lookup'!A:G,7,FALSE)","v":"Fletcher Dr El"},"1387701-Fletcher Dr El",22]
["1391802","Ford Blvd El DL Two-Way Im Spanish","1391802-Ford Blvd El DL Two-Way Im Spanish",null,null,"1387702",{"$f":"VLOOKUP(F258, 'ECAST Lookup'!A:G,7,FALSE)","v":"Fletcher STEAM Mag"},"1387702-Fletcher STEAM Mag",26]
["1393201","49th St El","1393201-49th St El",null,null,"1389001",{"$f":"VLOOKUP(F259, 'ECAST Lookup'!A:G,7,FALSE)","v":"Florence El"},"1389001-Florence El",19]
["1395901","42nd St El",{"$f":"A260&\"-\"&B260","v":"1395901-42nd St El"},null,null,"1389002",{"$f":"VLOOKUP(F260, 'ECAST Lookup'!A:G,7,FALSE)","v":"Florence El DTS"},"1389002-Florence El DTS",23]
["1395902","42nd St El DL World Lang Im Spanish","1395902-42nd St El DL World Lang Im Spanish",null,null,"1391801",{"$f":"VLOOKUP(F261, 'ECAST Lookup'!A:G,7,FALSE)","v":"Ford Blvd El"},{"$f":"F261&\"-\"&G261","v":"1391801-Ford Blvd El"},{"$f":"LEN(H261)","v":20}]
["1397301","4th St El","1397301-4th St El",null,null,"1391802",{"$f":"VLOOKUP(F262, 'ECAST Lookup'!A:G,7,FALSE)","v":"Ford Blvd El DTS"},"1391802-Ford Blvd El DTS",24]
["1397401","4th Street Primary Center","1397401-4th Street Primary Center",null,null,"1393201",{"$f":"VLOOKUP(F263, 'ECAST Lookup'!A:G,7,FALSE)","v":"49th St El"},"1393201-49th St El",18]
["1397402","4th St PC DL Two-Way Im Spanish","1397402-4th St PC DL Two-Way Im Spanish",null,null,"1395901",{"$f":"VLOOKUP(F264, 'ECAST Lookup'!A:G,7,FALSE)","v":"42nd St El"},"1395901-42nd St El",18]
["1398601","Franklin El","1398601-Franklin El",null,null,"1395902",{"$f":"VLOOKUP(F265, 'ECAST Lookup'!A:G,7,FALSE)","v":"42nd St El DWS"},"1395902-42nd St El DWS",22]
["1401401","Fries El","1401401-Fries El",null,null,"1397301",{"$f":"VLOOKUP(F266, 'ECAST Lookup'!A:G,7,FALSE)","v":"4th St El"},"1397301-4th St El",17]
["1402001","Bakewell PC","1402001-Bakewell PC",null,null,"1397302",{"$f":"VLOOKUP(F267, 'ECAST Lookup'!A:G,7,FALSE)","v":"4th Street El DTS"},"1397302-4th Street El DTS",25]
["1402701","Fullbright El","1402701-Fullbright El",null,null,"1397401",{"$f":"VLOOKUP(F268, 'ECAST Lookup'!A:G,7,FALSE)","v":"4th St Primary Ctr"},"1397401-4th St Primary Ctr",26]
["1402702","Fullbright Ave El DL Two-Way Im Spanish","1402702-Fullbright Ave El DL Two-Way Im Spanish",null,null,"1397402",{"$f":"VLOOKUP(F269, 'ECAST Lookup'!A:G,7,FALSE)","v":"4th St PC DTS"},"1397402-4th St PC DTS",21]
["1404101","Gardena El","1404101-Gardena El",null,null,"1398601",{"$f":"VLOOKUP(F270, 'ECAST Lookup'!A:G,7,FALSE)","v":"Franklin El"},"1398601-Franklin El",19]
["1404102","Gardena El DL Two-Way Im Spanish","1404102-Gardena El DL Two-Way Im Spanish",null,null,"1401401",{"$f":"VLOOKUP(F271, 'ECAST Lookup'!A:G,7,FALSE)","v":"Fries El"},"1401401-Fries El",16]
["1405501","Garden Grove El","1405501-Garden Grove El",null,null,"1402001",{"$f":"VLOOKUP(F272, 'ECAST Lookup'!A:G,7,FALSE)","v":"Bakewell PC"},"1402001-Bakewell PC",19]
["1406801","Gardner El","1406801-Gardner El",null,null,"1402701",{"$f":"VLOOKUP(F273, 'ECAST Lookup'!A:G,7,FALSE)","v":"Fullbright El"},"1402701-Fullbright El",21]
["1408201","Garvanza ES Tech/Leadership Magnet","1408201-Garvanza ES Tech/Leadership Magnet",null,null,"1402702",{"$f":"VLOOKUP(F274, 'ECAST Lookup'!A:G,7,FALSE)","v":"Fullbright El DTS"},"1402702-Fullbright El DTS",25]
["1409601","Gates El","1409601-Gates El",null,null,"1404101",{"$f":"VLOOKUP(F275, 'ECAST Lookup'!A:G,7,FALSE)","v":"Gardena El"},"1404101-Gardena El",18]
["1409602","Gates El DL Two-Way Im Spanish","1409602-Gates El DL Two-Way Im Spanish",null,null,"1404102",{"$f":"VLOOKUP(F276, 'ECAST Lookup'!A:G,7,FALSE)","v":"Gardena El DTS"},"1404102-Gardena El DTS",22]
["1409603","Gates St El DL Two-Way Im Mandarin","1409603-Gates St El DL Two-Way Im Mandarin",null,null,"1405501",{"$f":"VLOOKUP(F277, 'ECAST Lookup'!A:G,7,FALSE)","v":"Garden Grove El"},"1405501-Garden Grove El",23]
["1411001","Gault El","1411001-Gault El",null,null,"1406801",{"$f":"VLOOKUP(F278, 'ECAST Lookup'!A:G,7,FALSE)","v":"Gardner El"},"1406801-Gardner El",18]
["1411701","Germain Acad AA","1411701-Germain Acad AA",null,null,"1408201",{"$f":"VLOOKUP(F279, 'ECAST Lookup'!A:G,7,FALSE)","v":"Garvanza ES Tech/Lea"},"1408201-Garvanza ES Tech/Lea",28]
["1412301","Glassell Park ES STEAM Magnet","1412301-Glassell Park ES STEAM Magnet",null,null,"1409601",{"$f":"VLOOKUP(F280, 'ECAST Lookup'!A:G,7,FALSE)","v":"Gates El"},"1409601-Gates El",16]
["1413001","Gledhill El","1413001-Gledhill El",null,null,"1409602",{"$f":"VLOOKUP(F281, 'ECAST Lookup'!A:G,7,FALSE)","v":"Gates St El DTS"},"1409602-Gates St El DTS",23]
["1413002","Gledhill Street Elem Science/Tech/Math Magnet","1413002-Gledhill Street Elem Science/Tech/Math Magnet",null,null,"1409603",{"$f":"VLOOKUP(F282, 'ECAST Lookup'!A:G,7,FALSE)","v":"Gates St El  DTM"},"1409603-Gates St El  DTM",24]
["1413701","Glen Alta El","1413701-Glen Alta El",null,null,"1411001",{"$f":"VLOOKUP(F283, 'ECAST Lookup'!A:G,7,FALSE)","v":"Gault El"},"1411001-Gault El",16]
["1416401","Glenfeliz Blvd El","1416401-Glenfeliz Blvd El",null,null,"1411701",{"$f":"VLOOKUP(F284, 'ECAST Lookup'!A:G,7,FALSE)","v":"Germain Acad AA"},"1411701-Germain Acad AA",23]
["1419201","Glenwood El","1419201-Glenwood El",null,null,"1412301",{"$f":"VLOOKUP(F285, 'ECAST Lookup'!A:G,7,FALSE)","v":"Glassell Pk STEAM Mg"},"1412301-Glassell Pk STEAM Mg",28]
["1421901","Graham El","1421901-Graham El",null,null,"1413001",{"$f":"VLOOKUP(F286, 'ECAST Lookup'!A:G,7,FALSE)","v":"Gledhill El"},"1413001-Gledhill El",19]
["1421902","Graham El DL Two-Way Im Spanish","1421902-Graham El DL Two-Way Im Spanish",null,null,"1413002",{"$f":"VLOOKUP(F287, 'ECAST Lookup'!A:G,7,FALSE)","v":"Gledhill El STEM Mag"},"1413002-Gledhill El STEM Mag",28]
["1423301","Granada Elementary","1423301-Granada Elementary",null,null,"1413701",{"$f":"VLOOKUP(F288, 'ECAST Lookup'!A:G,7,FALSE)","v":"Glen Alta El"},"1413701-Glen Alta El",20]
["1424701","Grand View El","1424701-Grand View El",null,null,"1416401",{"$f":"VLOOKUP(F289, 'ECAST Lookup'!A:G,7,FALSE)","v":"Glenfeliz Blvd El"},"1416401-Glenfeliz Blvd El",25]
["1424702","Grand View El DL Two-Way Im Spanish","1424702-Grand View El DL Two-Way Im Spanish",null,null,"1419201",{"$f":"VLOOKUP(F290, 'ECAST Lookup'!A:G,7,FALSE)","v":"Glenwood El"},"1419201-Glenwood El",19]
["1426001","Grant El","1426001-Grant El",null,null,"1421901",{"$f":"VLOOKUP(F291, 'ECAST Lookup'!A:G,7,FALSE)","v":"Graham El"},"1421901-Graham El",17]
["1426002","Grant El DL Two-Way Im Armenian","1426002-Grant El DL Two-Way Im Armenian",null,null,"1421902",{"$f":"VLOOKUP(F292, 'ECAST Lookup'!A:G,7,FALSE)","v":"Graham El DTS"},"1421902-Graham El DTS",21]
["1427401","Grape El","1427401-Grape El",null,null,"1423301",{"$f":"VLOOKUP(F293, 'ECAST Lookup'!A:G,7,FALSE)","v":"Granada Elementary"},"1423301-Granada Elementary",26]
["1429501","Gridley El","1429501-Gridley El",null,null,"1424701",{"$f":"VLOOKUP(F294, 'ECAST Lookup'!A:G,7,FALSE)","v":"Grand View El"},"1424701-Grand View El",21]
["1429502","Gridley El DL Two-Way Im Spanish","1429502-Gridley El DL Two-Way Im Spanish",null,null,"1424702",{"$f":"VLOOKUP(F295, 'ECAST Lookup'!A:G,7,FALSE)","v":"Grand View El DTS"},"1424702-Grand View El DTS",25]
["1430101","Griffin El","1430101-Griffin El",null,null,"1426001",{"$f":"VLOOKUP(F296, 'ECAST Lookup'!A:G,7,FALSE)","v":"Grant El"},"1426001-Grant El",16]
["1431501","Gulf El","1431501-Gulf El",null,null,"1426002",{"$f":"VLOOKUP(F297, 'ECAST Lookup'!A:G,7,FALSE)","v":"Grant St El DTR"},"1426002-Grant St El DTR",23]
["1431502","Gulf ES STEAM Magnet","1431502-Gulf ES STEAM Magnet",null,null,"1427401",{"$f":"VLOOKUP(F298, 'ECAST Lookup'!A:G,7,FALSE)","v":"Grape El"},"1427401-Grape El",16]
["1432201","Arroyo Seco Musm Sci","1432201-Arroyo Seco Musm Sci",null,null,"1429501",{"$f":"VLOOKUP(F299, 'ECAST Lookup'!A:G,7,FALSE)","v":"Gridley El"},"1429501-Gridley El",18]
["1432901","Haddon El","1432901-Haddon El",null,null,"1429502",{"$f":"VLOOKUP(F300, 'ECAST Lookup'!A:G,7,FALSE)","v":"Gridley St El DTS"},"1429502-Gridley St El DTS",25]
["1432902","Haddon Av ES STEAM Magnet","1432902-Haddon Av ES STEAM Magnet",null,null,"1430101",{"$f":"VLOOKUP(F301, 'ECAST Lookup'!A:G,7,FALSE)","v":"Griffin El"},"1430101-Griffin El",18]
["1434201","Halldale El","1434201-Halldale El",null,null,"1431501",{"$f":"VLOOKUP(F302, 'ECAST Lookup'!A:G,7,FALSE)","v":"Gulf El"},"1431501-Gulf El",15]
["1434901","Hamlin CA","1434901-Hamlin CA",null,null,"1431502",{"$f":"VLOOKUP(F303, 'ECAST Lookup'!A:G,7,FALSE)","v":"Gulf ES STEAM Magnet"},"1431502-Gulf ES STEAM Magnet",28]
["1435601","Anton El","1435601-Anton El",null,null,"1432201",{"$f":"VLOOKUP(F304, 'ECAST Lookup'!A:G,7,FALSE)","v":"Arroyo Seco Musm Sci"},"1432201-Arroyo Seco Musm Sci",28]
["1435602","Anton El DL Two-Way Im Spanish","1435602-Anton El DL Two-Way Im Spanish",null,null,"1432901",{"$f":"VLOOKUP(F305, 'ECAST Lookup'!A:G,7,FALSE)","v":"Haddon El"},"1432901-Haddon El",17]
["1439701","Hancock Park El","1439701-Hancock Park El",null,null,"1432902",{"$f":"VLOOKUP(F306, 'ECAST Lookup'!A:G,7,FALSE)","v":"Haddon STEAM Mag"},"1432902-Haddon STEAM Mag",24]
["1442501","Harbor City El","1442501-Harbor City El",null,null,"1434201",{"$f":"VLOOKUP(F307, 'ECAST Lookup'!A:G,7,FALSE)","v":"Halldale El"},"1434201-Halldale El",19]
["1443101","Harding El","1443101-Harding El",null,null,"1434901",{"$f":"VLOOKUP(F308, 'ECAST Lookup'!A:G,7,FALSE)","v":"Hamlin CA"},"1434901-Hamlin CA",17]
["1443801","Harrison El","1443801-Harrison El",null,null,"1435601",{"$f":"VLOOKUP(F309, 'ECAST Lookup'!A:G,7,FALSE)","v":"Anton El"},"1435601-Anton El",16]
["1443802","Harrison El DL Two-Way Im Spanish","1443802-Harrison El DL Two-Way Im Spanish",null,null,"1435602",{"$f":"VLOOKUP(F310, 'ECAST Lookup'!A:G,7,FALSE)","v":"Anton El DTS"},"1435602-Anton El DTS",20]
["1444501","Hart St El","1444501-Hart St El",null,null,"1439701",{"$f":"VLOOKUP(F311, 'ECAST Lookup'!A:G,7,FALSE)","v":"Hancock Park El"},"1439701-Hancock Park El",23]
["1445201","Haskell STEAM Magnet","1445201-Haskell STEAM Magnet",null,null,"1442501",{"$f":"VLOOKUP(F312, 'ECAST Lookup'!A:G,7,FALSE)","v":"Harbor City El"},"1442501-Harbor City El",22]
["1446601","Hawaiian El","1446601-Hawaiian El",null,null,"1443101",{"$f":"VLOOKUP(F313, 'ECAST Lookup'!A:G,7,FALSE)","v":"Harding El"},"1443101-Harding El",18]
["1446602","Hawaiian ES STEAM Magnet","1446602-Hawaiian ES STEAM Magnet",null,null,"1443801",{"$f":"VLOOKUP(F314, 'ECAST Lookup'!A:G,7,FALSE)","v":"Harrison El"},"1443801-Harrison El",19]
["1447301","Haynes CES","1447301-Haynes CES",null,null,"1443802",{"$f":"VLOOKUP(F315, 'ECAST Lookup'!A:G,7,FALSE)","v":"Harrison El DTS"},"1443802-Harrison El DTS",23]
["1449301","Hazeltine El","1449301-Hazeltine El",null,null,"1444501",{"$f":"VLOOKUP(F316, 'ECAST Lookup'!A:G,7,FALSE)","v":"Hart St El"},"1444501-Hart St El",18]
["1449302","Hazeltine El DL Two-Way Im Spanish","1449302-Hazeltine El DL Two-Way Im Spanish",null,null,"1445201",{"$f":"VLOOKUP(F317, 'ECAST Lookup'!A:G,7,FALSE)","v":"Haskell STEAM Magnet"},"1445201-Haskell STEAM Magnet",28]
["1450701","Heliotrope El","1450701-Heliotrope El",null,null,"1446601",{"$f":"VLOOKUP(F318, 'ECAST Lookup'!A:G,7,FALSE)","v":"Hawaiian El"},"1446601-Hawaiian El",19]
["1451501","Herrick El","1451501-Herrick El",null,null,"1446602",{"$f":"VLOOKUP(F319, 'ECAST Lookup'!A:G,7,FALSE)","v":"Hawaiian ES"},"1446602-Hawaiian ES",19]
["1452101","Hesby Oaks Lead Chtr","1452101-Hesby Oaks Lead Chtr",null,null,"1447301",{"$f":"VLOOKUP(F320, 'ECAST Lookup'!A:G,7,FALSE)","v":"Haynes CES"},"1447301-Haynes CES",18]
["1452801","Hillcrest Dr El","1452801-Hillcrest Dr El",null,null,"1449301",{"$f":"VLOOKUP(F321, 'ECAST Lookup'!A:G,7,FALSE)","v":"Hazeltine El"},"1449301-Hazeltine El",20]
["1452802","Hillcrest Drive Elementary Music Magnet","1452802-Hillcrest Drive Elementary Music Magnet",null,null,"1449302",{"$f":"VLOOKUP(F322, 'ECAST Lookup'!A:G,7,FALSE)","v":"Hazeltine El DTS"},"1449302-Hazeltine El DTS",24]
["1452803","Hillcrest Dr El DL Two-Way Im Spanish","1452803-Hillcrest Dr El DL Two-Way Im Spanish",null,null,"1450701",{"$f":"VLOOKUP(F323, 'ECAST Lookup'!A:G,7,FALSE)","v":"Heliotrope El"},"1450701-Heliotrope El",21]
["1453401","Hillside El",{"$f":"A324&\"-\"&B324","v":"1453401-Hillside El"},null,null,"1451501",{"$f":"VLOOKUP(F324, 'ECAST Lookup'!A:G,7,FALSE)","v":"Herrick El"},"1451501-Herrick El",18]
["1454801","Hobart Blvd El","1454801-Hobart Blvd El",null,null,"1452101",{"$f":"VLOOKUP(F325, 'ECAST Lookup'!A:G,7,FALSE)","v":"Hesby Oaks Lead Chtr"},{"$f":"F325&\"-\"&G325","v":"1452101-Hesby Oaks Lead Chtr"},{"$f":"LEN(H325)","v":28}]
["1454802","Hobart Blvd El DL Two-Way Im Spanish","1454802-Hobart Blvd El DL Two-Way Im Spanish",null,null,"1452801",{"$f":"VLOOKUP(F326, 'ECAST Lookup'!A:G,7,FALSE)","v":"Hillcrest Dr El"},"1452801-Hillcrest Dr El",23]
["1456201","Holmes El","1456201-Holmes El",null,null,"1452802",{"$f":"VLOOKUP(F327, 'ECAST Lookup'!A:G,7,FALSE)","v":"Hillcrest El Mus Mag"},"1452802-Hillcrest El Mus Mag",28]
["1457501","Hooper El","1457501-Hooper El",null,null,"1452803",{"$f":"VLOOKUP(F328, 'ECAST Lookup'!A:G,7,FALSE)","v":"Hillcrest El DTS"},"1452803-Hillcrest El DTS",24]
["1457502","Hooper El DL Two-Way Im Spanish","1457502-Hooper El DL Two-Way Im Spanish",null,null,"1453401",{"$f":"VLOOKUP(F329, 'ECAST Lookup'!A:G,7,FALSE)","v":"Hillside El"},"1453401-Hillside El",19]
["1457601","Hooper PC","1457601-Hooper PC",null,null,"1454801",{"$f":"VLOOKUP(F330, 'ECAST Lookup'!A:G,7,FALSE)","v":"Hobart Blvd El"},"1454801-Hobart Blvd El",22]
["1457602","Hooper PC El DL Two-Way Im Spanish","1457602-Hooper PC El DL Two-Way Im Spanish",null,null,"1454802",{"$f":"VLOOKUP(F331, 'ECAST Lookup'!A:G,7,FALSE)","v":"Hobart Blvd DTS"},"1454802-Hobart Blvd DTS",23]
["1458901","Hoover El","1458901-Hoover El",null,null,"1456201",{"$f":"VLOOKUP(F332, 'ECAST Lookup'!A:G,7,FALSE)","v":"Holmes El"},"1456201-Holmes El",17]
["1460301","Hubbard El","1460301-Hubbard El",null,null,"1457501",{"$f":"VLOOKUP(F333, 'ECAST Lookup'!A:G,7,FALSE)","v":"Hooper El"},"1457501-Hooper El",17]
["1460302","Hubbard St ES STEAM Magnet","1460302-Hubbard St ES STEAM Magnet",null,null,"1457502",{"$f":"VLOOKUP(F334, 'ECAST Lookup'!A:G,7,FALSE)","v":"Hooper El DTS"},"1457502-Hooper El DTS",21]
["1461601","Humphreys El","1461601-Humphreys El",null,null,"1457601",{"$f":"VLOOKUP(F335, 'ECAST Lookup'!A:G,7,FALSE)","v":"Hooper PC"},"1457601-Hooper PC",17]
["1461602","Humphreys Avenue Elem Science/Tech/Math","1461602-Humphreys Avenue Elem Science/Tech/Math",null,null,"1457602",{"$f":"VLOOKUP(F336, 'ECAST Lookup'!A:G,7,FALSE)","v":"Hooper PC DTS"},"1457602-Hooper PC DTS",21]
["1461603","Humphreys El DL Two-Way Im Spanish","1461603-Humphreys El DL Two-Way Im Spanish",null,null,"1458901",{"$f":"VLOOKUP(F337, 'ECAST Lookup'!A:G,7,FALSE)","v":"Hoover El"},"1458901-Hoover El",17]
["1463001","Huntington Dr El","1463001-Huntington Dr El",null,null,"1460301",{"$f":"VLOOKUP(F338, 'ECAST Lookup'!A:G,7,FALSE)","v":"Hubbard El"},"1460301-Hubbard El",18]
["1463002","Huntington Dr El DL Two-Way Im Spanish","1463002-Huntington Dr El DL Two-Way Im Spanish",null,null,"1460302",{"$f":"VLOOKUP(F339, 'ECAST Lookup'!A:G,7,FALSE)","v":"Hubbard STEAM Mag"},"1460302-Hubbard STEAM Mag",25]
["1464001","Walnut Park El","1464001-Walnut Park El",null,null,"1461601",{"$f":"VLOOKUP(F340, 'ECAST Lookup'!A:G,7,FALSE)","v":"Humphreys El"},"1461601-Humphreys El",20]
["1464002","Walnut Park El DL Two-Way Im Spanish","1464002-Walnut Park El DL Two-Way Im Spanish",null,null,"1461602",{"$f":"VLOOKUP(F341, 'ECAST Lookup'!A:G,7,FALSE)","v":"Humphreys El STEM Mag"},"1461602-Humphreys El STEM Mag",29]
["1464101","San Antonio El","1464101-San Antonio El",null,null,"1461603",{"$f":"VLOOKUP(F342, 'ECAST Lookup'!A:G,7,FALSE)","v":"Humphreys El DTS"},"1461603-Humphreys El DTS",24]
["1464102","San Antonio ES STEM Magnet","1464102-San Antonio ES STEM Magnet",null,null,"1463001",{"$f":"VLOOKUP(F343, 'ECAST Lookup'!A:G,7,FALSE)","v":"Huntington Dr El"},"1463001-Huntington Dr El",24]
["1464201","Pacific Blvd School","1464201-Pacific Blvd School",null,null,"1463002",{"$f":"VLOOKUP(F344, 'ECAST Lookup'!A:G,7,FALSE)","v":"Huntington Dr El DTS"},"1463002-Huntington Dr El DTS",28]
["1464202","Pacific Blvd El DL Two-Way Im Spanish","1464202-Pacific Blvd El DL Two-Way Im Spanish",null,null,"1464001",{"$f":"VLOOKUP(F345, 'ECAST Lookup'!A:G,7,FALSE)","v":"Walnut Park El"},"1464001-Walnut Park El",22]
["1465801","YES Academy","1465801-YES Academy",null,null,"1464002",{"$f":"VLOOKUP(F346, 'ECAST Lookup'!A:G,7,FALSE)","v":"Walnut Prk El DTS"},"1464002-Walnut Prk El DTS",25]
["1467101","Ivanhoe El","1467101-Ivanhoe El",null,null,"1464101",{"$f":"VLOOKUP(F347, 'ECAST Lookup'!A:G,7,FALSE)","v":"San Antonio El"},"1464101-San Antonio El",22]
["1468001","Lizarraga El","1468001-Lizarraga El",null,null,"1464102",{"$f":"VLOOKUP(F348, 'ECAST Lookup'!A:G,7,FALSE)","v":"San Antonio STEM Mag"},"1464102-San Antonio STEM Mag",28]
["1468101","Harmony El","1468101-Harmony El",null,null,"1464201",{"$f":"VLOOKUP(F349, 'ECAST Lookup'!A:G,7,FALSE)","v":"Pacific Blvd School"},"1464201-Pacific Blvd School",27]
["1468102","Harmony El DL Two-Way Im Spanish","1468102-Harmony El DL Two-Way Im Spanish",null,null,"1464202",{"$f":"VLOOKUP(F350, 'ECAST Lookup'!A:G,7,FALSE)","v":"Pacific Blvd El DTS"},"1464202-Pacific Blvd El DTS",27]
["1468501","Aurora El","1468501-Aurora El",null,null,"1465801",{"$f":"VLOOKUP(F351, 'ECAST Lookup'!A:G,7,FALSE)","v":"YES Academy"},"1465801-YES Academy",19]
["1468502","Aurora El DL Two-Way Im Spanish","1468502-Aurora El DL Two-Way Im Spanish",null,null,"1467101",{"$f":"VLOOKUP(F352, 'ECAST Lookup'!A:G,7,FALSE)","v":"Ivanhoe El"},"1467101-Ivanhoe El",18]
["1469201","Justice St Acad Chtr","1469201-Justice St Acad Chtr",null,null,"1468001",{"$f":"VLOOKUP(F353, 'ECAST Lookup'!A:G,7,FALSE)","v":"Lizarraga El"},"1468001-Lizarraga El",20]
["1469601","Kennedy El","1469601-Kennedy El",null,null,"1468002",{"$f":"VLOOKUP(F354, 'ECAST Lookup'!A:G,7,FALSE)","v":"Lizarraga El DTS"},"1468002-Lizarraga El DTS",24]
["1469901","Kenter Canyon Elementary Charter","1469901-Kenter Canyon Elementary Charter",null,null,"1468101",{"$f":"VLOOKUP(F355, 'ECAST Lookup'!A:G,7,FALSE)","v":"Harmony El"},"1468101-Harmony El",18]
["1471201","Kentwood El","1471201-Kentwood El",null,null,"1468102",{"$f":"VLOOKUP(F356, 'ECAST Lookup'!A:G,7,FALSE)","v":"Harmony El DTS"},"1468102-Harmony El DTS",22]
["1472601","Kester El","1472601-Kester El",null,null,"1468501",{"$f":"VLOOKUP(F357, 'ECAST Lookup'!A:G,7,FALSE)","v":"Aurora El"},"1468501-Aurora El",17]
["1472602","Kester Avenue Elementary Gifted Magnet","1472602-Kester Avenue Elementary Gifted Magnet",null,null,"1468502",{"$f":"VLOOKUP(F358, 'ECAST Lookup'!A:G,7,FALSE)","v":"Aurora El DTS"},"1468502-Aurora El DTS",21]
["1476001","Kittridge El","1476001-Kittridge El",null,null,"1469201",{"$f":"VLOOKUP(F359, 'ECAST Lookup'!A:G,7,FALSE)","v":"Justice St Acad Chtr"},"1469201-Justice St Acad Chtr",28]
["1476002","Kittridge El DL Two-Way Im Spanish","1476002-Kittridge El DL Two-Way Im Spanish",null,null,"1469601",{"$f":"VLOOKUP(F360, 'ECAST Lookup'!A:G,7,FALSE)","v":"Kennedy El"},"1469601-Kennedy El",18]
["1476003","Kittridge El DL Two-Way Im Armenian","1476003-Kittridge El DL Two-Way Im Armenian",null,null,"1469901",{"$f":"VLOOKUP(F361, 'ECAST Lookup'!A:G,7,FALSE)","v":"Kenter Canyon"},"1469901-Kenter Canyon",21]
["1476201","Knollwood Prep Acad","1476201-Knollwood Prep Acad",null,null,"1471201",{"$f":"VLOOKUP(F362, 'ECAST Lookup'!A:G,7,FALSE)","v":"Kentwood El"},"1471201-Kentwood El",19]
["1476401","Lanai El","1476401-Lanai El",null,null,"1472601",{"$f":"VLOOKUP(F363, 'ECAST Lookup'!A:G,7,FALSE)","v":"Kester El"},"1472601-Kester El",17]
["1476701","Lane El","1476701-Lane El",null,null,"1472602",{"$f":"VLOOKUP(F364, 'ECAST Lookup'!A:G,7,FALSE)","v":"Kester El Gifted Mag"},"1472602-Kester El Gifted Mag",28]
["1477501","Langdon El","1477501-Langdon El",null,null,"1476001",{"$f":"VLOOKUP(F365, 'ECAST Lookup'!A:G,7,FALSE)","v":"Kittridge El"},"1476001-Kittridge El",20]
["1477601","Primary Academy","1477601-Primary Academy",null,null,"1476002",{"$f":"VLOOKUP(F366, 'ECAST Lookup'!A:G,7,FALSE)","v":"Kittridge El DTS"},"1476002-Kittridge El DTS",24]
["1478101","Lankershim El","1478101-Lankershim El",null,null,"1476003",{"$f":"VLOOKUP(F367, 'ECAST Lookup'!A:G,7,FALSE)","v":"Kittridge El DTR"},"1476003-Kittridge El DTR",24]
["1478601","La Salle El","1478601-La Salle El",null,null,"1476201",{"$f":"VLOOKUP(F368, 'ECAST Lookup'!A:G,7,FALSE)","v":"Knollwood Prep Acad"},"1476201-Knollwood Prep Acad",27]
["1478602","La Salle El DL Two-Way Im Spanish","1478602-La Salle El DL Two-Way Im Spanish",null,null,"1476401",{"$f":"VLOOKUP(F369, 'ECAST Lookup'!A:G,7,FALSE)","v":"Lanai El"},"1476401-Lanai El",16]
["1479001","Lassen El","1479001-Lassen El",null,null,"1476701",{"$f":"VLOOKUP(F370, 'ECAST Lookup'!A:G,7,FALSE)","v":"Lane El"},"1476701-Lane El",15]
["1479002","Lassen El DL Two-Way Im Spanish","1479002-Lassen El DL Two-Way Im Spanish",null,null,"1477501",{"$f":"VLOOKUP(F371, 'ECAST Lookup'!A:G,7,FALSE)","v":"Langdon El"},"1477501-Langdon El",18]
["1479501","Latona El","1479501-Latona El",null,null,"1477601",{"$f":"VLOOKUP(F372, 'ECAST Lookup'!A:G,7,FALSE)","v":"Primary Academy"},"1477601-Primary Academy",23]
["1479502","Latona El DL Two-Way Im Spanish","1479502-Latona El DL Two-Way Im Spanish",null,null,"1478101",{"$f":"VLOOKUP(F373, 'ECAST Lookup'!A:G,7,FALSE)","v":"Lankershim El"},"1478101-Lankershim El",21]
["1480801","Laurel Cinematic Arts Creative Tech Mag","1480801-Laurel Cinematic Arts Creative Tech Mag",null,null,"1478601",{"$f":"VLOOKUP(F374, 'ECAST Lookup'!A:G,7,FALSE)","v":"La Salle El"},"1478601-La Salle El",19]
["1482901","Leapwood El","1482901-Leapwood El",null,null,"1478602",{"$f":"VLOOKUP(F375, 'ECAST Lookup'!A:G,7,FALSE)","v":"La Salle El DTS"},"1478602-La Salle El DTS",23]
["1483601","Leland El","1483601-Leland El",null,null,"1479001",{"$f":"VLOOKUP(F376, 'ECAST Lookup'!A:G,7,FALSE)","v":"Lassen El"},"1479001-Lassen El",17]
["1483602","Leland St ES Global Awareness Magnet","1483602-Leland St ES Global Awareness Magnet",null,null,"1479002",{"$f":"VLOOKUP(F377, 'ECAST Lookup'!A:G,7,FALSE)","v":"Lassen El DTS"},"1479002-Lassen El DTS",21]
["1484901","Lemay El","1484901-Lemay El",null,null,"1479501",{"$f":"VLOOKUP(F378, 'ECAST Lookup'!A:G,7,FALSE)","v":"Latona El"},"1479501-Latona El",17]
["1486301","Liberty El","1486301-Liberty El",null,null,"1479502",{"$f":"VLOOKUP(F379, 'ECAST Lookup'!A:G,7,FALSE)","v":"Latona El DTS"},"1479502-Latona El DTS",21]
["1487001","Liggett El","1487001-Liggett El",null,null,"1480801",{"$f":"VLOOKUP(F380, 'ECAST Lookup'!A:G,7,FALSE)","v":"Laurel CACT Mag"},"1480801-Laurel CACT Mag",23]
["1487701","Lillian El","1487701-Lillian El",null,null,"1482901",{"$f":"VLOOKUP(F381, 'ECAST Lookup'!A:G,7,FALSE)","v":"Leapwood El"},"1482901-Leapwood El",19]
["1488101","Limerick El","1488101-Limerick El",null,null,"1483601",{"$f":"VLOOKUP(F382, 'ECAST Lookup'!A:G,7,FALSE)","v":"Leland El"},"1483601-Leland El",17]
["1488102","Limerick Ave El DL Two-Way Im Spanish","1488102-Limerick Ave El DL Two-Way Im Spanish",null,null,"1483602",{"$f":"VLOOKUP(F383, 'ECAST Lookup'!A:G,7,FALSE)","v":"Leland GA Mag"},"1483602-Leland GA Mag",21]
["1488701","Lockhurst Dr Chtr El","1488701-Lockhurst Dr Chtr El",null,null,"1484901",{"$f":"VLOOKUP(F384, 'ECAST Lookup'!A:G,7,FALSE)","v":"Lemay El"},"1484901-Lemay El",16]
["1489001","Lockwood El","1489001-Lockwood El",null,null,"1486301",{"$f":"VLOOKUP(F385, 'ECAST Lookup'!A:G,7,FALSE)","v":"Liberty El"},"1486301-Liberty El",18]
["1490401","Logan Academy of Global Ecology","1490401-Logan Academy of Global Ecology",null,null,"1487001",{"$f":"VLOOKUP(F386, 'ECAST Lookup'!A:G,7,FALSE)","v":"Liggett El"},"1487001-Liggett El",18]
["1490402","Logan El DL Two-Way Im Spanish",{"$f":"A387&\"-\"&B387","v":"1490402-Logan El DL Two-Way Im Spanish"},null,null,"1487701",{"$f":"VLOOKUP(F387, 'ECAST Lookup'!A:G,7,FALSE)","v":"Lillian El"},"1487701-Lillian El",18]
["1491801","Loma Vista El","1491801-Loma Vista El",null,null,"1488101",{"$f":"VLOOKUP(F388, 'ECAST Lookup'!A:G,7,FALSE)","v":"Limerick El"},"1488101-Limerick El",19]
["1491802","Loma Vista El DL Two-Way Im Spanish","1491802-Loma Vista El DL Two-Way Im Spanish",null,null,"1488102",{"$f":"VLOOKUP(F389, 'ECAST Lookup'!A:G,7,FALSE)","v":"Limerick Ave El DTS"},{"$f":"F389&\"-\"&G389","v":"1488102-Limerick Ave El DTS"},{"$f":"LEN(H389)","v":27}]
["1493201","Lomita Math/Sci Mag","1493201-Lomita Math/Sci Mag",null,null,"1488701",{"$f":"VLOOKUP(F390, 'ECAST Lookup'!A:G,7,FALSE)","v":"Lockhurst Dr Chtr El"},"1488701-Lockhurst Dr Chtr El",28]
["1494501","Lorena El","1494501-Lorena El",null,null,"1489001",{"$f":"VLOOKUP(F391, 'ECAST Lookup'!A:G,7,FALSE)","v":"Lockwood El"},"1489001-Lockwood El",19]
["1494502","Lorena St. El DL Two-Way Im Spanish","1494502-Lorena St. El DL Two-Way Im Spanish",null,null,"1490401",{"$f":"VLOOKUP(F392, 'ECAST Lookup'!A:G,7,FALSE)","v":"Logan Acad Globl Eco"},"1490401-Logan Acad Globl Eco",28]
["1495901","Loreto El","1495901-Loreto El",null,null,"1490402",{"$f":"VLOOKUP(F393, 'ECAST Lookup'!A:G,7,FALSE)","v":"Logan St El DTS"},"1490402-Logan St El DTS",23]
["1495902","Loreto El DL Two-Way Im Spanish","1495902-Loreto El DL Two-Way Im Spanish",null,null,"1491801",{"$f":"VLOOKUP(F394, 'ECAST Lookup'!A:G,7,FALSE)","v":"Loma Vista El"},"1491801-Loma Vista El",21]
["1497301","Lorne El","1497301-Lorne El",null,null,"1491802",{"$f":"VLOOKUP(F395, 'ECAST Lookup'!A:G,7,FALSE)","v":"Loma Vista El DTS"},"1491802-Loma Vista El DTS",25]
["1497302","Lorne Street Elem Science/Tech/Math Magnet","1497302-Lorne Street Elem Science/Tech/Math Magnet",null,null,"1493201",{"$f":"VLOOKUP(F396, 'ECAST Lookup'!A:G,7,FALSE)","v":"Lomita Math/Sci Mag"},"1493201-Lomita Math/Sci Mag",27]
["1498001","Pio Pico MS","1498001-Pio Pico MS",null,null,"1494501",{"$f":"VLOOKUP(F397, 'ECAST Lookup'!A:G,7,FALSE)","v":"Lorena El"},"1494501-Lorena El",17]
["1498201","Los Angeles El","1498201-Los Angeles El",null,null,"1494502",{"$f":"VLOOKUP(F398, 'ECAST Lookup'!A:G,7,FALSE)","v":"Lorena St El DTS"},"1494502-Lorena St El DTS",24]
["1498301","Mariposa-Nabi PC","1498301-Mariposa-Nabi PC",null,null,"1495901",{"$f":"VLOOKUP(F399, 'ECAST Lookup'!A:G,7,FALSE)","v":"Loreto El"},"1495901-Loreto El",17]
["1498601","Los Feliz STEMM Magnet","1498601-Los Feliz STEMM Magnet",null,null,"1495902",{"$f":"VLOOKUP(F400, 'ECAST Lookup'!A:G,7,FALSE)","v":"Loreto St El DTS"},"1495902-Loreto St El DTS",24]
["1501401","Loyola Village ES Fine/Performing Arts Magnet","1501401-Loyola Village ES Fine/Performing Arts Magnet",null,null,"1497301",{"$f":"VLOOKUP(F401, 'ECAST Lookup'!A:G,7,FALSE)","v":"Lorne El"},"1497301-Lorne El",16]
["1501601","Coughlin El","1501601-Coughlin El",null,null,"1497302",{"$f":"VLOOKUP(F402, 'ECAST Lookup'!A:G,7,FALSE)","v":"Lorne St El STEM Mag"},"1497302-Lorne St El STEM Mag",28]
["1505501","Magnolia El","1505501-Magnolia El",null,null,"1498001",{"$f":"VLOOKUP(F403, 'ECAST Lookup'!A:G,7,FALSE)","v":"Pio Pico MS"},"1498001-Pio Pico MS",19]
["1505502","Magnolia El DL One & Two-Way Im Spanish","1505502-Magnolia El DL One & Two-Way Im Spanish",null,null,"1498201",{"$f":"VLOOKUP(F404, 'ECAST Lookup'!A:G,7,FALSE)","v":"Los Angeles El"},"1498201-Los Angeles El",22]
["1506801","Main St El","1506801-Main St El",null,null,"1498301",{"$f":"VLOOKUP(F405, 'ECAST Lookup'!A:G,7,FALSE)","v":"Mariposa-Nabi PC"},"1498301-Mariposa-Nabi PC",24]
["1506802","Main St El DL Two-Way Im Spanish","1506802-Main St El DL Two-Way Im Spanish",null,null,"1498601",{"$f":"VLOOKUP(F406, 'ECAST Lookup'!A:G,7,FALSE)","v":"Los Feliz STEMM Mag"},"1498601-Los Feliz STEMM Mag",27]
["1508201","Malabar El","1508201-Malabar El",null,null,"1501401",{"$f":"VLOOKUP(F407, 'ECAST Lookup'!A:G,7,FALSE)","v":"Loyola Vill ES Mag"},"1501401-Loyola Vill ES Mag",26]
["1508202","Malabar St El DL Two-Way Im Spanish","1508202-Malabar St El DL Two-Way Im Spanish",null,null,"1501601",{"$f":"VLOOKUP(F408, 'ECAST Lookup'!A:G,7,FALSE)","v":"Coughlin El"},"1501601-Coughlin El",19]
["1509601","Manchester El","1509601-Manchester El",null,null,"1505501",{"$f":"VLOOKUP(F409, 'ECAST Lookup'!A:G,7,FALSE)","v":"Magnolia El"},"1505501-Magnolia El",19]
["1509602","Manchester Av ES Comm/Broadcasting Mag","1509602-Manchester Av ES Comm/Broadcasting Mag",null,null,"1505502",{"$f":"VLOOKUP(F410, 'ECAST Lookup'!A:G,7,FALSE)","v":"Magnolia El DTS & DOS"},"1505502-Magnolia El DTS & DOS",29]
["1511001","Manhattan Place El","1511001-Manhattan Place El",null,null,"1506801",{"$f":"VLOOKUP(F411, 'ECAST Lookup'!A:G,7,FALSE)","v":"Main St El"},"1506801-Main St El",18]
["1511101","Alexander Sci Ctr Sc","1511101-Alexander Sci Ctr Sc",null,null,"1506802",{"$f":"VLOOKUP(F412, 'ECAST Lookup'!A:G,7,FALSE)","v":"Main St El DTS"},"1506802-Main St El DTS",22]
["1511102","Alexander Sci Ctr DL Two-Way Im Spanish","1511102-Alexander Sci Ctr DL Two-Way Im Spanish",null,null,"1508201",{"$f":"VLOOKUP(F413, 'ECAST Lookup'!A:G,7,FALSE)","v":"Malabar El"},"1508201-Malabar El",18]
["1511201","Jones PC","1511201-Jones PC",null,null,"1508202",{"$f":"VLOOKUP(F414, 'ECAST Lookup'!A:G,7,FALSE)","v":"Malabar St El DTS"},"1508202-Malabar St El DTS",25]
["1511301","Mack El","1511301-Mack El",null,null,"1509601",{"$f":"VLOOKUP(F415, 'ECAST Lookup'!A:G,7,FALSE)","v":"Manchester El"},"1509601-Manchester El",21]
["1511302","Mack El DL Two-Way Im Spanish","1511302-Mack El DL Two-Way Im Spanish",null,null,"1509602",{"$f":"VLOOKUP(F416, 'ECAST Lookup'!A:G,7,FALSE)","v":"Manchester C/B Mag"},"1509602-Manchester C/B Mag",26]
["1513701","Marianna El","1513701-Marianna El",null,null,"1511001",{"$f":"VLOOKUP(F417, 'ECAST Lookup'!A:G,7,FALSE)","v":"Manhattan Place El"},"1511001-Manhattan Place El",26]
["1513702","Marianna Ave El DL Two-Way Im Spanish","1513702-Marianna Ave El DL Two-Way Im Spanish",null,null,"1511101",{"$f":"VLOOKUP(F418, 'ECAST Lookup'!A:G,7,FALSE)","v":"Alexander Sci Ctr Sc"},"1511101-Alexander Sci Ctr Sc",28]
["1515301","Orchard Academies 2B","1515301-Orchard Academies 2B",null,null,"1511102",{"$f":"VLOOKUP(F419, 'ECAST Lookup'!A:G,7,FALSE)","v":"Alexander SCS DTS"},"1511102-Alexander SCS DTS",25]
["1515401","Orchard Academies 2C","1515401-Orchard Academies 2C",null,null,"1511201",{"$f":"VLOOKUP(F420, 'ECAST Lookup'!A:G,7,FALSE)","v":"Jones PC"},"1511201-Jones PC",16]
["1516401","Marquez Charter","1516401-Marquez Charter",null,null,"1511301",{"$f":"VLOOKUP(F421, 'ECAST Lookup'!A:G,7,FALSE)","v":"Mack El"},"1511301-Mack El",15]
["1517001","Lexington Ave PC","1517001-Lexington Ave PC",null,null,"1511302",{"$f":"VLOOKUP(F422, 'ECAST Lookup'!A:G,7,FALSE)","v":"Mack El DTS"},"1511302-Mack El DTS",19]
["1517301","Dr. Julian Nava Learning Academy","1517301-Dr. Julian Nava Learning Academy",null,null,"1513701",{"$f":"VLOOKUP(F423, 'ECAST Lookup'!A:G,7,FALSE)","v":"Marianna El"},"1513701-Marianna El",19]
["1517801","Marvin El","1517801-Marvin El",null,null,"1513702",{"$f":"VLOOKUP(F424, 'ECAST Lookup'!A:G,7,FALSE)","v":"Marianna El DTS"},"1513702-Marianna El DTS",23]
["1517802","Marvin Dual Lang Mag","1517802-Marvin Dual Lang Mag",null,null,"1515301",{"$f":"VLOOKUP(F425, 'ECAST Lookup'!A:G,7,FALSE)","v":"Orchard Academies 2B"},"1515301-Orchard Academies 2B",28]
["1519201","Mar Vista El","1519201-Mar Vista El",null,null,"1515401",{"$f":"VLOOKUP(F426, 'ECAST Lookup'!A:G,7,FALSE)","v":"Orchard Academies 2C"},"1515401-Orchard Academies 2C",28]
["1519301","Walnut Park MS STEM","1519301-Walnut Park MS STEM",null,null,"1516401",{"$f":"VLOOKUP(F427, 'ECAST Lookup'!A:G,7,FALSE)","v":"Marquez Charter"},"1516401-Marquez Charter",23]
["1519801","Mayall El","1519801-Mayall El",null,null,"1517001",{"$f":"VLOOKUP(F428, 'ECAST Lookup'!A:G,7,FALSE)","v":"Lexington Ave PC"},"1517001-Lexington Ave PC",24]
["1520501","Mayberry El","1520501-Mayberry El",null,null,"1517301",{"$f":"VLOOKUP(F429, 'ECAST Lookup'!A:G,7,FALSE)","v":"Dr. Julian Nava Acad"},"1517301-Dr. Julian Nava Acad",28]
["1520502","Mayberry El DL Two-Way Im Spanish","1520502-Mayberry El DL Two-Way Im Spanish",null,null,"1517801",{"$f":"VLOOKUP(F430, 'ECAST Lookup'!A:G,7,FALSE)","v":"Marvin El"},"1517801-Marvin El",17]
["1520503","Mayberry St ES Communication Arts Magnet","1520503-Mayberry St ES Communication Arts Magnet",null,null,"1517802",{"$f":"VLOOKUP(F431, 'ECAST Lookup'!A:G,7,FALSE)","v":"Marvin Dual Lang Mag"},"1517802-Marvin Dual Lang Mag",28]
["1521901","Melrose M/S/T Mag","1521901-Melrose M/S/T Mag",null,null,"1519201",{"$f":"VLOOKUP(F432, 'ECAST Lookup'!A:G,7,FALSE)","v":"Mar Vista El"},"1519201-Mar Vista El",20]
["1523301","Melvin El","1523301-Melvin El",null,null,"1519301",{"$f":"VLOOKUP(F433, 'ECAST Lookup'!A:G,7,FALSE)","v":"Walnut Park MS STEM"},"1519301-Walnut Park MS STEM",27]
["1523302","Melvin Av ES Humanities/Leadership Mag","1523302-Melvin Av ES Humanities/Leadership Mag",null,null,"1519801",{"$f":"VLOOKUP(F434, 'ECAST Lookup'!A:G,7,FALSE)","v":"Mayall El"},"1519801-Mayall El",17]
["1524001","Katherine Johnson STEM Academy","1524001-Katherine Johnson STEM Academy",null,null,"1520501",{"$f":"VLOOKUP(F435, 'ECAST Lookup'!A:G,7,FALSE)","v":"Mayberry El"},"1520501-Mayberry El",19]
["1524701","Menlo El","1524701-Menlo El",null,null,"1520502",{"$f":"VLOOKUP(F436, 'ECAST Lookup'!A:G,7,FALSE)","v":"Mayberry St El DTS"},"1520502-Mayberry St El DTS",26]
["1528801","Micheltorena El","1528801-Micheltorena El",null,null,"1521901",{"$f":"VLOOKUP(F437, 'ECAST Lookup'!A:G,7,FALSE)","v":"Melrose M/S/T Mag"},"1521901-Melrose M/S/T Mag",25]
["1528802","Micheltorena DL Two-Way Im Spanish","1528802-Micheltorena DL Two-Way Im Spanish",null,null,"1523301",{"$f":"VLOOKUP(F438, 'ECAST Lookup'!A:G,7,FALSE)","v":"Melvin El"},"1523301-Melvin El",17]
["1530101","Middleton El","1530101-Middleton El",null,null,"1523302",{"$f":"VLOOKUP(F439, 'ECAST Lookup'!A:G,7,FALSE)","v":"Melvin Hum/Lead Mag"},"1523302-Melvin Hum/Lead Mag",27]
["1530201","Middleton PC","1530201-Middleton PC",null,null,"1524001",{"$f":"VLOOKUP(F440, 'ECAST Lookup'!A:G,7,FALSE)","v":"Johnson STEM Academy"},"1524001-Johnson STEM Academy",28]
["1531501","Miles El","1531501-Miles El",null,null,"1524701",{"$f":"VLOOKUP(F441, 'ECAST Lookup'!A:G,7,FALSE)","v":"Menlo El"},"1524701-Menlo El",16]
["1531502","Miles Avenue Elem Science/Tech/Math Magnet","1531502-Miles Avenue Elem Science/Tech/Math Magnet",null,null,"1524702",{"$f":"VLOOKUP(F442, 'ECAST Lookup'!A:G,7,FALSE)","v":"Menlo Ave El DTS"},"1524702-Menlo Ave El DTS",24]
["1531503","Miles El DL Two-Way Im Spanish","1531503-Miles El DL Two-Way Im Spanish",null,null,"1528801",{"$f":"VLOOKUP(F443, 'ECAST Lookup'!A:G,7,FALSE)","v":"Micheltorena El"},"1528801-Micheltorena El",23]
["1532101","Miller El","1532101-Miller El",null,null,"1528802",{"$f":"VLOOKUP(F444, 'ECAST Lookup'!A:G,7,FALSE)","v":"Micheltorena El DTS"},"1528802-Micheltorena El DTS",27]
["1532901","Miramonte El","1532901-Miramonte El",null,null,"1530101",{"$f":"VLOOKUP(F445, 'ECAST Lookup'!A:G,7,FALSE)","v":"Middleton El"},"1530101-Middleton El",20]
["1532902","Miramonte El DL Two-Way Im Spanish","1532902-Miramonte El DL Two-Way Im Spanish",null,null,"1530201",{"$f":"VLOOKUP(F446, 'ECAST Lookup'!A:G,7,FALSE)","v":"Middleton PC"},"1530201-Middleton PC",20]
["1534201","Monlux El","1534201-Monlux El",null,null,"1531501",{"$f":"VLOOKUP(F447, 'ECAST Lookup'!A:G,7,FALSE)","v":"Miles El"},"1531501-Miles El",16]
["1534202","John B Monlux Elem Science/Tech/Math Mag","1534202-John B Monlux Elem Science/Tech/Math Mag",null,null,"1531502",{"$f":"VLOOKUP(F448, 'ECAST Lookup'!A:G,7,FALSE)","v":"Miles Av El STEM Mag"},"1531502-Miles Av El STEM Mag",28]
["1538401","Monte Vista El","1538401-Monte Vista El",null,null,"1531503",{"$f":"VLOOKUP(F449, 'ECAST Lookup'!A:G,7,FALSE)","v":"Miles Ave El DTS"},"1531503-Miles Ave El DTS",24]
["1538402","Monte Vista St ES Film/Comm Magnet","1538402-Monte Vista St ES Film/Comm Magnet",null,null,"1532101",{"$f":"VLOOKUP(F450, 'ECAST Lookup'!A:G,7,FALSE)","v":"Miller El"},"1532101-Miller El",17]
["1538501","Riordan PC",{"$f":"A451&\"-\"&B451","v":"1538501-Riordan PC"},null,null,"1532901",{"$f":"VLOOKUP(F451, 'ECAST Lookup'!A:G,7,FALSE)","v":"Miramonte El"},"1532901-Miramonte El",20]
["1538502","Riordan PC DL World Lang Im French","1538502-Riordan PC DL World Lang Im French",null,null,"1532902",{"$f":"VLOOKUP(F452, 'ECAST Lookup'!A:G,7,FALSE)","v":"Miramonte El DTS"},"1532902-Miramonte El DTS",24]
["1539701","Morningside El","1539701-Morningside El",null,null,"1534201",{"$f":"VLOOKUP(F453, 'ECAST Lookup'!A:G,7,FALSE)","v":"Monlux El"},{"$f":"F453&\"-\"&G453","v":"1534201-Monlux El"},{"$f":"LEN(H453)","v":17}]
["1540401","Mountain View El","1540401-Mountain View El",null,null,"1534202",{"$f":"VLOOKUP(F454, 'ECAST Lookup'!A:G,7,FALSE)","v":"Monlux El STEM Mag"},"1534202-Monlux El STEM Mag",26]
["1540402","Mountain View El DL Two-Way Im Armenian","1540402-Mountain View El DL Two-Way Im Armenian",null,null,"1538401",{"$f":"VLOOKUP(F455, 'ECAST Lookup'!A:G,7,FALSE)","v":"Monte Vista El"},"1538401-Monte Vista El",22]
["1541101","Mt Washington El","1541101-Mt Washington El",null,null,"1538402",{"$f":"VLOOKUP(F456, 'ECAST Lookup'!A:G,7,FALSE)","v":"Monte Vista FC Mag"},"1538402-Monte Vista FC Mag",26]
["1542501","Multnomah El","1542501-Multnomah El",null,null,"1538501",{"$f":"VLOOKUP(F457, 'ECAST Lookup'!A:G,7,FALSE)","v":"Riordan PC"},"1538501-Riordan PC",18]
["1542502","Multnomah Street Elementary Gifted Magnet","1542502-Multnomah Street Elementary Gifted Magnet",null,null,"1538502",{"$f":"VLOOKUP(F458, 'ECAST Lookup'!A:G,7,FALSE)","v":"Riordan PC DWF"},"1538502-Riordan PC DWF",22]
["1542503","Multnomah Env Sc Mag","1542503-Multnomah Env Sc Mag",null,null,"1539701",{"$f":"VLOOKUP(F459, 'ECAST Lookup'!A:G,7,FALSE)","v":"Morningside El"},"1539701-Morningside El",22]
["1543801","Murchison El","1543801-Murchison El",null,null,"1540401",{"$f":"VLOOKUP(F460, 'ECAST Lookup'!A:G,7,FALSE)","v":"Mountain View El"},"1540401-Mountain View El",24]
["1544601","Napa El","1544601-Napa El",null,null,"1540402",{"$f":"VLOOKUP(F461, 'ECAST Lookup'!A:G,7,FALSE)","v":"Mountain View El DTR"},"1540402-Mountain View El DTR",28]
["1544602","Napa St El DL Two-Way Im Spanish","1544602-Napa St El DL Two-Way Im Spanish",null,null,"1541101",{"$f":"VLOOKUP(F462, 'ECAST Lookup'!A:G,7,FALSE)","v":"Mt Washington El"},"1541101-Mt Washington El",24]
["1545201","Nestle Ave Charter","1545201-Nestle Ave Charter",null,null,"1542501",{"$f":"VLOOKUP(F463, 'ECAST Lookup'!A:G,7,FALSE)","v":"Multnomah El"},"1542501-Multnomah El",20]
["1545901","Nevada El","1545901-Nevada El",null,null,"1542502",{"$f":"VLOOKUP(F464, 'ECAST Lookup'!A:G,7,FALSE)","v":"Multnomah Gifted Mag"},"1542502-Multnomah Gifted Mag",28]
["1545902","Nevada El DL Two-Way Im Spanish","1545902-Nevada El DL Two-Way Im Spanish",null,null,"1542503",{"$f":"VLOOKUP(F465, 'ECAST Lookup'!A:G,7,FALSE)","v":"Multnomah Env Sc Mag"},"1542503-Multnomah Env Sc Mag",28]
["1546601","Nevin El","1546601-Nevin El",null,null,"1543801",{"$f":"VLOOKUP(F466, 'ECAST Lookup'!A:G,7,FALSE)","v":"Murchison El"},"1543801-Murchison El",20]
["1547901","Newcastle El","1547901-Newcastle El",null,null,"1544601",{"$f":"VLOOKUP(F467, 'ECAST Lookup'!A:G,7,FALSE)","v":"Napa El"},"1544601-Napa El",15]
["1550501","9th St El","1550501-9th St El",null,null,"1544602",{"$f":"VLOOKUP(F468, 'ECAST Lookup'!A:G,7,FALSE)","v":"Napa St El DTS"},"1544602-Napa St El DTS",22]
["1552101","95th St El","1552101-95th St El",null,null,"1545201",{"$f":"VLOOKUP(F469, 'ECAST Lookup'!A:G,7,FALSE)","v":"Nestle Ave Charter"},"1545201-Nestle Ave Charter",26]
["1553401","99th St El","1553401-99th St El",null,null,"1545901",{"$f":"VLOOKUP(F470, 'ECAST Lookup'!A:G,7,FALSE)","v":"Nevada El"},"1545901-Nevada El",17]
["1554801","92nd St El","1554801-92nd St El",null,null,"1545902",{"$f":"VLOOKUP(F471, 'ECAST Lookup'!A:G,7,FALSE)","v":"Nevada El DTS"},"1545902-Nevada El DTS",21]
["1556201","Barrett El","1556201-Barrett El",null,null,"1546601",{"$f":"VLOOKUP(F472, 'ECAST Lookup'!A:G,7,FALSE)","v":"Nevin El"},"1546601-Nevin El",16]
["1556202","Barrett El DL Two-Way Im Spanish","1556202-Barrett El DL Two-Way Im Spanish",null,null,"1547901",{"$f":"VLOOKUP(F473, 'ECAST Lookup'!A:G,7,FALSE)","v":"Newcastle El"},"1547901-Newcastle El",20]
["1557501","96th St El","1557501-96th St El",null,null,"1550501",{"$f":"VLOOKUP(F474, 'ECAST Lookup'!A:G,7,FALSE)","v":"9th St El"},"1550501-9th St El",17]
["1557502","96th St El DL Two-Way Im Spanish","1557502-96th St El DL Two-Way Im Spanish",null,null,"1552101",{"$f":"VLOOKUP(F475, 'ECAST Lookup'!A:G,7,FALSE)","v":"95th St El"},"1552101-95th St El",18]
["1558201","93rd St El","1558201-93rd St El",null,null,"1553401",{"$f":"VLOOKUP(F476, 'ECAST Lookup'!A:G,7,FALSE)","v":"99th St El"},"1553401-99th St El",18]
["1558202","93rd St El DL Two-Way Im Spanish","1558202-93rd St El DL Two-Way Im Spanish",null,null,"1554801",{"$f":"VLOOKUP(F477, 'ECAST Lookup'!A:G,7,FALSE)","v":"92nd St El"},"1554801-92nd St El",18]
["1558203","93rd St ES STEAM Magnet","1558203-93rd St ES STEAM Magnet",null,null,"1556201",{"$f":"VLOOKUP(F478, 'ECAST Lookup'!A:G,7,FALSE)","v":"Barrett El"},"1556201-Barrett El",18]
["1560301","Noble El","1560301-Noble El",null,null,"1556202",{"$f":"VLOOKUP(F479, 'ECAST Lookup'!A:G,7,FALSE)","v":"Barrett El DTS"},"1556202-Barrett El DTS",22]
["1560401","Panorama City El","1560401-Panorama City El",null,null,"1557501",{"$f":"VLOOKUP(F480, 'ECAST Lookup'!A:G,7,FALSE)","v":"96th St El"},"1557501-96th St El",18]
["1563001","Normandie El","1563001-Normandie El",null,null,"1557502",{"$f":"VLOOKUP(F481, 'ECAST Lookup'!A:G,7,FALSE)","v":"96th St El DTS"},"1557502-96th St El DTS",22]
["1563002","Normandie El DL Two-Way Im Spanish","1563002-Normandie El DL Two-Way Im Spanish",null,null,"1558201",{"$f":"VLOOKUP(F482, 'ECAST Lookup'!A:G,7,FALSE)","v":"93rd St El"},"1558201-93rd St El",18]
["1564401","Normont El","1564401-Normont El",null,null,"1558202",{"$f":"VLOOKUP(F483, 'ECAST Lookup'!A:G,7,FALSE)","v":"93rd St El DTS"},"1558202-93rd St El DTS",22]
["1564402","Normont El DL Two-Way Im Spanish","1564402-Normont El DL Two-Way Im Spanish",null,null,"1558203",{"$f":"VLOOKUP(F484, 'ECAST Lookup'!A:G,7,FALSE)","v":"93rd St STEAM"},"1558203-93rd St STEAM",21]
["1569901","Norwood El","1569901-Norwood El",null,null,"1560301",{"$f":"VLOOKUP(F485, 'ECAST Lookup'!A:G,7,FALSE)","v":"Noble El"},"1560301-Noble El",16]
["1572601","O Melveny El","1572601-O Melveny El",null,null,"1560401",{"$f":"VLOOKUP(F486, 'ECAST Lookup'!A:G,7,FALSE)","v":"Panorama City El"},"1560401-Panorama City El",24]
["1574001","118th St El","1574001-118th St El",null,null,"1563001",{"$f":"VLOOKUP(F487, 'ECAST Lookup'!A:G,7,FALSE)","v":"Normandie El"},"1563001-Normandie El",20]
["1574002","118th St El DL Two-Way Im Spanish","1574002-118th St El DL Two-Way Im Spanish",null,null,"1563002",{"$f":"VLOOKUP(F488, 'ECAST Lookup'!A:G,7,FALSE)","v":"Normandie Ave El DTS"},"1563002-Normandie Ave El DTS",28]
["1575301","186th St El","1575301-186th St El",null,null,"1564401",{"$f":"VLOOKUP(F489, 'ECAST Lookup'!A:G,7,FALSE)","v":"Normont El"},"1564401-Normont El",18]
["1578101","Flournoy El","1578101-Flournoy El",null,null,"1564402",{"$f":"VLOOKUP(F490, 'ECAST Lookup'!A:G,7,FALSE)","v":"Normont El  DTS"},"1564402-Normont El  DTS",23]
["1578102","Flournoy ES STEAM Magnet","1578102-Flournoy ES STEAM Magnet",null,null,"1569901",{"$f":"VLOOKUP(F491, 'ECAST Lookup'!A:G,7,FALSE)","v":"Norwood El"},"1569901-Norwood El",18]
["1580801","156th St El","1580801-156th St El",null,null,"1572601",{"$f":"VLOOKUP(F492, 'ECAST Lookup'!A:G,7,FALSE)","v":"O Melveny El"},"1572601-O Melveny El",20]
["1582201","153rd St El","1582201-153rd St El",null,null,"1574001",{"$f":"VLOOKUP(F493, 'ECAST Lookup'!A:G,7,FALSE)","v":"118th St El"},"1574001-118th St El",19]
["1582202","153rd St El DL Two-Way Im Spanish","1582202-153rd St El DL Two-Way Im Spanish",null,null,"1574002",{"$f":"VLOOKUP(F494, 'ECAST Lookup'!A:G,7,FALSE)","v":"118th St El DTS"},"1574002-118th St El DTS",23]
["1583601","109th St El","1583601-109th St El",null,null,"1575301",{"$f":"VLOOKUP(F495, 'ECAST Lookup'!A:G,7,FALSE)","v":"186th St El"},"1575301-186th St El",19]
["1584901","Griffith Joyner El","1584901-Griffith Joyner El",null,null,"1578101",{"$f":"VLOOKUP(F496, 'ECAST Lookup'!A:G,7,FALSE)","v":"Flournoy El"},"1578101-Flournoy El",19]
["1584902","Griffith Joyner ES Visual/Perf Arts Mag","1584902-Griffith Joyner ES Visual/Perf Arts Mag",null,null,"1578102",{"$f":"VLOOKUP(F497, 'ECAST Lookup'!A:G,7,FALSE)","v":"Flournoy STEAM Mag"},"1578102-Flournoy STEAM Mag",26]
["1585701","107th St El","1585701-107th St El",null,null,"1578103",{"$f":"VLOOKUP(F498, 'ECAST Lookup'!A:G,7,FALSE)","v":"Flournoy El DTS"},"1578103-Flournoy El DTS",23]
["1585702","107th St ES STEAM Magnet","1585702-107th St ES STEAM Magnet",null,null,"1580801",{"$f":"VLOOKUP(F499, 'ECAST Lookup'!A:G,7,FALSE)","v":"156th St El"},"1580801-156th St El",19]
["1586301","116th St El","1586301-116th St El",null,null,"1582201",{"$f":"VLOOKUP(F500, 'ECAST Lookup'!A:G,7,FALSE)","v":"153rd St El"},"1582201-153rd St El",19]
["1586302","116th St El DL Two-Way Im Spanish","1586302-116th St El DL Two-Way Im Spanish",null,null,"1582202",{"$f":"VLOOKUP(F501, 'ECAST Lookup'!A:G,7,FALSE)","v":"153rd St EL DTS"},"1582202-153rd St EL DTS",23]
["1587701","135th St El","1587701-135th St El",null,null,"1583601",{"$f":"VLOOKUP(F502, 'ECAST Lookup'!A:G,7,FALSE)","v":"109th St El"},"1583601-109th St El",19]
["1587702","135th St El DL Two-Way Im Spanish","1587702-135th St El DL Two-Way Im Spanish",null,null,"1584901",{"$f":"VLOOKUP(F503, 'ECAST Lookup'!A:G,7,FALSE)","v":"Griffith Joyner El"},"1584901-Griffith Joyner El",26]
["1588401","112th St El","1588401-112th St El",null,null,"1584902",{"$f":"VLOOKUP(F504, 'ECAST Lookup'!A:G,7,FALSE)","v":"Griffith Jyner VAPA Mg"},"1584902-Griffith Jyner VAPA Mg",30]
["1588701","122nd St El","1588701-122nd St El",null,null,"1585701",{"$f":"VLOOKUP(F505, 'ECAST Lookup'!A:G,7,FALSE)","v":"107th St El"},"1585701-107th St El",19]
["1588702","122nd St El DL Two-Way Im Spanish","1588702-122nd St El DL Two-Way Im Spanish",null,null,"1585702",{"$f":"VLOOKUP(F506, 'ECAST Lookup'!A:G,7,FALSE)","v":"107th St STEAM Mag"},"1585702-107th St STEAM Mag",26]
["1588901","Open Charter Magnet","1588901-Open Charter Magnet",null,null,"1586301",{"$f":"VLOOKUP(F507, 'ECAST Lookup'!A:G,7,FALSE)","v":"116th St El"},"1586301-116th St El",19]
["1589401","Osceola El","1589401-Osceola El",null,null,"1586302",{"$f":"VLOOKUP(F508, 'ECAST Lookup'!A:G,7,FALSE)","v":"116th St El DTS"},"1586302-116th St El DTS",23]
["1590401","Overland El","1590401-Overland El",null,null,"1587701",{"$f":"VLOOKUP(F509, 'ECAST Lookup'!A:G,7,FALSE)","v":"135th St El"},"1587701-135th St El",19]
["1591801","Oxnard El","1591801-Oxnard El",null,null,"1587702",{"$f":"VLOOKUP(F510, 'ECAST Lookup'!A:G,7,FALSE)","v":"135th St El DTS"},"1587702-135th St El DTS",23]
["1595901","Palisades Charter El","1595901-Palisades Charter El",null,null,"1588401",{"$f":"VLOOKUP(F511, 'ECAST Lookup'!A:G,7,FALSE)","v":"112th St El"},"1588401-112th St El",19]
["1598601","Palms El","1598601-Palms El",null,null,"1588701",{"$f":"VLOOKUP(F512, 'ECAST Lookup'!A:G,7,FALSE)","v":"122nd St El"},"1588701-122nd St El",19]
["1600501","Park Ave El","1600501-Park Ave El",null,null,"1588702",{"$f":"VLOOKUP(F513, 'ECAST Lookup'!A:G,7,FALSE)","v":"122nd St El DTS"},"1588702-122nd St El DTS",23]
["1600502","Park Ave El DL Two-Way Im Spanish","1600502-Park Ave El DL Two-Way Im Spanish",null,null,"1588901",{"$f":"VLOOKUP(F514, 'ECAST Lookup'!A:G,7,FALSE)","v":"Open Charter Magnet"},"1588901-Open Charter Magnet",27]
["1601301","Park Western El",{"$f":"A515&\"-\"&B515","v":"1601301-Park Western El"},null,null,"1589401",{"$f":"VLOOKUP(F515, 'ECAST Lookup'!A:G,7,FALSE)","v":"Osceola El"},"1589401-Osceola El",18]
["1601302","Park Western Pl ES Gifted/STEAM Magnet","1601302-Park Western Pl ES Gifted/STEAM Magnet",null,null,"1590401",{"$f":"VLOOKUP(F516, 'ECAST Lookup'!A:G,7,FALSE)","v":"Overland El"},"1590401-Overland El",19]
["1602101","Parmelee El","1602101-Parmelee El",null,null,"1591801",{"$f":"VLOOKUP(F517, 'ECAST Lookup'!A:G,7,FALSE)","v":"Oxnard El"},{"$f":"F517&\"-\"&G517","v":"1591801-Oxnard El"},{"$f":"LEN(H517)","v":17}]
["1602102","Parmelee Ave El DL Two-Way Im Spanish","1602102-Parmelee Ave El DL Two-Way Im Spanish",null,null,"1595901",{"$f":"VLOOKUP(F518, 'ECAST Lookup'!A:G,7,FALSE)","v":"Palisades Charter El"},"1595901-Palisades Charter El",28]
["1602701","Parthenia Academy of Arts and Technology","1602701-Parthenia Academy of Arts and Technology",null,null,"1598601",{"$f":"VLOOKUP(F519, 'ECAST Lookup'!A:G,7,FALSE)","v":"Palms El"},"1598601-Palms El",16]
["1605201","Paseo Del Rey Nat Sc","1605201-Paseo Del Rey Nat Sc",null,null,"1600501",{"$f":"VLOOKUP(F520, 'ECAST Lookup'!A:G,7,FALSE)","v":"Park Ave El"},"1600501-Park Ave El",19]
["1606801","Pinewood El","1606801-Pinewood El",null,null,"1600502",{"$f":"VLOOKUP(F521, 'ECAST Lookup'!A:G,7,FALSE)","v":"Park Ave El DTS"},"1600502-Park Ave El DTS",23]
["1608701","Girls Acad Leader, Dr. King Sch for STEM","1608701-Girls Acad Leader, Dr. King Sch for STEM",null,null,"1601301",{"$f":"VLOOKUP(F522, 'ECAST Lookup'!A:G,7,FALSE)","v":"Park Western El"},"1601301-Park Western El",23]
["1609601","Plainview Academc CA","1609601-Plainview Academc CA",null,null,"1601302",{"$f":"VLOOKUP(F523, 'ECAST Lookup'!A:G,7,FALSE)","v":"Park Wstrn GSTEAM Mg"},"1601302-Park Wstrn GSTEAM Mg",28]
["1611001","Playa Del Rey El","1611001-Playa Del Rey El",null,null,"1602101",{"$f":"VLOOKUP(F524, 'ECAST Lookup'!A:G,7,FALSE)","v":"Parmelee El"},"1602101-Parmelee El",19]
["1612301","Plummer El","1612301-Plummer El",null,null,"1602102",{"$f":"VLOOKUP(F525, 'ECAST Lookup'!A:G,7,FALSE)","v":"Parmelee Ave El DTS"},"1602102-Parmelee Ave El DTS",27]
["1613701","Pt Fermin Mar Sci Mg","1613701-Pt Fermin Mar Sci Mg",null,null,"1602701",{"$f":"VLOOKUP(F526, 'ECAST Lookup'!A:G,7,FALSE)","v":"Parthenia Ac Art Tech"},"1602701-Parthenia Ac Art Tech",29]
["1614001","Pomelo Community CS","1614001-Pomelo Community CS",null,null,"1605201",{"$f":"VLOOKUP(F527, 'ECAST Lookup'!A:G,7,FALSE)","v":"Paseo Del Rey Nat Sc"},"1605201-Paseo Del Rey Nat Sc",28]
["1614002","Pomelo CCES Arts/Sciences Magnet","1614002-Pomelo CCES Arts/Sciences Magnet",null,null,"1606801",{"$f":"VLOOKUP(F528, 'ECAST Lookup'!A:G,7,FALSE)","v":"Pinewood El"},"1606801-Pinewood El",19]
["1614801","President El","1614801-President El",null,null,"1608701",{"$f":"VLOOKUP(F529, 'ECAST Lookup'!A:G,7,FALSE)","v":"GALA Dr King Sc STEM"},"1608701-GALA Dr King Sc STEM",28]
["1614802","President El DL Two-Way Im Spanish","1614802-President El DL Two-Way Im Spanish",null,null,"1609601",{"$f":"VLOOKUP(F530, 'ECAST Lookup'!A:G,7,FALSE)","v":"Plainview Academc CA"},"1609601-Plainview Academc CA",28]
["1615801","Purche El","1615801-Purche El",null,null,"1611001",{"$f":"VLOOKUP(F531, 'ECAST Lookup'!A:G,7,FALSE)","v":"Playa Del Rey El"},"1611001-Playa Del Rey El",24]
["1615802","Purche ES STEAM Magnet","1615802-Purche ES STEAM Magnet",null,null,"1612301",{"$f":"VLOOKUP(F532, 'ECAST Lookup'!A:G,7,FALSE)","v":"Plummer El"},"1612301-Plummer El",18]
["1616401","Queen Anne El","1616401-Queen Anne El",null,null,"1613701",{"$f":"VLOOKUP(F533, 'ECAST Lookup'!A:G,7,FALSE)","v":"Pt Fermin Mar Sci Mg"},"1613701-Pt Fermin Mar Sci Mg",28]
["1616402","Queen Anne El DL Two-Way Im Spanish","1616402-Queen Anne El DL Two-Way Im Spanish",null,null,"1614001",{"$f":"VLOOKUP(F534, 'ECAST Lookup'!A:G,7,FALSE)","v":"Pomelo Community CS"},"1614001-Pomelo Community CS",27]
["1617801","Ramona El","1617801-Ramona El",null,null,"1614002",{"$f":"VLOOKUP(F535, 'ECAST Lookup'!A:G,7,FALSE)","v":"Pomelo Arts/Sci Mag"},"1614002-Pomelo Arts/Sci Mag",27]
["1617901","Kingsley El","1617901-Kingsley El",null,null,"1614801",{"$f":"VLOOKUP(F536, 'ECAST Lookup'!A:G,7,FALSE)","v":"President El"},"1614801-President El",20]
["1617902","Kingsley El DL Two-Way Im Spanish","1617902-Kingsley El DL Two-Way Im Spanish",null,null,"1614802",{"$f":"VLOOKUP(F537, 'ECAST Lookup'!A:G,7,FALSE)","v":"President Ave El DTS"},"1614802-President Ave El DTS",28]
["1619201","Ranchito El","1619201-Ranchito El",null,null,"1615801",{"$f":"VLOOKUP(F538, 'ECAST Lookup'!A:G,7,FALSE)","v":"Purche El"},"1615801-Purche El",17]
["1619202","Ranchito Ave El DL Two-Way Im Spanish","1619202-Ranchito Ave El DL Two-Way Im Spanish",null,null,"1615802",{"$f":"VLOOKUP(F539, 'ECAST Lookup'!A:G,7,FALSE)","v":"Purche STEAM Mag"},"1615802-Purche STEAM Mag",24]
["1621901","Raymond Ave El","1621901-Raymond Ave El",null,null,"1616401",{"$f":"VLOOKUP(F540, 'ECAST Lookup'!A:G,7,FALSE)","v":"Queen Anne El"},"1616401-Queen Anne El",21]
["1623301","Reseda El","1623301-Reseda El",null,null,"1616402",{"$f":"VLOOKUP(F541, 'ECAST Lookup'!A:G,7,FALSE)","v":"Queen Anne Pl El DTS"},"1616402-Queen Anne Pl El DTS",28]
["1626001","Richland El","1626001-Richland El",null,null,"1617801",{"$f":"VLOOKUP(F542, 'ECAST Lookup'!A:G,7,FALSE)","v":"Ramona El"},"1617801-Ramona El",17]
["1626002","Richland El DL World Lang Im French","1626002-Richland El DL World Lang Im French",null,null,"1617901",{"$f":"VLOOKUP(F543, 'ECAST Lookup'!A:G,7,FALSE)","v":"Kingsley El"},"1617901-Kingsley El",19]
["1627401","Hamasaki El","1627401-Hamasaki El",null,null,"1617902",{"$f":"VLOOKUP(F544, 'ECAST Lookup'!A:G,7,FALSE)","v":"Kingsley El DTS"},"1617902-Kingsley El DTS",23]
["1627402","Hamasaki ES Medical/ Science Magnet","1627402-Hamasaki ES Medical/ Science Magnet",null,null,"1619201",{"$f":"VLOOKUP(F545, 'ECAST Lookup'!A:G,7,FALSE)","v":"Ranchito El"},"1619201-Ranchito El",19]
["1628801","Rio Vista El","1628801-Rio Vista El",null,null,"1619202",{"$f":"VLOOKUP(F546, 'ECAST Lookup'!A:G,7,FALSE)","v":"Ranchito Ave DTS"},"1619202-Ranchito Ave DTS",24]
["1630101","Ritter El","1630101-Ritter El",null,null,"1621901",{"$f":"VLOOKUP(F547, 'ECAST Lookup'!A:G,7,FALSE)","v":"Raymond Ave El"},"1621901-Raymond Ave El",22]
["1631501","Riverside Drive Charter","1631501-Riverside Drive Charter",null,null,"1623301",{"$f":"VLOOKUP(F548, 'ECAST Lookup'!A:G,7,FALSE)","v":"Reseda El"},"1623301-Reseda El",17]
["1632901","Rockdale VAPA Mag","1632901-Rockdale VAPA Mag",null,null,"1626001",{"$f":"VLOOKUP(F549, 'ECAST Lookup'!A:G,7,FALSE)","v":"Richland El"},"1626001-Richland El",19]
["1634201","Coeur D Alene El","1634201-Coeur D Alene El",null,null,"1626002",{"$f":"VLOOKUP(F550, 'ECAST Lookup'!A:G,7,FALSE)","v":"Richland Av El DTF"},"1626002-Richland Av El DTF",26]
["1635601","Roscoe El","1635601-Roscoe El",null,null,"1627401",{"$f":"VLOOKUP(F551, 'ECAST Lookup'!A:G,7,FALSE)","v":"Hamasaki El"},"1627401-Hamasaki El",19]
["1635602","Roscoe El DL Two-Way Ime Spanish","1635602-Roscoe El DL Two-Way Ime Spanish",null,null,"1627402",{"$f":"VLOOKUP(F552, 'ECAST Lookup'!A:G,7,FALSE)","v":"Hamasaki Med/Sci Mag"},"1627402-Hamasaki Med/Sci Mag",28]
["1636301","Roscomare El","1636301-Roscomare El",null,null,"1628801",{"$f":"VLOOKUP(F553, 'ECAST Lookup'!A:G,7,FALSE)","v":"Rio Vista El"},"1628801-Rio Vista El",20]
["1637001","Rosemont El","1637001-Rosemont El",null,null,"1630101",{"$f":"VLOOKUP(F554, 'ECAST Lookup'!A:G,7,FALSE)","v":"Ritter El"},"1630101-Ritter El",17]
["1638401","Rosewood Av ES Urban/Plan Des Magnet","1638401-Rosewood Av ES Urban/Plan Des Magnet",null,null,"1631501",{"$f":"VLOOKUP(F555, 'ECAST Lookup'!A:G,7,FALSE)","v":"Riverside Drive"},"1631501-Riverside Drive",23]
["1642501","Rowan El","1642501-Rowan El",null,null,"1632901",{"$f":"VLOOKUP(F556, 'ECAST Lookup'!A:G,7,FALSE)","v":"Rockdale VAPA Mag"},"1632901-Rockdale VAPA Mag",25]
["1642502","Rowan Ave El DL Two-Way Im Spanish","1642502-Rowan Ave El DL Two-Way Im Spanish",null,null,"1634201",{"$f":"VLOOKUP(F557, 'ECAST Lookup'!A:G,7,FALSE)","v":"Coeur D Alene El"},"1634201-Coeur D Alene El",24]
["1642601","Amanecer PC","1642601-Amanecer PC",null,null,"1635601",{"$f":"VLOOKUP(F558, 'ECAST Lookup'!A:G,7,FALSE)","v":"Roscoe El"},"1635601-Roscoe El",17]
["1643801","Russell El","1643801-Russell El",null,null,"1635602",{"$f":"VLOOKUP(F559, 'ECAST Lookup'!A:G,7,FALSE)","v":"Roscoe El DTS"},"1635602-Roscoe El DTS",21]
["1643802","Russell Elementary Gifted Magnet","1643802-Russell Elementary Gifted Magnet",null,null,"1636301",{"$f":"VLOOKUP(F560, 'ECAST Lookup'!A:G,7,FALSE)","v":"Roscomare El"},"1636301-Roscomare El",20]
["1645201","San Fernando El","1645201-San Fernando El",null,null,"1637001",{"$f":"VLOOKUP(F561, 'ECAST Lookup'!A:G,7,FALSE)","v":"Rosemont El"},"1637001-Rosemont El",19]
["1645202","San Fernando El DL Two-Way Im Spanish","1645202-San Fernando El DL Two-Way Im Spanish",null,null,"1638401",{"$f":"VLOOKUP(F562, 'ECAST Lookup'!A:G,7,FALSE)","v":"Rosewood UP/UD Mag"},"1638401-Rosewood UP/UD Mag",26]
["1646601","San Gabriel El","1646601-San Gabriel El",null,null,"1642501",{"$f":"VLOOKUP(F563, 'ECAST Lookup'!A:G,7,FALSE)","v":"Rowan El"},"1642501-Rowan El",16]
["1646602","San Gabriel El DL Two-Way Im Spanish","1646602-San Gabriel El DL Two-Way Im Spanish",null,null,"1642502",{"$f":"VLOOKUP(F564, 'ECAST Lookup'!A:G,7,FALSE)","v":"Rowan Ave El DTS"},"1642502-Rowan Ave El DTS",24]
["1647901","San Jose El","1647901-San Jose El",null,null,"1642601",{"$f":"VLOOKUP(F565, 'ECAST Lookup'!A:G,7,FALSE)","v":"Amanecer PC"},"1642601-Amanecer PC",19]
["1647902","San Jose Hg Mag","1647902-San Jose Hg Mag",null,null,"1643801",{"$f":"VLOOKUP(F566, 'ECAST Lookup'!A:G,7,FALSE)","v":"Russell El"},"1643801-Russell El",18]
["1649301","San Pascual Avenue Elementary STEAM Magnet","1649301-San Pascual Avenue Elementary STEAM Magnet",null,null,"1643802",{"$f":"VLOOKUP(F567, 'ECAST Lookup'!A:G,7,FALSE)","v":"Russell El Gifted Mg"},"1643802-Russell El Gifted Mg",28]
["1650101","San Fernando MS IAM","1650101-San Fernando MS IAM",null,null,"1645201",{"$f":"VLOOKUP(F568, 'ECAST Lookup'!A:G,7,FALSE)","v":"San Fernando El"},"1645201-San Fernando El",23]
["1650701","San Pedro El","1650701-San Pedro El",null,null,"1645202",{"$f":"VLOOKUP(F569, 'ECAST Lookup'!A:G,7,FALSE)","v":"San Fernando El DTS"},"1645202-San Fernando El DTS",27]
["1653401","King Jr El","1653401-King Jr El",null,null,"1646601",{"$f":"VLOOKUP(F570, 'ECAST Lookup'!A:G,7,FALSE)","v":"San Gabriel El"},"1646601-San Gabriel El",22]
["1653402","King Jr El DL Two-Way Im Spanish","1653402-King Jr El DL Two-Way Im Spanish",null,null,"1646602",{"$f":"VLOOKUP(F571, 'ECAST Lookup'!A:G,7,FALSE)","v":"San Gabriel DTS"},"1646602-San Gabriel DTS",23]
["1654901","Hollywood PC","1654901-Hollywood PC",null,null,"1647901",{"$f":"VLOOKUP(F572, 'ECAST Lookup'!A:G,7,FALSE)","v":"San Jose El"},"1647901-San Jose El",19]
["1656501","Saticoy El","1656501-Saticoy El",null,null,"1647902",{"$f":"VLOOKUP(F573, 'ECAST Lookup'!A:G,7,FALSE)","v":"San Jose Hg Mag"},"1647902-San Jose Hg Mag",23]
["1656502","Saticoy El DL Two-Way Im Armenian","1656502-Saticoy El DL Two-Way Im Armenian",null,null,"1649301",{"$f":"VLOOKUP(F574, 'ECAST Lookup'!A:G,7,FALSE)","v":"San Pascual STEAM Mg"},"1649301-San Pascual STEAM Mg",28]
["1657501","2nd St El","1657501-2nd St El",null,null,"1650101",{"$f":"VLOOKUP(F575, 'ECAST Lookup'!A:G,7,FALSE)","v":"San Fernando MS IAM"},"1650101-San Fernando MS IAM",27]
["1657502","2nd St El DL Two-Way Im Spanish","1657502-2nd St El DL Two-Way Im Spanish",null,null,"1650701",{"$f":"VLOOKUP(F576, 'ECAST Lookup'!A:G,7,FALSE)","v":"San Pedro El"},"1650701-San Pedro El",20]
["1658901","Selma El","1658901-Selma El",null,null,"1653401",{"$f":"VLOOKUP(F577, 'ECAST Lookup'!A:G,7,FALSE)","v":"King Jr El"},"1653401-King Jr El",18]
["1660601","Serrania CES","1660601-Serrania CES",null,null,"1653402",{"$f":"VLOOKUP(F578, 'ECAST Lookup'!A:G,7,FALSE)","v":"King Jr El DTS"},"1653402-King Jr El DTS",22]
["1661601","7th St El",{"$f":"A579&\"-\"&B579","v":"1661601-7th St El"},null,null,"1654901",{"$f":"VLOOKUP(F579, 'ECAST Lookup'!A:G,7,FALSE)","v":"Hollywood ES"},"1654901-Hollywood ES",20]
["1663001","75th St El","1663001-75th St El",null,null,"1656501",{"$f":"VLOOKUP(F580, 'ECAST Lookup'!A:G,7,FALSE)","v":"Saticoy El"},"1656501-Saticoy El",18]
["1663002","75Th St El DL Two-Way Im Spanish","1663002-75Th St El DL Two-Way Im Spanish",null,null,"1656502",{"$f":"VLOOKUP(F581, 'ECAST Lookup'!A:G,7,FALSE)","v":"Saticoy El DTR"},{"$f":"F581&\"-\"&G581","v":"1656502-Saticoy El DTR"},{"$f":"LEN(H581)","v":22}]
["1664401","74th St El","1664401-74th St El",null,null,"1657501",{"$f":"VLOOKUP(F582, 'ECAST Lookup'!A:G,7,FALSE)","v":"2nd St El"},"1657501-2nd St El",17]
["1664402","74th Street Elementary Gifted Magnet","1664402-74th Street Elementary Gifted Magnet",null,null,"1657502",{"$f":"VLOOKUP(F583, 'ECAST Lookup'!A:G,7,FALSE)","v":"2nd St El DTS"},"1657502-2nd St El DTS",21]
["1665801","Mc Kinley El","1665801-Mc Kinley El",null,null,"1658901",{"$f":"VLOOKUP(F584, 'ECAST Lookup'!A:G,7,FALSE)","v":"Selma El"},"1658901-Selma El",16]
["1666501","Sharp El","1666501-Sharp El",null,null,"1660601",{"$f":"VLOOKUP(F585, 'ECAST Lookup'!A:G,7,FALSE)","v":"Serrania CES"},"1660601-Serrania CES",20]
["1667101","Shenandoah El","1667101-Shenandoah El",null,null,"1661601",{"$f":"VLOOKUP(F586, 'ECAST Lookup'!A:G,7,FALSE)","v":"7th St El"},"1661601-7th St El",17]
["1668501","Sheridan St El","1668501-Sheridan St El",null,null,"1663001",{"$f":"VLOOKUP(F587, 'ECAST Lookup'!A:G,7,FALSE)","v":"75th St El"},"1663001-75th St El",18]
["1668502","Sheridan El DL Two-Way Im Spanish","1668502-Sheridan El DL Two-Way Im Spanish",null,null,"1663002",{"$f":"VLOOKUP(F588, 'ECAST Lookup'!A:G,7,FALSE)","v":"75th St El DTS"},"1663002-75th St El DTS",22]
["1669901","Sherman Oaks El CS","1669901-Sherman Oaks El CS",null,null,"1664401",{"$f":"VLOOKUP(F589, 'ECAST Lookup'!A:G,7,FALSE)","v":"74th St El"},"1664401-74th St El",18]
["1671201","Shirley El","1671201-Shirley El",null,null,"1664402",{"$f":"VLOOKUP(F590, 'ECAST Lookup'!A:G,7,FALSE)","v":"74th St El Gifted Mg"},"1664402-74th St El Gifted Mg",28]
["1674001","Short El","1674001-Short El",null,null,"1665801",{"$f":"VLOOKUP(F591, 'ECAST Lookup'!A:G,7,FALSE)","v":"Mc Kinley El"},"1665801-Mc Kinley El",20]
["1675301","Sierra Park El","1675301-Sierra Park El",null,null,"1666501",{"$f":"VLOOKUP(F592, 'ECAST Lookup'!A:G,7,FALSE)","v":"Sharp El"},"1666501-Sharp El",16]
["1676701","Sierra Vista El","1676701-Sierra Vista El",null,null,"1667101",{"$f":"VLOOKUP(F593, 'ECAST Lookup'!A:G,7,FALSE)","v":"Shenandoah El"},"1667101-Shenandoah El",21]
["1678101","6th Ave El","1678101-6th Ave El",null,null,"1668501",{"$f":"VLOOKUP(F594, 'ECAST Lookup'!A:G,7,FALSE)","v":"Sheridan St El"},"1668501-Sheridan St El",22]
["1678102","6th Av El DL Two-Way Im Spanish","1678102-6th Av El DL Two-Way Im Spanish",null,null,"1668502",{"$f":"VLOOKUP(F595, 'ECAST Lookup'!A:G,7,FALSE)","v":"Sheridan El DTS"},"1668502-Sheridan El DTS",23]
["1679501","Gil Garcetti Learning Academy","1679501-Gil Garcetti Learning Academy",null,null,"1669901",{"$f":"VLOOKUP(F596, 'ECAST Lookup'!A:G,7,FALSE)","v":"Sherman Oaks El CS"},"1669901-Sherman Oaks El CS",26]
["1680801","61st St El","1680801-61st St El",null,null,"1671201",{"$f":"VLOOKUP(F597, 'ECAST Lookup'!A:G,7,FALSE)","v":"Shirley El"},"1671201-Shirley El",18]
["1680802","61st St El DL Two-Way Im Spanish","1680802-61st St El DL Two-Way Im Spanish",null,null,"1674001",{"$f":"VLOOKUP(F598, 'ECAST Lookup'!A:G,7,FALSE)","v":"Short El"},"1674001-Short El",16]
["1682201","66th St El","1682201-66th St El",null,null,"1675301",{"$f":"VLOOKUP(F599, 'ECAST Lookup'!A:G,7,FALSE)","v":"Sierra Park El"},"1675301-Sierra Park El",22]
["1683601","Solano El","1683601-Solano El",null,null,"1676701",{"$f":"VLOOKUP(F600, 'ECAST Lookup'!A:G,7,FALSE)","v":"Sierra Vista El"},"1676701-Sierra Vista El",23]
["1684901","Soto El","1684901-Soto El",null,null,"1678101",{"$f":"VLOOKUP(F601, 'ECAST Lookup'!A:G,7,FALSE)","v":"6th Ave El"},"1678101-6th Ave El",18]
["1686301","South Park El","1686301-South Park El",null,null,"1678102",{"$f":"VLOOKUP(F602, 'ECAST Lookup'!A:G,7,FALSE)","v":"6th Ave El DTS"},"1678102-6th Ave El DTS",22]
["1686302","South Park El DL Two-Way Im Spanish","1686302-South Park El DL Two-Way Im Spanish",null,null,"1679501",{"$f":"VLOOKUP(F603, 'ECAST Lookup'!A:G,7,FALSE)","v":"G. Garcetti Lrng Aca"},"1679501-G. Garcetti Lrng Aca",28]
["1686701","Bridges School","1686701-Bridges School",null,null,"1680801",{"$f":"VLOOKUP(F604, 'ECAST Lookup'!A:G,7,FALSE)","v":"61st St El"},"1680801-61st St El",18]
["1686801","Obama Global Prep Acad","1686801-Obama Global Prep Acad",null,null,"1680802",{"$f":"VLOOKUP(F605, 'ECAST Lookup'!A:G,7,FALSE)","v":"61st St El DTS"},"1680802-61st St El DTS",22]
["1686802","Obama GPA STEAM Magnet","1686802-Obama GPA STEAM Magnet",null,null,"1682201",{"$f":"VLOOKUP(F606, 'ECAST Lookup'!A:G,7,FALSE)","v":"66th St El"},"1682201-66th St El",18]
["1686901","Knox El","1686901-Knox El",null,null,"1683601",{"$f":"VLOOKUP(F607, 'ECAST Lookup'!A:G,7,FALSE)","v":"Solano El"},"1683601-Solano El",17]
["1686902","Knox El DL Two-Way Im Spanish","1686902-Knox El DL Two-Way Im Spanish",null,null,"1684901",{"$f":"VLOOKUP(F608, 'ECAST Lookup'!A:G,7,FALSE)","v":"Soto El"},"1684901-Soto El",15]
["1686903","Knox ES Visual/Performing Arts Magnet","1686903-Knox ES Visual/Performing Arts Magnet",null,null,"1686301",{"$f":"VLOOKUP(F609, 'ECAST Lookup'!A:G,7,FALSE)","v":"South Park El"},"1686301-South Park El",21]
["1687001","S Shores Per Arts Mg","1687001-S Shores Per Arts Mg",null,null,"1686302",{"$f":"VLOOKUP(F610, 'ECAST Lookup'!A:G,7,FALSE)","v":"South Park El DTS"},"1686302-South Park El DTS",25]
["1687201","Wisdom El","1687201-Wisdom El",null,null,"1686701",{"$f":"VLOOKUP(F611, 'ECAST Lookup'!A:G,7,FALSE)","v":"Bridges School"},"1686701-Bridges School",22]
["1687301","Escalante El","1687301-Escalante El",null,null,"1686801",{"$f":"VLOOKUP(F612, 'ECAST Lookup'!A:G,7,FALSE)","v":"Obama Glbl Prep Acad"},"1686801-Obama Glbl Prep Acad",28]
["1687501","San Miguel El","1687501-San Miguel El",null,null,"1686802",{"$f":"VLOOKUP(F613, 'ECAST Lookup'!A:G,7,FALSE)","v":"Obama GPA STEAM Mag"},"1686802-Obama GPA STEAM Mag",27]
["1687502","San Miguel Elem Science/Tech/Math Magnet","1687502-San Miguel Elem Science/Tech/Math Magnet",null,null,"1686901",{"$f":"VLOOKUP(F614, 'ECAST Lookup'!A:G,7,FALSE)","v":"Knox El"},"1686901-Knox El",15]
["1687503","San Miguel El DL Two-Way Im Spanish","1687503-San Miguel El DL Two-Way Im Spanish",null,null,"1686902",{"$f":"VLOOKUP(F615, 'ECAST Lookup'!A:G,7,FALSE)","v":"Knox El DTS"},"1686902-Knox El DTS",19]
["1687504","San Miguel El DL World Lang Im Mandarin","1687504-San Miguel El DL World Lang Im Mandarin",null,null,"1686903",{"$f":"VLOOKUP(F616, 'ECAST Lookup'!A:G,7,FALSE)","v":"Knox VAPA Mag"},"1686903-Knox VAPA Mag",21]
["1687801","Montara Ave El","1687801-Montara Ave El",null,null,"1687001",{"$f":"VLOOKUP(F617, 'ECAST Lookup'!A:G,7,FALSE)","v":"S Shores Per Arts Mg"},"1687001-S Shores Per Arts Mg",28]
["1687802","Montara Avenue Elem Science/Tech/Math Mag","1687802-Montara Avenue Elem Science/Tech/Math Mag",null,null,"1687201",{"$f":"VLOOKUP(F618, 'ECAST Lookup'!A:G,7,FALSE)","v":"Wisdom El"},"1687201-Wisdom El",17]
["1687803","Montara Ave El DL Two-Way Im Spanish","1687803-Montara Ave El DL Two-Way Im Spanish",null,null,"1687301",{"$f":"VLOOKUP(F619, 'ECAST Lookup'!A:G,7,FALSE)","v":"Escalante El"},"1687301-Escalante El",20]
["1688001","Independence El","1688001-Independence El",null,null,"1687501",{"$f":"VLOOKUP(F620, 'ECAST Lookup'!A:G,7,FALSE)","v":"San Miguel El"},"1687501-San Miguel El",21]
["1688002","Independence Elementary STEM Magnet","1688002-Independence Elementary STEM Magnet",null,null,"1687502",{"$f":"VLOOKUP(F621, 'ECAST Lookup'!A:G,7,FALSE)","v":"San Miguel STEM Mag"},"1687502-San Miguel STEM Mag",27]
["1688003","Independence El DL Two-Way Im Spanish","1688003-Independence El DL Two-Way Im Spanish",null,null,"1687503",{"$f":"VLOOKUP(F622, 'ECAST Lookup'!A:G,7,FALSE)","v":"San Miguel El DTS"},"1687503-San Miguel El DTS",25]
["1688401","Roybal-Allard El","1688401-Roybal-Allard El",null,null,"1687504",{"$f":"VLOOKUP(F623, 'ECAST Lookup'!A:G,7,FALSE)","v":"San Miguel El Dwm"},"1687504-San Miguel El Dwm",25]
["1688402","Roybal-Allard El DL Two-Way Im Spanish","1688402-Roybal-Allard El DL Two-Way Im Spanish",null,null,"1687801",{"$f":"VLOOKUP(F624, 'ECAST Lookup'!A:G,7,FALSE)","v":"Montara Ave El"},"1687801-Montara Ave El",22]
["1688403","Roybal-Allard ES DREAMS Magnet","1688403-Roybal-Allard ES DREAMS Magnet",null,null,"1687802",{"$f":"VLOOKUP(F625, 'ECAST Lookup'!A:G,7,FALSE)","v":"Montara El STEM Mag"},"1687802-Montara El STEM Mag",27]
["1688601","BACA Arts Acad","1688601-BACA Arts Acad",null,null,"1687803",{"$f":"VLOOKUP(F626, 'ECAST Lookup'!A:G,7,FALSE)","v":"Montara Ave El DTS"},"1687803-Montara Ave El DTS",26]
["1688602","Baca Arts Acad DL Two-Way Im Spanish","1688602-Baca Arts Acad DL Two-Way Im Spanish",null,null,"1688001",{"$f":"VLOOKUP(F627, 'ECAST Lookup'!A:G,7,FALSE)","v":"Independence El"},"1688001-Independence El",23]
["1689001","Stagg El","1689001-Stagg El",null,null,"1688002",{"$f":"VLOOKUP(F628, 'ECAST Lookup'!A:G,7,FALSE)","v":"Independence STEM Mg"},"1688002-Independence STEM Mg",28]
["1690401","Stanford El","1690401-Stanford El",null,null,"1688003",{"$f":"VLOOKUP(F629, 'ECAST Lookup'!A:G,7,FALSE)","v":"Independence DTS"},"1688003-Independence DTS",24]
["1690402","Stanford Ave El DL Two-Way Im Spanish","1690402-Stanford Ave El DL Two-Way Im Spanish",null,null,"1688401",{"$f":"VLOOKUP(F630, 'ECAST Lookup'!A:G,7,FALSE)","v":"Roybal-Allard El"},"1688401-Roybal-Allard El",24]
["1690501","Stanford PC","1690501-Stanford PC",null,null,"1688402",{"$f":"VLOOKUP(F631, 'ECAST Lookup'!A:G,7,FALSE)","v":"Roybal-Allard El DTS"},"1688402-Roybal-Allard El DTS",28]
["1690502","Stanford PC El DL Two-Way Im Spanish","1690502-Stanford PC El DL Two-Way Im Spanish",null,null,"1688403",{"$f":"VLOOKUP(F632, 'ECAST Lookup'!A:G,7,FALSE)","v":"Rybl-Allrd DREAMS Mg"},"1688403-Rybl-Allrd DREAMS Mg",28]
["1691801","State El","1691801-State El",null,null,"1688601",{"$f":"VLOOKUP(F633, 'ECAST Lookup'!A:G,7,FALSE)","v":"BACA Arts Acad"},"1688601-BACA Arts Acad",22]
["1691802","State St El DL Two-Way Im Spanish","1691802-State St El DL Two-Way Im Spanish",null,null,"1688602",{"$f":"VLOOKUP(F634, 'ECAST Lookup'!A:G,7,FALSE)","v":"Baca Arts Aca DTS"},"1688602-Baca Arts Aca DTS",25]
["1692001","Hope El","1692001-Hope El",null,null,"1689001",{"$f":"VLOOKUP(F635, 'ECAST Lookup'!A:G,7,FALSE)","v":"Stagg El"},"1689001-Stagg El",16]
["1693201","Sterry El","1693201-Sterry El",null,null,"1690401",{"$f":"VLOOKUP(F636, 'ECAST Lookup'!A:G,7,FALSE)","v":"Stanford El"},"1690401-Stanford El",19]
["1694501","Stonehurst Av ES STEAM Magnet","1694501-Stonehurst Av ES STEAM Magnet",null,null,"1690402",{"$f":"VLOOKUP(F637, 'ECAST Lookup'!A:G,7,FALSE)","v":"Stanford Ave El DTS"},"1690402-Stanford Ave El DTS",27]
["1695201","Stoner El","1695201-Stoner El",null,null,"1690501",{"$f":"VLOOKUP(F638, 'ECAST Lookup'!A:G,7,FALSE)","v":"Stanford PC"},"1690501-Stanford PC",19]
["1695202","Stoner El DL One-Way Im Spanish","1695202-Stoner El DL One-Way Im Spanish",null,null,"1690502",{"$f":"VLOOKUP(F639, 'ECAST Lookup'!A:G,7,FALSE)","v":"Stanford PC DTS"},"1690502-Stanford PC DTS",23]
["1695901","Strathern El","1695901-Strathern El",null,null,"1691801",{"$f":"VLOOKUP(F640, 'ECAST Lookup'!A:G,7,FALSE)","v":"State El"},"1691801-State El",16]
["1697301","Sunland El","1697301-Sunland El",null,null,"1691802",{"$f":"VLOOKUP(F641, 'ECAST Lookup'!A:G,7,FALSE)","v":"State St El DTS"},"1691802-State St El DTS",23]
["1697302","Sunland Elementary Gifted Magnet","1697302-Sunland Elementary Gifted Magnet",null,null,"1692001",{"$f":"VLOOKUP(F642, 'ECAST Lookup'!A:G,7,FALSE)","v":"Hope El"},"1692001-Hope El",15]
["1698601","Sunny Brae El",{"$f":"A643&\"-\"&B643","v":"1698601-Sunny Brae El"},null,null,"1693201",{"$f":"VLOOKUP(F643, 'ECAST Lookup'!A:G,7,FALSE)","v":"Sterry El"},"1693201-Sterry El",17]
["1698602","Sunny Brae Av ES Global Awareness Magnet","1698602-Sunny Brae Av ES Global Awareness Magnet",null,null,"1694501",{"$f":"VLOOKUP(F644, 'ECAST Lookup'!A:G,7,FALSE)","v":"Stonehurst STEAM Mag"},"1694501-Stonehurst STEAM Mag",28]
["1698603","Sunny Brae El DL Two-Way Im Spanish","1698603-Sunny Brae El DL Two-Way Im Spanish",null,null,"1695201",{"$f":"VLOOKUP(F645, 'ECAST Lookup'!A:G,7,FALSE)","v":"Stoner El"},{"$f":"F645&\"-\"&G645","v":"1695201-Stoner El"},{"$f":"LEN(H645)","v":17}]
["1698801","Sunrise El","1698801-Sunrise El",null,null,"1695202",{"$f":"VLOOKUP(F646, 'ECAST Lookup'!A:G,7,FALSE)","v":"Stoner Ave El DOS"},"1695202-Stoner Ave El DOS",25]
["1698802","Sunrise El DL Two-Way Im Spanish","1698802-Sunrise El DL Two-Way Im Spanish",null,null,"1695901",{"$f":"VLOOKUP(F647, 'ECAST Lookup'!A:G,7,FALSE)","v":"Strathern El"},"1695901-Strathern El",20]
["1700701","Superior El","1700701-Superior El",null,null,"1697301",{"$f":"VLOOKUP(F648, 'ECAST Lookup'!A:G,7,FALSE)","v":"Sunland El"},"1697301-Sunland El",18]
["1701401","Sylmar El","1701401-Sylmar El",null,null,"1697302",{"$f":"VLOOKUP(F649, 'ECAST Lookup'!A:G,7,FALSE)","v":"Sunland El Gifted Mg"},"1697302-Sunland El Gifted Mg",28]
["1702701","Sylvan Park El","1702701-Sylvan Park El",null,null,"1698601",{"$f":"VLOOKUP(F650, 'ECAST Lookup'!A:G,7,FALSE)","v":"Sunny Brae El"},"1698601-Sunny Brae El",21]
["1703501","Taper El","1703501-Taper El",null,null,"1698602",{"$f":"VLOOKUP(F651, 'ECAST Lookup'!A:G,7,FALSE)","v":"Sunny Brae GA Mag"},"1698602-Sunny Brae GA Mag",25]
["1703502","Taper ES STEAM Magnet","1703502-Taper ES STEAM Magnet",null,null,"1698603",{"$f":"VLOOKUP(F652, 'ECAST Lookup'!A:G,7,FALSE)","v":"Sunny Brae El DTS"},"1698603-Sunny Brae El DTS",25]
["1704101","Tarzana El","1704101-Tarzana El",null,null,"1698801",{"$f":"VLOOKUP(F653, 'ECAST Lookup'!A:G,7,FALSE)","v":"Sunrise El"},"1698801-Sunrise El",18]
["1706801","Telfair El","1706801-Telfair El",null,null,"1698802",{"$f":"VLOOKUP(F654, 'ECAST Lookup'!A:G,7,FALSE)","v":"Sunrise El DTS"},"1698802-Sunrise El DTS",22]
["1706802","Telfair Ave El DL Two-Way Im Spanish","1706802-Telfair Ave El DL Two-Way Im Spanish",null,null,"1700701",{"$f":"VLOOKUP(F655, 'ECAST Lookup'!A:G,7,FALSE)","v":"Superior El"},"1700701-Superior El",19]
["1708201","10th St El","1708201-10th St El",null,null,"1701401",{"$f":"VLOOKUP(F656, 'ECAST Lookup'!A:G,7,FALSE)","v":"Sylmar El"},"1701401-Sylmar El",17]
["1711001","3rd St El","1711001-3rd St El",null,null,"1702701",{"$f":"VLOOKUP(F657, 'ECAST Lookup'!A:G,7,FALSE)","v":"Sylvan Park El"},"1702701-Sylvan Park El",22]
["1711002","3rd St El DL Two-Way Im Korean","1711002-3rd St El DL Two-Way Im Korean",null,null,"1703501",{"$f":"VLOOKUP(F658, 'ECAST Lookup'!A:G,7,FALSE)","v":"Taper El"},"1703501-Taper El",16]
["1712301","Bradley Glbl Awr Mag","1712301-Bradley Glbl Awr Mag",null,null,"1703502",{"$f":"VLOOKUP(F659, 'ECAST Lookup'!A:G,7,FALSE)","v":"Taper STEAM Mag"},"1703502-Taper STEAM Mag",23]
["1713701","32nd/USC Per Art Mag","1713701-32nd/USC Per Art Mag",null,null,"1704101",{"$f":"VLOOKUP(F660, 'ECAST Lookup'!A:G,7,FALSE)","v":"Tarzana El"},"1704101-Tarzana El",18]
["1713702","LAUSD/USC Media Arts/Engineering Magnet","1713702-LAUSD/USC Media Arts/Engineering Magnet",null,null,"1706801",{"$f":"VLOOKUP(F661, 'ECAST Lookup'!A:G,7,FALSE)","v":"Telfair El"},"1706801-Telfair El",18]
["1715101","Weemes El","1715101-Weemes El",null,null,"1706802",{"$f":"VLOOKUP(F662, 'ECAST Lookup'!A:G,7,FALSE)","v":"Telfair Ave El DTS"},"1706802-Telfair Ave El DTS",26]
["1716401","Bright El","1716401-Bright El",null,null,"1708201",{"$f":"VLOOKUP(F663, 'ECAST Lookup'!A:G,7,FALSE)","v":"10th St El"},"1708201-10th St El",18]
["1717801","Toland Way El","1717801-Toland Way El",null,null,"1711001",{"$f":"VLOOKUP(F664, 'ECAST Lookup'!A:G,7,FALSE)","v":"3rd St El"},"1711001-3rd St El",17]
["1719201","Toluca Lake El","1719201-Toluca Lake El",null,null,"1711002",{"$f":"VLOOKUP(F665, 'ECAST Lookup'!A:G,7,FALSE)","v":"3rd St El DTK"},"1711002-3rd St El DTK",21]
["1719801","Topanga El CS","1719801-Topanga El CS",null,null,"1711003",{"$f":"VLOOKUP(F666, 'ECAST Lookup'!A:G,7,FALSE)","v":"3rd St ES Gifted Mag"},"1711003-3rd St ES Gifted Mag",28]
["1720101","Topeka Charter for Advanced Studies","1720101-Topeka Charter for Advanced Studies",null,null,"1712301",{"$f":"VLOOKUP(F667, 'ECAST Lookup'!A:G,7,FALSE)","v":"Bradley Glbl Awr Mag"},"1712301-Bradley Glbl Awr Mag",28]
["1720501","Towne El","1720501-Towne El",null,null,"1713701",{"$f":"VLOOKUP(F668, 'ECAST Lookup'!A:G,7,FALSE)","v":"32nd/USC Per Art Mag"},"1713701-32nd/USC Per Art Mag",28]
["1721901","Trinity El","1721901-Trinity El",null,null,"1713702",{"$f":"VLOOKUP(F669, 'ECAST Lookup'!A:G,7,FALSE)","v":"LAUSD/USC"},"1713702-LAUSD/USC",17]
["1721902","Trinity St El DL Two-Way Im Spanish","1721902-Trinity St El DL Two-Way Im Spanish",null,null,"1715101",{"$f":"VLOOKUP(F670, 'ECAST Lookup'!A:G,7,FALSE)","v":"Weemes El"},"1715101-Weemes El",17]
["1722001","Maple PC","1722001-Maple PC",null,null,"1716401",{"$f":"VLOOKUP(F671, 'ECAST Lookup'!A:G,7,FALSE)","v":"Bright El"},"1716401-Bright El",17]
["1722002","Maple PC DL Two-Way Im Spanish","1722002-Maple PC DL Two-Way Im Spanish",null,null,"1717801",{"$f":"VLOOKUP(F672, 'ECAST Lookup'!A:G,7,FALSE)","v":"Toland Way El"},"1717801-Toland Way El",21]
["1724701","Tulsa El","1724701-Tulsa El",null,null,"1719201",{"$f":"VLOOKUP(F673, 'ECAST Lookup'!A:G,7,FALSE)","v":"Toluca Lake El"},"1719201-Toluca Lake El",22]
["1726001","Tweedy El","1726001-Tweedy El",null,null,"1719801",{"$f":"VLOOKUP(F674, 'ECAST Lookup'!A:G,7,FALSE)","v":"Topanga El CS"},"1719801-Topanga El CS",21]
["1726002","Tweedy EL DL Two-Way Im Spanish","1726002-Tweedy EL DL Two-Way Im Spanish",null,null,"1720101",{"$f":"VLOOKUP(F675, 'ECAST Lookup'!A:G,7,FALSE)","v":"Topeka Charter"},"1720101-Topeka Charter",22]
["1727401","20th St El","1727401-20th St El",null,null,"1720501",{"$f":"VLOOKUP(F676, 'ECAST Lookup'!A:G,7,FALSE)","v":"Towne El"},"1720501-Towne El",16]
["1727402","20th St El DL Two-Way Im Spanish","1727402-20th St El DL Two-Way Im Spanish",null,null,"1721901",{"$f":"VLOOKUP(F677, 'ECAST Lookup'!A:G,7,FALSE)","v":"Trinity El"},"1721901-Trinity El",18]
["1728801","28th St El","1728801-28th St El",null,null,"1721902",{"$f":"VLOOKUP(F678, 'ECAST Lookup'!A:G,7,FALSE)","v":"Trinity St El DTS"},"1721902-Trinity St El DTS",25]
["1728802","28th St El DL One-Way Im Spanish","1728802-28th St El DL One-Way Im Spanish",null,null,"1722001",{"$f":"VLOOKUP(F679, 'ECAST Lookup'!A:G,7,FALSE)","v":"Maple PC"},"1722001-Maple PC",16]
["1730101","24th St El","1730101-24th St El",null,null,"1722002",{"$f":"VLOOKUP(F680, 'ECAST Lookup'!A:G,7,FALSE)","v":"Maple PC DTS"},"1722002-Maple PC DTS",20]
["1732901","232nd Pl El","1732901-232nd Pl El",null,null,"1724701",{"$f":"VLOOKUP(F681, 'ECAST Lookup'!A:G,7,FALSE)","v":"Tulsa El"},"1724701-Tulsa El",16]
["1732902","232nd Pl ES STEMM Magnet","1732902-232nd Pl ES STEMM Magnet",null,null,"1726001",{"$f":"VLOOKUP(F682, 'ECAST Lookup'!A:G,7,FALSE)","v":"Tweedy El"},"1726001-Tweedy El",17]
["1734201","Meyler El","1734201-Meyler El",null,null,"1726002",{"$f":"VLOOKUP(F683, 'ECAST Lookup'!A:G,7,FALSE)","v":"Tweedy El DTS"},"1726002-Tweedy El DTS",21]
["1734202","Meyler El DL Two-Way Im Spanish","1734202-Meyler El DL Two-Way Im Spanish",null,null,"1727401",{"$f":"VLOOKUP(F684, 'ECAST Lookup'!A:G,7,FALSE)","v":"20th St El"},"1727401-20th St El",18]
["1735601","Union El","1735601-Union El",null,null,"1727402",{"$f":"VLOOKUP(F685, 'ECAST Lookup'!A:G,7,FALSE)","v":"20th St El DTS"},"1727402-20th St El DTS",22]
["1737001","Utah El","1737001-Utah El",null,null,"1728801",{"$f":"VLOOKUP(F686, 'ECAST Lookup'!A:G,7,FALSE)","v":"28th St El"},"1728801-28th St El",18]
["1738401","Valerio El","1738401-Valerio El",null,null,"1728802",{"$f":"VLOOKUP(F687, 'ECAST Lookup'!A:G,7,FALSE)","v":"28th St El DOS"},"1728802-28th St El DOS",22]
["1739001","Lake Balboa College Prep Magnet K-12","1739001-Lake Balboa College Prep Magnet K-12",null,null,"1730101",{"$f":"VLOOKUP(F688, 'ECAST Lookup'!A:G,7,FALSE)","v":"24th St El"},"1730101-24th St El",18]
["1739701","Valley View El","1739701-Valley View El",null,null,"1732901",{"$f":"VLOOKUP(F689, 'ECAST Lookup'!A:G,7,FALSE)","v":"232nd Pl El"},"1732901-232nd Pl El",19]
["1739801","Alta California El","1739801-Alta California El",null,null,"1732902",{"$f":"VLOOKUP(F690, 'ECAST Lookup'!A:G,7,FALSE)","v":"232nd STEMM Mag"},"1732902-232nd STEMM Mag",23]
["1739802","Alta California ES Gifted/STEAM Magnet","1739802-Alta California ES Gifted/STEAM Magnet",null,null,"1734201",{"$f":"VLOOKUP(F691, 'ECAST Lookup'!A:G,7,FALSE)","v":"Meyler El"},"1734201-Meyler El",17]
["1739901","Korenstein El","1739901-Korenstein El",null,null,"1734202",{"$f":"VLOOKUP(F692, 'ECAST Lookup'!A:G,7,FALSE)","v":"Meyler St El DTS"},"1734202-Meyler St El DTS",24]
["1740001","Vista Del Valle Acad","1740001-Vista Del Valle Acad",null,null,"1735601",{"$f":"VLOOKUP(F693, 'ECAST Lookup'!A:G,7,FALSE)","v":"Union El"},"1735601-Union El",16]
["1740002","Vista Del Valle Ac DL Two-Way Im Spanish","1740002-Vista Del Valle Ac DL Two-Way Im Spanish",null,null,"1737001",{"$f":"VLOOKUP(F694, 'ECAST Lookup'!A:G,7,FALSE)","v":"Utah El"},"1737001-Utah El",15]
["1740101","Cardenas El","1740101-Cardenas El",null,null,"1738401",{"$f":"VLOOKUP(F695, 'ECAST Lookup'!A:G,7,FALSE)","v":"Valerio El"},"1738401-Valerio El",18]
["1740201","Mosk El","1740201-Mosk El",null,null,"1739001",{"$f":"VLOOKUP(F696, 'ECAST Lookup'!A:G,7,FALSE)","v":"Lake Balboa Clg Prep"},"1739001-Lake Balboa Clg Prep",28]
["1740202","Mosk ES STEAM Magnet","1740202-Mosk ES STEAM Magnet",null,null,"1739701",{"$f":"VLOOKUP(F697, 'ECAST Lookup'!A:G,7,FALSE)","v":"Valley View El"},"1739701-Valley View El",22]
["1740401","Santana Arts Academy","1740401-Santana Arts Academy",null,null,"1739801",{"$f":"VLOOKUP(F698, 'ECAST Lookup'!A:G,7,FALSE)","v":"Alta California El"},"1739801-Alta California El",26]
["1740402","Santana Arts Acad DL Two-Way Im Spanish","1740402-Santana Arts Acad DL Two-Way Im Spanish",null,null,"1739802",{"$f":"VLOOKUP(F699, 'ECAST Lookup'!A:G,7,FALSE)","v":"Alta Cal GSTEAM Mag"},"1739802-Alta Cal GSTEAM Mag",27]
["1740801","Sylmar Ldshp Acad","1740801-Sylmar Ldshp Acad",null,null,"1739901",{"$f":"VLOOKUP(F700, 'ECAST Lookup'!A:G,7,FALSE)","v":"Korenstein El"},"1739901-Korenstein El",21]
["1741101","Vanalden El","1741101-Vanalden El",null,null,"1740001",{"$f":"VLOOKUP(F701, 'ECAST Lookup'!A:G,7,FALSE)","v":"Vista Del Valle Acad"},"1740001-Vista Del Valle Acad",28]
["1741901","Van Deene El","1741901-Van Deene El",null,null,"1740002",{"$f":"VLOOKUP(F702, 'ECAST Lookup'!A:G,7,FALSE)","v":"Vista Del Valle DTS"},"1740002-Vista Del Valle DTS",27]
["1742201","Van Gogh Charter","1742201-Van Gogh Charter",null,null,"1740101",{"$f":"VLOOKUP(F703, 'ECAST Lookup'!A:G,7,FALSE)","v":"Cardenas El"},"1740101-Cardenas El",19]
["1742501","Van Ness El","1742501-Van Ness El",null,null,"1740201",{"$f":"VLOOKUP(F704, 'ECAST Lookup'!A:G,7,FALSE)","v":"Mosk El"},"1740201-Mosk El",15]
["1743201","Columbus Ave El","1743201-Columbus Ave El",null,null,"1740202",{"$f":"VLOOKUP(F705, 'ECAST Lookup'!A:G,7,FALSE)","v":"Mosk ES STEAM Magnet"},"1740202-Mosk ES STEAM Magnet",28]
["1743801","Van Nuys El","1743801-Van Nuys El",null,null,"1740401",{"$f":"VLOOKUP(F706, 'ECAST Lookup'!A:G,7,FALSE)","v":"Santana Arts Academy"},"1740401-Santana Arts Academy",28]
["1746601","Vena El",{"$f":"A707&\"-\"&B707","v":"1746601-Vena El"},null,null,"1740402",{"$f":"VLOOKUP(F707, 'ECAST Lookup'!A:G,7,FALSE)","v":"Santana Arts Aca DTS"},"1740402-Santana Arts Aca DTS",28]
["1746602","Vena Avenue Elementary Gifted Magnet","1746602-Vena Avenue Elementary Gifted Magnet",null,null,"1740801",{"$f":"VLOOKUP(F708, 'ECAST Lookup'!A:G,7,FALSE)","v":"Sylmar Ldshp Acad"},"1740801-Sylmar Ldshp Acad",25]
["1747901","Vermont El","1747901-Vermont El",null,null,"1741101",{"$f":"VLOOKUP(F709, 'ECAST Lookup'!A:G,7,FALSE)","v":"Vanalden El"},{"$f":"F709&\"-\"&G709","v":"1741101-Vanalden El"},{"$f":"LEN(H709)","v":19}]
["1749301","Vernon City El","1749301-Vernon City El",null,null,"1741901",{"$f":"VLOOKUP(F710, 'ECAST Lookup'!A:G,7,FALSE)","v":"Van Deene El"},"1741901-Van Deene El",20]
["1750701","Victoria El","1750701-Victoria El",null,null,"1742201",{"$f":"VLOOKUP(F711, 'ECAST Lookup'!A:G,7,FALSE)","v":"Van Gogh Charter"},"1742201-Van Gogh Charter",24]
["1752101","Victory El","1752101-Victory El",null,null,"1742501",{"$f":"VLOOKUP(F712, 'ECAST Lookup'!A:G,7,FALSE)","v":"Van Ness El"},"1742501-Van Ness El",19]
["1752102","Victory Bl ES STEAM Magnet","1752102-Victory Bl ES STEAM Magnet",null,null,"1743201",{"$f":"VLOOKUP(F713, 'ECAST Lookup'!A:G,7,FALSE)","v":"Columbus Ave El"},"1743201-Columbus Ave El",23]
["1753401","Vine El","1753401-Vine El",null,null,"1743801",{"$f":"VLOOKUP(F714, 'ECAST Lookup'!A:G,7,FALSE)","v":"Van Nuys El"},"1743801-Van Nuys El",19]
["1754801","Vinedale El","1754801-Vinedale El",null,null,"1746601",{"$f":"VLOOKUP(F715, 'ECAST Lookup'!A:G,7,FALSE)","v":"Vena El"},"1746601-Vena El",15]
["1756201","Vintage Math/Sci Mag","1756201-Vintage Math/Sci Mag",null,null,"1746602",{"$f":"VLOOKUP(F716, 'ECAST Lookup'!A:G,7,FALSE)","v":"Vena El Gifted Mag"},"1746602-Vena El Gifted Mag",26]
["1756601","University Pathways Public Svc Academy","1756601-University Pathways Public Svc Academy",null,null,"1747901",{"$f":"VLOOKUP(F717, 'ECAST Lookup'!A:G,7,FALSE)","v":"Vermont El"},"1747901-Vermont El",18]
["1756701","University Pathways Medical Mag Academy","1756701-University Pathways Medical Mag Academy",null,null,"1749301",{"$f":"VLOOKUP(F718, 'ECAST Lookup'!A:G,7,FALSE)","v":"Vernon City El"},"1749301-Vernon City El",22]
["1756901","Boys Academic Leadership Academy","1756901-Boys Academic Leadership Academy",null,null,"1750701",{"$f":"VLOOKUP(F719, 'ECAST Lookup'!A:G,7,FALSE)","v":"Victoria El"},"1750701-Victoria El",19]
["1757401","Horace Mann UCLA Community School","1757401-Horace Mann UCLA Community School",null,null,"1752101",{"$f":"VLOOKUP(F720, 'ECAST Lookup'!A:G,7,FALSE)","v":"Victory El"},"1752101-Victory El",18]
["1757501","Virginia El","1757501-Virginia El",null,null,"1752102",{"$f":"VLOOKUP(F721, 'ECAST Lookup'!A:G,7,FALSE)","v":"Victory STEAM Mag"},"1752102-Victory STEAM Mag",25]
["1757502","Virginia Rd El DL Two-Way Im Spanish","1757502-Virginia Rd El DL Two-Way Im Spanish",null,null,"1753401",{"$f":"VLOOKUP(F722, 'ECAST Lookup'!A:G,7,FALSE)","v":"Vine El"},"1753401-Vine El",15]
["1758901","Wadsworth El","1758901-Wadsworth El",null,null,"1754801",{"$f":"VLOOKUP(F723, 'ECAST Lookup'!A:G,7,FALSE)","v":"Vinedale College Pep"},"1754801-Vinedale College Pep",28]
["1760301","Walgrove El","1760301-Walgrove El",null,null,"1756201",{"$f":"VLOOKUP(F724, 'ECAST Lookup'!A:G,7,FALSE)","v":"Vintage Math/Sci Mag"},"1756201-Vintage Math/Sci Mag",28]
["1760401","The Science Academy STEM Magnet","1760401-The Science Academy STEM Magnet",null,null,"1756601",{"$f":"VLOOKUP(F725, 'ECAST Lookup'!A:G,7,FALSE)","v":"Univ Pathwys Pub Srv"},"1756601-Univ Pathwys Pub Srv",28]
["1761401","Nava Coll Prep Acad","1761401-Nava Coll Prep Acad",null,null,"1756701",{"$f":"VLOOKUP(F726, 'ECAST Lookup'!A:G,7,FALSE)","v":"Univ Pathwys Medical"},"1756701-Univ Pathwys Medical",28]
["1761501","Boyle Heights HS STEM Magnet","1761501-Boyle Heights HS STEM Magnet",null,null,"1756901",{"$f":"VLOOKUP(F727, 'ECAST Lookup'!A:G,7,FALSE)","v":"Boys Acad Leader"},"1756901-Boys Acad Leader",24]
["1761601","Warner El","1761601-Warner El",null,null,"1757401",{"$f":"VLOOKUP(F728, 'ECAST Lookup'!A:G,7,FALSE)","v":"Horace Mann UCLA"},"1757401-Horace Mann UCLA",24]
["1763001","Washington PC","1763001-Washington PC",null,null,"1757501",{"$f":"VLOOKUP(F729, 'ECAST Lookup'!A:G,7,FALSE)","v":"Virginia El"},"1757501-Virginia El",19]
["1763002","Washington PC DL Two-Way Im Spanish","1763002-Washington PC DL Two-Way Im Spanish",null,null,"1757502",{"$f":"VLOOKUP(F730, 'ECAST Lookup'!A:G,7,FALSE)","v":"Virginia Rd El DTS"},"1757502-Virginia Rd El DTS",26]
["1763401","Weigand El","1763401-Weigand El",null,null,"1758901",{"$f":"VLOOKUP(F731, 'ECAST Lookup'!A:G,7,FALSE)","v":"Wadsworth El"},"1758901-Wadsworth El",20]
["1763701","Welby Way Charter ES & GHA Magnet","1763701-Welby Way Charter ES & GHA Magnet",null,null,"1760301",{"$f":"VLOOKUP(F732, 'ECAST Lookup'!A:G,7,FALSE)","v":"Walgrove El"},"1760301-Walgrove El",19]
["1763702","Welby Way Charter Elementary Gifted Magnet","1763702-Welby Way Charter Elementary Gifted Magnet",null,null,"1760401",{"$f":"VLOOKUP(F733, 'ECAST Lookup'!A:G,7,FALSE)","v":"Science Ac STEM Mag"},"1760401-Science Ac STEM Mag",27]
["1764001","Chavez El","1764001-Chavez El",null,null,"1761401",{"$f":"VLOOKUP(F734, 'ECAST Lookup'!A:G,7,FALSE)","v":"Nava Coll Prep Acad"},"1761401-Nava Coll Prep Acad",27]
["1764401","West Athens El","1764401-West Athens El",null,null,"1761501",{"$f":"VLOOKUP(F735, 'ECAST Lookup'!A:G,7,FALSE)","v":"Boyle Hts STEM Mag"},"1761501-Boyle Hts STEM Mag",26]
["1764901","West Hollywood El","1764901-West Hollywood El",null,null,"1761601",{"$f":"VLOOKUP(F736, 'ECAST Lookup'!A:G,7,FALSE)","v":"Warner El"},"1761601-Warner El",17]
["1765401","West Vernon El","1765401-West Vernon El",null,null,"1763001",{"$f":"VLOOKUP(F737, 'ECAST Lookup'!A:G,7,FALSE)","v":"Washington PC"},"1763001-Washington PC",21]
["1765601","Carson Acad Med Arts","1765601-Carson Acad Med Arts",null,null,"1763002",{"$f":"VLOOKUP(F738, 'ECAST Lookup'!A:G,7,FALSE)","v":"Washington PC DTS"},"1763002-Washington PC DTS",25]
["1765701","Carson Acad Ed & Emp","1765701-Carson Acad Ed & Emp",null,null,"1763401",{"$f":"VLOOKUP(F739, 'ECAST Lookup'!A:G,7,FALSE)","v":"Weigand El"},"1763401-Weigand El",18]
["1765801","Sylmar Academy Biotech Health/Eng Magnet","1765801-Sylmar Academy Biotech Health/Eng Magnet",null,null,"1763701",{"$f":"VLOOKUP(F740, 'ECAST Lookup'!A:G,7,FALSE)","v":"Welby Way Chtr"},"1763701-Welby Way Chtr",22]
["1766401","Legacy SH VAPA","1766401-Legacy SH VAPA",null,null,"1763702",{"$f":"VLOOKUP(F741, 'ECAST Lookup'!A:G,7,FALSE)","v":"Welby Way Gifted Mag"},"1763702-Welby Way Gifted Mag",28]
["1766501","Hawkins SH CHAS","1766501-Hawkins SH CHAS",null,null,"1764001",{"$f":"VLOOKUP(F742, 'ECAST Lookup'!A:G,7,FALSE)","v":"Chavez El"},"1764001-Chavez El",17]
["1766601","Hawkins SH RISE","1766601-Hawkins SH RISE",null,null,"1764401",{"$f":"VLOOKUP(F743, 'ECAST Lookup'!A:G,7,FALSE)","v":"West Athens El"},"1764401-West Athens El",22]
["1766701","Dymally SH","1766701-Dymally SH",null,null,"1764901",{"$f":"VLOOKUP(F744, 'ECAST Lookup'!A:G,7,FALSE)","v":"West Hollywood El"},"1764901-West Hollywood El",25]
["1766702","Dymally HS Biomed Science/Research Mag","1766702-Dymally HS Biomed Science/Research Mag",null,null,"1765401",{"$f":"VLOOKUP(F745, 'ECAST Lookup'!A:G,7,FALSE)","v":"West Vernon El"},"1765401-West Vernon El",22]
["1766901","Marquez SH Soc Jus","1766901-Marquez SH Soc Jus",null,null,"1765601",{"$f":"VLOOKUP(F746, 'ECAST Lookup'!A:G,7,FALSE)","v":"Carson Acad Med Arts"},"1765601-Carson Acad Med Arts",28]
["1767101","Western Av Tech/Eng/Comm/Hum Magnet","1767101-Western Av Tech/Eng/Comm/Hum Magnet",null,null,"1765701",{"$f":"VLOOKUP(F747, 'ECAST Lookup'!A:G,7,FALSE)","v":"Carson Acad Ed & Emp"},"1765701-Carson Acad Ed & Emp",28]
["1769901","Westminster ES Math/Tech/Env Stud Magnet","1769901-Westminster ES Math/Tech/Env Stud Magnet",null,null,"1765801",{"$f":"VLOOKUP(F748, 'ECAST Lookup'!A:G,7,FALSE)","v":"Sylmar Acad BH/E Mag"},"1765801-Sylmar Acad BH/E Mag",28]
["1771201","Westport Hts El","1771201-Westport Hts El",null,null,"1766401",{"$f":"VLOOKUP(F749, 'ECAST Lookup'!A:G,7,FALSE)","v":"Legacy SH VAPA"},"1766401-Legacy SH VAPA",22]
["1771501","Chavez LA Artes Mag","1771501-Chavez LA Artes Mag",null,null,"1766501",{"$f":"VLOOKUP(F750, 'ECAST Lookup'!A:G,7,FALSE)","v":"Hawkins SH CHAS"},"1766501-Hawkins SH CHAS",23]
["1771601","Chavez LA SJ Hum Ac","1771601-Chavez LA SJ Hum Ac",null,null,"1766601",{"$f":"VLOOKUP(F751, 'ECAST Lookup'!A:G,7,FALSE)","v":"Hawkins SH RISE"},"1766601-Hawkins SH RISE",23]
["1771701","Chavez LA ASE","1771701-Chavez LA ASE",null,null,"1766701",{"$f":"VLOOKUP(F752, 'ECAST Lookup'!A:G,7,FALSE)","v":"Dymally SH"},"1766701-Dymally SH",18]
["1771801","Rivera LC Com & Tech","1771801-Rivera LC Com & Tech",null,null,"1766702",{"$f":"VLOOKUP(F753, 'ECAST Lookup'!A:G,7,FALSE)","v":"Dymally BMS/R Mag"},"1766702-Dymally BMS/R Mag",25]
["1771901","Diego Rivera LC Green Design STEAM Acad","1771901-Diego Rivera LC Green Design STEAM Acad",null,null,"1766901",{"$f":"VLOOKUP(F754, 'ECAST Lookup'!A:G,7,FALSE)","v":"Marquez SH Soc Jus"},"1766901-Marquez SH Soc Jus",26]
["1772101","Rivera LC Perf Arts","1772101-Rivera LC Perf Arts",null,null,"1767101",{"$f":"VLOOKUP(F755, 'ECAST Lookup'!A:G,7,FALSE)","v":"Western Av Tech Mag"},"1767101-Western Av Tech Mag",27]
["1772201","Dr. Maya Angelou Community Senior High","1772201-Dr. Maya Angelou Community Senior High",null,null,"1769901",{"$f":"VLOOKUP(F756, 'ECAST Lookup'!A:G,7,FALSE)","v":"Westminster MTES Mag"},"1769901-Westminster MTES Mag",28]
["1772501","Marquez SH LIBRA","1772501-Marquez SH LIBRA",null,null,"1771201",{"$f":"VLOOKUP(F757, 'ECAST Lookup'!A:G,7,FALSE)","v":"Westport Hts El"},"1771201-Westport Hts El",23]
["1773401","Bernstein SH STEM","1773401-Bernstein SH STEM",null,null,"1771501",{"$f":"VLOOKUP(F758, 'ECAST Lookup'!A:G,7,FALSE)","v":"Chavez LA Artes Mag"},"1771501-Chavez LA Artes Mag",27]
["1774001","Westwood Chtr El","1774001-Westwood Chtr El",null,null,"1771601",{"$f":"VLOOKUP(F759, 'ECAST Lookup'!A:G,7,FALSE)","v":"Chavez LA SJ Hum Ac"},"1771601-Chavez LA SJ Hum Ac",27]
["1774901","Roosevelt SH","1774901-Roosevelt SH",null,null,"1771701",{"$f":"VLOOKUP(F760, 'ECAST Lookup'!A:G,7,FALSE)","v":"Chavez LA ASE"},"1771701-Chavez LA ASE",21]
["1774902","Roosevelt HS Law/Public Services Magnet","1774902-Roosevelt HS Law/Public Services Magnet",null,null,"1771801",{"$f":"VLOOKUP(F761, 'ECAST Lookup'!A:G,7,FALSE)","v":"Rivera LC Com & Tech"},"1771801-Rivera LC Com & Tech",28]
["1775101","Roosevelt Senior High Science/Tech/Math","1775101-Roosevelt Senior High Science/Tech/Math",null,null,"1771901",{"$f":"VLOOKUP(F762, 'ECAST Lookup'!A:G,7,FALSE)","v":"Rivera LC STEAM Acad"},"1771901-Rivera LC STEAM Acad",28]
["1775201","Solis Learning Acad","1775201-Solis Learning Acad",null,null,"1772101",{"$f":"VLOOKUP(F763, 'ECAST Lookup'!A:G,7,FALSE)","v":"Rivera LC Perf Arts"},"1772101-Rivera LC Perf Arts",27]
["1776701","White Point El","1776701-White Point El",null,null,"1772201",{"$f":"VLOOKUP(F764, 'ECAST Lookup'!A:G,7,FALSE)","v":"Dr. Maya Angelou"},"1772201-Dr. Maya Angelou",24]
["1777101","RFK Ambsdr Glbl Ldsh","1777101-RFK Ambsdr Glbl Ldsh",null,null,"1772501",{"$f":"VLOOKUP(F765, 'ECAST Lookup'!A:G,7,FALSE)","v":"Marquez SH LIBRA"},"1772501-Marquez SH LIBRA",24]
["1777201","Torres Renaissance","1777201-Torres Renaissance",null,null,"1773401",{"$f":"VLOOKUP(F766, 'ECAST Lookup'!A:G,7,FALSE)","v":"Bernstein SH STEM"},"1773401-Bernstein SH STEM",25]
["1777301","Torres Eng & Tech","1777301-Torres Eng & Tech",null,null,"1774001",{"$f":"VLOOKUP(F767, 'ECAST Lookup'!A:G,7,FALSE)","v":"Westwood Chtr El"},"1774001-Westwood Chtr El",24]
["1777401","Wilbur El","1777401-Wilbur El",null,null,"1774901",{"$f":"VLOOKUP(F768, 'ECAST Lookup'!A:G,7,FALSE)","v":"Roosevelt SH"},"1774901-Roosevelt SH",20]
["1777501","Torres Hum/Art/Tech","1777501-Torres Hum/Art/Tech",null,null,"1774902",{"$f":"VLOOKUP(F769, 'ECAST Lookup'!A:G,7,FALSE)","v":"Roosevelt LPS Mag"},"1774902-Roosevelt LPS Mag",25]
["1777701","Torres HS Social Justice Ldshp Ac Magnet","1777701-Torres HS Social Justice Ldshp Ac Magnet",null,null,"1775101",{"$f":"VLOOKUP(F770, 'ECAST Lookup'!A:G,7,FALSE)","v":"Roosevelt SH STM Mag"},"1775101-Roosevelt SH STM Mag",28]
["1778001","RFK UCLA Comm Sch",{"$f":"A771&\"-\"&B771","v":"1778001-RFK UCLA Comm Sch"},null,null,"1775201",{"$f":"VLOOKUP(F771, 'ECAST Lookup'!A:G,7,FALSE)","v":"Solis Learning Acad"},"1775201-Solis Learning Acad",27]
["1778002","RFK UCLA Comm Sch DL One-Way Im Spanish","1778002-RFK UCLA Comm Sch DL One-Way Im Spanish",null,null,"1776701",{"$f":"VLOOKUP(F772, 'ECAST Lookup'!A:G,7,FALSE)","v":"White Point El"},"1776701-White Point El",22]
["1778101","Wilmington Park El","1778101-Wilmington Park El",null,null,"1777101",{"$f":"VLOOKUP(F773, 'ECAST Lookup'!A:G,7,FALSE)","v":"RFK Ambsdr Glbl Ldsh"},{"$f":"F773&\"-\"&G773","v":"1777101-RFK Ambsdr Glbl Ldsh"},{"$f":"LEN(H773)","v":28}]
["1778301","RFK Comm Schs-New Open World Acad K-12","1778301-RFK Comm Schs-New Open World Acad K-12",null,null,"1777201",{"$f":"VLOOKUP(F774, 'ECAST Lookup'!A:G,7,FALSE)","v":"Torres Renaissance"},"1777201-Torres Renaissance",26]
["1779501","Wilshire Crest El","1779501-Wilshire Crest El",null,null,"1777301",{"$f":"VLOOKUP(F775, 'ECAST Lookup'!A:G,7,FALSE)","v":"Torres Eng & Tech"},"1777301-Torres Eng & Tech",25]
["1779502","Wilshire Crest El DL Two-Way Im Spanish","1779502-Wilshire Crest El DL Two-Way Im Spanish",null,null,"1777401",{"$f":"VLOOKUP(F776, 'ECAST Lookup'!A:G,7,FALSE)","v":"Wilbur El"},"1777401-Wilbur El",17]
["1780801","Wilton Pl El","1780801-Wilton Pl El",null,null,"1777501",{"$f":"VLOOKUP(F777, 'ECAST Lookup'!A:G,7,FALSE)","v":"Torres Hum/Art/Tech"},"1777501-Torres Hum/Art/Tech",27]
["1780802","Wilton Pl El DL Two-Way Im Spanish","1780802-Wilton Pl El DL Two-Way Im Spanish",null,null,"1777701",{"$f":"VLOOKUP(F778, 'ECAST Lookup'!A:G,7,FALSE)","v":"Torres HS SJLA Mag"},"1777701-Torres HS SJLA Mag",26]
["1780803","Wilton Pl El DL Two-Way Im Korean","1780803-Wilton Pl El DL Two-Way Im Korean",null,null,"1778001",{"$f":"VLOOKUP(F779, 'ECAST Lookup'!A:G,7,FALSE)","v":"RFK UCLA Comm Sch"},"1778001-RFK UCLA Comm Sch",25]
["1782201","Windsor M/S Aero Mag","1782201-Windsor M/S Aero Mag",null,null,"1778002",{"$f":"VLOOKUP(F780, 'ECAST Lookup'!A:G,7,FALSE)","v":"RFK UCLA Comm DOS"},"1778002-RFK UCLA Comm DOS",25]
["1783601","Winnetka El","1783601-Winnetka El",null,null,"1778101",{"$f":"VLOOKUP(F781, 'ECAST Lookup'!A:G,7,FALSE)","v":"Wilmington Park El"},"1778101-Wilmington Park El",26]
["1784901","Wonderland El","1784901-Wonderland El",null,null,"1778301",{"$f":"VLOOKUP(F782, 'ECAST Lookup'!A:G,7,FALSE)","v":"RFK Comm Schs-New"},"1778301-RFK Comm Schs-New",25]
["1784902","Wonderland G/HA Mag","1784902-Wonderland G/HA Mag",null,null,"1779501",{"$f":"VLOOKUP(F783, 'ECAST Lookup'!A:G,7,FALSE)","v":"Wilshire Crest El"},"1779501-Wilshire Crest El",25]
["1786301","Woodcrest El","1786301-Woodcrest El",null,null,"1779502",{"$f":"VLOOKUP(F784, 'ECAST Lookup'!A:G,7,FALSE)","v":"Wilshire Crst DTS"},"1779502-Wilshire Crst DTS",25]
["1787701","Woodlake Elementary Community Charter","1787701-Woodlake Elementary Community Charter",null,null,"1780801",{"$f":"VLOOKUP(F785, 'ECAST Lookup'!A:G,7,FALSE)","v":"Wilton Pl El"},"1780801-Wilton Pl El",20]
["1789001","Woodland Hills CES","1789001-Woodland Hills CES",null,null,"1780802",{"$f":"VLOOKUP(F786, 'ECAST Lookup'!A:G,7,FALSE)","v":"Wilton Pl El DTS"},"1780802-Wilton Pl El DTS",24]
["1789501","Valley Oaks Center for Enr Studies Mag","1789501-Valley Oaks Center for Enr Studies Mag",null,null,"1780803",{"$f":"VLOOKUP(F787, 'ECAST Lookup'!A:G,7,FALSE)","v":"Wilton Pl El DTK"},"1780803-Wilton Pl El DTK",24]
["1790401","Woodlawn El","1790401-Woodlawn El",null,null,"1782201",{"$f":"VLOOKUP(F788, 'ECAST Lookup'!A:G,7,FALSE)","v":"Windsor M/S Aero Mag"},"1782201-Windsor M/S Aero Mag",28]
["1790402","Woodlawn Ave El DL Two-Way Im Spanish","1790402-Woodlawn Ave El DL Two-Way Im Spanish",null,null,"1783601",{"$f":"VLOOKUP(F789, 'ECAST Lookup'!A:G,7,FALSE)","v":"Winnetka El"},"1783601-Winnetka El",19]
["1795901","Yorkdale El","1795901-Yorkdale El",null,null,"1784901",{"$f":"VLOOKUP(F790, 'ECAST Lookup'!A:G,7,FALSE)","v":"Wonderland El"},"1784901-Wonderland El",21]
["1800901","Adams MS","1800901-Adams MS",null,null,"1784902",{"$f":"VLOOKUP(F791, 'ECAST Lookup'!A:G,7,FALSE)","v":"Wonderland G/HA Mag"},"1784902-Wonderland G/HA Mag",27]
["1800902","John Adams MS Gifted Magnet","1800902-John Adams MS Gifted Magnet",null,null,"1786301",{"$f":"VLOOKUP(F792, 'ECAST Lookup'!A:G,7,FALSE)","v":"Woodcrest El"},"1786301-Woodcrest El",20]
["1802801","Audubon MS","1802801-Audubon MS",null,null,"1787701",{"$f":"VLOOKUP(F793, 'ECAST Lookup'!A:G,7,FALSE)","v":"Woodlake Charter"},"1787701-Woodlake Charter",24]
["1802802","Audubon MS Gifted Magnet","1802802-Audubon MS Gifted Magnet",null,null,"1789001",{"$f":"VLOOKUP(F794, 'ECAST Lookup'!A:G,7,FALSE)","v":"Woodland Hills CES"},"1789001-Woodland Hills CES",26]
["1803801","Bancroft MS","1803801-Bancroft MS",null,null,"1789501",{"$f":"VLOOKUP(F795, 'ECAST Lookup'!A:G,7,FALSE)","v":"Valley Oaks CES Mag"},"1789501-Valley Oaks CES Mag",27]
["1803802","Bancroft Per Art Mag","1803802-Bancroft Per Art Mag",null,null,"1790401",{"$f":"VLOOKUP(F796, 'ECAST Lookup'!A:G,7,FALSE)","v":"Woodlawn El"},"1790401-Woodlawn El",19]
["1803803","Hubert Howe Bancroft MS Gifted STEAM Mag","1803803-Hubert Howe Bancroft MS Gifted STEAM Mag",null,null,"1790402",{"$f":"VLOOKUP(F797, 'ECAST Lookup'!A:G,7,FALSE)","v":"Woodlawn Ave El DTS"},"1790402-Woodlawn Ave El DTS",27]
["1804501","Castro MS","1804501-Castro MS",null,null,"1795901",{"$f":"VLOOKUP(F798, 'ECAST Lookup'!A:G,7,FALSE)","v":"Yorkdale El"},"1795901-Yorkdale El",19]
["1804701","Belvedere MS","1804701-Belvedere MS",null,null,"1800901",{"$f":"VLOOKUP(F799, 'ECAST Lookup'!A:G,7,FALSE)","v":"Adams MS"},"1800901-Adams MS",16]
["1804702","Belvedere Media Mag","1804702-Belvedere Media Mag",null,null,"1800902",{"$f":"VLOOKUP(F800, 'ECAST Lookup'!A:G,7,FALSE)","v":"Adams MS Gifted Mag"},"1800902-Adams MS Gifted Mag",27]
["1804703","Belvedere MS STEAM Magnet","1804703-Belvedere MS STEAM Magnet",null,null,"1802801",{"$f":"VLOOKUP(F801, 'ECAST Lookup'!A:G,7,FALSE)","v":"Audubon MS"},"1802801-Audubon MS",18]
["1805701","Berendo MS","1805701-Berendo MS",null,null,"1802802",{"$f":"VLOOKUP(F802, 'ECAST Lookup'!A:G,7,FALSE)","v":"Audubon MS Gifted Mg"},"1802802-Audubon MS Gifted Mg",28]
["1805801","Liechty MS","1805801-Liechty MS",null,null,"1803801",{"$f":"VLOOKUP(F803, 'ECAST Lookup'!A:G,7,FALSE)","v":"Bancroft MS"},"1803801-Bancroft MS",19]
["1806001","Bethune MS","1806001-Bethune MS",null,null,"1803802",{"$f":"VLOOKUP(F804, 'ECAST Lookup'!A:G,7,FALSE)","v":"Bancroft Per Art Mag"},"1803802-Bancroft Per Art Mag",28]
["1806002","Mary Mcleod Bethune MS Science/Tech/Math","1806002-Mary Mcleod Bethune MS Science/Tech/Math",null,null,"1803803",{"$f":"VLOOKUP(F805, 'ECAST Lookup'!A:G,7,FALSE)","v":"Bancroft GSTEAM Mag"},"1803803-Bancroft GSTEAM Mag",27]
["1806201","Clinton MS","1806201-Clinton MS",null,null,"1804501",{"$f":"VLOOKUP(F806, 'ECAST Lookup'!A:G,7,FALSE)","v":"Castro MS"},"1804501-Castro MS",17]
["1806401","Kim Academy","1806401-Kim Academy",null,null,"1804701",{"$f":"VLOOKUP(F807, 'ECAST Lookup'!A:G,7,FALSE)","v":"Belvedere MS"},"1804701-Belvedere MS",20]
["1806601","Burbank MS Arts/Tech/Comm Magnet","1806601-Burbank MS Arts/Tech/Comm Magnet",null,null,"1804702",{"$f":"VLOOKUP(F808, 'ECAST Lookup'!A:G,7,FALSE)","v":"Belvedere Media Mag"},"1804702-Belvedere Media Mag",27]
["1806603","Burbank Police Ac Mg","1806603-Burbank Police Ac Mg",null,null,"1804703",{"$f":"VLOOKUP(F809, 'ECAST Lookup'!A:G,7,FALSE)","v":"Belvedere STEAM Mag"},"1804703-Belvedere STEAM Mag",27]
["1807501","Burroughs MS","1807501-Burroughs MS",null,null,"1805701",{"$f":"VLOOKUP(F810, 'ECAST Lookup'!A:G,7,FALSE)","v":"Berendo MS"},"1805701-Berendo MS",18]
["1807502","John Burroughs MS Gifted Magnet","1807502-John Burroughs MS Gifted Magnet",null,null,"1805801",{"$f":"VLOOKUP(F811, 'ECAST Lookup'!A:G,7,FALSE)","v":"Liechty MS"},"1805801-Liechty MS",18]
["1808001","Byrd MS","1808001-Byrd MS",null,null,"1806001",{"$f":"VLOOKUP(F812, 'ECAST Lookup'!A:G,7,FALSE)","v":"Bethune MS"},"1806001-Bethune MS",18]
["1808002","Richard E Byrd MS Science/Tech/Math Magnet","1808002-Richard E Byrd MS Science/Tech/Math Magnet",null,null,"1806002",{"$f":"VLOOKUP(F813, 'ECAST Lookup'!A:G,7,FALSE)","v":"Bethune MS STM Mag"},"1806002-Bethune MS STM Mag",26]
["1809001","Carnegie MS","1809001-Carnegie MS",null,null,"1806201",{"$f":"VLOOKUP(F814, 'ECAST Lookup'!A:G,7,FALSE)","v":"Clinton MS"},"1806201-Clinton MS",18]
["1809002","Carnegie MS Medical Magnet","1809002-Carnegie MS Medical Magnet",null,null,"1806401",{"$f":"VLOOKUP(F815, 'ECAST Lookup'!A:G,7,FALSE)","v":"Kim Academy"},"1806401-Kim Academy",19]
["1809401","Carver MS","1809401-Carver MS",null,null,"1806601",{"$f":"VLOOKUP(F816, 'ECAST Lookup'!A:G,7,FALSE)","v":"Burbank MS Arts/Tech"},"1806601-Burbank MS Arts/Tech",28]
["1810201","Columbus MS","1810201-Columbus MS",null,null,"1806603",{"$f":"VLOOKUP(F817, 'ECAST Lookup'!A:G,7,FALSE)","v":"Burbank Police Ac Mg"},"1806603-Burbank Police Ac Mg",28]
["1810202","Columbus MS M/S/Med","1810202-Columbus MS M/S/Med",null,null,"1807501",{"$f":"VLOOKUP(F818, 'ECAST Lookup'!A:G,7,FALSE)","v":"Burroughs MS"},"1807501-Burroughs MS",20]
["1810301","Curtiss MS","1810301-Curtiss MS",null,null,"1807502",{"$f":"VLOOKUP(F819, 'ECAST Lookup'!A:G,7,FALSE)","v":"Burroughs Gifted Mag"},"1807502-Burroughs Gifted Mag",28]
["1810302","Curtiss MS STEAM Magnet","1810302-Curtiss MS STEAM Magnet",null,null,"1808001",{"$f":"VLOOKUP(F820, 'ECAST Lookup'!A:G,7,FALSE)","v":"Byrd MS"},"1808001-Byrd MS",15]
["1810401","Dana MS","1810401-Dana MS",null,null,"1808002",{"$f":"VLOOKUP(F821, 'ECAST Lookup'!A:G,7,FALSE)","v":"Byrd MS STM Mag"},"1808002-Byrd MS STM Mag",23]
["1810402","Dana STEAM Magnet","1810402-Dana STEAM Magnet",null,null,"1809001",{"$f":"VLOOKUP(F822, 'ECAST Lookup'!A:G,7,FALSE)","v":"Carnegie MS"},"1809001-Carnegie MS",19]
["1810701","Gaspar De Portola Charter Middle","1810701-Gaspar De Portola Charter Middle",null,null,"1809002",{"$f":"VLOOKUP(F823, 'ECAST Lookup'!A:G,7,FALSE)","v":"Carnegie Medical Mag"},"1809002-Carnegie Medical Mag",28]
["1810702","Portola Highly Gifted Magnet","1810702-Portola Highly Gifted Magnet",null,null,"1809401",{"$f":"VLOOKUP(F824, 'ECAST Lookup'!A:G,7,FALSE)","v":"Carver MS"},"1809401-Carver MS",17]
["1810703","Academy of Integrated Arts & Technology","1810703-Academy of Integrated Arts & Technology",null,null,"1810201",{"$f":"VLOOKUP(F825, 'ECAST Lookup'!A:G,7,FALSE)","v":"Columbus MS"},"1810201-Columbus MS",19]
["1811001","Dodson MS","1811001-Dodson MS",null,null,"1810202",{"$f":"VLOOKUP(F826, 'ECAST Lookup'!A:G,7,FALSE)","v":"Columbus MS M/S/Med"},"1810202-Columbus MS M/S/Med",27]
["1811002","Rudecinda Sepulveda Dodson MS Gifted Mag","1811002-Rudecinda Sepulveda Dodson MS Gifted Mag",null,null,"1810203",{"$f":"VLOOKUP(F827, 'ECAST Lookup'!A:G,7,FALSE)","v":"Columbus MS MAC Mag"},"1810203-Columbus MS MAC Mag",27]
["1811003","Dodson MS Visual/Performing Arts Magnet","1811003-Dodson MS Visual/Performing Arts Magnet",null,null,"1810301",{"$f":"VLOOKUP(F828, 'ECAST Lookup'!A:G,7,FALSE)","v":"Curtiss MS"},"1810301-Curtiss MS",18]
["1811201","Drew MS","1811201-Drew MS",null,null,"1810302",{"$f":"VLOOKUP(F829, 'ECAST Lookup'!A:G,7,FALSE)","v":"Curtiss STEAM Mag"},"1810302-Curtiss STEAM Mag",25]
["1811202","Charles Drew MS Gifted Magnet","1811202-Charles Drew MS Gifted Magnet",null,null,"1810401",{"$f":"VLOOKUP(F830, 'ECAST Lookup'!A:G,7,FALSE)","v":"Dana MS"},"1810401-Dana MS",15]
["1811301","Edison MS","1811301-Edison MS",null,null,"1810402",{"$f":"VLOOKUP(F831, 'ECAST Lookup'!A:G,7,FALSE)","v":"Dana STEAM Magnet"},"1810402-Dana STEAM Magnet",25]
["1811601","Romer MS","1811601-Romer MS",null,null,"1810701",{"$f":"VLOOKUP(F832, 'ECAST Lookup'!A:G,7,FALSE)","v":"Gaspar de Portola CM"},"1810701-Gaspar de Portola CM",28]
["1811602","Romer STEM Magnet","1811602-Romer STEM Magnet",null,null,"1810702",{"$f":"VLOOKUP(F833, 'ECAST Lookup'!A:G,7,FALSE)","v":"Portola HG Magnet"},"1810702-Portola HG Magnet",25]
["1811603","Romer MS G/HG/HA/Humanities Magnet","1811603-Romer MS G/HG/HA/Humanities Magnet",null,null,"1810703",{"$f":"VLOOKUP(F834, 'ECAST Lookup'!A:G,7,FALSE)","v":"Acad of Int Art"},"1810703-Acad of Int Art",23]
["1811701","Vista MS",{"$f":"A835&\"-\"&B835","v":"1811701-Vista MS"},null,null,"1811001",{"$f":"VLOOKUP(F835, 'ECAST Lookup'!A:G,7,FALSE)","v":"Dodson MS"},"1811001-Dodson MS",17]
["1811703","Vista MS Sports Med/College Prep Magnet","1811703-Vista MS Sports Med/College Prep Magnet",null,null,"1811002",{"$f":"VLOOKUP(F836, 'ECAST Lookup'!A:G,7,FALSE)","v":"Dodson MS Gifted Mag"},"1811002-Dodson MS Gifted Mag",28]
["1811704","Vista MS Gifted STEAM Magnet","1811704-Vista MS Gifted STEAM Magnet",null,null,"1811003",{"$f":"VLOOKUP(F837, 'ECAST Lookup'!A:G,7,FALSE)","v":"Dodson VAPA Mag"},{"$f":"F837&\"-\"&G837","v":"1811003-Dodson VAPA Mag"},{"$f":"LEN(H837)","v":23}]
["1811801","El Sereno MS","1811801-El Sereno MS",null,null,"1811201",{"$f":"VLOOKUP(F838, 'ECAST Lookup'!A:G,7,FALSE)","v":"Drew MS"},"1811201-Drew MS",15]
["1811802","El Sereno MS Science/Tech/Math Magnet","1811802-El Sereno MS Science/Tech/Math Magnet",null,null,"1811202",{"$f":"VLOOKUP(F839, 'ECAST Lookup'!A:G,7,FALSE)","v":"Drew MS Gifted Mag"},"1811202-Drew MS Gifted Mag",26]
["1811803","El Sereno MS Gifted Magnet","1811803-El Sereno MS Gifted Magnet",null,null,"1811301",{"$f":"VLOOKUP(F840, 'ECAST Lookup'!A:G,7,FALSE)","v":"Edison MS"},"1811301-Edison MS",17]
["1811804","El Sereno MS Env Sci/Humanitarian Magnet","1811804-El Sereno MS Env Sci/Humanitarian Magnet",null,null,"1811601",{"$f":"VLOOKUP(F841, 'ECAST Lookup'!A:G,7,FALSE)","v":"Romer MS"},"1811601-Romer MS",16]
["1812301","Emerson Comm Charter","1812301-Emerson Comm Charter",null,null,"1811602",{"$f":"VLOOKUP(F842, 'ECAST Lookup'!A:G,7,FALSE)","v":"Romer STEM Magnet"},"1811602-Romer STEM Magnet",25]
["1812701","Fleming MS","1812701-Fleming MS",null,null,"1811603",{"$f":"VLOOKUP(F843, 'ECAST Lookup'!A:G,7,FALSE)","v":"Romer G/HG/HA/H Mag"},"1811603-Romer G/HG/HA/H Mag",27]
["1812702","Alexander Fleming MS Science/Tech/Math Mag","1812702-Alexander Fleming MS Science/Tech/Math Mag",null,null,"1811701",{"$f":"VLOOKUP(F844, 'ECAST Lookup'!A:G,7,FALSE)","v":"Vista MS"},"1811701-Vista MS",16]
["1813201","Foshay LC","1813201-Foshay LC",null,null,"1811703",{"$f":"VLOOKUP(F845, 'ECAST Lookup'!A:G,7,FALSE)","v":"Vista SMCP Mag"},"1811703-Vista SMCP Mag",22]
["1813701","Frost MS","1813701-Frost MS",null,null,"1811704",{"$f":"VLOOKUP(F846, 'ECAST Lookup'!A:G,7,FALSE)","v":"Vista GSTEAM Mag"},"1811704-Vista GSTEAM Mag",24]
["1813702","Robert Frost MS Science/Tech/Math Magnet","1813702-Robert Frost MS Science/Tech/Math Magnet",null,null,"1811705",{"$f":"VLOOKUP(F847, 'ECAST Lookup'!A:G,7,FALSE)","v":"Vista MS LGSJL Mag"},"1811705-Vista MS LGSJL Mag",26]
["1814201","Fulton College Prep","1814201-Fulton College Prep",null,null,"1811801",{"$f":"VLOOKUP(F848, 'ECAST Lookup'!A:G,7,FALSE)","v":"El Sereno MS"},"1811801-El Sereno MS",20]
["1814204","Fulton Communication Arts/Music Magnet","1814204-Fulton Communication Arts/Music Magnet",null,null,"1811802",{"$f":"VLOOKUP(F849, 'ECAST Lookup'!A:G,7,FALSE)","v":"El Sereno STEM Mag"},"1811802-El Sereno STEM Mag",26]
["1815101","Gage MS","1815101-Gage MS",null,null,"1811803",{"$f":"VLOOKUP(F850, 'ECAST Lookup'!A:G,7,FALSE)","v":"El Sereno Gifted Mag"},"1811803-El Sereno Gifted Mag",28]
["1815102","Henry T Gage MS Science/Tech/Math Magnet","1815102-Henry T Gage MS Science/Tech/Math Magnet",null,null,"1811804",{"$f":"VLOOKUP(F851, 'ECAST Lookup'!A:G,7,FALSE)","v":"El Sereno ESH Mag"},"1811804-El Sereno ESH Mag",25]
["1815301","Southeast MS","1815301-Southeast MS",null,null,"1812301",{"$f":"VLOOKUP(F852, 'ECAST Lookup'!A:G,7,FALSE)","v":"Emerson Comm Charter"},"1812301-Emerson Comm Charter",28]
["1815302","Southeast MS DREAMS Magnet","1815302-Southeast MS DREAMS Magnet",null,null,"1812701",{"$f":"VLOOKUP(F853, 'ECAST Lookup'!A:G,7,FALSE)","v":"Fleming MS"},"1812701-Fleming MS",18]
["1816001","Gompers MS","1816001-Gompers MS",null,null,"1812702",{"$f":"VLOOKUP(F854, 'ECAST Lookup'!A:G,7,FALSE)","v":"Fleming MS STM Mag"},"1812702-Fleming MS STM Mag",26]
["1816002","Gompers MS STEAM Magnet","1816002-Gompers MS STEAM Magnet",null,null,"1813201",{"$f":"VLOOKUP(F855, 'ECAST Lookup'!A:G,7,FALSE)","v":"Foshay LC"},"1813201-Foshay LC",17]
["1816801","Griffith MS STEAM Magnet","1816801-Griffith MS STEAM Magnet",null,null,"1813701",{"$f":"VLOOKUP(F856, 'ECAST Lookup'!A:G,7,FALSE)","v":"Frost MS"},"1813701-Frost MS",16]
["1816901","George E Hale Charter Acad","1816901-George E Hale Charter Acad",null,null,"1813702",{"$f":"VLOOKUP(F857, 'ECAST Lookup'!A:G,7,FALSE)","v":"Frost MS STEM Mag"},"1813702-Frost MS STEM Mag",25]
["1816902","George Ellery Hale Charter Aca Gifted St","1816902-George Ellery Hale Charter Aca Gifted St",null,null,"1813703",{"$f":"VLOOKUP(F858, 'ECAST Lookup'!A:G,7,FALSE)","v":"Frost MS GMC Mag"},"1813703-Frost MS GMC Mag",24]
["1816903","Hale Charter Academy VAPA Magnet","1816903-Hale Charter Academy VAPA Magnet",null,null,"1814201",{"$f":"VLOOKUP(F859, 'ECAST Lookup'!A:G,7,FALSE)","v":"Fulton College Prep"},"1814201-Fulton College Prep",27]
["1817001","Harte Prep MS","1817001-Harte Prep MS",null,null,"1814204",{"$f":"VLOOKUP(F860, 'ECAST Lookup'!A:G,7,FALSE)","v":"Fulton CAM Mag"},"1814204-Fulton CAM Mag",22]
["1817401","Henry MS","1817401-Henry MS",null,null,"1815101",{"$f":"VLOOKUP(F861, 'ECAST Lookup'!A:G,7,FALSE)","v":"Gage MS"},"1815101-Gage MS",15]
["1817402","Henry MS Comp/M/S Mg","1817402-Henry MS Comp/M/S Mg",null,null,"1815102",{"$f":"VLOOKUP(F862, 'ECAST Lookup'!A:G,7,FALSE)","v":"Gage MS STEM Mag"},"1815102-Gage MS STEM Mag",24]
["1817403","Henry Visual And Performing Arts Magnet","1817403-Henry Visual And Performing Arts Magnet",null,null,"1815301",{"$f":"VLOOKUP(F863, 'ECAST Lookup'!A:G,7,FALSE)","v":"Southeast MS"},"1815301-Southeast MS",20]
["1817901","Hollenbeck MS","1817901-Hollenbeck MS",null,null,"1815302",{"$f":"VLOOKUP(F864, 'ECAST Lookup'!A:G,7,FALSE)","v":"Southeast DREAMS Mg"},"1815302-Southeast DREAMS Mg",27]
["1817902","Hollenbeck MS STEMM Magnet","1817902-Hollenbeck MS STEMM Magnet",null,null,"1816001",{"$f":"VLOOKUP(F865, 'ECAST Lookup'!A:G,7,FALSE)","v":"Gompers MS"},"1816001-Gompers MS",18]
["1817903","Hollenbeck MS Law/Public Service Magnet","1817903-Hollenbeck MS Law/Public Service Magnet",null,null,"1816002",{"$f":"VLOOKUP(F866, 'ECAST Lookup'!A:G,7,FALSE)","v":"Gompers STEAM Mag"},"1816002-Gompers STEAM Mag",25]
["1818201","Holmes MS","1818201-Holmes MS",null,null,"1816801",{"$f":"VLOOKUP(F867, 'ECAST Lookup'!A:G,7,FALSE)","v":"Griffith MS"},"1816801-Griffith MS",19]
["1818202","Holmes Int Human Mag","1818202-Holmes Int Human Mag",null,null,"1816901",{"$f":"VLOOKUP(F868, 'ECAST Lookup'!A:G,7,FALSE)","v":"G E Hale Chrtr Acad"},"1816901-G E Hale Chrtr Acad",27]
["1818901","Irving MME Mag","1818901-Irving MME Mag",null,null,"1816902",{"$f":"VLOOKUP(F869, 'ECAST Lookup'!A:G,7,FALSE)","v":"Hale Gifted/STEAM Mg"},"1816902-Hale Gifted/STEAM Mg",28]
["1820001","Los Angeles Acad MS","1820001-Los Angeles Acad MS",null,null,"1816903",{"$f":"VLOOKUP(F870, 'ECAST Lookup'!A:G,7,FALSE)","v":"Hale VAPA Mag"},"1816903-Hale VAPA Mag",21]
["1820002","Los Angeles Academy STEAM Magnet","1820002-Los Angeles Academy STEAM Magnet",null,null,"1817001",{"$f":"VLOOKUP(F871, 'ECAST Lookup'!A:G,7,FALSE)","v":"Harte Prep MS"},"1817001-Harte Prep MS",21]
["1820601","RFK Sch Vis Arts/Hum","1820601-RFK Sch Vis Arts/Hum",null,null,"1817401",{"$f":"VLOOKUP(F872, 'ECAST Lookup'!A:G,7,FALSE)","v":"Henry MS"},"1817401-Henry MS",16]
["1820701","Contreras LC ALC","1820701-Contreras LC ALC",null,null,"1817402",{"$f":"VLOOKUP(F873, 'ECAST Lookup'!A:G,7,FALSE)","v":"Henry MS Comp/M/S Mg"},"1817402-Henry MS Comp/M/S Mg",28]
["1820801","King Film/Media Mag","1820801-King Film/Media Mag",null,null,"1817403",{"$f":"VLOOKUP(F874, 'ECAST Lookup'!A:G,7,FALSE)","v":"Henry MS VAPA Mag"},"1817403-Henry MS VAPA Mag",25]
["1820802","Thomas Starr King MS Gifted/Arts/Technology","1820802-Thomas Starr King MS Gifted/Arts/Technology",null,null,"1817901",{"$f":"VLOOKUP(F875, 'ECAST Lookup'!A:G,7,FALSE)","v":"Hollenbeck MS"},"1817901-Hollenbeck MS",21]
["1820803","King MS ESTEAM Magnet","1820803-King MS ESTEAM Magnet",null,null,"1817902",{"$f":"VLOOKUP(F876, 'ECAST Lookup'!A:G,7,FALSE)","v":"Hollenbeck STEAMM Mg"},"1817902-Hollenbeck STEAMM Mg",28]
["1821701","Lawrence MS","1821701-Lawrence MS",null,null,"1817903",{"$f":"VLOOKUP(F877, 'ECAST Lookup'!A:G,7,FALSE)","v":"Hollenbeck L/PS Mag"},"1817903-Hollenbeck L/PS Mag",27]
["1821702","Ernest Lawrence MS Gifted Magnet","1821702-Ernest Lawrence MS Gifted Magnet",null,null,"1818201",{"$f":"VLOOKUP(F878, 'ECAST Lookup'!A:G,7,FALSE)","v":"Holmes MS"},"1818201-Holmes MS",17]
["1821703","Lawrence MS Pioneering Science Magnet","1821703-Lawrence MS Pioneering Science Magnet",null,null,"1818202",{"$f":"VLOOKUP(F879, 'ECAST Lookup'!A:G,7,FALSE)","v":"Holmes Int Human Mag"},"1818202-Holmes Int Human Mag",28]
["1822601","Le Conte MS","1822601-Le Conte MS",null,null,"1818901",{"$f":"VLOOKUP(F880, 'ECAST Lookup'!A:G,7,FALSE)","v":"Irving MME Mag"},"1818901-Irving MME Mag",22]
["1822602","Le Conte HEAT Magnet","1822602-Le Conte HEAT Magnet",null,null,"1820001",{"$f":"VLOOKUP(F881, 'ECAST Lookup'!A:G,7,FALSE)","v":"Los Angeles Acad MS"},"1820001-Los Angeles Acad MS",27]
["1822603","Le Conte CES CA Mag","1822603-Le Conte CES CA Mag",null,null,"1820002",{"$f":"VLOOKUP(F882, 'ECAST Lookup'!A:G,7,FALSE)","v":"LA Academy STEAM Mag"},"1820002-LA Academy STEAM Mag",28]
["1822801","Maclay MS","1822801-Maclay MS",null,null,"1820601",{"$f":"VLOOKUP(F883, 'ECAST Lookup'!A:G,7,FALSE)","v":"RFK Sch Vis Arts/Hum"},"1820601-RFK Sch Vis Arts/Hum",28]
["1823001","Madison MS","1823001-Madison MS",null,null,"1820701",{"$f":"VLOOKUP(F884, 'ECAST Lookup'!A:G,7,FALSE)","v":"Contreras LC ALC"},"1820701-Contreras LC ALC",24]
["1823002","Madison M/S/Med Mag","1823002-Madison M/S/Med Mag",null,null,"1820801",{"$f":"VLOOKUP(F885, 'ECAST Lookup'!A:G,7,FALSE)","v":"King Film/Media Mag"},"1820801-King Film/Media Mag",27]
["1823003","Madison Computer Sci/Eng Design Magnet","1823003-Madison Computer Sci/Eng Design Magnet",null,null,"1820802",{"$f":"VLOOKUP(F886, 'ECAST Lookup'!A:G,7,FALSE)","v":"King MS Gifted/AT Mg"},"1820802-King MS Gifted/AT Mg",28]
["1823501","Marina Del Rey MS","1823501-Marina Del Rey MS",null,null,"1820803",{"$f":"VLOOKUP(F887, 'ECAST Lookup'!A:G,7,FALSE)","v":"King ESTEAM Mag"},"1820803-King ESTEAM Mag",23]
["1823502","Marina Del Rey PA Mg","1823502-Marina Del Rey PA Mg",null,null,"1821701",{"$f":"VLOOKUP(F888, 'ECAST Lookup'!A:G,7,FALSE)","v":"Lawrence MS"},"1821701-Lawrence MS",19]
["1823701","Markham MS","1823701-Markham MS",null,null,"1821702",{"$f":"VLOOKUP(F889, 'ECAST Lookup'!A:G,7,FALSE)","v":"Lawrence Gifted Mag"},"1821702-Lawrence Gifted Mag",27]
["1823702","Markham Hlth CAR Mag","1823702-Markham Hlth CAR Mag",null,null,"1821703",{"$f":"VLOOKUP(F890, 'ECAST Lookup'!A:G,7,FALSE)","v":"Lawrence Pio Sci Mag"},"1821703-Lawrence Pio Sci Mag",28]
["1823801","Robert A. Millikan Affiliated Chtr & PAM","1823801-Robert A. Millikan Affiliated Chtr & PAM",null,null,"1822601",{"$f":"VLOOKUP(F891, 'ECAST Lookup'!A:G,7,FALSE)","v":"Le Conte MS"},"1822601-Le Conte MS",19]
["1823802","Millikan Charter MS Performing Arts Mag","1823802-Millikan Charter MS Performing Arts Mag",null,null,"1822602",{"$f":"VLOOKUP(F892, 'ECAST Lookup'!A:G,7,FALSE)","v":"Le Conte HEAT Magnet"},"1822602-Le Conte HEAT Magnet",28]
["1823804","Millikan Charter MS Socl/Gndr Equity Mg","1823804-Millikan Charter MS Socl/Gndr Equity Mg",null,null,"1822603",{"$f":"VLOOKUP(F893, 'ECAST Lookup'!A:G,7,FALSE)","v":"Le Conte CES CA Mag"},"1822603-Le Conte CES CA Mag",27]
["1824001","Mount Gleason MS","1824001-Mount Gleason MS",null,null,"1822801",{"$f":"VLOOKUP(F894, 'ECAST Lookup'!A:G,7,FALSE)","v":"Maclay MS"},"1822801-Maclay MS",17]
["1824002","Mount Gleason MS Gifted Magnet","1824002-Mount Gleason MS Gifted Magnet",null,null,"1823001",{"$f":"VLOOKUP(F895, 'ECAST Lookup'!A:G,7,FALSE)","v":"Madison MS"},"1823001-Madison MS",18]
["1824003","Mount Gleason MS STEAM Magnet","1824003-Mount Gleason MS STEAM Magnet",null,null,"1823002",{"$f":"VLOOKUP(F896, 'ECAST Lookup'!A:G,7,FALSE)","v":"Madison M/S/Med Mag"},"1823002-Madison M/S/Med Mag",27]
["1824501","Cochran MS","1824501-Cochran MS",null,null,"1823003",{"$f":"VLOOKUP(F897, 'ECAST Lookup'!A:G,7,FALSE)","v":"Madison CSED Mag"},"1823003-Madison CSED Mag",24]
["1825501","Muir MS","1825501-Muir MS",null,null,"1823501",{"$f":"VLOOKUP(F898, 'ECAST Lookup'!A:G,7,FALSE)","v":"Marina Del Rey MS"},"1823501-Marina Del Rey MS",25]
["1825502","John Muir MS Science/Tech/Math Magnet",{"$f":"A899&\"-\"&B899","v":"1825502-John Muir MS Science/Tech/Math Magnet"},null,null,"1823502",{"$f":"VLOOKUP(F899, 'ECAST Lookup'!A:G,7,FALSE)","v":"Marina Del Rey PA Mg"},"1823502-Marina Del Rey PA Mg",28]
["1825901","Mulholland MS","1825901-Mulholland MS",null,null,"1823701",{"$f":"VLOOKUP(F900, 'ECAST Lookup'!A:G,7,FALSE)","v":"Markham MS"},"1823701-Markham MS",18]
["1825902","Mulholland MS Police Academy","1825902-Mulholland MS Police Academy",null,null,"1823702",{"$f":"VLOOKUP(F901, 'ECAST Lookup'!A:G,7,FALSE)","v":"Markham Hlth CAR Mag"},{"$f":"F901&\"-\"&G901","v":"1823702-Markham Hlth CAR Mag"},{"$f":"LEN(H901)","v":28}]
["1825903","Mulholland Robotics Magnet","1825903-Mulholland Robotics Magnet",null,null,"1823703",{"$f":"VLOOKUP(F902, 'ECAST Lookup'!A:G,7,FALSE)","v":"Markham MS VAPA Mag"},"1823703-Markham MS VAPA Mag",27]
["1826401","Nightingale MS","1826401-Nightingale MS",null,null,"1823801",{"$f":"VLOOKUP(F903, 'ECAST Lookup'!A:G,7,FALSE)","v":"Robert A. Millikan"},"1823801-Robert A. Millikan",26]
["1826402","Nightingale BET Magnet","1826402-Nightingale BET Magnet",null,null,"1823802",{"$f":"VLOOKUP(F904, 'ECAST Lookup'!A:G,7,FALSE)","v":"Millikan CMS PA Mag"},"1823802-Millikan CMS PA Mag",27]
["1826403","Florence Nightingale MS Gifted STEM Magnet","1826403-Florence Nightingale MS Gifted STEM Magnet",null,null,"1823804",{"$f":"VLOOKUP(F905, 'ECAST Lookup'!A:G,7,FALSE)","v":"Millikan CMS SGE Mag"},"1823804-Millikan CMS SGE Mag",28]
["1826404","Nightingale MS Med/Hea/Kinesiology Mag","1826404-Nightingale MS Med/Hea/Kinesiology Mag",null,null,"1824001",{"$f":"VLOOKUP(F906, 'ECAST Lookup'!A:G,7,FALSE)","v":"Mount Gleason MS"},"1824001-Mount Gleason MS",24]
["1826801","Nimitz MS","1826801-Nimitz MS",null,null,"1824002",{"$f":"VLOOKUP(F907, 'ECAST Lookup'!A:G,7,FALSE)","v":"Mt Gleason Gifted Mg"},"1824002-Mt Gleason Gifted Mg",28]
["1826802","Chester W Nimitz MS Science/Technology/Math","1826802-Chester W Nimitz MS Science/Technology/Math",null,null,"1824003",{"$f":"VLOOKUP(F908, 'ECAST Lookup'!A:G,7,FALSE)","v":"Mt Gleason STEAM Mg"},"1824003-Mt Gleason STEAM Mg",27]
["1827201","Alfred B. Nobel Charter Middle","1827201-Alfred B. Nobel Charter Middle",null,null,"1824501",{"$f":"VLOOKUP(F909, 'ECAST Lookup'!A:G,7,FALSE)","v":"Cochran MS"},"1824501-Cochran MS",18]
["1827202","Nobel Charter MS STEAM Magnet","1827202-Nobel Charter MS STEAM Magnet",null,null,"1825501",{"$f":"VLOOKUP(F910, 'ECAST Lookup'!A:G,7,FALSE)","v":"Muir MS"},"1825501-Muir MS",15]
["1828301","Northridge MS","1828301-Northridge MS",null,null,"1825502",{"$f":"VLOOKUP(F911, 'ECAST Lookup'!A:G,7,FALSE)","v":"Muir MS STEM Mag"},"1825502-Muir MS STEM Mag",24]
["1828303","Northridge MS Medical/Health Careers Mag","1828303-Northridge MS Medical/Health Careers Mag",null,null,"1825901",{"$f":"VLOOKUP(F912, 'ECAST Lookup'!A:G,7,FALSE)","v":"Mulholland MS"},"1825901-Mulholland MS",21]
["1830601","Olive Vista MS","1830601-Olive Vista MS",null,null,"1825902",{"$f":"VLOOKUP(F913, 'ECAST Lookup'!A:G,7,FALSE)","v":"Mulholland MS Police"},"1825902-Mulholland MS Police",28]
["1830602","Olive Vista MS STEAM Magnet","1830602-Olive Vista MS STEAM Magnet",null,null,"1825903",{"$f":"VLOOKUP(F914, 'ECAST Lookup'!A:G,7,FALSE)","v":"Mulholland Robotics"},"1825903-Mulholland Robotics",27]
["1832101","Pacoima MS","1832101-Pacoima MS",null,null,"1826401",{"$f":"VLOOKUP(F915, 'ECAST Lookup'!A:G,7,FALSE)","v":"Nightingale MS"},"1826401-Nightingale MS",22]
["1832102","Pacoima MS Film/Media/Perf Arts Magnet","1832102-Pacoima MS Film/Media/Perf Arts Magnet",null,null,"1826402",{"$f":"VLOOKUP(F916, 'ECAST Lookup'!A:G,7,FALSE)","v":"Nightingale BET Mag"},"1826402-Nightingale BET Mag",27]
["1832103","Pacoima MS Computer Science/Math Magnet","1832103-Pacoima MS Computer Science/Math Magnet",null,null,"1826403",{"$f":"VLOOKUP(F917, 'ECAST Lookup'!A:G,7,FALSE)","v":"Nightingale GSTEM Mg"},"1826403-Nightingale GSTEM Mg",28]
["1834001","Palms MS","1834001-Palms MS",null,null,"1826404",{"$f":"VLOOKUP(F918, 'ECAST Lookup'!A:G,7,FALSE)","v":"Nightingale M/H/K Mg"},"1826404-Nightingale M/H/K Mg",28]
["1834002","Palms MS Gifted Magnet","1834002-Palms MS Gifted Magnet",null,null,"1826801",{"$f":"VLOOKUP(F919, 'ECAST Lookup'!A:G,7,FALSE)","v":"Nimitz MS"},"1826801-Nimitz MS",17]
["1834003","PalMS MS Modern Media/Comm. Magnet","1834003-PalMS MS Modern Media/Comm. Magnet",null,null,"1826802",{"$f":"VLOOKUP(F920, 'ECAST Lookup'!A:G,7,FALSE)","v":"Nimitz MS STEM Mag"},"1826802-Nimitz MS STEM Mag",26]
["1834401","Woodland Hills Acad","1834401-Woodland Hills Acad",null,null,"1827201",{"$f":"VLOOKUP(F921, 'ECAST Lookup'!A:G,7,FALSE)","v":"Alfred B. Nobel"},"1827201-Alfred B. Nobel",23]
["1834402","Woodland Hills Academy Humanities Magnet","1834402-Woodland Hills Academy Humanities Magnet",null,null,"1827202",{"$f":"VLOOKUP(F922, 'ECAST Lookup'!A:G,7,FALSE)","v":"Nobel CMS STEAM Mag"},"1827202-Nobel CMS STEAM Mag",27]
["1835201","Peary MS","1835201-Peary MS",null,null,"1828301",{"$f":"VLOOKUP(F923, 'ECAST Lookup'!A:G,7,FALSE)","v":"Northridge MS"},"1828301-Northridge MS",21]
["1835202","Peary MS STEAM Magnet","1835202-Peary MS STEAM Magnet",null,null,"1828303",{"$f":"VLOOKUP(F924, 'ECAST Lookup'!A:G,7,FALSE)","v":"Northridge Med/HC Mg"},"1828303-Northridge Med/HC Mg",28]
["1835203","Peary MS Gifted Magnet","1835203-Peary MS Gifted Magnet",null,null,"1830601",{"$f":"VLOOKUP(F925, 'ECAST Lookup'!A:G,7,FALSE)","v":"Olive Vista MS"},"1830601-Olive Vista MS",22]
["1835401","Porter MS","1835401-Porter MS",null,null,"1830602",{"$f":"VLOOKUP(F926, 'ECAST Lookup'!A:G,7,FALSE)","v":"Olive Vista STEAM Mg"},"1830602-Olive Vista STEAM Mg",28]
["1835402","George K Porter MS Gifted Magnet","1835402-George K Porter MS Gifted Magnet",null,null,"1832101",{"$f":"VLOOKUP(F927, 'ECAST Lookup'!A:G,7,FALSE)","v":"Pacoima MS"},"1832101-Pacoima MS",18]
["1835501","Reed MS","1835501-Reed MS",null,null,"1832102",{"$f":"VLOOKUP(F928, 'ECAST Lookup'!A:G,7,FALSE)","v":"Pacoima FMPA Mag"},"1832102-Pacoima FMPA Mag",24]
["1835601","Revere MS","1835601-Revere MS",null,null,"1832103",{"$f":"VLOOKUP(F929, 'ECAST Lookup'!A:G,7,FALSE)","v":"Pacoima MS CS/M Mag"},"1832103-Pacoima MS CS/M Mag",27]
["1835602","Paul Revere Charter MS Science/Tech/Math","1835602-Paul Revere Charter MS Science/Tech/Math",null,null,"1834001",{"$f":"VLOOKUP(F930, 'ECAST Lookup'!A:G,7,FALSE)","v":"Palms MS"},"1834001-Palms MS",16]
["1835801","San Fernando MS","1835801-San Fernando MS",null,null,"1834002",{"$f":"VLOOKUP(F931, 'ECAST Lookup'!A:G,7,FALSE)","v":"Palms MS Gifted Mag"},"1834002-Palms MS Gifted Mag",27]
["1836301","Sepulveda MS","1836301-Sepulveda MS",null,null,"1834003",{"$f":"VLOOKUP(F932, 'ECAST Lookup'!A:G,7,FALSE)","v":"Palms MMC Mag"},"1834003-Palms MMC Mag",21]
["1836302","Francisco Sepulveda MS Gifted Magnet","1836302-Francisco Sepulveda MS Gifted Magnet",null,null,"1834401",{"$f":"VLOOKUP(F933, 'ECAST Lookup'!A:G,7,FALSE)","v":"Woodland Hills Acad"},"1834401-Woodland Hills Acad",27]
["1836303","Sepulveda MS Kine/Sports Medicine Magnet","1836303-Sepulveda MS Kine/Sports Medicine Magnet",null,null,"1834402",{"$f":"VLOOKUP(F934, 'ECAST Lookup'!A:G,7,FALSE)","v":"Woodland Hls Hum Mag"},"1834402-Woodland Hls Hum Mag",28]
["1837701","South Gate MS","1837701-South Gate MS",null,null,"1835201",{"$f":"VLOOKUP(F935, 'ECAST Lookup'!A:G,7,FALSE)","v":"Peary MS"},"1835201-Peary MS",16]
["1837702","South Gate MS Science/Tech/Math Magnet","1837702-South Gate MS Science/Tech/Math Magnet",null,null,"1835202",{"$f":"VLOOKUP(F936, 'ECAST Lookup'!A:G,7,FALSE)","v":"Peary STEAM Mag"},"1835202-Peary STEAM Mag",23]
["1838701","Robert L Stevenson College & Career Prep","1838701-Robert L Stevenson College & Career Prep",null,null,"1835203",{"$f":"VLOOKUP(F937, 'ECAST Lookup'!A:G,7,FALSE)","v":"Peary Gifted Mag"},"1835203-Peary Gifted Mag",24]
["1838702","Stevenson Col & Car Prep Gifted Magnet","1838702-Stevenson Col & Car Prep Gifted Magnet",null,null,"1835401",{"$f":"VLOOKUP(F938, 'ECAST Lookup'!A:G,7,FALSE)","v":"Porter MS"},"1835401-Porter MS",17]
["1838703","Stevenson Col & Car Prep Ca Magnet","1838703-Stevenson Col & Car Prep Ca Magnet",null,null,"1835402",{"$f":"VLOOKUP(F939, 'ECAST Lookup'!A:G,7,FALSE)","v":"Porter MS Gifted Mag"},"1835402-Porter MS Gifted Mag",28]
["1839001","Walnut Park MS SJ/SL","1839001-Walnut Park MS SJ/SL",null,null,"1835501",{"$f":"VLOOKUP(F940, 'ECAST Lookup'!A:G,7,FALSE)","v":"Reed MS"},"1835501-Reed MS",15]
["1839601","Sun Valley ET Mag","1839601-Sun Valley ET Mag",null,null,"1835601",{"$f":"VLOOKUP(F941, 'ECAST Lookup'!A:G,7,FALSE)","v":"Revere MS"},"1835601-Revere MS",17]
["1839602","Sun Valley ES Mag","1839602-Sun Valley ES Mag",null,null,"1835602",{"$f":"VLOOKUP(F942, 'ECAST Lookup'!A:G,7,FALSE)","v":"Revere CMS STEM Mag"},"1835602-Revere CMS STEM Mag",27]
["1839603","Sun Valley BSEL Mag","1839603-Sun Valley BSEL Mag",null,null,"1835801",{"$f":"VLOOKUP(F943, 'ECAST Lookup'!A:G,7,FALSE)","v":"San Fernando MS"},"1835801-San Fernando MS",23]
["1840601","Sutter MS","1840601-Sutter MS",null,null,"1836301",{"$f":"VLOOKUP(F944, 'ECAST Lookup'!A:G,7,FALSE)","v":"Sepulveda MS"},"1836301-Sepulveda MS",20]
["1840602","Sutter MS STEAM Magnet","1840602-Sutter MS STEAM Magnet",null,null,"1836302",{"$f":"VLOOKUP(F945, 'ECAST Lookup'!A:G,7,FALSE)","v":"Sepulveda Gifted Mag"},"1836302-Sepulveda Gifted Mag",28]
["1842501","Mark Twain MS","1842501-Mark Twain MS",null,null,"1836303",{"$f":"VLOOKUP(F946, 'ECAST Lookup'!A:G,7,FALSE)","v":"Sepulveda KSM Mag"},"1836303-Sepulveda KSM Mag",25]
["1842502","Mark Twain WL Mag","1842502-Mark Twain WL Mag",null,null,"1837701",{"$f":"VLOOKUP(F947, 'ECAST Lookup'!A:G,7,FALSE)","v":"South Gate MS"},"1837701-South Gate MS",21]
["1843401","Van Nuys MS","1843401-Van Nuys MS",null,null,"1837702",{"$f":"VLOOKUP(F948, 'ECAST Lookup'!A:G,7,FALSE)","v":"South Gate MS STEM Mg"},"1837702-South Gate MS STEM Mg",29]
["1843402","Van Nuys MS STEAM Magnet","1843402-Van Nuys MS STEAM Magnet",null,null,"1838701",{"$f":"VLOOKUP(F949, 'ECAST Lookup'!A:G,7,FALSE)","v":"Stevenson Col Car Pr"},"1838701-Stevenson Col Car Pr",28]
["1846201","Virgil MS","1846201-Virgil MS",null,null,"1838702",{"$f":"VLOOKUP(F950, 'ECAST Lookup'!A:G,7,FALSE)","v":"Stvnsn C&CP Gift Mag"},"1838702-Stvnsn C&CP Gift Mag",28]
["1846202","Virgil Med & Health Sci Magnet","1846202-Virgil Med & Health Sci Magnet",null,null,"1838703",{"$f":"VLOOKUP(F951, 'ECAST Lookup'!A:G,7,FALSE)","v":"Stvnsn C&P CA Mag"},"1838703-Stvnsn C&P CA Mag",25]
["1848101","Webster MS","1848101-Webster MS",null,null,"1839001",{"$f":"VLOOKUP(F952, 'ECAST Lookup'!A:G,7,FALSE)","v":"Walnut Park MS SJ/SL"},"1839001-Walnut Park MS SJ/SL",28]
["1848102","Webster MS STEAM Magnet","1848102-Webster MS STEAM Magnet",null,null,"1839601",{"$f":"VLOOKUP(F953, 'ECAST Lookup'!A:G,7,FALSE)","v":"Sun Valley ET Mag"},"1839601-Sun Valley ET Mag",25]
["1848701","White MS","1848701-White MS",null,null,"1839602",{"$f":"VLOOKUP(F954, 'ECAST Lookup'!A:G,7,FALSE)","v":"Sun Valley ES Mag"},"1839602-Sun Valley ES Mag",25]
["1848702","White STEAM Magnet","1848702-White STEAM Magnet",null,null,"1839603",{"$f":"VLOOKUP(F955, 'ECAST Lookup'!A:G,7,FALSE)","v":"Sun Valley BSEL Mag"},"1839603-Sun Valley BSEL Mag",27]
["1849001","Wilmington MS STEAM Magnet","1849001-Wilmington MS STEAM Magnet",null,null,"1840601",{"$f":"VLOOKUP(F956, 'ECAST Lookup'!A:G,7,FALSE)","v":"Sutter MS"},"1840601-Sutter MS",17]
["1849301","Wright Eng & Design Magnet","1849301-Wright Eng & Design Magnet",null,null,"1840602",{"$f":"VLOOKUP(F957, 'ECAST Lookup'!A:G,7,FALSE)","v":"Sutter STEAM Mag"},"1840602-Sutter STEAM Mag",24]
["1849303","Wright MS Gifted Magnet","1849303-Wright MS Gifted Magnet",null,null,"1842501",{"$f":"VLOOKUP(F958, 'ECAST Lookup'!A:G,7,FALSE)","v":"Mark Twain MS"},"1842501-Mark Twain MS",21]
["1850101","RFK LA SH Arts","1850101-RFK LA SH Arts",null,null,"1842502",{"$f":"VLOOKUP(F959, 'ECAST Lookup'!A:G,7,FALSE)","v":"Mark Twain WL Mag"},"1842502-Mark Twain WL Mag",25]
["1851301","Northridge Acad SH","1851301-Northridge Acad SH",null,null,"1843401",{"$f":"VLOOKUP(F960, 'ECAST Lookup'!A:G,7,FALSE)","v":"Van Nuys MS"},"1843401-Van Nuys MS",19]
["1851601","Cortines Sch Of VPA","1851601-Cortines Sch Of VPA",null,null,"1843402",{"$f":"VLOOKUP(F961, 'ECAST Lookup'!A:G,7,FALSE)","v":"Van Nuys STEAM Mag"},"1843402-Van Nuys STEAM Mag",26]
["1851701","Contreras Bus Tour","1851701-Contreras Bus Tour",null,null,"1846201",{"$f":"VLOOKUP(F962, 'ECAST Lookup'!A:G,7,FALSE)","v":"Virgil MS"},"1846201-Virgil MS",17]
["1851801","Dr. R.A. Vladovic Harbor Tchr Prep Acad",{"$f":"A963&\"-\"&B963","v":"1851801-Dr. R.A. Vladovic Harbor Tchr Prep Acad"},null,null,"1846202",{"$f":"VLOOKUP(F963, 'ECAST Lookup'!A:G,7,FALSE)","v":"Virgil Med&Health Sc"},"1846202-Virgil Med&Health Sc",28]
["1852701","Contreras LC Soc Jus","1852701-Contreras LC Soc Jus",null,null,"1848101",{"$f":"VLOOKUP(F964, 'ECAST Lookup'!A:G,7,FALSE)","v":"Webster MS"},"1848101-Webster MS",18]
["1852901","Banning SH","1852901-Banning SH",null,null,"1848102",{"$f":"VLOOKUP(F965, 'ECAST Lookup'!A:G,7,FALSE)","v":"Webster MS STEAM"},{"$f":"F965&\"-\"&G965","v":"1848102-Webster MS STEAM"},{"$f":"LEN(H965)","v":24}]
["1852902","Banning HS College Preparatory Magnet","1852902-Banning HS College Preparatory Magnet",null,null,"1848701",{"$f":"VLOOKUP(F966, 'ECAST Lookup'!A:G,7,FALSE)","v":"White MS"},"1848701-White MS",16]
["1852907","Phineas Banning Senior High Firefighter","1852907-Phineas Banning Senior High Firefighter",null,null,"1848702",{"$f":"VLOOKUP(F967, 'ECAST Lookup'!A:G,7,FALSE)","v":"White STEAM Magnet"},"1848702-White STEAM Magnet",26]
["1852908","Phineas Banning Senior High STEAM Magnet","1852908-Phineas Banning Senior High STEAM Magnet",null,null,"1849001",{"$f":"VLOOKUP(F968, 'ECAST Lookup'!A:G,7,FALSE)","v":"Wilmington STEAM Mag"},"1849001-Wilmington STEAM Mag",28]
["1852909","Banning HS Police Academy Magnet","1852909-Banning HS Police Academy Magnet",null,null,"1849301",{"$f":"VLOOKUP(F969, 'ECAST Lookup'!A:G,7,FALSE)","v":"Wright Eng & Des Mag"},"1849301-Wright Eng & Des Mag",28]
["1853601","Bell SH","1853601-Bell SH",null,null,"1849303",{"$f":"VLOOKUP(F970, 'ECAST Lookup'!A:G,7,FALSE)","v":"Wright Gifted Mag"},"1849303-Wright Gifted Mag",25]
["1853614","Bell SH Gifted Science/Tech/Eng/Math Mag","1853614-Bell SH Gifted Science/Tech/Eng/Math Mag",null,null,"1850101",{"$f":"VLOOKUP(F971, 'ECAST Lookup'!A:G,7,FALSE)","v":"RFK LA SH Arts"},"1850101-RFK LA SH Arts",22]
["1854301","Belmont SH","1854301-Belmont SH",null,null,"1851301",{"$f":"VLOOKUP(F972, 'ECAST Lookup'!A:G,7,FALSE)","v":"Northridge Acad SH"},"1851301-Northridge Acad SH",26]
["1854401","Roybal LC","1854401-Roybal LC",null,null,"1851601",{"$f":"VLOOKUP(F973, 'ECAST Lookup'!A:G,7,FALSE)","v":"Cortines Sch Of VPA"},"1851601-Cortines Sch Of VPA",27]
["1854406","Roybal LC Innov Cine Arts/Music Prod Mag","1854406-Roybal LC Innov Cine Arts/Music Prod Mag",null,null,"1851701",{"$f":"VLOOKUP(F974, 'ECAST Lookup'!A:G,7,FALSE)","v":"Contreras Bus Tour"},"1851701-Contreras Bus Tour",26]
["1855801","Pearl Journ/Comm Mag","1855801-Pearl Journ/Comm Mag",null,null,"1851801",{"$f":"VLOOKUP(F975, 'ECAST Lookup'!A:G,7,FALSE)","v":"Dr. Vladovic HTPA"},"1851801-Dr. Vladovic HTPA",25]
["1857101","Canoga Park SH","1857101-Canoga Park SH",null,null,"1852701",{"$f":"VLOOKUP(F976, 'ECAST Lookup'!A:G,7,FALSE)","v":"Contreras LC Soc Jus"},"1852701-Contreras LC Soc Jus",28]
["1857102","Canoga Park HS Eng & Env/Vet Sci Magnet","1857102-Canoga Park HS Eng & Env/Vet Sci Magnet",null,null,"1852901",{"$f":"VLOOKUP(F977, 'ECAST Lookup'!A:G,7,FALSE)","v":"Banning SH"},"1852901-Banning SH",18]
["1857106","Canoga Park HS Comm Arts/Media Magnet","1857106-Canoga Park HS Comm Arts/Media Magnet",null,null,"1852902",{"$f":"VLOOKUP(F978, 'ECAST Lookup'!A:G,7,FALSE)","v":"Banning Col Prep Mag"},"1852902-Banning Col Prep Mag",28]
["1857501","Carson SH","1857501-Carson SH",null,null,"1852907",{"$f":"VLOOKUP(F979, 'ECAST Lookup'!A:G,7,FALSE)","v":"Banning SH FF Mag"},"1852907-Banning SH FF Mag",25]
["1857701","Sotomayor Art/Sciences Magnet","1857701-Sotomayor Art/Sciences Magnet",null,null,"1852908",{"$f":"VLOOKUP(F980, 'ECAST Lookup'!A:G,7,FALSE)","v":"Banning SH STEAM Mag"},"1852908-Banning SH STEAM Mag",28]
["1858301","Chatsworth Chtr HS","1858301-Chatsworth Chtr HS",null,null,"1852909",{"$f":"VLOOKUP(F981, 'ECAST Lookup'!A:G,7,FALSE)","v":"Banning PA Mag"},"1852909-Banning PA Mag",22]
["1858309","Chatsworth Charter HS GSTEAM Magnet","1858309-Chatsworth Charter HS GSTEAM Magnet",null,null,"1853601",{"$f":"VLOOKUP(F982, 'ECAST Lookup'!A:G,7,FALSE)","v":"Bell SH"},"1853601-Bell SH",15]
["1859001","Cleveland Chtr HS","1859001-Cleveland Chtr HS",null,null,"1853614",{"$f":"VLOOKUP(F983, 'ECAST Lookup'!A:G,7,FALSE)","v":"Bell Gifted/STEM Mag"},"1853614-Bell Gifted/STEM Mag",28]
["1859002","Cleveland Human Mag","1859002-Cleveland Human Mag",null,null,"1854301",{"$f":"VLOOKUP(F984, 'ECAST Lookup'!A:G,7,FALSE)","v":"Belmont SH"},"1854301-Belmont SH",18]
["1859007","Cleveland Charter HS GMS Magnet","1859007-Cleveland Charter HS GMS Magnet",null,null,"1854401",{"$f":"VLOOKUP(F985, 'ECAST Lookup'!A:G,7,FALSE)","v":"Roybal LC"},"1854401-Roybal LC",17]
["1859601","Crenshaw STEMM Mag","1859601-Crenshaw STEMM Mag",null,null,"1854406",{"$f":"VLOOKUP(F986, 'ECAST Lookup'!A:G,7,FALSE)","v":"Roybal ICAMP Mag"},"1854406-Roybal ICAMP Mag",24]
["1860001","Dorsey SH","1860001-Dorsey SH",null,null,"1855801",{"$f":"VLOOKUP(F987, 'ECAST Lookup'!A:G,7,FALSE)","v":"Pearl Journ/Comm Mag"},"1855801-Pearl Journ/Comm Mag",28]
["1860002","Susan Miller Dorsey SH Science/Tech/Math","1860002-Susan Miller Dorsey SH Science/Tech/Math",null,null,"1857101",{"$f":"VLOOKUP(F988, 'ECAST Lookup'!A:G,7,FALSE)","v":"Canoga Park SH"},"1857101-Canoga Park SH",22]
["1860003","Susan Miller Dorsey SH Law/Public Srv/Po","1860003-Susan Miller Dorsey SH Law/Public Srv/Po",null,null,"1857102",{"$f":"VLOOKUP(F989, 'ECAST Lookup'!A:G,7,FALSE)","v":"Canoga Park EEVS Mag"},"1857102-Canoga Park EEVS Mag",28]
["1860009","Dorsey HS Firefighter/EMS Magnet","1860009-Dorsey HS Firefighter/EMS Magnet",null,null,"1857106",{"$f":"VLOOKUP(F990, 'ECAST Lookup'!A:G,7,FALSE)","v":"Canoga Park CAM Mag"},"1857106-Canoga Park CAM Mag",27]
["1860601","Torres ELA PA Mag","1860601-Torres ELA PA Mag",null,null,"1857501",{"$f":"VLOOKUP(F991, 'ECAST Lookup'!A:G,7,FALSE)","v":"Carson SH"},"1857501-Carson SH",17]
["1860701","East Valley SH","1860701-East Valley SH",null,null,"1857510",{"$f":"VLOOKUP(F992, 'ECAST Lookup'!A:G,7,FALSE)","v":"Carson HS MEDiA Mag"},"1857510-Carson HS MEDiA Mag",27]
["1860901","Arleta SH","1860901-Arleta SH",null,null,"1857701",{"$f":"VLOOKUP(F993, 'ECAST Lookup'!A:G,7,FALSE)","v":"Sotomayor Art/Sci Mg"},"1857701-Sotomayor Art/Sci Mg",28]
["1861001","Panorama SH","1861001-Panorama SH",null,null,"1858301",{"$f":"VLOOKUP(F994, 'ECAST Lookup'!A:G,7,FALSE)","v":"Chatsworth Chtr HS"},"1858301-Chatsworth Chtr HS",26]
["1861007","Panorama HS Sports Med/Info Tech Magnet","1861007-Panorama HS Sports Med/Info Tech Magnet",null,null,"1858309",{"$f":"VLOOKUP(F995, 'ECAST Lookup'!A:G,7,FALSE)","v":"Chatsworth GSTEAM Mg"},"1858309-Chatsworth GSTEAM Mg",28]
["1861008","Panorama HS Gifted STEAM Magnet","1861008-Panorama HS Gifted STEAM Magnet",null,null,"1859001",{"$f":"VLOOKUP(F996, 'ECAST Lookup'!A:G,7,FALSE)","v":"Cleveland Chtr HS"},"1859001-Cleveland Chtr HS",25]
["1861101","Mendez SH","1861101-Mendez SH",null,null,"1859002",{"$f":"VLOOKUP(F997, 'ECAST Lookup'!A:G,7,FALSE)","v":"Cleveland Human Mag"},"1859002-Cleveland Human Mag",27]
["1861401","Eagle Rock HS","1861401-Eagle Rock HS",null,null,"1859007",{"$f":"VLOOKUP(F998, 'ECAST Lookup'!A:G,7,FALSE)","v":"Cleveland GMS Mag"},"1859007-Cleveland GMS Mag",25]
["1861402","Eagle Rock High School Gifted Magnet","1861402-Eagle Rock High School Gifted Magnet",null,null,"1859601",{"$f":"VLOOKUP(F999, 'ECAST Lookup'!A:G,7,FALSE)","v":"Crenshaw STEMM Mag"},"1859601-Crenshaw STEMM Mag",26]
["1861801","Wilson SH","1861801-Wilson SH",null,null,"1860001",{"$f":"VLOOKUP(F1000, 'ECAST Lookup'!A:G,7,FALSE)","v":"Dorsey SH"},"1860001-Dorsey SH",17]
["1861802","Wilson Police Acd Mg","1861802-Wilson Police Acd Mg",null,null,"1860002",{"$f":"VLOOKUP(F1001, 'ECAST Lookup'!A:G,7,FALSE)","v":"Dorsey SH STM Mag"},"1860002-Dorsey SH STM Mag",25]
["1861803","Wilson Adm/Law Mag","1861803-Wilson Adm/Law Mag",null,null,"1860003",{"$f":"VLOOKUP(F1002, 'ECAST Lookup'!A:G,7,FALSE)","v":"Dorsey L/PS/PPS Mag"},"1860003-Dorsey L/PS/PPS Mag",27]
["1861810","Woodrow Wilson Senior High Firefighter Mag","1861810-Woodrow Wilson Senior High Firefighter Mag",null,null,"1860009",{"$f":"VLOOKUP(F1003, 'ECAST Lookup'!A:G,7,FALSE)","v":"Dorsey FEMS Mag"},"1860009-Dorsey FEMS Mag",23]
["1862101","Fairfax SH","1862101-Fairfax SH",null,null,"1860601",{"$f":"VLOOKUP(F1004, 'ECAST Lookup'!A:G,7,FALSE)","v":"Torres ELA PA Mag"},"1860601-Torres ELA PA Mag",25]
["1862102","Fairfax Vis Arts Mag","1862102-Fairfax Vis Arts Mag",null,null,"1860701",{"$f":"VLOOKUP(F1005, 'ECAST Lookup'!A:G,7,FALSE)","v":"East Valley SH"},"1860701-East Valley SH",22]
["1862108","Fairfax HS Police Academy Magnet","1862108-Fairfax HS Police Academy Magnet",null,null,"1860901",{"$f":"VLOOKUP(F1006, 'ECAST Lookup'!A:G,7,FALSE)","v":"Arleta SH"},"1860901-Arleta SH",17]
["1863601","Polytechnic SH","1863601-Polytechnic SH",null,null,"1861001",{"$f":"VLOOKUP(F1007, 'ECAST Lookup'!A:G,7,FALSE)","v":"Panorama SH"},"1861001-Panorama SH",19]
["1863602","John H Francis Polytechnic SH Sci/Tech/Math","1863602-John H Francis Polytechnic SH Sci/Tech/Math",null,null,"1861007",{"$f":"VLOOKUP(F1008, 'ECAST Lookup'!A:G,7,FALSE)","v":"Panorama SMIT Mag"},"1861007-Panorama SMIT Mag",25]
["1864301","Franklin SH","1864301-Franklin SH",null,null,"1861008",{"$f":"VLOOKUP(F1009, 'ECAST Lookup'!A:G,7,FALSE)","v":"Panorama GSTEAM Mag"},"1861008-Panorama GSTEAM Mag",27]
["1864302","Benjamin Franklin SH Science/Tech/Math Mag","1864302-Benjamin Franklin SH Science/Tech/Math Mag",null,null,"1861009",{"$f":"VLOOKUP(F1010, 'ECAST Lookup'!A:G,7,FALSE)","v":"Panorama HS SJL Mag"},"1861009-Panorama HS SJL Mag",27]
["1864311","Franklin HS Dual Language Academy Magnet","1864311-Franklin HS Dual Language Academy Magnet",null,null,"1861101",{"$f":"VLOOKUP(F1011, 'ECAST Lookup'!A:G,7,FALSE)","v":"Mendez SH"},"1861101-Mendez SH",17]
["1865001","Fremont SH","1865001-Fremont SH",null,null,"1861401",{"$f":"VLOOKUP(F1012, 'ECAST Lookup'!A:G,7,FALSE)","v":"Eagle Rock HS"},"1861401-Eagle Rock HS",21]
["1865002","Fremont HS STEAM Magnet","1865002-Fremont HS STEAM Magnet",null,null,"1861402",{"$f":"VLOOKUP(F1013, 'ECAST Lookup'!A:G,7,FALSE)","v":"Eagle Rck SH Gifted Mg"},"1861402-Eagle Rck SH Gifted Mg",30]
["1866401","Gardena SH","1866401-Gardena SH",null,null,"1861801",{"$f":"VLOOKUP(F1014, 'ECAST Lookup'!A:G,7,FALSE)","v":"Wilson SH"},"1861801-Wilson SH",17]
["1866402","Gardena HS Gobal Business Magnet","1866402-Gardena HS Gobal Business Magnet",null,null,"1861802",{"$f":"VLOOKUP(F1015, 'ECAST Lookup'!A:G,7,FALSE)","v":"Wilson Police Acd Mg"},"1861802-Wilson Police Acd Mg",28]
["1866407","Gardena HS Law/Public Service Magnet","1866407-Gardena HS Law/Public Service Magnet",null,null,"1861803",{"$f":"VLOOKUP(F1016, 'ECAST Lookup'!A:G,7,FALSE)","v":"Wilson Adm/Law Mag"},"1861803-Wilson Adm/Law Mag",26]
["1867901","Garfield SH","1867901-Garfield SH",null,null,"1861810",{"$f":"VLOOKUP(F1017, 'ECAST Lookup'!A:G,7,FALSE)","v":"Wilson SH FF Mag"},"1861810-Wilson SH FF Mag",24]
["1867902","Garfield Comp Sci Mg","1867902-Garfield Comp Sci Mg",null,null,"1862101",{"$f":"VLOOKUP(F1018, 'ECAST Lookup'!A:G,7,FALSE)","v":"Fairfax SH"},"1862101-Fairfax SH",18]
["1868301","Grant SH","1868301-Grant SH",null,null,"1862102",{"$f":"VLOOKUP(F1019, 'ECAST Lookup'!A:G,7,FALSE)","v":"Fairfax Vis Arts Mag"},"1862102-Fairfax Vis Arts Mag",28]
["1868302","Grant HS College Prep/Digital Arts Mag","1868302-Grant HS College Prep/Digital Arts Mag",null,null,"1862108",{"$f":"VLOOKUP(F1020, 'ECAST Lookup'!A:G,7,FALSE)","v":"Fairfax PA Mag"},"1862108-Fairfax PA Mag",22]
["1868308","Grant HS Hum For Interdiscip Studies Mag","1868308-Grant HS Hum For Interdiscip Studies Mag",null,null,"1863601",{"$f":"VLOOKUP(F1021, 'ECAST Lookup'!A:G,7,FALSE)","v":"Polytechnic SH"},"1863601-Polytechnic SH",22]
["1868601","Hamilton SH-Complex","1868601-Hamilton SH-Complex",null,null,"1863602",{"$f":"VLOOKUP(F1022, 'ECAST Lookup'!A:G,7,FALSE)","v":"Polytechnic STEM Mag"},"1863602-Polytechnic STEM Mag",28]
["1868602","Hamilton Music & Perf Arts Mag","1868602-Hamilton Music & Perf Arts Mag",null,null,"1864301",{"$f":"VLOOKUP(F1023, 'ECAST Lookup'!A:G,7,FALSE)","v":"Franklin SH"},"1864301-Franklin SH",19]
["1868603","Hamilton Human Mag","1868603-Hamilton Human Mag",null,null,"1864302",{"$f":"VLOOKUP(F1024, 'ECAST Lookup'!A:G,7,FALSE)","v":"Franklin SH STM Mag"},"1864302-Franklin SH STM Mag",27]
["1869301","Hollywood SH","1869301-Hollywood SH",null,null,"1864311",{"$f":"VLOOKUP(F1025, 'ECAST Lookup'!A:G,7,FALSE)","v":"Franklin DLA Mag"},"1864311-Franklin DLA Mag",24]
["1869302","Hollywood Per Art Mg","1869302-Hollywood Per Art Mg",null,null,"1865001",{"$f":"VLOOKUP(F1026, 'ECAST Lookup'!A:G,7,FALSE)","v":"Fremont SH"},"1865001-Fremont SH",18]
["1869307","Hollywood HS New Media Magnet",{"$f":"A1027&\"-\"&B1027","v":"1869307-Hollywood HS New Media Magnet"},null,null,"1865002",{"$f":"VLOOKUP(F1027, 'ECAST Lookup'!A:G,7,FALSE)","v":"Fremont STEAM Mag"},"1865002-Fremont STEAM Mag",25]
["1869601","Bernstein SH","1869601-Bernstein SH",null,null,"1866401",{"$f":"VLOOKUP(F1028, 'ECAST Lookup'!A:G,7,FALSE)","v":"Gardena SH"},"1866401-Gardena SH",18]
["1869602","Bernstein HS Cine Arts/Creative Tech Mag","1869602-Bernstein HS Cine Arts/Creative Tech Mag",null,null,"1866402",{"$f":"VLOOKUP(F1029, 'ECAST Lookup'!A:G,7,FALSE)","v":"Gardena HS GB Mag"},{"$f":"F1029&\"-\"&G1029","v":"1866402-Gardena HS GB Mag"},{"$f":"LEN(H1029)","v":25}]
["1870001","Huntington Park SH","1870001-Huntington Park SH",null,null,"1866407",{"$f":"VLOOKUP(F1030, 'ECAST Lookup'!A:G,7,FALSE)","v":"Gardena L/PS Mag"},"1866407-Gardena L/PS Mag",24]
["1870018","Huntington Park HS STEAM Magnet","1870018-Huntington Park HS STEAM Magnet",null,null,"1867901",{"$f":"VLOOKUP(F1031, 'ECAST Lookup'!A:G,7,FALSE)","v":"Garfield SH"},"1867901-Garfield SH",19]
["1870101","International St LC","1870101-International St LC",null,null,"1867902",{"$f":"VLOOKUP(F1032, 'ECAST Lookup'!A:G,7,FALSE)","v":"Garfield Comp Sci Mg"},"1867902-Garfield Comp Sci Mg",28]
["1871001","Early College Acad","1871001-Early College Acad",null,null,"1868301",{"$f":"VLOOKUP(F1033, 'ECAST Lookup'!A:G,7,FALSE)","v":"Grant SH"},"1868301-Grant SH",16]
["1871301","Hawkins SH C/DAGS","1871301-Hawkins SH C/DAGS",null,null,"1868302",{"$f":"VLOOKUP(F1034, 'ECAST Lookup'!A:G,7,FALSE)","v":"Grant CP/DA Mag"},"1868302-Grant CP/DA Mag",23]
["1871401","Jefferson SH","1871401-Jefferson SH",null,null,"1868308",{"$f":"VLOOKUP(F1035, 'ECAST Lookup'!A:G,7,FALSE)","v":"Grant H for IS Mag"},"1868308-Grant H for IS Mag",26]
["1871601","Santee Educ Complex","1871601-Santee Educ Complex",null,null,"1868601",{"$f":"VLOOKUP(F1036, 'ECAST Lookup'!A:G,7,FALSE)","v":"Hamilton SH-Complex"},"1868601-Hamilton SH-Complex",27]
["1872101","Jordan SH","1872101-Jordan SH",null,null,"1868602",{"$f":"VLOOKUP(F1037, 'ECAST Lookup'!A:G,7,FALSE)","v":"Hamilton Music"},"1868602-Hamilton Music",22]
["1872501","Kennedy SH","1872501-Kennedy SH",null,null,"1868603",{"$f":"VLOOKUP(F1038, 'ECAST Lookup'!A:G,7,FALSE)","v":"Hamilton Human Mag"},"1868603-Hamilton Human Mag",26]
["1872502","Kennedy A/DD/FM Magnet","1872502-Kennedy A/DD/FM Magnet",null,null,"1869301",{"$f":"VLOOKUP(F1039, 'ECAST Lookup'!A:G,7,FALSE)","v":"Hollywood SH"},"1869301-Hollywood SH",20]
["1872508","John F Kennedy Senior High Gifted Medical Mag","1872508-John F Kennedy Senior High Gifted Medical Mag",null,null,"1869302",{"$f":"VLOOKUP(F1040, 'ECAST Lookup'!A:G,7,FALSE)","v":"Hollywood Per Art Mg"},"1869302-Hollywood Per Art Mg",28]
["1872701","King-Drew Med Mag","1872701-King-Drew Med Mag",null,null,"1869307",{"$f":"VLOOKUP(F1041, 'ECAST Lookup'!A:G,7,FALSE)","v":"Hollywood HS"},"1869307-Hollywood HS",20]
["1872901","Lincoln SH","1872901-Lincoln SH",null,null,"1869601",{"$f":"VLOOKUP(F1042, 'ECAST Lookup'!A:G,7,FALSE)","v":"Bernstein SH"},"1869601-Bernstein SH",20]
["1872902","Abraham Lincoln SH Science/Tech/Math Mag","1872902-Abraham Lincoln SH Science/Tech/Math Mag",null,null,"1869602",{"$f":"VLOOKUP(F1043, 'ECAST Lookup'!A:G,7,FALSE)","v":"Bernstein CA/CT Mag"},"1869602-Bernstein CA/CT Mag",27]
["1872908","Lincoln ESP Magnet","1872908-Lincoln ESP Magnet",null,null,"1870001",{"$f":"VLOOKUP(F1044, 'ECAST Lookup'!A:G,7,FALSE)","v":"Huntington Park SH"},"1870001-Huntington Park SH",26]
["1873601","Los Angeles SH","1873601-Los Angeles SH",null,null,"1870018",{"$f":"VLOOKUP(F1045, 'ECAST Lookup'!A:G,7,FALSE)","v":"Hntngtn Pk STEAM Mag"},"1870018-Hntngtn Pk STEAM Mag",28]
["1873602","Los Angeles HS STEAM Magnet","1873602-Los Angeles HS STEAM Magnet",null,null,"1870101",{"$f":"VLOOKUP(F1046, 'ECAST Lookup'!A:G,7,FALSE)","v":"International St LC"},"1870101-International St LC",27]
["1873801","Downtwn Business Mag","1873801-Downtwn Business Mag",null,null,"1871001",{"$f":"VLOOKUP(F1047, 'ECAST Lookup'!A:G,7,FALSE)","v":"Early College Acad"},"1871001-Early College Acad",26]
["1873803","Downtown Computer Sci/Digital Media Arts","1873803-Downtown Computer Sci/Digital Media Arts",null,null,"1871301",{"$f":"VLOOKUP(F1048, 'ECAST Lookup'!A:G,7,FALSE)","v":"Hawkins SH C/DAGS"},"1871301-Hawkins SH C/DAGS",25]
["1874101","LACES Mag","1874101-LACES Mag",null,null,"1871401",{"$f":"VLOOKUP(F1049, 'ECAST Lookup'!A:G,7,FALSE)","v":"Jefferson SH"},"1871401-Jefferson SH",20]
["1874301","Manual Arts SH","1874301-Manual Arts SH",null,null,"1871601",{"$f":"VLOOKUP(F1050, 'ECAST Lookup'!A:G,7,FALSE)","v":"Santee Educ Complex"},"1871601-Santee Educ Complex",27]
["1874302","Manual Arts Col Prep","1874302-Manual Arts Col Prep",null,null,"1872101",{"$f":"VLOOKUP(F1051, 'ECAST Lookup'!A:G,7,FALSE)","v":"Jordan SH"},"1872101-Jordan SH",17]
["1874801","West AdaMS Prep SH","1874801-West AdaMS Prep SH",null,null,"1872501",{"$f":"VLOOKUP(F1052, 'ECAST Lookup'!A:G,7,FALSE)","v":"Kennedy SH"},"1872501-Kennedy SH",18]
["1874802","West Adams HS Firefighter Academy Magnet","1874802-West Adams HS Firefighter Academy Magnet",null,null,"1872502",{"$f":"VLOOKUP(F1053, 'ECAST Lookup'!A:G,7,FALSE)","v":"Kennedy A/DD/FM"},"1872502-Kennedy A/DD/FM",23]
["1874803","West Adams HS Police Academy Magnet","1874803-West Adams HS Police Academy Magnet",null,null,"1872508",{"$f":"VLOOKUP(F1054, 'ECAST Lookup'!A:G,7,FALSE)","v":"Kennedy Gifted/Md Mg"},"1872508-Kennedy Gifted/Md Mg",28]
["1875001","Marshall SH","1875001-Marshall SH",null,null,"1872509",{"$f":"VLOOKUP(F1055, 'ECAST Lookup'!A:G,7,FALSE)","v":"Kennedy HS GLEA Mag"},"1872509-Kennedy HS GLEA Mag",27]
["1875002","John Marshall Senior High Gifted Magnet","1875002-John Marshall Senior High Gifted Magnet",null,null,"1872701",{"$f":"VLOOKUP(F1056, 'ECAST Lookup'!A:G,7,FALSE)","v":"King-Drew Med Mag"},"1872701-King-Drew Med Mag",25]
["1875401","Bravo Medical Mag","1875401-Bravo Medical Mag",null,null,"1872901",{"$f":"VLOOKUP(F1057, 'ECAST Lookup'!A:G,7,FALSE)","v":"Lincoln SH"},"1872901-Lincoln SH",18]
["1876001","Middle College HS","1876001-Middle College HS",null,null,"1872902",{"$f":"VLOOKUP(F1058, 'ECAST Lookup'!A:G,7,FALSE)","v":"Lincoln SH STM Mag"},"1872902-Lincoln SH STM Mag",26]
["1876801","Monroe SH","1876801-Monroe SH",null,null,"1872908",{"$f":"VLOOKUP(F1059, 'ECAST Lookup'!A:G,7,FALSE)","v":"Lincoln ESP Magnet"},"1872908-Lincoln ESP Magnet",26]
["1876802","Monroe Police Acd Mg","1876802-Monroe Police Acd Mg",null,null,"1873601",{"$f":"VLOOKUP(F1060, 'ECAST Lookup'!A:G,7,FALSE)","v":"Los Angeles SH"},"1873601-Los Angeles SH",22]
["1876803","Monroe Law/Gov Mag","1876803-Monroe Law/Gov Mag",null,null,"1873602",{"$f":"VLOOKUP(F1061, 'ECAST Lookup'!A:G,7,FALSE)","v":"Los Angeles STEAM Mg"},"1873602-Los Angeles STEAM Mg",28]
["1876810","POPP","1876810-POPP",null,null,"1873801",{"$f":"VLOOKUP(F1062, 'ECAST Lookup'!A:G,7,FALSE)","v":"Downtwn Business Mag"},"1873801-Downtwn Business Mag",28]
["1876812","Monroe HS Firefighter Academy Magnet","1876812-Monroe HS Firefighter Academy Magnet",null,null,"1873803",{"$f":"VLOOKUP(F1063, 'ECAST Lookup'!A:G,7,FALSE)","v":"Downtown CS/DMA/E Mg"},"1873803-Downtown CS/DMA/E Mg",28]
["1877401","Contreras LC Glbl St","1877401-Contreras LC Glbl St",null,null,"1874101",{"$f":"VLOOKUP(F1064, 'ECAST Lookup'!A:G,7,FALSE)","v":"LACES Mag"},"1874101-LACES Mag",17]
["1877901","Narbonne SH","1877901-Narbonne SH",null,null,"1874301",{"$f":"VLOOKUP(F1065, 'ECAST Lookup'!A:G,7,FALSE)","v":"Manual Arts SH"},"1874301-Manual Arts SH",22]
["1877902","Narbonne HS STEAM Magnet","1877902-Narbonne HS STEAM Magnet",null,null,"1874302",{"$f":"VLOOKUP(F1066, 'ECAST Lookup'!A:G,7,FALSE)","v":"Manual Arts Col Prep"},"1874302-Manual Arts Col Prep",28]
["1877911","Narbonne HS Bus/Entrep/Tech Magnet","1877911-Narbonne HS Bus/Entrep/Tech Magnet",null,null,"1874801",{"$f":"VLOOKUP(F1067, 'ECAST Lookup'!A:G,7,FALSE)","v":"West Adams Prep SH"},"1874801-West Adams Prep SH",26]
["1878601","No Hollywood SH","1878601-No Hollywood SH",null,null,"1874802",{"$f":"VLOOKUP(F1068, 'ECAST Lookup'!A:G,7,FALSE)","v":"W Adams FA Mag"},"1874802-W Adams FA Mag",22]
["1878602","No Hollywood Hg Mag","1878602-No Hollywood Hg Mag",null,null,"1874803",{"$f":"VLOOKUP(F1069, 'ECAST Lookup'!A:G,7,FALSE)","v":"W Adams PA Mag"},"1874803-W Adams PA Mag",22]
["1878603","NHHS/LA Zoo Biol Mag","1878603-NHHS/LA Zoo Biol Mag",null,null,"1875001",{"$f":"VLOOKUP(F1070, 'ECAST Lookup'!A:G,7,FALSE)","v":"Marshall SH"},"1875001-Marshall SH",19]
["1878612","North Hollywood HS STEM Magnet","1878612-North Hollywood HS STEM Magnet",null,null,"1875002",{"$f":"VLOOKUP(F1071, 'ECAST Lookup'!A:G,7,FALSE)","v":"Marshall Gifted Mag"},"1875002-Marshall Gifted Mag",27]
["1881401","Reseda Charter High School","1881401-Reseda Charter High School",null,null,"1875401",{"$f":"VLOOKUP(F1072, 'ECAST Lookup'!A:G,7,FALSE)","v":"Bravo Medical Mag"},"1875401-Bravo Medical Mag",25]
["1881402","Reseda Charter HS Police Academy Magnet","1881402-Reseda Charter HS Police Academy Magnet",null,null,"1876001",{"$f":"VLOOKUP(F1073, 'ECAST Lookup'!A:G,7,FALSE)","v":"Middle College HS"},"1876001-Middle College HS",25]
["1881403","Reseda Charter HS Science Magnet","1881403-Reseda Charter HS Science Magnet",null,null,"1876801",{"$f":"VLOOKUP(F1074, 'ECAST Lookup'!A:G,7,FALSE)","v":"Monroe SH"},"1876801-Monroe SH",17]
["1881409","Reseda Charter HS Arts/Media/Ent Magnet","1881409-Reseda Charter HS Arts/Media/Ent Magnet",null,null,"1876802",{"$f":"VLOOKUP(F1075, 'ECAST Lookup'!A:G,7,FALSE)","v":"Monroe Police Acd Mg"},"1876802-Monroe Police Acd Mg",28]
["1883801","Narbonne SH Harts LA","1883801-Narbonne SH Harts LA",null,null,"1876803",{"$f":"VLOOKUP(F1076, 'ECAST Lookup'!A:G,7,FALSE)","v":"Monroe Law/Gov Mag"},"1876803-Monroe Law/Gov Mag",26]
["1884201","SOCES Mag","1884201-SOCES Mag",null,null,"1876810",{"$f":"VLOOKUP(F1077, 'ECAST Lookup'!A:G,7,FALSE)","v":"POPP"},"1876810-POPP",12]
["1884301","San Fernando SH","1884301-San Fernando SH",null,null,"1876812",{"$f":"VLOOKUP(F1078, 'ECAST Lookup'!A:G,7,FALSE)","v":"Monroe FA Mag"},"1876812-Monroe FA Mag",21]
["1884302","San Fernando Senior High Science/Tech/Math","1884302-San Fernando Senior High Science/Tech/Math",null,null,"1877401",{"$f":"VLOOKUP(F1079, 'ECAST Lookup'!A:G,7,FALSE)","v":"Contreras LC Glbl St"},"1877401-Contreras LC Glbl St",28]
["1885001","San Pedro SH","1885001-San Pedro SH",null,null,"1877901",{"$f":"VLOOKUP(F1080, 'ECAST Lookup'!A:G,7,FALSE)","v":"Narbonne SH"},"1877901-Narbonne SH",19]
["1885002","San Pedro Pol Acd Mg","1885002-San Pedro Pol Acd Mg",null,null,"1877902",{"$f":"VLOOKUP(F1081, 'ECAST Lookup'!A:G,7,FALSE)","v":"Narbonne STEAM Mag"},"1877902-Narbonne STEAM Mag",26]
["1885003","San Pedro Senior High Marine Science/Tech","1885003-San Pedro Senior High Marine Science/Tech",null,null,"1877911",{"$f":"VLOOKUP(F1082, 'ECAST Lookup'!A:G,7,FALSE)","v":"Narbonne BET Mag"},"1877911-Narbonne BET Mag",24]
["1885010","San Pedro Senior High Gifted STEAM Magnet","1885010-San Pedro Senior High Gifted STEAM Magnet",null,null,"1878601",{"$f":"VLOOKUP(F1083, 'ECAST Lookup'!A:G,7,FALSE)","v":"No Hollywood SH"},"1878601-No Hollywood SH",23]
["1885011","San Pedro HS Visual/Perf Arts Magnet","1885011-San Pedro HS Visual/Perf Arts Magnet",null,null,"1878602",{"$f":"VLOOKUP(F1084, 'ECAST Lookup'!A:G,7,FALSE)","v":"No Hollywood Hg Mag"},"1878602-No Hollywood Hg Mag",27]
["1885301","Orthopaedic Hosp Mag","1885301-Orthopaedic Hosp Mag",null,null,"1878603",{"$f":"VLOOKUP(F1085, 'ECAST Lookup'!A:G,7,FALSE)","v":"NHHS/LA Zoo Biol Mag"},"1878603-NHHS/LA Zoo Biol Mag",28]
["1886601","Marquez SH HPIAM","1886601-Marquez SH HPIAM",null,null,"1878612",{"$f":"VLOOKUP(F1086, 'ECAST Lookup'!A:G,7,FALSE)","v":"N Hollywood STEM Mag"},"1878612-N Hollywood STEM Mag",28]
["1886701","Rivera LC Pub Srv","1886701-Rivera LC Pub Srv",null,null,"1881401",{"$f":"VLOOKUP(F1087, 'ECAST Lookup'!A:G,7,FALSE)","v":"Reseda Charter HS"},"1881401-Reseda Charter HS",25]
["1886801","Rancho Domingz Prep","1886801-Rancho Domingz Prep",null,null,"1881402",{"$f":"VLOOKUP(F1088, 'ECAST Lookup'!A:G,7,FALSE)","v":"Reseda CHS PA Mag"},"1881402-Reseda CHS PA Mag",25]
["1886802","Rancho Dominguez PS Law/Gov/Pub Serv Mag","1886802-Rancho Dominguez PS Law/Gov/Pub Serv Mag",null,null,"1881403",{"$f":"VLOOKUP(F1089, 'ECAST Lookup'!A:G,7,FALSE)","v":"Reseda CHS Sci Mag"},"1881403-Reseda CHS Sci Mag",26]
["1887101","South Gate SH","1887101-South Gate SH",null,null,"1881409",{"$f":"VLOOKUP(F1090, 'ECAST Lookup'!A:G,7,FALSE)","v":"Reseda CHS AME Mag"},"1881409-Reseda CHS AME Mag",26]
["1887801","Sylmar Charter High School",{"$f":"A1091&\"-\"&B1091","v":"1887801-Sylmar Charter High School"},null,null,"1883801",{"$f":"VLOOKUP(F1091, 'ECAST Lookup'!A:G,7,FALSE)","v":"Narbonne SH Harts LA"},"1883801-Narbonne SH Harts LA",28]
["1887802","Sylmar Charter HS Sci/Tech/Math Magnet","1887802-Sylmar Charter HS Sci/Tech/Math Magnet",null,null,"1884201",{"$f":"VLOOKUP(F1092, 'ECAST Lookup'!A:G,7,FALSE)","v":"SOCES Mag"},"1884201-SOCES Mag",17]
["1888001","William Howard Taft Charter HS","1888001-William Howard Taft Charter HS",null,null,"1884301",{"$f":"VLOOKUP(F1093, 'ECAST Lookup'!A:G,7,FALSE)","v":"San Fernando SH"},{"$f":"F1093&\"-\"&G1093","v":"1884301-San Fernando SH"},{"$f":"LEN(H1093)","v":23}]
["1888007","William Howard Taft Charter SH Gifted St","1888007-William Howard Taft Charter SH Gifted St",null,null,"1884302",{"$f":"VLOOKUP(F1094, 'ECAST Lookup'!A:G,7,FALSE)","v":"San Fernando STEM Mag"},"1884302-San Fernando STEM Mag",29]
["1888101","South East SH","1888101-South East SH",null,null,"1885001",{"$f":"VLOOKUP(F1095, 'ECAST Lookup'!A:G,7,FALSE)","v":"San Pedro SH"},"1885001-San Pedro SH",20]
["1888108","SEHS Tech/Media Mag","1888108-SEHS Tech/Media Mag",null,null,"1885002",{"$f":"VLOOKUP(F1096, 'ECAST Lookup'!A:G,7,FALSE)","v":"San Pedro Pol Acd Mg"},"1885002-San Pedro Pol Acd Mg",28]
["1888201","Maywood Academy SH","1888201-Maywood Academy SH",null,null,"1885003",{"$f":"VLOOKUP(F1097, 'ECAST Lookup'!A:G,7,FALSE)","v":"San Pedro MS/T/M Mag"},"1885003-San Pedro MS/T/M Mag",28]
["1888601","University High School Charter","1888601-University High School Charter",null,null,"1885010",{"$f":"VLOOKUP(F1098, 'ECAST Lookup'!A:G,7,FALSE)","v":"San Pedro G/STEAM Mg"},"1885010-San Pedro G/STEAM Mg",28]
["1888607","University Charter HS Mth/Art/Sci/Tch Mg","1888607-University Charter HS Mth/Art/Sci/Tch Mg",null,null,"1885011",{"$f":"VLOOKUP(F1099, 'ECAST Lookup'!A:G,7,FALSE)","v":"San Pedro VAPA Mag"},"1885011-San Pedro VAPA Mag",26]
["1889301","Van Nuys SH","1889301-Van Nuys SH",null,null,"1885301",{"$f":"VLOOKUP(F1100, 'ECAST Lookup'!A:G,7,FALSE)","v":"Orthopaedic Hosp Mag"},"1885301-Orthopaedic Hosp Mag",28]
["1889302","Van Nuys Medical Mag","1889302-Van Nuys Medical Mag",null,null,"1886601",{"$f":"VLOOKUP(F1101, 'ECAST Lookup'!A:G,7,FALSE)","v":"Marquez SH HPIAM"},"1886601-Marquez SH HPIAM",24]
["1889303","Van Nuys Senior High Science/Tech/Math Mag","1889303-Van Nuys Senior High Science/Tech/Math Mag",null,null,"1886701",{"$f":"VLOOKUP(F1102, 'ECAST Lookup'!A:G,7,FALSE)","v":"Rivera LC Pub Srv"},"1886701-Rivera LC Pub Srv",25]
["1889304","Van Nuys Per Arts Mg","1889304-Van Nuys Per Arts Mg",null,null,"1886801",{"$f":"VLOOKUP(F1103, 'ECAST Lookup'!A:G,7,FALSE)","v":"Rancho Domingz Prep"},"1886801-Rancho Domingz Prep",27]
["1889801","Valley Acad Arts/Sci","1889801-Valley Acad Arts/Sci",null,null,"1886802",{"$f":"VLOOKUP(F1104, 'ECAST Lookup'!A:G,7,FALSE)","v":"Rancho Dmngz L/G/PS Mg"},"1886802-Rancho Dmngz L/G/PS Mg",30]
["1890101","Chavez Learning Acad-Technology Prep","1890101-Chavez Learning Acad-Technology Prep",null,null,"1887101",{"$f":"VLOOKUP(F1105, 'ECAST Lookup'!A:G,7,FALSE)","v":"South Gate SH"},"1887101-South Gate SH",21]
["1890701","Venice SH","1890701-Venice SH",null,null,"1887110",{"$f":"VLOOKUP(F1106, 'ECAST Lookup'!A:G,7,FALSE)","v":"South Gate HS PSB Mg"},"1887110-South Gate HS PSB Mg",28]
["1890702","Venice SH World Languages/Golbal Studies","1890702-Venice SH World Languages/Golbal Studies",null,null,"1887801",{"$f":"VLOOKUP(F1107, 'ECAST Lookup'!A:G,7,FALSE)","v":"Sylmar Charter HS"},"1887801-Sylmar Charter HS",25]
["1890707","Venice SH STEMM Mag","1890707-Venice SH STEMM Mag",null,null,"1887802",{"$f":"VLOOKUP(F1108, 'ECAST Lookup'!A:G,7,FALSE)","v":"Sylmar CHS STM Mag"},"1887802-Sylmar CHS STM Mag",26]
["1891401","Verdugo Hills SH","1891401-Verdugo Hills SH",null,null,"1888001",{"$f":"VLOOKUP(F1109, 'ECAST Lookup'!A:G,7,FALSE)","v":"William H Taft"},"1888001-William H Taft",22]
["1891402","Verdguo Hills HS STEMM Magnet","1891402-Verdguo Hills HS STEMM Magnet",null,null,"1888007",{"$f":"VLOOKUP(F1110, 'ECAST Lookup'!A:G,7,FALSE)","v":"Taft Gifted/STEAM Mg"},"1888007-Taft Gifted/STEAM Mg",28]
["1891408","Verdugo Hills SH Visual and Performing Acad","1891408-Verdugo Hills SH Visual and Performing Acad",null,null,"1888101",{"$f":"VLOOKUP(F1111, 'ECAST Lookup'!A:G,7,FALSE)","v":"South East SH"},"1888101-South East SH",21]
["1891701","Maywood Center for Enriched Studies Mag","1891701-Maywood Center for Enriched Studies Mag",null,null,"1888108",{"$f":"VLOOKUP(F1112, 'ECAST Lookup'!A:G,7,FALSE)","v":"SEHS Tech/Media Mag"},"1888108-SEHS Tech/Media Mag",27]
["1892101","Legacy SH STEAM","1892101-Legacy SH STEAM",null,null,"1888201",{"$f":"VLOOKUP(F1113, 'ECAST Lookup'!A:G,7,FALSE)","v":"Maywood Academy SH"},"1888201-Maywood Academy SH",26]
["1892801","Washington Prep SH","1892801-Washington Prep SH",null,null,"1888601",{"$f":"VLOOKUP(F1114, 'ECAST Lookup'!A:G,7,FALSE)","v":"University HS Charter"},"1888601-University HS Charter",29]
["1892803","Washington Preparatory HS STEAM Magnet","1892803-Washington Preparatory HS STEAM Magnet",null,null,"1888607",{"$f":"VLOOKUP(F1115, 'ECAST Lookup'!A:G,7,FALSE)","v":"Univrsty CHS MAST Mg"},"1888607-Univrsty CHS MAST Mg",28]
["1894301","WESM Hlth/Sports Med","1894301-WESM Hlth/Sports Med",null,null,"1889301",{"$f":"VLOOKUP(F1116, 'ECAST Lookup'!A:G,7,FALSE)","v":"Van Nuys SH"},"1889301-Van Nuys SH",19]
["1894309","Westchester HS G/HG/HA/STEAM Magnet","1894309-Westchester HS G/HG/HA/STEAM Magnet",null,null,"1889302",{"$f":"VLOOKUP(F1117, 'ECAST Lookup'!A:G,7,FALSE)","v":"Van Nuys Medical Mag"},"1889302-Van Nuys Medical Mag",28]
["1894310","WESM Env Natrl Sci","1894310-WESM Env Natrl Sci",null,null,"1889303",{"$f":"VLOOKUP(F1118, 'ECAST Lookup'!A:G,7,FALSE)","v":"Van Nuys SH STM Mag"},"1889303-Van Nuys SH STM Mag",27]
[null,null,null,null,null,"1889304",{"$f":"VLOOKUP(F1119, 'ECAST Lookup'!A:G,7,FALSE)","v":"Van Nuys Per Arts Mg"},"1889304-Van Nuys Per Arts Mg",28]
[null,null,null,null,null,"1889801",{"$f":"VLOOKUP(F1120, 'ECAST Lookup'!A:G,7,FALSE)","v":"Valley Acad Arts/Sci"},"1889801-Valley Acad Arts/Sci",28]
[null,null,null,null,null,"1890101",{"$f":"VLOOKUP(F1121, 'ECAST Lookup'!A:G,7,FALSE)","v":"Chavez LA Tech Prep"},"1890101-Chavez LA Tech Prep",27]
[null,null,null,null,null,"1890701",{"$f":"VLOOKUP(F1122, 'ECAST Lookup'!A:G,7,FALSE)","v":"Venice SH"},"1890701-Venice SH",17]
[null,null,null,null,null,"1890702",{"$f":"VLOOKUP(F1123, 'ECAST Lookup'!A:G,7,FALSE)","v":"Venice SH WL/GS Mag"},"1890702-Venice SH WL/GS Mag",27]
[null,null,null,null,null,"1890707",{"$f":"VLOOKUP(F1124, 'ECAST Lookup'!A:G,7,FALSE)","v":"Venice SH STEMM Mag"},"1890707-Venice SH STEMM Mag",27]
[null,null,null,null,null,"1891401",{"$f":"VLOOKUP(F1125, 'ECAST Lookup'!A:G,7,FALSE)","v":"Verdugo Hills SH"},"1891401-Verdugo Hills SH",24]
[null,null,null,null,null,"1891402",{"$f":"VLOOKUP(F1126, 'ECAST Lookup'!A:G,7,FALSE)","v":"Vrdgo Hlls STEMM Mg"},"1891402-Vrdgo Hlls STEMM Mg",27]
[null,null,null,null,null,"1891408",{"$f":"VLOOKUP(F1127, 'ECAST Lookup'!A:G,7,FALSE)","v":"Verdgo Hls VAPA Mag"},"1891408-Verdgo Hls VAPA Mag",27]
[null,null,null,null,null,"1891701",{"$f":"VLOOKUP(F1128, 'ECAST Lookup'!A:G,7,FALSE)","v":"MaCES Magnet"},"1891701-MaCES Magnet",20]
[null,null,null,null,null,"1892101",{"$f":"VLOOKUP(F1129, 'ECAST Lookup'!A:G,7,FALSE)","v":"Legacy SH STEAM"},"1892101-Legacy SH STEAM",23]
[null,null,null,null,null,"1892801",{"$f":"VLOOKUP(F1130, 'ECAST Lookup'!A:G,7,FALSE)","v":"Washington Prep SH"},"1892801-Washington Prep SH",26]
[null,null,null,null,null,"1892803",{"$f":"VLOOKUP(F1131, 'ECAST Lookup'!A:G,7,FALSE)","v":"Washington STEAM Mag"},"1892803-Washington STEAM Mag",28]
[null,null,null,null,null,"1894301",{"$f":"VLOOKUP(F1132, 'ECAST Lookup'!A:G,7,FALSE)","v":"WESM Hlth/Sports Med"},"1894301-WESM Hlth/Sports Med",28]
[null,null,null,null,null,"1894309",{"$f":"VLOOKUP(F1133, 'ECAST Lookup'!A:G,7,FALSE)","v":"WES G/HG/HA/STEAM Mg"},"1894309-WES G/HG/HA/STEAM Mg",28]
[null,null,null,null,null,"1894310",{"$f":"VLOOKUP(F1134, 'ECAST Lookup'!A:G,7,FALSE)","v":"WESM Env Natrl Sci"},"1894310-WESM Env Natrl Sci",26]
[null,null,null,null,null,"1520503","Mayberry CA Magnet","1520503-Mayberry CA Magnet",26]

{"sheet":"Grade 6 and School Type","index":7,"n_rows":15,"n_cols":15,"rows_kept":15,"cut":false,"hidden":true,"merged":[]}
["School Type",null,".5 Full Time Equivalent (FTE) for (a) elementary schools with enrollment below 500; (b) middle schools with enrollment below 1000; and (c) senior high schools with enrollment below 1700",null,"Elem",null,null,null,"Middle",null,null,null,"Senior"]
["Primary Center",null,"1 FTE for (a) elementary schools with enrollment of 500 and above; (b) middle schools with enrollment of 1000 and above; and (c) senior high schools with enrollment of 1700 and above",null,0,499,0.5,null,0,999,0.5,null,0,1699,0.5]
["Elementary School",null,null,null,500,9999,1,null,1000,9999,1,null,1700,9999,1]
["Elementary School, Magnet"]
["Middle School"]
["Middle School, Magnet"]
["Senior High School"]
["Senior High School, Magnet"]
["Span School"]
["Span Magnet School"]
[]
[]
["6th Grade Elem"]
["t"]
["f"]

{"sheet":"All Schools","index":8,"n_rows":143,"n_cols":127,"rows_kept":143,"cut":false,"hidden":true,"merged":[[0,72,0,74],[0,76,0,78],[0,48,0,50],[0,52,0,54],[0,56,0,58],[0,60,0,62],[0,64,0,66],[0,68,0,70],[0,44,0,46],[0,0,0,2],[0,4,0,6],[0,8,0,10],[0,12,0,14],[0,16,0,18],[0,24,0,26],[0,28,0,30],[0,32,0,34],[0,36,0,38],[0,40,0,42]]}
["Dist K-3",null,null,null,"K-3 State",null,null,null,"K-3 PHBAO",null,null,null,"Mag II K-3 PHBAO",null,null,null,"Mag I K-3 Deseg/Receiver",null,null,null,"4-5 District for TIIG Magnet I",null,null,null,"4-5 (6) PHBAO",null,null,null,"4-5(6) Deseg/Receiver",null,null,null,"Mag II 4-5 (6) PHBAO",null,null,null,"Mag I 4-5(6) Deseg/Receiver",null,null,null,"6-8 District Norm ",null,null,null,"6-8 PHBAO",null,null,null,"6-8 Deseg/Receiver",null,null,null,"Mag II  6-8",null,null,null,"Mag I 6-8 Deseg/Receiver",null,null,null,"9-12 District Norm",null,null,null,"9-10 CSR PHBAO",null,null,null,"9-10 CSR Deseg/Receiver",null,null,null,"Mag II 9-12 PHBAO",null,null,null,"Mag I 9-12 Deseg/Receiver",null,null,null,"4-5 District for Deseg/PHBAO/Magnet II",null,null,null,null,"Elementary Clerical",null,null,"SAA","MCD","Add'l","Total",null,"Middle School Clerical",null,null,"SAA","MCD","Add'l","Total",null,"Senior High Clerical",null,null,"SAA","MCD","Add'l","Total",null,"Elementary Admin Table",null,null,"Prin","AP","Total",null,"Secondary Admin Table",null,null,"Prin","APSCS","AP","Total",null,"Counselor Table"]
[null,null,null,null,null,null,null,null,null,null,null,null,null,null,null,null,null,null,null,null,null,null,null,null,null,null,null,null,null,null,null,null,null,null,null,null,null,null,null,null,null,null,null,null,null,null,null,null,null,null,null,null,null,null,null,null,null,null,null,null,null,null,null,null,null,null,null,null,null,null,null,null,null,null,null,null,null,null,null,null,null,null,null,null,null,0,null,0,0,0,0,0,null,0,null,0,0,0,0,0,null,0,null,0,0,0,0,0,null,0,null,0,0,0,0,null,0,null,0,0,0,0,0,null,1,375,0.5]
[-1,0,0,null,-1,0,0,null,-1,0,0,null,-1,0,0,null,-1,0,0,null,-1,0,0,null,-1,0,0,null,-1,0,0,null,-1,0,0,null,-1,0,0,null,-1,0,0,null,-1,0,0,null,-1,0,0,null,-1,0,0,null,-1,0,0,null,-1,0,0,null,-1,0,0,null,-1,0,0,null,-1,0,0,null,-1,0,0,null,-1,0,0,null,null,1,"to",300,1,0.5,0.5,2,null,1,"to",700,1,0.5,0.5,2,null,1,"to",700,1,0.5,0.5,2,null,1,"to",999,1,0,{"$f":"DI3+DJ3","v":1},null,1,"to",699,1,0,0,{"$f":"DP3+DQ3+DR3","v":1},null,376,750,1]
[1,32,1,null,1,24,1,null,1,30,1,null,1,30,1,null,1,32,1,null,1,35,1,null,1,27,1,null,1,33,1,null,1,27,1,null,1,30,1,null,1,32,1,null,1,26,1,null,1,30,1,null,1,25,1,null,1,27,1,null,1,32,1,null,1,170,1,null,1,570,1,null,1,25,1,null,1,27,1,null,1,36,1,null,null,301,"to",749,1,1,0,2,null,701,"to",1200,1,1,1,3,null,701,"to",1200,1,1,1,3,null,1000,"to",1809,1,1,{"$f":"DI4+DJ4","v":2},null,700,"to",1354,1,1,0,{"$f":"DP4+DQ4+DR4","v":2},null,{"$f":"DV3+1","v":751},{"$f":"DU4+499","v":1250},2]
[33,64,2,null,25,48,2,null,31,59,2,null,31,59,2,null,33,64,2,null,36,70,2,null,28,54,2,null,34,65,2,null,28,54,2,null,31,60,2,null,33,64,2,null,27,53,2,null,31,60,2,null,26,50,2,null,28,54,2,null,33,64,2,null,171,340,2,null,571,1140,2,null,26,50,2,null,28,54,2,null,37,71,2,null,null,750,"to",1499,1,1,1,3,null,1201,"to",1650,1,1,2,4,null,1201,"to",1699,1,1,2,4,null,1810,"to",2419,1,2,3,null,1355,"to",1749,1,1,1,3,null,1251,{"$f":"DU5+499","v":1750},3]
[65,96,3,null,49,72,3,null,60,89,3,null,60,89,3,null,65,96,3,null,71,105,3,null,55,81,3,null,66,98,3,null,55,81,3,null,61,90,3,null,65,96,3,null,54,80,3,null,61,91,3,null,51,75,3,null,55,81,3,null,65,96,3,null,341,510,3,null,1141,1710,3,null,51,75,3,null,55,81,3,null,72,107,3,null,null,1500,"to",2199,1,1,2,4,null,1651,"to",2100,1,1,3,5,null,1700,"to",2150,1,1,3,5,null,2420,"to",9999999,1,3,4,null,1750,"to",2088,1,1,2,4,null,1751,2250,4]
[97,128,4,null,73,96,4,null,90,118,4,null,90,118,4,null,97,128,4,null,106,140,4,null,82,108,4,null,99,130,4,null,82,108,4,null,91,120,4,null,97,128,4,null,81,107,4,null,92,121,4,null,76,100,4,null,82,108,4,null,97,128,4,null,511,680,4,null,1711,2280,4,null,76,100,4,null,82,108,4,null,108,142,4,null,null,2200,"to",2899,1,1,3,5,null,2101,"to",2550,1,1,4,6,null,2151,"to",2600,1,1,4,6,null,null,null,null,null,null,null,null,2089,"to",4233,1,1,3,5,null,2251,2750,5]
[129,160,5,null,97,120,5,null,119,148,5,null,119,148,5,null,129,160,5,null,141,175,5,null,109,135,5,null,131,163,5,null,109,135,5,null,121,150,5,null,129,160,5,null,108,134,5,null,122,151,5,null,101,125,5,null,109,135,5,null,129,160,5,null,681,850,5,null,2281,2850,5,null,101,125,5,null,109,135,5,null,143,178,5,null,null,2900,"to",3599,1,1,4,6,null,2551,"to",3000,1,1,5,7,null,2601,"to",3050,1,1,5,7,null,null,null,null,null,null,null,null,4234,"to",9999999,1,1,4,6,null,2751,3250,6]
[161,192,6,null,121,144,6,null,149,177,6,null,149,177,6,null,161,192,6,null,176,210,6,null,136,162,6,null,164,195,6,null,136,162,6,null,151,180,6,null,161,192,6,null,135,161,6,null,152,182,6,null,126,150,6,null,136,162,6,null,161,192,6,null,851,1020,6,null,2851,3420,6,null,126,150,6,null,136,162,6,null,179,213,6,null,null,3600,"to",9999,1,1,5,7,null,3001,"to",3450,1,1,6,8,null,3051,"to",3500,1,1,6,8,null,null,null,null,null,null,null,null,null,null,null,null,null,null,null,null,3251,3750,7]
[193,224,7,null,145,168,7,null,178,207,7,null,178,207,7,null,193,224,7,null,211,245,7,null,163,189,7,null,196,228,7,null,163,189,7,null,181,210,7,null,193,224,7,null,162,188,7,null,183,212,7,null,151,175,7,null,163,189,7,null,193,224,7,null,1021,1190,7,null,3421,3990,7,null,151,175,7,null,163,189,7,null,214,249,7,null,null,null,null,null,null,null,null,null,null,3451,"to",3900,1,1,7,9,null,3501,"to",3950,1,1,7,9]
[225,256,8,null,169,192,8,null,208,236,8,null,208,236,8,null,225,256,8,null,246,280,8,null,190,216,8,null,229,260,8,null,190,216,8,null,211,240,8,null,225,256,8,null,189,215,8,null,213,242,8,null,176,200,8,null,190,216,8,null,225,256,8,null,1191,1360,8,null,3991,4560,8,null,176,200,8,null,190,216,8,null,250,284,8,null,null,null,null,null,null,null,null,null,null,3901,"to",4350,1,1,8,10,null,3951,"to",4400,1,1,8,10]
[257,288,9,null,193,216,9,null,237,266,9,null,237,266,9,null,257,288,9,null,281,315,9,null,217,243,9,null,261,293,9,null,217,243,9,null,241,270,9,null,257,288,9,null,216,242,9,null,243,273,9,null,201,225,9,null,217,243,9,null,257,288,9,null,1361,1530,9,null,4561,5130,9,null,201,225,9,null,217,243,9,null,285,320,9,null,null,null,null,null,null,null,null,null,null,4351,"to",4800,1,1,9,11,null,4401,"to",4850,1,1,9,11]
[289,320,10,null,217,240,10,null,267,295,10,null,267,295,10,null,289,320,10,null,316,350,10,null,244,270,10,null,294,325,10,null,244,270,10,null,271,300,10,null,289,320,10,null,243,269,10,null,274,303,10,null,226,250,10,null,244,270,10,null,289,320,10,null,1531,1700,10,null,5131,5690,10,null,226,250,10,null,244,270,10,null,321,355,10,null,null,null,null,null,null,null,null,null,null,4801,"to",5250,1,1,10,12,null,4851,"to",5300,1,1,10,12]
[321,352,11,null,241,264,11,null,296,325,11,null,296,325,11,null,321,352,11,null,351,385,11,null,271,297,11,null,326,358,11,null,271,297,11,null,301,330,11,null,321,352,11,null,270,296,11,null,304,334,11,null,251,275,11,null,271,297,11,null,321,352,11,null,1701,1870,11,null,5691,6260,11,null,251,275,11,null,271,297,11,null,356,391,11,null,null,null,null,null,null,null,null,null,null,5251,"to",9999,1,1,11,13,null,5301,"to",9999,1,1,11,13]
[353,384,12,null,265,288,12,null,326,354,12,null,326,354,12,null,353,384,12,null,386,420,12,null,298,324,12,null,359,390,12,null,298,324,12,null,331,360,12,null,353,385,12,null,297,323,12,null,335,364,12,null,276,300,12,null,298,325,12,null,353,385,12,null,1871,2040,12,null,6261,6830,12,null,276,300,12,null,298,325,12,null,392,426,12]
[385,416,13,null,289,312,13,null,355,384,13,null,355,384,13,null,385,416,13,null,421,455,13,null,325,351,13,null,391,423,13,null,325,351,13,null,361,390,13,null,386,417,13,null,324,350,13,null,365,394,13,null,301,325,13,null,326,352,13,null,386,417,13,null,2041,2210,13,null,6831,7400,13,null,301,325,13,null,326,352,13,null,427,462,13]
[417,448,14,null,313,336,14,null,385,413,14,null,385,413,14,null,417,448,14,null,456,490,14,null,352,378,14,null,424,455,14,null,352,378,14,null,391,420,14,null,418,449,14,null,351,377,14,null,395,425,14,null,326,350,14,null,353,379,14,null,418,449,14,null,2211,2380,14,null,7401,7970,14,null,326,350,14,null,353,379,14,null,463,497,14]
[449,480,15,null,337,360,15,null,414,443,15,null,414,443,15,null,449,480,15,null,491,525,15,null,379,405,15,null,456,488,15,null,379,405,15,null,421,450,15,null,450,481,15,null,378,404,15,null,426,455,15,null,351,375,15,null,380,406,15,null,450,481,15,null,2381,2550,15,null,7971,8540,15,null,351,375,15,null,380,406,15,null,498,533,15]
[481,512,16,null,361,384,16,null,444,472,16,null,444,472,16,null,481,512,16,null,526,560,16,null,406,432,16,null,489,520,16,null,406,432,16,null,451,480,16,null,482,513,16,null,405,431,16,null,456,485,16,null,376,400,16,null,407,433,16,null,482,513,16,null,2551,2720,16,null,8541,9110,16,null,376,400,16,null,407,433,16,null,534,568,16]
[513,544,17,null,385,408,17,null,473,502,17,null,473,502,17,null,513,544,17,null,561,595,17,null,433,459,17,null,521,553,17,null,433,459,17,null,481,510,17,null,514,545,17,null,432,458,17,null,486,516,17,null,401,425,17,null,434,460,17,null,514,545,17,null,2721,2890,17,null,9111,9680,17,null,401,425,17,null,434,460,17,null,569,604,17]
[545,576,18,null,409,432,18,null,503,531,18,null,503,531,18,null,545,576,18,null,596,630,18,null,460,486,18,null,554,585,18,null,460,486,18,null,511,540,18,null,546,577,18,null,459,485,18,null,517,546,18,null,426,450,18,null,461,487,18,null,546,577,18,null,2891,3060,18,null,9681,10250,18,null,426,450,18,null,461,487,18,null,605,639,18]
[577,608,19,null,433,456,19,null,532,561,19,null,532,561,19,null,577,608,19,null,631,665,19,null,487,513,19,null,586,618,19,null,487,513,19,null,541,570,19,null,578,609,19,null,486,512,19,null,547,577,19,null,451,475,19,null,488,514,19,null,578,609,19,null,3061,3230,19,null,10251,10820,19,null,451,475,19,null,488,514,19,null,640,675,19]
[609,640,20,null,457,480,20,null,562,590,20,null,562,590,20,null,609,640,20,null,666,700,20,null,514,540,20,null,619,650,20,null,514,540,20,null,571,600,20,null,610,641,20,null,513,539,20,null,578,607,20,null,476,500,20,null,515,541,20,null,610,641,20,null,3231,3400,20,null,10821,11390,20,null,476,500,20,null,515,541,20,null,676,710,20]
[641,672,21,null,481,504,21,null,591,620,21,null,591,620,21,null,641,672,21,null,701,735,21,null,541,567,21,null,651,683,21,null,541,567,21,null,601,630,21,null,642,673,21,null,540,566,21,null,608,637,21,null,501,525,21,null,542,568,21,null,642,673,21,null,3401,3570,21,null,11391,11960,21,null,501,525,21,null,542,568,21,null,711,746,21]
[673,704,22,null,505,528,22,null,621,649,22,null,621,649,22,null,673,704,22,null,736,770,22,null,568,594,22,null,684,715,22,null,568,594,22,null,631,660,22,null,674,705,22,null,567,593,22,null,638,668,22,null,526,550,22,null,569,595,22,null,674,705,22,null,3571,3740,22,null,11961,12530,22,null,526,550,22,null,569,595,22,null,747,781,22]
[705,736,23,null,529,552,23,null,650,679,23,null,650,679,23,null,705,736,23,null,771,805,23,null,595,621,23,null,716,748,23,null,595,621,23,null,661,690,23,null,706,737,23,null,594,620,23,null,669,698,23,null,551,575,23,null,596,622,23,null,706,737,23,null,null,null,null,null,null,null,null,null,551,575,23,null,596,622,23,null,782,817,23]
[737,768,24,null,553,576,24,null,680,708,24,null,680,708,24,null,737,768,24,null,806,840,24,null,622,648,24,null,749,780,24,null,622,648,24,null,691,720,24,null,738,770,24,null,621,647,24,null,699,728,24,null,576,600,24,null,623,650,24,null,738,770,24,null,null,null,null,null,null,null,null,null,576,600,24,null,623,650,24,null,818,852,24]
[769,800,25,null,577,600,25,null,709,738,25,null,709,738,25,null,769,800,25,null,841,875,25,null,649,675,25,null,781,813,25,null,649,675,25,null,721,750,25,null,771,802,25,null,648,674,25,null,729,759,25,null,601,625,25,null,651,677,25,null,771,802,25,null,null,null,null,null,null,null,null,null,601,625,25,null,651,677,25,null,853,888,25]
[801,832,26,null,601,624,26,null,739,767,26,null,739,767,26,null,801,832,26,null,876,910,26,null,676,702,26,null,814,845,26,null,676,702,26,null,751,780,26,null,803,834,26,null,675,701,26,null,760,789,26,null,626,650,26,null,678,704,26,null,803,834,26,null,null,null,null,null,null,null,null,null,626,650,26,null,678,704,26,null,889,923,26]
[833,864,27,null,625,648,27,null,768,797,27,null,768,797,27,null,833,864,27,null,911,945,27,null,703,729,27,null,846,878,27,null,703,729,27,null,781,810,27,null,835,866,27,null,702,728,27,null,790,820,27,null,651,675,27,null,705,731,27,null,835,866,27,null,null,null,null,null,null,null,null,null,651,675,27,null,705,731,27,null,924,959,27]
[865,896,28,null,649,672,28,null,798,826,28,null,798,826,28,null,865,896,28,null,946,980,28,null,730,756,28,null,879,910,28,null,730,756,28,null,811,840,28,null,867,898,28,null,729,755,28,null,821,850,28,null,676,700,28,null,732,758,28,null,867,898,28,null,null,null,null,null,null,null,null,null,676,700,28,null,732,758,28,null,960,994,28]
[897,928,29,null,673,696,29,null,827,856,29,null,827,856,29,null,897,928,29,null,981,1015,29,null,757,783,29,null,911,943,29,null,757,783,29,null,841,870,29,null,899,930,29,null,756,782,29,null,851,880,29,null,701,725,29,null,759,785,29,null,899,930,29,null,null,null,null,null,null,null,null,null,701,725,29,null,759,785,29,null,995,1030,29]
[929,960,30,null,697,720,30,null,857,885,30,null,857,885,30,null,929,960,30,null,1016,1050,30,null,784,810,30,null,944,975,30,null,784,810,30,null,871,900,30,null,931,962,30,null,783,809,30,null,881,911,30,null,726,750,30,null,786,812,30,null,931,962,30,null,null,null,null,null,null,null,null,null,726,750,30,null,786,812,30,null,1031,1065,30]
[961,992,31,null,721,744,31,null,886,915,31,null,886,915,31,null,961,992,31,null,1051,1085,31,null,811,837,31,null,976,1008,31,null,811,837,31,null,901,930,31,null,963,994,31,null,810,836,31,null,912,941,31,null,751,775,31,null,813,839,31,null,963,994,31,null,null,null,null,null,null,null,null,null,751,775,31,null,813,839,31,null,1066,1101,31]
[993,1024,32,null,745,768,32,null,916,944,32,null,916,944,32,null,993,1024,32,null,1086,1120,32,null,838,864,32,null,1009,1040,32,null,838,864,32,null,931,960,32,null,995,1026,32,null,837,863,32,null,942,971,32,null,776,800,32,null,840,866,32,null,995,1026,32,null,null,null,null,null,null,null,null,null,776,800,32,null,840,866,32,null,1102,1136,32]
[1025,1056,33,null,769,792,33,null,945,974,33,null,945,974,33,null,1025,1056,33,null,1121,1155,33,null,865,891,33,null,1041,1073,33,null,865,891,33,null,961,990,33,null,1027,1058,33,null,864,890,33,null,972,1002,33,null,801,825,33,null,867,893,33,null,1027,1058,33,null,null,null,null,null,null,null,null,null,801,825,33,null,867,893,33,null,1137,1172,33]
[1057,1088,34,null,793,816,34,null,975,1003,34,null,975,1003,34,null,1057,1088,34,null,1156,1190,34,null,892,918,34,null,1074,1105,34,null,892,918,34,null,991,1020,34,null,1059,1090,34,null,891,917,34,null,1003,1032,34,null,826,850,34,null,894,920,34,null,1059,1090,34,null,null,null,null,null,null,null,null,null,826,850,34,null,894,920,34,null,1173,1207,34]
[1089,1120,35,null,817,840,35,null,1004,1033,35,null,1004,1033,35,null,1089,1120,35,null,1191,1225,35,null,919,945,35,null,1106,1138,35,null,919,945,35,null,1021,1050,35,null,1091,1122,35,null,918,944,35,null,1033,1063,35,null,851,875,35,null,921,947,35,null,1091,1122,35,null,null,null,null,null,null,null,null,null,851,875,35,null,921,947,35,null,1208,1243,35]
[1121,1152,36,null,841,864,36,null,1034,1062,36,null,1034,1062,36,null,1121,1152,36,null,1226,1260,36,null,946,972,36,null,1139,1170,36,null,946,972,36,null,1051,1080,36,null,1123,1155,36,null,945,971,36,null,1064,1093,36,null,876,900,36,null,948,975,36,null,1123,1155,36,null,null,null,null,null,null,null,null,null,876,900,36,null,948,975,36,null,1244,1278,36]
[1153,1184,37,null,865,888,37,null,1063,1092,37,null,1063,1092,37,null,1153,1184,37,null,1261,1295,37,null,973,999,37,null,1171,1203,37,null,973,999,37,null,1081,1110,37,null,1156,1187,37,null,972,998,37,null,1094,1123,37,null,901,925,37,null,976,1002,37,null,1156,1187,37,null,null,null,null,null,null,null,null,null,901,925,37,null,976,1002,37,null,1279,1314,37]
[1185,1216,38,null,889,912,38,null,1093,1121,38,null,1093,1121,38,null,1185,1216,38,null,1296,1330,38,null,1000,1026,38,null,1204,1235,38,null,1000,1026,38,null,1111,1140,38,null,1188,1219,38,null,999,1025,38,null,1124,1154,38,null,926,950,38,null,1003,1029,38,null,1188,1219,38,null,null,null,null,null,null,null,null,null,926,950,38,null,1003,1029,38,null,1315,1349,38]
[1217,1248,39,null,913,936,39,null,1122,1151,39,null,1122,1151,39,null,1217,1248,39,null,1331,1365,39,null,1027,1053,39,null,1236,1268,39,null,1027,1053,39,null,1141,1170,39,null,1220,1251,39,null,1026,1052,39,null,1155,1184,39,null,951,975,39,null,1030,1056,39,null,1220,1251,39,null,null,null,null,null,null,null,null,null,951,975,39,null,1030,1056,39,null,1350,1385,39]
[1249,1280,40,null,937,960,40,null,1152,1180,40,null,1152,1180,40,null,1249,1280,40,null,1366,1400,40,null,1054,1080,40,null,1269,1300,40,null,1054,1080,40,null,1171,1200,40,null,1252,1283,40,null,1053,1079,40,null,1185,1214,40,null,976,1000,40,null,1057,1083,40,null,1252,1283,40,null,null,null,null,null,null,null,null,null,976,1000,40,null,1057,1083,40,null,1386,1420,40]
[1281,1312,41,null,961,984,41,null,1181,1210,41,null,1181,1210,41,null,1281,1312,41,null,1401,1435,41,null,1081,1107,41,null,1301,1333,41,null,1081,1107,41,null,1201,1230,41,null,1284,1315,41,null,1080,1106,41,null,1215,1245,41,null,1001,1025,41,null,1084,1110,41,null,1284,1315,41,null,null,null,null,null,null,null,null,null,1001,1025,41,null,1084,1110,41,null,1421,1456,41]
[1313,1344,42,null,985,1008,42,null,1211,1239,42,null,1211,1239,42,null,1313,1344,42,null,1436,1470,42,null,1108,1134,42,null,1334,1365,42,null,1108,1134,42,null,1231,1260,42,null,1316,1347,42,null,1107,1133,42,null,1246,1275,42,null,1026,1050,42,null,1111,1137,42,null,1316,1347,42,null,null,null,null,null,null,null,null,null,1026,1050,42,null,1111,1137,42,null,1457,1491,42]
[1345,1376,43,null,1009,1032,43,null,1240,1269,43,null,1240,1269,43,null,1345,1376,43,null,1471,1505,43,null,1135,1161,43,null,1366,1398,43,null,1135,1161,43,null,1261,1290,43,null,1348,1379,43,null,1134,1160,43,null,1276,1306,43,null,1051,1075,43,null,1138,1164,43,null,1348,1379,43,null,null,null,null,null,null,null,null,null,1051,1075,43,null,1138,1164,43,null,1492,1527,43]
[1377,1408,44,null,1033,1056,44,null,1270,1298,44,null,1270,1298,44,null,1377,1408,44,null,1506,1540,44,null,1162,1188,44,null,1399,1430,44,null,1162,1188,44,null,1291,1320,44,null,1380,1411,44,null,1161,1187,44,null,1307,1336,44,null,1076,1100,44,null,1165,1191,44,null,1380,1411,44,null,null,null,null,null,null,null,null,null,1076,1100,44,null,1165,1191,44,null,1528,1562,44]
[1409,1440,45,null,1057,1080,45,null,1299,1328,45,null,1299,1328,45,null,1409,1440,45,null,1541,1575,45,null,1189,1215,45,null,1431,1463,45,null,1189,1215,45,null,1321,1350,45,null,1412,1443,45,null,1188,1214,45,null,1337,1366,45,null,1101,1125,45,null,1192,1218,45,null,1412,1443,45,null,null,null,null,null,null,null,null,null,1101,1125,45,null,1192,1218,45,null,1563,1598,45]
[1441,1472,46,null,1081,1104,46,null,1329,1357,46,null,1329,1357,46,null,1441,1472,46,null,1576,1610,46,null,1216,1242,46,null,1464,1495,46,null,1216,1242,46,null,1351,1380,46,null,1444,1475,46,null,1215,1241,46,null,1367,1397,46,null,1126,1150,46,null,1219,1245,46,null,1444,1475,46,null,null,null,null,null,null,null,null,null,1126,1150,46,null,1219,1245,46,null,1599,1633,46]
[1473,1504,47,null,1105,1128,47,null,1358,1387,47,null,1358,1387,47,null,1473,1504,47,null,1611,1645,47,null,1243,1269,47,null,1496,1528,47,null,1243,1269,47,null,1381,1410,47,null,1476,1507,47,null,1242,1268,47,null,1398,1427,47,null,1151,1175,47,null,1246,1272,47,null,1476,1507,47,null,null,null,null,null,null,null,null,null,1151,1175,47,null,1246,1272,47,null,1634,1669,47]
[1505,1536,48,null,1129,1152,48,null,1388,1416,48,null,1388,1416,48,null,1505,1536,48,null,1646,1680,48,null,1270,1296,48,null,1529,1560,48,null,1270,1296,48,null,1411,1440,48,null,1508,1540,48,null,1269,1295,48,null,1428,1457,48,null,1176,1200,48,null,1273,1300,48,null,1508,1540,48,null,null,null,null,null,null,null,null,null,1176,1200,48,null,1273,1300,48,null,1670,1704,48]
[1537,1568,49,null,1153,1176,49,null,1417,1446,49,null,1417,1446,49,null,1537,1568,49,null,1681,1715,49,null,1297,1323,49,null,1561,1593,49,null,1297,1323,49,null,1441,1470,49,null,1541,1572,49,null,1296,1322,49,null,1458,1488,49,null,1201,1225,49,null,1301,1327,49,null,1541,1572,49,null,null,null,null,null,null,null,null,null,1201,1225,49,null,1301,1327,49,null,1705,1740,49]
[1569,1600,50,null,1177,1200,50,null,1447,1475,50,null,1447,1475,50,null,1569,1600,50,null,1716,1750,50,null,1324,1350,50,null,1594,1625,50,null,1324,1350,50,null,1471,1500,50,null,1573,1604,50,null,1323,1349,50,null,1489,1518,50,null,1226,1250,50,null,1328,1354,50,null,1573,1604,50,null,null,null,null,null,null,null,null,null,1226,1250,50,null,1328,1354,50,null,1741,1775,50]
[1601,1632,51,null,1201,1224,51,null,1476,1505,51,null,1476,1505,51,null,1601,1632,51,null,1751,1785,51,null,1351,1377,51,null,1626,1658,51,null,1351,1377,51,null,1501,1530,51,null,1605,1636,51,null,1350,1376,51,null,1519,1548,51,null,1251,1275,51,null,1355,1381,51,null,1605,1636,51,null,null,null,null,null,null,null,null,null,1251,1275,51,null,1355,1381,51,null,1776,1811,51]
[1633,1664,52,null,1225,1248,52,null,1506,1534,52,null,1506,1534,52,null,1633,1664,52,null,1786,1820,52,null,1378,1404,52,null,1659,1690,52,null,1378,1404,52,null,1531,1560,52,null,1637,1668,52,null,1377,1403,52,null,1549,1579,52,null,1276,1300,52,null,1382,1408,52,null,1637,1668,52,null,null,null,null,null,null,null,null,null,1276,1300,52,null,1382,1408,52,null,1812,1846,52]
[1665,1696,53,null,1249,1272,53,null,1535,1564,53,null,1535,1564,53,null,1665,1696,53,null,1821,1855,53,null,1405,1431,53,null,1691,1723,53,null,1405,1431,53,null,1561,1590,53,null,1669,1700,53,null,1404,1430,53,null,1580,1609,53,null,1301,1325,53,null,1409,1435,53,null,1669,1700,53,null,null,null,null,null,null,null,null,null,1301,1325,53,null,1409,1435,53,null,1847,1882,53]
[1697,1728,54,null,1273,1296,54,null,1565,1593,54,null,1565,1593,54,null,1697,1728,54,null,1856,1890,54,null,1432,1458,54,null,1724,1755,54,null,1432,1458,54,null,1591,1620,54,null,1701,1732,54,null,1431,1457,54,null,1610,1640,54,null,1326,1350,54,null,1436,1462,54,null,1701,1732,54,null,null,null,null,null,null,null,null,null,1326,1350,54,null,1436,1462,54,null,1883,1917,54]
[1729,1760,55,null,1297,1320,55,null,1594,1623,55,null,1594,1623,55,null,1729,1760,55,null,1891,1925,55,null,1459,1485,55,null,1756,1788,55,null,1459,1485,55,null,1621,1650,55,null,1733,1764,55,null,1458,1484,55,null,1641,1670,55,null,1351,1375,55,null,1463,1489,55,null,1733,1764,55,null,null,null,null,null,null,null,null,null,1351,1375,55,null,1463,1489,55,null,1918,1953,55]
[1761,1792,56,null,1321,1344,56,null,1624,1652,56,null,1624,1652,56,null,1761,1792,56,null,1926,1960,56,null,1486,1512,56,null,1789,1820,56,null,1486,1512,56,null,1651,1680,56,null,1765,1796,56,null,1485,1511,56,null,1671,1700,56,null,1376,1400,56,null,1490,1516,56,null,1765,1796,56,null,null,null,null,null,null,null,null,null,1376,1400,56,null,1490,1516,56,null,1954,1988,56]
[1793,1824,57,null,1345,1368,57,null,1653,1682,57,null,1653,1682,57,null,1793,1824,57,null,1961,1995,57,null,1513,1539,57,null,1821,1853,57,null,1513,1539,57,null,1681,1710,57,null,1797,1828,57,null,1512,1538,57,null,1701,1731,57,null,1401,1425,57,null,1517,1543,57,null,1797,1828,57,null,null,null,null,null,null,null,null,null,1401,1425,57,null,1517,1543,57,null,1989,2024,57]
[1825,1856,58,null,1369,1392,58,null,1683,1711,58,null,1683,1711,58,null,1825,1856,58,null,1996,2030,58,null,1540,1566,58,null,1854,1885,58,null,1540,1566,58,null,1711,1740,58,null,1829,1860,58,null,1539,1565,58,null,1732,1761,58,null,1426,1450,58,null,1544,1570,58,null,1829,1860,58,null,null,null,null,null,null,null,null,null,1426,1450,58,null,1544,1570,58,null,2025,2059,58]
[1857,1888,59,null,1393,1416,59,null,1712,1741,59,null,1712,1741,59,null,1857,1888,59,null,2031,2065,59,null,1567,1593,59,null,1886,1918,59,null,1567,1593,59,null,1741,1770,59,null,1861,1892,59,null,1566,1592,59,null,1762,1791,59,null,1451,1475,59,null,1571,1597,59,null,1861,1892,59,null,null,null,null,null,null,null,null,null,1451,1475,59,null,1571,1597,59,null,2060,2095,59]
[1889,1920,60,null,1417,1440,60,null,1742,1770,60,null,1742,1770,60,null,1889,1920,60,null,2066,2100,60,null,1594,1620,60,null,1919,1950,60,null,1594,1620,60,null,1771,1800,60,null,1893,1925,60,null,1593,1619,60,null,1792,1822,60,null,1476,1500,60,null,1598,1625,60,null,1893,1925,60,null,null,null,null,null,null,null,null,null,1476,1500,60,null,1598,1625,60,null,2096,2130,60]
[1921,1952,61,null,1441,1464,61,null,1771,1800,61,null,1771,1800,61,null,1921,1952,61,null,2101,2135,61,null,1621,1647,61,null,1951,1983,61,null,1621,1647,61,null,1801,1830,61,null,1926,1957,61,null,1620,1646,61,null,1823,1852,61,null,1501,1525,61,null,1626,1652,61,null,1926,1957,61,null,null,null,null,null,null,null,null,null,1501,1525,61,null,1626,1652,61,null,2131,2166,61]
[1953,1984,62,null,1465,1488,62,null,1801,1829,62,null,1801,1829,62,null,1953,1984,62,null,2136,2170,62,null,1648,1674,62,null,1984,2015,62,null,1648,1674,62,null,1831,1860,62,null,1958,1989,62,null,1647,1673,62,null,1853,1883,62,null,1526,1550,62,null,1653,1679,62,null,1958,1989,62,null,null,null,null,null,null,null,null,null,1526,1550,62,null,1653,1679,62,null,2167,2201,62]
[1985,2016,63,null,1489,1512,63,null,1830,1859,63,null,1830,1859,63,null,1985,2016,63,null,2171,2205,63,null,1675,1701,63,null,2016,2048,63,null,1675,1701,63,null,1861,1890,63,null,1990,2021,63,null,1674,1700,63,null,1884,1913,63,null,1551,1575,63,null,1680,1706,63,null,1990,2021,63,null,null,null,null,null,null,null,null,null,1551,1575,63,null,1680,1706,63,null,2202,2237,63]
[2017,2048,64,null,1513,1536,64,null,1860,1888,64,null,1860,1888,64,null,2017,2048,64,null,2206,2240,64,null,1702,1728,64,null,2049,2080,64,null,1702,1728,64,null,1891,1920,64,null,2022,2053,64,null,1701,1727,64,null,1914,1943,64,null,1576,1600,64,null,1707,1733,64,null,2022,2053,64,null,null,null,null,null,null,null,null,null,1576,1600,64,null,1707,1733,64,null,2238,2272,64]
[2049,2080,65,null,1537,1560,65,null,1889,1918,65,null,1889,1918,65,null,2049,2080,65,null,2241,2275,65,null,1729,1755,65,null,2081,2113,65,null,1729,1755,65,null,1921,1950,65,null,2054,2085,65,null,1728,1754,65,null,1944,1974,65,null,1601,1625,65,null,1734,1760,65,null,2054,2085,65,null,null,null,null,null,null,null,null,null,1601,1625,65,null,1734,1760,65,null,2273,2308,65]
[2081,2112,66,null,1561,1584,66,null,1919,1947,66,null,1919,1947,66,null,2081,2112,66,null,2276,2310,66,null,1756,1782,66,null,2114,2145,66,null,1756,1782,66,null,1951,1980,66,null,2086,2117,66,null,1755,1781,66,null,1975,2004,66,null,1626,1650,66,null,1761,1787,66,null,2086,2117,66,null,null,null,null,null,null,null,null,null,1626,1650,66,null,1761,1787,66,null,2309,2343,66]
[2113,2144,67,null,1585,1608,67,null,1948,1977,67,null,1948,1977,67,null,2113,2144,67,null,2311,2345,67,null,1783,1809,67,null,2146,2178,67,null,1783,1809,67,null,1981,2010,67,null,2118,2149,67,null,1782,1808,67,null,2005,2034,67,null,1651,1675,67,null,1788,1814,67,null,2118,2149,67,null,null,null,null,null,null,null,null,null,1651,1675,67,null,1788,1814,67,null,2344,2379,67]
[2145,2176,68,null,1609,1632,68,null,1983,2006,68,null,1978,2006,68,null,2145,2176,68,null,2346,2380,68,null,1810,1836,68,null,2179,2210,68,null,1810,1836,68,null,2011,2040,68,null,2150,2181,68,null,1809,1835,68,null,2035,2065,68,null,1676,1700,68,null,1815,1841,68,null,2150,2181,68,null,null,null,null,null,null,null,null,null,1676,1700,68,null,1815,1841,68,null,2380,2414,68]
[2177,2208,69,null,1633,1656,69,null,2012,2036,69,null,2007,2036,69,null,2177,2208,69,null,2381,2415,69,null,1837,1863,69,null,2211,2243,69,null,1837,1863,69,null,2041,2070,69,null,2182,2213,69,null,1836,1862,69,null,2066,2095,69,null,1701,1725,69,null,1842,1868,69,null,2182,2213,69,null,null,null,null,null,null,null,null,null,1701,1725,69,null,1842,1868,69,null,2415,2450,69]
[2209,2240,70,null,1657,1680,70,null,2042,2065,70,null,2037,2065,70,null,2209,2240,70,null,2416,2450,70,null,1864,1890,70,null,2244,2275,70,null,1864,1890,70,null,2071,2100,70,null,2214,2245,70,null,1863,1889,70,null,2096,2126,70,null,1726,1750,70,null,1869,1895,70,null,2214,2245,70,null,null,null,null,null,null,null,null,null,1726,1750,70,null,1869,1895,70,null,2451,2485,70]
[2241,2272,71,null,1681,1704,71,null,2071,2095,71,null,2066,2095,71,null,2241,2272,71,null,2451,2485,71,null,1891,1917,71,null,2276,2308,71,null,1891,1917,71,null,2101,2130,71,null,2246,2277,71,null,1890,1916,71,null,2127,2156,71,null,1751,1775,71,null,1896,1922,71,null,2246,2277,71,null,null,null,null,null,null,null,null,null,1751,1775,71,null,1896,1922,71,null,2486,2521,71]
[2273,2304,72,null,1705,1728,72,null,2101,2124,72,null,2096,2124,72,null,2273,2304,72,null,2486,2520,72,null,1918,1944,72,null,2309,2340,72,null,1918,1944,72,null,2131,2160,72,null,2278,2310,72,null,1917,1942,72,null,2157,2186,72,null,1776,1800,72,null,1923,1950,72,null,2278,2310,72,null,null,null,null,null,null,null,null,null,1776,1800,72,null,1923,1950,72,null,2522,2556,72]
[2305,2336,73,null,1729,1752,73,null,2130,2154,73,null,2125,2154,73,null,2305,2336,73,null,2521,2555,73,null,null,null,null,null,null,null,null,null,null,null,null,null,null,null,null,null,2311,2342,73,null,1943,1969,73,null,2187,2217,73,null,1801,1825,73,null,1951,1977,73,null,2311,2342,73,null,null,null,null,null,null,null,null,null,1801,1825,73,null,1951,1977,73,null,2557,2592,73]
[2337,2368,74,null,1753,1776,74,null,2160,2183,74,null,2155,2183,74,null,2337,2368,74,null,2556,2590,74,null,null,null,null,null,null,null,null,null,null,null,null,null,null,null,null,null,2343,2374,74,null,1970,1996,74,null,2218,2247,74,null,1826,1850,74,null,1978,2004,74,null,2343,2374,74,null,null,null,null,null,null,null,null,null,1826,1850,74,null,1978,2004,74,null,2593,2627,74]
[2369,2400,75,null,1777,1800,75,null,2189,2213,75,null,2184,2213,75,null,2369,2400,75,null,2591,2625,75,null,null,null,null,null,null,null,null,null,null,null,null,null,null,null,null,null,2375,2406,75,null,1997,2023,75,null,2248,2277,75,null,1851,1875,75,null,2005,2031,75,null,2375,2406,75,null,null,null,null,null,null,null,null,null,1851,1875,75,null,2005,2031,75,null,2628,2663,75]
[2401,2432,76,null,1801,1824,76,null,2219,2242,76,null,2214,2242,76,null,2401,2432,76,null,2626,2660,76,null,null,null,null,null,null,null,null,null,null,null,null,null,null,null,null,null,2407,2438,76,null,2024,2050,76,null,2278,2308,76,null,1876,1900,76,null,2032,2058,76,null,2407,2438,76,null,null,null,null,null,null,null,null,null,1876,1900,76,null,2032,2058,76,null,2664,2698,76]
[2433,2464,77,null,1825,1848,77,null,2248,2272,77,null,2243,2272,77,null,2433,2464,77,null,2661,2695,77,null,null,null,null,null,null,null,null,null,null,null,null,null,null,null,null,null,2439,2470,77,null,2051,2077,77,null,2309,2338,77,null,1901,1925,77,null,2059,2085,77,null,2439,2470,77,null,null,null,null,null,null,null,null,null,1901,1925,77,null,2059,2085,77,null,2699,2734,77]
[2465,2496,78,null,1849,1872,78,null,2278,2301,78,null,2273,2301,78,null,2465,2496,78,null,2696,2730,78,null,null,null,null,null,null,null,null,null,null,null,null,null,null,null,null,null,2471,2502,78,null,2078,2104,78,null,2339,2369,78,null,1926,1950,78,null,2086,2112,78,null,2471,2502,78,null,null,null,null,null,null,null,null,null,1926,1950,78,null,2086,2112,78,null,2735,2769,78]
[2497,2528,79,null,1873,1896,79,null,2307,2331,79,null,2302,2331,79,null,2497,2528,79,null,2731,2765,79,null,null,null,null,null,null,null,null,null,null,null,null,null,null,null,null,null,2503,2534,79,null,2105,2131,79,null,2370,2399,79,null,1951,1975,79,null,2113,2139,79,null,2503,2534,79,null,null,null,null,null,null,null,null,null,1951,1975,79,null,2113,2139,79,null,2770,2805,79]
[2529,2560,80,null,1897,1920,80,null,2337,2360,80,null,2332,2360,80,null,2529,2560,80,null,2766,2800,80,null,null,null,null,null,null,null,null,null,null,null,null,null,null,null,null,null,2535,2566,80,null,2132,2158,80,null,2400,2429,80,null,1976,2000,80,null,2140,2166,80,null,2535,2566,80,null,null,null,null,null,null,null,null,null,1976,2000,80,null,2140,2166,80,null,2806,2840,80]
[2561,2592,81,null,1921,1944,81,null,2366,2390,81,null,2361,2390,81,null,2561,2592,81,null,2801,2835,81,null,null,null,null,null,null,null,null,null,null,null,null,null,null,null,null,null,2567,2598,81,null,2159,2185,81,null,2430,2460,81,null,2001,2025,81,null,2167,2193,81,null,2567,2598,81,null,null,null,null,null,null,null,null,null,2001,2025,81,null,2167,2193,81,null,2841,2876,81]
[2593,2624,82,null,1945,1968,82,null,2396,2419,82,null,2391,2419,82,null,2593,2624,82,null,2836,2870,82,null,null,null,null,null,null,null,null,null,null,null,null,null,null,null,null,null,2599,2630,82,null,2186,2212,82,null,2461,2490,82,null,2026,2050,82,null,2194,2220,82,null,2599,2630,82,null,null,null,null,null,null,null,null,null,2026,2050,82,null,2194,2220,82,null,2877,2911,82]
[2625,2656,83,null,1969,1992,83,null,2425,2449,83,null,2420,2449,83,null,2625,2656,83,null,2871,2905,83,null,null,null,null,null,null,null,null,null,null,null,null,null,null,null,null,null,2631,2662,83,null,2213,2239,83,null,2491,2520,83,null,2051,2075,83,null,2221,2247,83,null,2631,2662,83,null,null,null,null,null,null,null,null,null,2051,2075,83,null,2221,2247,83,null,2912,2947,83]
[2657,2688,84,null,1993,2016,84,null,2455,2478,84,null,2450,2478,84,null,2657,2688,84,null,2906,2940,84,null,null,null,null,null,null,null,null,null,null,null,null,null,null,null,null,null,2663,2695,84,null,2240,2266,84,null,2521,2551,84,null,2076,2100,84,null,2248,2275,84,null,2663,2695,84,null,null,null,null,null,null,null,null,null,2076,2100,84,null,2248,2275,84,null,2948,2982,84]
[2689,2720,85,null,2017,2040,85,null,2484,2508,85,null,2479,2508,85,null,2689,2720,85,null,2941,2975,85,null,null,null,null,null,null,null,null,null,null,null,null,null,null,null,null,null,2696,2727,85,null,2267,2293,85,null,2552,2581,85,null,2101,2125,85,null,2276,2302,85,null,2696,2727,85,null,null,null,null,null,null,null,null,null,2101,2125,85,null,2276,2302,85,null,2983,3018,85]
[2721,2752,86,null,2041,2064,86,null,2514,2537,86,null,2509,2537,86,null,2721,2752,86,null,2976,3010,86,null,null,null,null,null,null,null,null,null,null,null,null,null,null,null,null,null,2728,2759,86,null,2294,2320,86,null,2582,2612,86,null,2126,2150,86,null,2303,2329,86,null,2728,2759,86,null,null,null,null,null,null,null,null,null,2126,2150,86,null,2303,2329,86,null,3019,3053,86]
[2753,2784,87,null,2065,2088,87,null,2543,2567,87,null,2538,2567,87,null,2753,2784,87,null,3011,3045,87,null,null,null,null,null,null,null,null,null,null,null,null,null,null,null,null,null,2760,2791,87,null,2321,2347,87,null,2613,2642,87,null,2151,2175,87,null,2330,2356,87,null,2760,2791,87,null,null,null,null,null,null,null,null,null,2151,2175,87,null,2330,2356,87,null,3054,3089,87]
[2785,2816,88,null,2089,2112,88,null,2573,2596,88,null,2568,2596,88,null,2785,2816,88,null,3046,3080,88,null,null,null,null,null,null,null,null,null,null,null,null,null,null,null,null,null,2792,2823,88,null,2348,2374,88,null,2643,2672,88,null,2176,2200,88,null,2357,2383,88,null,2792,2823,88,null,null,null,null,null,null,null,null,null,2176,2200,88,null,2357,2383,88,null,3090,3124,88]
[2817,2848,89,null,2113,2136,89,null,2602,2626,89,null,2597,2626,89,null,2817,2848,89,null,3081,3115,89,null,null,null,null,null,null,null,null,null,null,null,null,null,null,null,null,null,2824,2855,89,null,2375,2401,89,null,2673,2703,89,null,2201,2225,89,null,2384,2410,89,null,2824,2855,89,null,null,null,null,null,null,null,null,null,2201,2225,89,null,2384,2410,89,null,3125,3160,89]
[2849,2880,90,null,2137,2160,90,null,2632,2655,90,null,2627,2655,90,null,2849,2880,90,null,3116,3150,90,null,null,null,null,null,null,null,null,null,null,null,null,null,null,null,null,null,2856,2887,90,null,2402,2428,90,null,2704,2733,90,null,2226,2250,90,null,2411,2437,90,null,2856,2887,90,null,null,null,null,null,null,null,null,null,2226,2250,90,null,2411,2437,90,null,3161,3195,90]
[2881,2912,91,null,2161,2184,91,null,2661,2685,91,null,2656,2685,91,null,2881,2912,91,null,3151,3185,91,null,null,null,null,null,null,null,null,null,null,null,null,null,null,null,null,null,2888,2919,91,null,2429,2455,91,null,2734,2763,91,null,2251,2275,91,null,2438,2464,91,null,2888,2919,91,null,null,null,null,null,null,null,null,null,2251,2275,91,null,2438,2464,91,null,3196,3231,91]
[2913,2944,92,null,2185,2208,92,null,2691,2714,92,null,2686,2714,92,null,2913,2944,92,null,3186,3220,92,null,null,null,null,null,null,null,null,null,null,null,null,null,null,null,null,null,2920,2951,92,null,2456,2482,92,null,2764,2794,92,null,2276,2300,92,null,2465,2491,92,null,2920,2951,92,null,null,null,null,null,null,null,null,null,2276,2300,92,null,2465,2491,92,null,3232,3266,92]
[2945,2976,93,null,2209,2232,93,null,2720,2744,93,null,2715,2744,93,null,2945,2976,93,null,3221,3255,93,null,null,null,null,null,null,null,null,null,null,null,null,null,null,null,null,null,2952,2983,93,null,2483,2509,93,null,2795,2824,93,null,2301,2325,93,null,2492,2518,93,null,2952,2983,93,null,null,null,null,null,null,null,null,null,2301,2325,93,null,2492,2518,93,null,3267,3302,93]
[2977,3008,94,null,2233,2256,94,null,2750,2773,94,null,2745,2773,94,null,2977,3008,94,null,3256,3290,94,null,null,null,null,null,null,null,null,null,null,null,null,null,null,null,null,null,2984,3015,94,null,2510,2536,94,null,2825,2854,94,null,2326,2350,94,null,2519,2545,94,null,2984,3015,94,null,null,null,null,null,null,null,null,null,2326,2350,94,null,2519,2545,94,null,3303,3337,94]
[3009,3040,95,null,2257,2280,95,null,2779,2803,95,null,2774,2803,95,null,3009,3040,95,null,3291,3325,95,null,null,null,null,null,null,null,null,null,null,null,null,null,null,null,null,null,3016,3047,95,null,2537,2563,95,null,2855,2885,95,null,2351,2375,95,null,2546,2572,95,null,3016,3047,95,null,null,null,null,null,null,null,null,null,2351,2375,95,null,2546,2572,95,null,3338,3373,95]
[3041,3072,96,null,2281,2304,96,null,2809,2832,96,null,2804,2832,96,null,3041,3072,96,null,3326,3360,96,null,null,null,null,null,null,null,null,null,null,null,null,null,null,null,null,null,3048,3080,96,null,2564,2590,96,null,2886,2915,96,null,2376,2400,96,null,2573,2600,96,null,3048,3080,96,null,null,null,null,null,null,null,null,null,2376,2400,96,null,2573,2600,96,null,3374,3408,96]
[3073,3104,97,null,2305,2328,97,null,2838,2862,97,null,2833,2862,97,null,3073,3104,97,null,3361,3395,97,null,null,null,null,null,null,null,null,null,null,null,null,null,null,null,null,null,3081,3112,97,null,2591,2617,97,null,2916,2946,97,null,2401,2425,97,null,2601,2627,97,null,3081,3112,97,null,null,null,null,null,null,null,null,null,2401,2425,97,null,2601,2627,97,null,3409,3444,97]
[3105,3136,98,null,2329,2352,98,null,2868,2891,98,null,2863,2891,98,null,3105,3136,98,null,3396,3430,98,null,null,null,null,null,null,null,null,null,null,null,null,null,null,null,null,null,3113,3144,98,null,2618,2644,98,null,2947,2976,98,null,2426,2450,98,null,2628,2654,98,null,3113,3144,98,null,null,null,null,null,null,null,null,null,2426,2450,98,null,2628,2654,98,null,3445,3479,98]
[3137,3168,99,null,2353,2376,99,null,2897,2921,99,null,2892,2921,99,null,3137,3168,99,null,3431,3465,99,null,null,null,null,null,null,null,null,null,null,null,null,null,null,null,null,null,3145,3176,99,null,2645,2671,99,null,2977,3006,99,null,2451,2475,99,null,2655,2681,99,null,3145,3176,99,null,null,null,null,null,null,null,null,null,2451,2475,99,null,2655,2681,99,null,3480,3515,99]
[3169,3200,100,null,2377,2400,100,null,2927,2950,100,null,2922,2950,100,null,3169,3200,100,null,3466,3500,100,null,null,null,null,null,null,null,null,null,null,null,null,null,null,null,null,null,3177,3208,100,null,2672,2698,100,null,3007,3037,100,null,2476,2500,100,null,2682,2708,100,null,3177,3208,100,null,null,null,null,null,null,null,null,null,2476,2500,100,null,2682,2708,100,null,3516,3550,100]
[3201,3232,101,null,2401,2424,101,null,2956,2980,101,null,2951,2980,101,null,3201,3232,101,null,3501,3535,101,null,null,null,null,null,null,null,null,null,null,null,null,null,null,null,null,null,3209,3240,101,null,2699,2725,101,null,3038,3067,101,null,2501,2525,101,null,2709,2735,101,null,3209,3240,101,null,null,null,null,null,null,null,null,null,2501,2525,101,null,2709,2735,101,null,3551,3586,101]
[3233,3264,102,null,2425,2448,102,null,2986,3009,102,null,2981,3009,102,null,3233,3264,102,null,3536,3570,102,null,null,null,null,null,null,null,null,null,null,null,null,null,null,null,null,null,3241,3272,102,null,2726,2752,102,null,3068,3097,102,null,2526,2550,102,null,2736,2762,102,null,3241,3272,102,null,null,null,null,null,null,null,null,null,2526,2550,102,null,2736,2762,102,null,3587,3621,102]
[3265,3296,103,null,2449,2472,103,null,3015,3039,103,null,3010,3039,103,null,3265,3296,103,null,3571,3605,103,null,null,null,null,null,null,null,null,null,null,null,null,null,null,null,null,null,3273,3304,103,null,2753,2779,103,null,3098,3128,103,null,2551,2575,103,null,2763,2789,103,null,3273,3304,103,null,null,null,null,null,null,null,null,null,2551,2575,103,null,2763,2789,103,null,3622,3657,103]
[3297,3328,104,null,2473,2496,104,null,3045,3068,104,null,3040,3068,104,null,3297,3328,104,null,3606,3640,104,null,null,null,null,null,null,null,null,null,null,null,null,null,null,null,null,null,3305,3336,104,null,2780,2806,104,null,3129,3158,104,null,2576,2600,104,null,2790,2816,104,null,3305,3336,104,null,null,null,null,null,null,null,null,null,2576,2600,104,null,2790,2816,104,null,3658,3692,104]
[3329,3360,105,null,2497,2520,105,null,3074,3098,105,null,3069,3098,105,null,3329,3360,105,null,3641,3675,105,null,null,null,null,null,null,null,null,null,null,null,null,null,null,null,null,null,3337,3368,105,null,2807,2833,105,null,3159,3189,105,null,2601,2625,105,null,2817,2843,105,null,3337,3368,105,null,null,null,null,null,null,null,null,null,2601,2625,105,null,2817,2843,105,null,3693,3728,105]
[3361,3392,106,null,2521,2544,106,null,3104,3127,106,null,3099,3127,106,null,3361,3392,106,null,3676,3710,106,null,null,null,null,null,null,null,null,null,null,null,null,null,null,null,null,null,3369,3400,106,null,2834,2860,106,null,3190,3219,106,null,2626,2650,106,null,2844,2870,106,null,3369,3400,106,null,null,null,null,null,null,null,null,null,2626,2650,106,null,2844,2870,106,null,3729,3763,106]
[3393,3424,107,null,2545,2568,107,null,3133,3157,107,null,3128,3157,107,null,3393,3424,107,null,3711,3745,107,null,null,null,null,null,null,null,null,null,null,null,null,null,null,null,null,null,3401,3432,107,null,2861,2887,107,null,3220,3249,107,null,2651,2675,107,null,2871,2897,107,null,3401,3432,107,null,null,null,null,null,null,null,null,null,2651,2675,107,null,2871,2897,107,null,3764,3799,107]
[3425,3456,108,null,2569,2592,108,null,3163,3186,108,null,3158,3186,108,null,3425,3456,108,null,3746,3780,108,null,null,null,null,null,null,null,null,null,null,null,null,null,null,null,null,null,3433,3465,108,null,2888,2914,108,null,3250,3280,108,null,2676,2700,108,null,2898,2925,108,null,3433,3465,108,null,null,null,null,null,null,null,null,null,2676,2700,108,null,2898,2925,108,null,3800,3834,108]
[3457,3488,109,null,2593,2616,109,null,3192,3216,109,null,3187,3216,109,null,3457,3488,109,null,3781,3815,109,null,null,null,null,null,null,null,null,null,null,null,null,null,null,null,null,null,3466,3497,109,null,2915,2941,109,null,3281,3310,109,null,2701,2725,109,null,2926,2952,109,null,3466,3497,109,null,null,null,null,null,null,null,null,null,2701,2725,109,null,2926,2952,109,null,3835,3870,109]
[3489,3520,110,null,2617,2640,110,null,3222,3245,110,null,3217,3245,110,null,3489,3520,110,null,3816,3850,110,null,null,null,null,null,null,null,null,null,null,null,null,null,null,null,null,null,3498,3529,110,null,2942,2968,110,null,3311,3340,110,null,2726,2750,110,null,2953,2979,110,null,3498,3529,110,null,null,null,null,null,null,null,null,null,2726,2750,110,null,2953,2979,110,null,3871,3905,110]
[3521,3552,111,null,2641,2664,111,null,3251,3275,111,null,3246,3275,111,null,3521,3552,111,null,3851,3885,111,null,null,null,null,null,null,null,null,null,null,null,null,null,null,null,null,null,3530,3561,111,null,2969,2995,111,null,3341,3371,111,null,2751,2775,111,null,2980,3006,111,null,3530,3561,111,null,null,null,null,null,null,null,null,null,2751,2775,111,null,2980,3006,111,null,3906,3941,111]
[3553,3584,112,null,2665,2688,112,null,3281,3304,112,null,3276,3304,112,null,3553,3584,112,null,3886,3920,112,null,null,null,null,null,null,null,null,null,null,null,null,null,null,null,null,null,3562,3593,112,null,2996,3022,112,null,3372,3401,112,null,2776,2800,112,null,3007,3033,112,null,3562,3593,112,null,null,null,null,null,null,null,null,null,2776,2800,112,null,3007,3033,112,null,3942,3976,112]
[3585,3616,113,null,2689,2712,113,null,3310,3334,113,null,3305,3334,113,null,3585,3616,113,null,3921,3955,113,null,null,null,null,null,null,null,null,null,null,null,null,null,null,null,null,null,3594,3625,113,null,3023,3049,113,null,3402,3432,113,null,2801,2825,113,null,3034,3060,113,null,3594,3625,113,null,null,null,null,null,null,null,null,null,2801,2825,113,null,3034,3060,113,null,3977,4012,113]
[3617,3648,114,null,2713,2736,114,null,3340,3363,114,null,3335,3363,114,null,3617,3648,114,null,3956,3990,114,null,null,null,null,null,null,null,null,null,null,null,null,null,null,null,null,null,3626,3657,114,null,3050,3076,114,null,3433,3462,114,null,2826,2850,114,null,3061,3087,114,null,3626,3657,114,null,null,null,null,null,null,null,null,null,2826,2850,114,null,3061,3087,114,null,4013,4047,114]
[3649,3680,115,null,2737,2760,115,null,3369,3393,115,null,3364,3393,115,null,3649,3680,115,null,3991,4025,115,null,null,null,null,null,null,null,null,null,null,null,null,null,null,null,null,null,3658,3689,115,null,3077,3103,115,null,3463,3492,115,null,2851,2875,115,null,3088,3114,115,null,3658,3689,115,null,null,null,null,null,null,null,null,null,2851,2875,115,null,3088,3114,115,null,4048,4083,115]
[3681,3712,116,null,2761,2784,116,null,3399,3422,116,null,3394,3422,116,null,3681,3712,116,null,4026,4060,116,null,null,null,null,null,null,null,null,null,null,null,null,null,null,null,null,null,3690,3721,116,null,3104,3130,116,null,3493,3523,116,null,2876,2900,116,null,3115,3141,116,null,3690,3721,116,null,null,null,null,null,null,null,null,null,2876,2900,116,null,3115,3141,116,null,4084,4118,116]
[3713,3744,117,null,2785,2808,117,null,3428,3452,117,null,3423,3452,117,null,3713,3744,117,null,4061,4095,117,null,null,null,null,null,null,null,null,null,null,null,null,null,null,null,null,null,3722,3753,117,null,3131,3157,117,null,3524,3553,117,null,2901,2925,117,null,3142,3168,117,null,3722,3753,117,null,null,null,null,null,null,null,null,null,2901,2925,117,null,3142,3168,117,null,4119,4154,117]
[3745,3776,118,null,2809,2832,118,null,3458,3481,118,null,3453,3481,118,null,3745,3776,118,null,4096,4130,118,null,null,null,null,null,null,null,null,null,null,null,null,null,null,null,null,null,3754,3785,118,null,3158,3184,118,null,3554,3583,118,null,2926,2950,118,null,3169,3195,118,null,3754,3785,118,null,null,null,null,null,null,null,null,null,2926,2950,118,null,3169,3195,118,null,4155,4189,118]
[3777,3808,119,null,2833,2856,119,null,3487,3511,119,null,3482,3511,119,null,3777,3808,119,null,4131,4165,119,null,null,null,null,null,null,null,null,null,null,null,null,null,null,null,null,null,3786,3817,119,null,3185,3211,119,null,3584,3614,119,null,2951,2975,119,null,3196,3222,119,null,3786,3817,119,null,null,null,null,null,null,null,null,null,2951,2975,119,null,3196,3222,119,null,4190,4225,119]
[3809,3840,120,null,2857,2880,120,null,3517,3540,120,null,3512,3540,120,null,3809,3840,120,null,4166,4200,120,null,null,null,null,null,null,null,null,null,null,null,null,null,null,null,null,null,3818,3850,120,null,3212,3238,120,null,3615,3644,120,null,2976,3000,120,null,3223,3250,120,null,3818,3850,120,null,null,null,null,null,null,null,null,null,2976,3000,120,null,3223,3250,120,null,4226,4260,120]
[3841,3872,121,null,2881,2904,121,null,3546,3570,121,null,3541,3570,121,null,3841,3872,121,null,4201,4235,121,null,null,null,null,null,null,null,null,null,null,null,null,null,null,null,null,null,3851,3882,121,null,3239,3265,121,null,3645,3675,121,null,3001,3025,121,null,3251,3277,121,null,3851,3882,121,null,null,null,null,null,null,null,null,null,3001,3025,121,null,3251,3277,121,null,4261,4296,121]
[3873,3904,122,null,2905,2928,122,null,3576,3599,122,null,3571,3599,122,null,3873,3904,122,null,4236,4270,122,null,null,null,null,null,null,null,null,null,null,null,null,null,null,null,null,null,3883,3914,122,null,3266,3292,122,null,3676,3705,122,null,3026,3050,122,null,3278,3304,122,null,3883,3914,122,null,null,null,null,null,null,null,null,null,3026,3050,122,null,3278,3304,122,null,4297,4331,122]
[3905,3936,123,null,2929,2952,123,null,3605,3629,123,null,3600,3629,123,null,3905,3936,123,null,4271,4305,123,null,null,null,null,null,null,null,null,null,null,null,null,null,null,null,null,null,3915,3946,123,null,3293,3319,123,null,3706,3735,123,null,3051,3075,123,null,3305,3331,123,null,3915,3946,123,null,null,null,null,null,null,null,null,null,3051,3075,123,null,3305,3331,123,null,4332,4367,123]
[3937,3968,124,null,2953,2976,124,null,3635,3658,124,null,3630,3658,124,null,3937,3968,124,null,4306,4340,124,null,null,null,null,null,null,null,null,null,null,null,null,null,null,null,null,null,3947,3978,124,null,3320,3346,124,null,3736,3766,124,null,3076,3100,124,null,3332,3358,124,null,3947,3978,124,null,null,null,null,null,null,null,null,null,3076,3100,124,null,3332,3358,124,null,4368,4402,124]
[3969,4000,125,null,2977,3000,125,null,3664,3688,125,null,3659,3688,125,null,3969,4000,125,null,4341,4375,125,null,null,null,null,null,null,null,null,null,null,null,null,null,null,null,null,null,3979,4010,125,null,3347,3373,125,null,3767,3796,125,null,3101,3125,125,null,3359,3385,125,null,3979,4010,125,null,null,null,null,null,null,null,null,null,3101,3125,125,null,3359,3385,125,null,4403,4438,125]
[4001,4032,126,null,3001,3024,126,null,3694,3717,126,null,3689,3717,126,null,4001,4032,126,null,4376,4410,126,null,null,null,null,null,null,null,null,null,null,null,null,null,null,null,null,null,4011,4042,126,null,3374,3400,126,null,3797,3826,126,null,3126,3150,126,null,3386,3412,126,null,4011,4042,126,null,null,null,null,null,null,null,null,null,3126,3150,126,null,3386,3412,126,null,4439,4473,126]
[4033,4064,127,null,3025,3048,127,null,3723,3747,127,null,3718,3747,127,null,4033,4064,127,null,4411,4445,127,null,null,null,null,null,null,null,null,null,null,null,null,null,null,null,null,null,4043,4074,127,null,3401,3427,127,null,3827,3857,127,null,3151,3175,127,null,3413,3439,127,null,4043,4074,127,null,null,null,null,null,null,null,null,null,3151,3175,127,null,3413,3439,127,null,4474,4509,127]
[4065,4096,128,null,3049,3072,128,null,3753,3776,128,null,3748,3776,128,null,4065,4096,128,null,4446,4480,128,null,null,null,null,null,null,null,null,null,null,null,null,null,null,null,null,null,4075,4106,128,null,3428,3454,128,null,3858,3887,128,null,3176,3200,128,null,3440,3466,128,null,4075,4106,128,null,null,null,null,null,null,null,null,null,3176,3200,128,null,3440,3466,128,null,4510,4544,128]
[4097,4128,129,null,3073,3096,129,null,3782,3806,129,null,3777,3806,129,null,4097,4128,129,null,4481,4515,129,null,null,null,null,null,null,null,null,null,null,null,null,null,null,null,null,null,4107,4138,129,null,3455,3481,129,null,3888,3918,129,null,3201,3225,129,null,3467,3493,129,null,4107,4138,129,null,null,null,null,null,null,null,null,null,3201,3225,129,null,3467,3493,129,null,4545,4580,129]
[4129,4160,130,null,3097,3120,130,null,3812,3835,130,null,3807,3835,130,null,4129,4160,130,null,4516,4550,130,null,null,null,null,null,null,null,null,null,null,null,null,null,null,null,null,null,4139,4170,130,null,3482,3508,130,null,3919,3948,130,null,3226,3250,130,null,3494,3520,130,null,4139,4170,130,null,null,null,null,null,null,null,null,null,3226,3250,130,null,3494,3520,130,null,4581,4615,130]
[null,null,null,null,null,null,null,null,null,null,null,null,null,null,null,null,null,null,null,null,4551,4585,131,null,null,null,null,null,null,null,null,null,null,null,null,null,null,null,null,null,4171,4202,131,null,3509,3535,131,null,3949,3978,131,null,3251,3275,131,null,3521,3547,131,null,4171,4202,131,null,null,null,null,null,null,null,null,null,3251,3275,131,null,3521,3547,131,null,4616,4651,131]
[null,null,null,null,null,null,null,null,null,null,null,null,null,null,null,null,null,null,null,null,null,null,null,null,null,null,null,null,null,null,null,null,null,null,null,null,null,null,null,null,4203,4235,132,null,3536,3562,132,null,3979,4009,132,null,3276,3300,132,null,3548,3575,132,null,4203,4235,132,null,null,null,null,null,null,null,null,null,3276,3300,132,null,3548,3575,132]
[null,null,null,null,null,null,null,null,null,null,null,null,null,null,null,null,null,null,null,null,null,null,null,null,null,null,null,null,null,null,null,null,null,null,null,null,null,null,null,null,4236,4267,133,null,3563,3589,133,null,4010,4039,133,null,3301,3325,133,null,3576,3602,133,null,4236,4267,133,null,null,null,null,null,null,null,null,null,3301,3325,133,null,3576,3602,133]
[null,null,null,null,null,null,null,null,null,null,null,null,null,null,null,null,null,null,null,null,null,null,null,null,null,null,null,null,null,null,null,null,null,null,null,null,null,null,null,null,4268,4299,134,null,3590,3616,134,null,4040,4069,134,null,3326,3350,134,null,3603,3629,134,null,4268,4299,134,null,null,null,null,null,null,null,null,null,3326,3350,134,null,3603,3629,134]
[null,null,null,null,null,null,null,null,null,null,null,null,null,null,null,null,null,null,null,null,null,null,null,null,null,null,null,null,null,null,null,null,null,null,null,null,null,null,null,null,4300,4331,135,null,3617,3643,135,null,4070,4100,135,null,3351,3375,135,null,3630,3656,135,null,4300,4331,135,null,null,null,null,null,null,null,null,null,3351,3375,135,null,3630,3656,135]
[null,null,null,null,null,null,null,null,null,null,null,null,null,null,null,null,null,null,null,null,null,null,null,null,null,null,null,null,null,null,null,null,null,null,null,null,null,null,null,null,4332,4363,136,null,3644,3670,136,null,4101,4130,136,null,3376,3400,136,null,3657,3683,136,null,4332,4363,136,null,null,null,null,null,null,null,null,null,3376,3400,136,null,3657,3683,136]
[null,null,null,null,null,null,null,null,null,null,null,null,null,null,null,null,null,null,null,null,null,null,null,null,null,null,null,null,null,null,null,null,null,null,null,null,null,null,null,null,4364,4395,137,null,3671,3697,137,null,4131,4160,137,null,3401,3425,137,null,3684,3710,137,null,4364,4395,137,null,null,null,null,null,null,null,null,null,3401,3425,137,null,3684,3710,137]
[null,null,null,null,null,null,null,null,null,null,null,null,null,null,null,null,null,null,null,null,null,null,null,null,null,null,null,null,null,null,null,null,null,null,null,null,null,null,null,null,4396,4427,138,null,3698,3724,138,null,4161,4191,138,null,3426,3450,138,null,3711,3737,138,null,4396,4427,138,null,null,null,null,null,null,null,null,null,3426,3450,138,null,3711,3737,138]
[null,null,null,null,null,null,null,null,null,null,null,null,null,null,null,null,null,null,null,null,null,null,null,null,null,null,null,null,null,null,null,null,null,null,null,null,null,null,null,null,4428,4459,139,null,3725,3751,139,null,4192,4221,139,null,3451,3475,139,null,3738,3764,139,null,4428,4459,139,null,null,null,null,null,null,null,null,null,3451,3475,139,null,3738,3764,139]
[null,null,null,null,null,null,null,null,null,null,null,null,null,null,null,null,null,null,null,null,null,null,null,null,null,null,null,null,null,null,null,null,null,null,null,null,null,null,null,null,4460,4491,140,null,3752,3778,140,null,4222,4252,140,null,3476,3500,140,null,3765,3791,140,null,4460,4491,140,null,null,null,null,null,null,null,null,null,3476,3500,140,null,3765,3791,140]

{"sheet":"High Needs","index":9,"n_rows":143,"n_cols":85,"rows_kept":143,"cut":false,"hidden":true,"merged":[[0,44,0,46],[0,0,0,2],[0,4,0,6],[0,8,0,10],[0,12,0,14],[0,16,0,18],[0,20,0,22],[0,24,0,26],[0,28,0,30],[0,32,0,34],[0,36,0,38],[0,40,0,42],[0,72,0,74],[0,76,0,78],[0,48,0,50],[0,52,0,54],[0,56,0,58],[0,60,0,62],[0,64,0,66],[0,68,0,70]]}
["Dist K-3",null,null,null,"K-3 State",null,null,null,"K-3 PHBAO",null,null,null,"Mag II K-3 PHBAO",null,null,null,"Mag I K-3 Deseg/Receiver",null,null,null,"Dist 4-5 (6) for Magnet I",null,null,null,"4-5 (6) PHBAO",null,null,null,"4-5(6) Deseg/Receiver",null,null,null,"Mag II 4-5 (6) PHBAO",null,null,null,"Mag I 4-5(6) Deseg/Receiver",null,null,null,"6-8 District Norm",null,null,null,"6-8 PHBAO",null,null,null,"6-8 Deseg/Receiver",null,null,null,"Mag II  6-8",null,null,null,"Mag I 6-8 Deseg/Receiver",null,null,null,"9-12 District Norm",null,null,null,"9-10 CSR PHBAO",null,null,null,"9-10 CSR Deseg/Receiver",null,null,null,"Mag II 9-12 PHBAO",null,null,null,"Mag I 9-12 Deseg/Receiver",null,null,null,"4-5 District for Deseg/PHBAO/Magnet II",null,null,null,"9-10 and 9-12 norm tables for high needs and non-high needs s/b the same"]
[]
[-1,0,0,null,-1,0,0,null,-1,0,0,null,-1,0,0,null,-1,0,0,null,-1,0,0,null,-1,0,0,null,-1,0,0,null,-1,0,0,null,-1,0,0,null,-1,0,0,null,-1,0,0,null,-1,0,0,null,-1,0,0,null,-1,0,0,null,-1,0,0,null,-1,0,0,null,-1,0,0,null,-1,0,0,null,-1,0,0,null,-1,0,0]
[1,32,1,null,1,24,1,null,1,30,1,null,1,30,1,null,1,32,1,null,1,35,1,null,1,27,1,null,1,33,1,null,1,27,1,null,1,30,1,null,1,30,1,null,1,25,1,null,1,28,1,null,1,23,1,null,1,25,1,null,1,32,1,null,1,170,1,null,1,570,1,null,1,25,1,null,1,27,1,null,1,36,1]
[33,64,2,null,25,48,2,null,31,59,2,null,31,59,2,null,33,64,2,null,36,69,2,null,28,54,2,null,34,65,2,null,28,54,2,null,31,59,2,null,31,60,2,null,26,50,2,null,29,57,2,null,24,46,2,null,26,50,2,null,33,64,2,null,171,340,2,null,571,1140,2,null,26,50,2,null,28,54,2,null,37,71,2]
[65,96,3,null,49,72,3,null,60,89,3,null,60,89,3,null,65,96,3,null,70,104,3,null,55,81,3,null,66,98,3,null,55,81,3,null,60,89,3,null,61,91,3,null,51,75,3,null,58,86,3,null,47,70,3,null,51,76,3,null,65,96,3,null,341,510,3,null,1141,1710,3,null,51,75,3,null,55,81,3,null,72,107,3]
[97,128,4,null,73,96,4,null,90,118,4,null,90,118,4,null,97,128,4,null,105,138,4,null,82,108,4,null,99,130,4,null,82,108,4,null,90,118,4,null,92,121,4,null,76,101,4,null,87,114,4,null,71,93,4,null,77,101,4,null,97,128,4,null,511,680,4,null,1711,2280,4,null,76,100,4,null,82,108,4,null,108,142,4]
[129,160,5,null,97,120,5,null,119,148,5,null,119,148,5,null,129,160,5,null,139,173,5,null,109,135,5,null,131,163,5,null,109,135,5,null,119,148,5,null,122,152,5,null,102,126,5,null,115,143,5,null,94,116,5,null,102,127,5,null,129,160,5,null,681,850,5,null,2281,2850,5,null,101,125,5,null,109,135,5,null,143,178,5]
[161,192,6,null,121,144,6,null,149,177,6,null,149,177,6,null,161,192,6,null,174,207,6,null,136,162,6,null,164,195,6,null,136,162,6,null,149,177,6,null,153,182,6,null,127,151,6,null,144,172,6,null,117,140,6,null,128,152,6,null,161,192,6,null,851,1020,6,null,2851,3420,6,null,126,150,6,null,136,162,6,null,179,213,6]
[193,224,7,null,145,168,7,null,178,207,7,null,178,207,7,null,193,224,7,null,208,242,7,null,163,189,7,null,196,228,7,null,163,189,7,null,178,207,7,null,183,212,7,null,152,177,7,null,173,200,7,null,141,163,7,null,153,177,7,null,193,224,7,null,1021,1190,7,null,3421,3990,7,null,151,175,7,null,163,189,7,null,214,249,7]
[225,256,8,null,169,192,8,null,208,236,8,null,208,236,8,null,225,256,8,null,243,276,8,null,190,216,8,null,229,260,8,null,190,216,8,null,208,236,8,null,213,243,8,null,178,202,8,null,201,229,8,null,164,186,8,null,178,203,8,null,225,256,8,null,1191,1360,8,null,3991,4560,8,null,176,200,8,null,190,216,8,null,250,284,8]
[257,288,9,null,193,216,9,null,237,266,9,null,237,266,9,null,257,288,9,null,277,311,9,null,217,243,9,null,261,293,9,null,217,243,9,null,237,266,9,null,244,273,9,null,203,227,9,null,230,258,9,null,187,210,9,null,204,228,9,null,257,288,9,null,1361,1530,9,null,4561,5130,9,null,201,225,9,null,217,243,9,null,285,320,9]
[289,320,10,null,217,240,10,null,267,295,10,null,267,295,10,null,289,320,10,null,312,345,10,null,244,270,10,null,294,325,10,null,244,270,10,null,267,295,10,null,274,304,10,null,228,252,10,null,259,287,10,null,211,233,10,null,229,254,10,null,289,320,10,null,1531,1700,10,null,5131,5690,10,null,226,250,10,null,244,270,10,null,321,355,10]
[321,352,11,null,241,264,11,null,296,325,11,null,296,325,11,null,321,352,11,null,346,380,11,null,271,297,11,null,326,358,11,null,271,297,11,null,296,325,11,null,305,334,11,null,253,278,11,null,288,315,11,null,234,256,11,null,255,279,11,null,321,352,11,null,1701,1870,11,null,5691,6260,11,null,251,275,11,null,271,297,11,null,356,391,11]
[353,384,12,null,265,288,12,null,326,354,12,null,326,354,12,null,353,384,12,null,381,414,12,null,298,324,12,null,359,390,12,null,298,324,12,null,326,354,12,null,335,365,12,null,279,303,12,null,316,344,12,null,257,280,12,null,280,305,12,null,353,385,12,null,1871,2040,12,null,6261,6830,12,null,276,300,12,null,298,325,12,null,392,426,12]
[385,416,13,null,289,312,13,null,355,384,13,null,355,384,13,null,385,416,13,null,415,449,13,null,325,351,13,null,391,423,13,null,325,351,13,null,355,384,13,null,366,395,13,null,304,328,13,null,345,373,13,null,281,303,13,null,306,330,13,null,386,417,13,null,2041,2210,13,null,6831,7400,13,null,301,325,13,null,326,352,13,null,427,462,13]
[417,448,14,null,313,336,14,null,385,413,14,null,385,413,14,null,417,448,14,null,450,483,14,null,352,378,14,null,424,455,14,null,352,378,14,null,385,413,14,null,396,425,14,null,329,354,14,null,374,401,14,null,304,326,14,null,331,355,14,null,418,449,14,null,2211,2380,14,null,7401,7970,14,null,326,350,14,null,353,379,14,null,463,497,14]
[449,480,15,null,337,360,15,null,414,443,15,null,414,443,15,null,449,480,15,null,484,518,15,null,379,405,15,null,456,488,15,null,379,405,15,null,414,443,15,null,426,456,15,null,355,379,15,null,402,430,15,null,327,350,15,null,356,381,15,null,450,481,15,null,2381,2550,15,null,7971,8540,15,null,351,375,15,null,380,406,15,null,498,533,15]
[481,512,16,null,361,384,16,null,444,472,16,null,444,472,16,null,481,512,16,null,519,552,16,null,406,432,16,null,489,520,16,null,406,432,16,null,444,472,16,null,457,486,16,null,380,404,16,null,431,459,16,null,351,373,16,null,382,406,16,null,482,513,16,null,2551,2720,16,null,8541,9110,16,null,376,400,16,null,407,433,16,null,534,568,16]
[513,544,17,null,385,408,17,null,473,502,17,null,473,502,17,null,513,544,17,null,553,587,17,null,433,459,17,null,521,553,17,null,433,459,17,null,473,502,17,null,487,517,17,null,405,430,17,null,460,487,17,null,374,396,17,null,407,432,17,null,514,545,17,null,2721,2890,17,null,9111,9680,17,null,401,425,17,null,434,460,17,null,569,604,17]
[545,576,18,null,409,432,18,null,503,531,18,null,503,531,18,null,545,576,18,null,588,621,18,null,460,486,18,null,554,585,18,null,460,486,18,null,503,531,18,null,518,547,18,null,431,455,18,null,488,516,18,null,397,420,18,null,433,457,18,null,546,577,18,null,2891,3060,18,null,9681,10250,18,null,426,450,18,null,461,487,18,null,605,639,18]
[577,608,19,null,433,456,19,null,532,561,19,null,532,561,19,null,577,608,19,null,622,656,19,null,487,513,19,null,586,618,19,null,487,513,19,null,532,561,19,null,548,577,19,null,456,480,19,null,517,545,19,null,421,443,19,null,458,482,19,null,578,609,19,null,3061,3230,19,null,10251,10820,19,null,451,475,19,null,488,514,19,null,640,675,19]
[609,640,20,null,457,480,20,null,562,590,20,null,562,590,20,null,609,640,20,null,657,690,20,null,514,540,20,null,619,650,20,null,514,540,20,null,562,590,20,null,578,608,20,null,481,505,20,null,546,574,20,null,444,466,20,null,483,508,20,null,610,641,20,null,3231,3400,20,null,10821,11390,20,null,476,500,20,null,515,541,20,null,676,710,20]
[641,672,21,null,481,504,21,null,591,620,21,null,591,620,21,null,641,672,21,null,691,725,21,null,541,567,21,null,651,683,21,null,541,567,21,null,591,620,21,null,609,638,21,null,506,531,21,null,575,602,21,null,467,490,21,null,509,533,21,null,642,673,21,null,3401,3570,21,null,11391,11960,21,null,501,525,21,null,542,568,21,null,711,746,21]
[673,704,22,null,505,528,22,null,621,649,22,null,621,649,22,null,673,704,22,null,726,759,22,null,568,594,22,null,684,715,22,null,568,594,22,null,621,649,22,null,639,669,22,null,532,556,22,null,603,631,22,null,491,513,22,null,534,559,22,null,674,705,22,null,3571,3740,22,null,11961,12530,22,null,526,550,22,null,569,595,22,null,747,781,22]
[705,736,23,null,529,552,23,null,650,679,23,null,650,679,23,null,705,736,23,null,760,794,23,null,595,621,23,null,716,748,23,null,595,621,23,null,650,679,23,null,670,699,23,null,557,581,23,null,632,660,23,null,514,536,23,null,560,584,23,null,706,737,23,null,null,null,null,null,null,null,null,null,551,575,23,null,596,622,23,null,782,817,23]
[737,768,24,null,553,576,24,null,680,708,24,null,680,708,24,null,737,768,24,null,795,828,24,null,622,648,24,null,749,780,24,null,622,648,24,null,680,708,24,null,700,730,24,null,582,607,24,null,661,688,24,null,537,560,24,null,585,610,24,null,738,770,24,null,null,null,null,null,null,null,null,null,576,600,24,null,623,650,24,null,818,852,24]
[769,800,25,null,577,600,25,null,709,738,25,null,709,738,25,null,769,800,25,null,829,863,25,null,649,675,25,null,781,813,25,null,649,675,25,null,709,738,25,null,731,760,25,null,608,632,25,null,689,717,25,null,561,583,25,null,611,635,25,null,771,802,25,null,null,null,null,null,null,null,null,null,601,625,25,null,651,677,25,null,853,888,25]
[801,832,26,null,601,624,26,null,739,767,26,null,739,767,26,null,801,832,26,null,864,897,26,null,676,702,26,null,814,845,26,null,676,702,26,null,739,767,26,null,761,790,26,null,633,657,26,null,718,746,26,null,584,606,26,null,636,660,26,null,803,834,26,null,null,null,null,null,null,null,null,null,626,650,26,null,678,704,26,null,889,923,26]
[833,864,27,null,625,648,27,null,768,797,27,null,768,797,27,null,833,864,27,null,898,932,27,null,703,729,27,null,846,878,27,null,703,729,27,null,768,797,27,null,791,821,27,null,658,683,27,null,747,774,27,null,607,630,27,null,661,686,27,null,835,866,27,null,null,null,null,null,null,null,null,null,651,675,27,null,705,731,27,null,924,959,27]
[865,896,28,null,649,672,28,null,798,826,28,null,798,826,28,null,865,896,28,null,933,966,28,null,730,756,28,null,879,910,28,null,730,756,28,null,798,826,28,null,822,851,28,null,684,708,28,null,775,803,28,null,631,653,28,null,687,711,28,null,867,898,28,null,null,null,null,null,null,null,null,null,676,700,28,null,732,758,28,null,960,994,28]
[897,928,29,null,673,696,29,null,827,856,29,null,827,856,29,null,897,928,29,null,967,1001,29,null,757,783,29,null,911,943,29,null,757,783,29,null,827,856,29,null,852,882,29,null,709,733,29,null,804,832,29,null,654,676,29,null,712,737,29,null,899,930,29,null,null,null,null,null,null,null,null,null,701,725,29,null,759,785,29,null,995,1030,29]
[929,960,30,null,697,720,30,null,857,885,30,null,857,885,30,null,929,960,30,null,1002,1035,30,null,784,810,30,null,944,975,30,null,784,810,30,null,857,885,30,null,883,912,30,null,734,758,30,null,833,861,30,null,677,700,30,null,738,762,30,null,931,962,30,null,null,null,null,null,null,null,null,null,726,750,30,null,786,812,30,null,1031,1065,30]
[961,992,31,null,721,744,31,null,886,915,31,null,886,915,31,null,961,992,31,null,1036,1070,31,null,811,837,31,null,976,1008,31,null,811,837,31,null,886,915,31,null,913,942,31,null,759,784,31,null,862,889,31,null,701,723,31,null,763,787,31,null,963,994,31,null,null,null,null,null,null,null,null,null,751,775,31,null,813,839,31,null,1066,1101,31]
[993,1024,32,null,745,768,32,null,916,944,32,null,916,944,32,null,993,1024,32,null,1071,1104,32,null,838,864,32,null,1009,1040,32,null,838,864,32,null,916,944,32,null,943,973,32,null,785,809,32,null,890,918,32,null,724,746,32,null,788,813,32,null,995,1026,32,null,null,null,null,null,null,null,null,null,776,800,32,null,840,866,32,null,1102,1136,32]
[1025,1056,33,null,769,792,33,null,945,974,33,null,945,974,33,null,1025,1056,33,null,1105,1139,33,null,865,891,33,null,1041,1073,33,null,865,891,33,null,945,974,33,null,974,1003,33,null,810,834,33,null,919,947,33,null,747,770,33,null,814,838,33,null,1027,1058,33,null,null,null,null,null,null,null,null,null,801,825,33,null,867,893,33,null,1137,1172,33]
[1057,1088,34,null,793,816,34,null,975,1003,34,null,975,1003,34,null,1057,1088,34,null,1140,1173,34,null,892,918,34,null,1074,1105,34,null,892,918,34,null,975,1003,34,null,1004,1034,34,null,835,860,34,null,948,975,34,null,771,793,34,null,839,864,34,null,1059,1090,34,null,null,null,null,null,null,null,null,null,826,850,34,null,894,920,34,null,1173,1207,34]
[1089,1120,35,null,817,840,35,null,1004,1033,35,null,1004,1033,35,null,1089,1120,35,null,1174,1208,35,null,919,945,35,null,1106,1138,35,null,919,945,35,null,1004,1033,35,null,1035,1064,35,null,861,885,35,null,976,1004,35,null,794,816,35,null,865,889,35,null,1091,1122,35,null,null,null,null,null,null,null,null,null,851,875,35,null,921,947,35,null,1208,1243,35]
[1121,1152,36,null,841,864,36,null,1034,1062,36,null,1034,1062,36,null,1121,1152,36,null,1209,1242,36,null,946,972,36,null,1139,1170,36,null,946,972,36,null,1034,1062,36,null,1065,1095,36,null,886,910,36,null,1005,1033,36,null,817,840,36,null,890,915,36,null,1123,1155,36,null,null,null,null,null,null,null,null,null,876,900,36,null,948,975,36,null,1244,1278,36]
[1153,1184,37,null,865,888,37,null,1063,1092,37,null,1063,1092,37,null,1153,1184,37,null,1243,1277,37,null,973,999,37,null,1171,1203,37,null,973,999,37,null,1063,1092,37,null,1096,1125,37,null,911,935,37,null,1034,1062,37,null,841,863,37,null,916,940,37,null,1156,1187,37,null,null,null,null,null,null,null,null,null,901,925,37,null,976,1002,37,null,1279,1314,37]
[1185,1216,38,null,889,912,38,null,1093,1121,38,null,1093,1121,38,null,1185,1216,38,null,1278,1311,38,null,1000,1026,38,null,1204,1235,38,null,1000,1026,38,null,1093,1121,38,null,1126,1155,38,null,936,961,38,null,1063,1090,38,null,864,886,38,null,941,965,38,null,1188,1219,38,null,null,null,null,null,null,null,null,null,926,950,38,null,1003,1029,38,null,1315,1349,38]
[1217,1248,39,null,913,936,39,null,1122,1151,39,null,1122,1151,39,null,1217,1248,39,null,1312,1346,39,null,1027,1053,39,null,1236,1268,39,null,1027,1053,39,null,1122,1151,39,null,1156,1186,39,null,962,986,39,null,1091,1119,39,null,887,910,39,null,966,991,39,null,1220,1251,39,null,null,null,null,null,null,null,null,null,951,975,39,null,1030,1056,39,null,1350,1385,39]
[1249,1280,40,null,937,960,40,null,1152,1180,40,null,1152,1180,40,null,1249,1280,40,null,1347,1380,40,null,1054,1080,40,null,1269,1300,40,null,1054,1080,40,null,1152,1180,40,null,1187,1216,40,null,987,1011,40,null,1120,1148,40,null,911,933,40,null,992,1016,40,null,1252,1283,40,null,null,null,null,null,null,null,null,null,976,1000,40,null,1057,1083,40,null,1386,1420,40]
[1281,1312,41,null,961,984,41,null,1181,1210,41,null,1181,1210,41,null,1281,1312,41,null,1381,1415,41,null,1081,1107,41,null,1301,1333,41,null,1081,1107,41,null,1181,1210,41,null,1217,1247,41,null,1012,1037,41,null,1149,1176,41,null,934,956,41,null,1017,1042,41,null,1284,1315,41,null,null,null,null,null,null,null,null,null,1001,1025,41,null,1084,1110,41,null,1421,1456,41]
[1313,1344,42,null,985,1008,42,null,1211,1239,42,null,1211,1239,42,null,1313,1344,42,null,1416,1449,42,null,1108,1134,42,null,1334,1365,42,null,1108,1134,42,null,1211,1239,42,null,1248,1277,42,null,1038,1062,42,null,1177,1205,42,null,957,980,42,null,1043,1067,42,null,1316,1347,42,null,null,null,null,null,null,null,null,null,1026,1050,42,null,1111,1137,42,null,1457,1491,42]
[1345,1376,43,null,1009,1032,43,null,1240,1269,43,null,1240,1269,43,null,1345,1376,43,null,1450,1484,43,null,1135,1161,43,null,1366,1398,43,null,1135,1161,43,null,1240,1269,43,null,1278,1307,43,null,1063,1087,43,null,1206,1234,43,null,981,1003,43,null,1068,1092,43,null,1348,1379,43,null,null,null,null,null,null,null,null,null,1051,1075,43,null,1138,1164,43,null,1492,1527,43]
[1377,1408,44,null,1033,1056,44,null,1270,1298,44,null,1270,1298,44,null,1377,1408,44,null,1485,1518,44,null,1162,1188,44,null,1399,1430,44,null,1162,1188,44,null,1270,1298,44,null,1308,1338,44,null,1088,1113,44,null,1235,1262,44,null,1004,1026,44,null,1093,1118,44,null,1380,1411,44,null,null,null,null,null,null,null,null,null,1076,1100,44,null,1165,1191,44,null,1528,1562,44]
[1409,1440,45,null,1057,1080,45,null,1299,1328,45,null,1299,1328,45,null,1409,1440,45,null,1519,1553,45,null,1189,1215,45,null,1431,1463,45,null,1189,1215,45,null,1299,1328,45,null,1339,1368,45,null,1114,1138,45,null,1263,1291,45,null,1027,1050,45,null,1119,1143,45,null,1412,1443,45,null,null,null,null,null,null,null,null,null,1101,1125,45,null,1192,1218,45,null,1563,1598,45]
[1441,1472,46,null,1081,1104,46,null,1329,1357,46,null,1329,1357,46,null,1441,1472,46,null,1554,1587,46,null,1216,1242,46,null,1464,1495,46,null,1216,1242,46,null,1329,1357,46,null,1369,1399,46,null,1139,1163,46,null,1292,1320,46,null,1051,1073,46,null,1144,1169,46,null,1444,1475,46,null,null,null,null,null,null,null,null,null,1126,1150,46,null,1219,1245,46,null,1599,1633,46]
[1473,1504,47,null,1105,1128,47,null,1358,1387,47,null,1358,1387,47,null,1473,1504,47,null,1588,1622,47,null,1243,1269,47,null,1496,1528,47,null,1243,1269,47,null,1358,1387,47,null,1400,1429,47,null,1164,1188,47,null,1321,1349,47,null,1074,1096,47,null,1170,1194,47,null,1476,1507,47,null,null,null,null,null,null,null,null,null,1151,1175,47,null,1246,1272,47,null,1634,1669,47]
[1505,1536,48,null,1129,1152,48,null,1388,1416,48,null,1388,1416,48,null,1505,1536,48,null,1623,1656,48,null,1270,1296,48,null,1529,1560,48,null,1270,1296,48,null,1388,1416,48,null,1430,1460,48,null,1189,1214,48,null,1350,1377,48,null,1097,1120,48,null,1195,1220,48,null,1508,1540,48,null,null,null,null,null,null,null,null,null,1176,1200,48,null,1273,1300,48,null,1670,1704,48]
[1537,1568,49,null,1153,1176,49,null,1417,1446,49,null,1417,1446,49,null,1537,1568,49,null,1657,1691,49,null,1297,1323,49,null,1561,1593,49,null,1297,1323,49,null,1417,1446,49,null,1461,1490,49,null,1215,1239,49,null,1378,1406,49,null,1121,1143,49,null,1221,1245,49,null,1541,1572,49,null,null,null,null,null,null,null,null,null,1201,1225,49,null,1301,1327,49,null,1705,1740,49]
[1569,1600,50,null,1177,1200,50,null,1447,1475,50,null,1447,1475,50,null,1569,1600,50,null,1692,1725,50,null,1324,1350,50,null,1594,1625,50,null,1324,1350,50,null,1447,1475,50,null,1491,1520,50,null,1240,1264,50,null,1407,1435,50,null,1144,1166,50,null,1246,1270,50,null,1573,1604,50,null,null,null,null,null,null,null,null,null,1226,1250,50,null,1328,1354,50,null,1741,1775,50]
[1601,1632,51,null,1201,1224,51,null,1476,1505,51,null,1476,1505,51,null,1601,1632,51,null,1726,1760,51,null,1351,1377,51,null,1626,1658,51,null,1351,1377,51,null,1476,1505,51,null,1521,1551,51,null,1265,1290,51,null,1436,1463,51,null,1167,1190,51,null,1271,1296,51,null,1605,1636,51,null,null,null,null,null,null,null,null,null,1251,1275,51,null,1355,1381,51,null,1776,1811,51]
[1633,1664,52,null,1225,1248,52,null,1506,1534,52,null,1506,1534,52,null,1633,1664,52,null,1761,1794,52,null,1378,1404,52,null,1659,1690,52,null,1378,1404,52,null,1506,1534,52,null,1552,1581,52,null,1291,1315,52,null,1464,1492,52,null,1191,1213,52,null,1297,1321,52,null,1637,1668,52,null,null,null,null,null,null,null,null,null,1276,1300,52,null,1382,1408,52,null,1812,1846,52]
[1665,1696,53,null,1249,1272,53,null,1535,1564,53,null,1535,1564,53,null,1665,1696,53,null,1795,1829,53,null,1405,1431,53,null,1691,1723,53,null,1405,1431,53,null,1535,1564,53,null,1582,1612,53,null,1316,1340,53,null,1493,1521,53,null,1214,1236,53,null,1322,1347,53,null,1669,1700,53,null,null,null,null,null,null,null,null,null,1301,1325,53,null,1409,1435,53,null,1847,1882,53]
[1697,1728,54,null,1273,1296,54,null,1565,1593,54,null,1565,1593,54,null,1697,1728,54,null,1830,1863,54,null,1432,1458,54,null,1724,1755,54,null,1432,1458,54,null,1565,1593,54,null,1613,1642,54,null,1341,1366,54,null,1522,1549,54,null,1237,1260,54,null,1348,1372,54,null,1701,1732,54,null,null,null,null,null,null,null,null,null,1326,1350,54,null,1436,1462,54,null,1883,1917,54]
[1729,1760,55,null,1297,1320,55,null,1594,1623,55,null,1594,1623,55,null,1729,1760,55,null,1864,1898,55,null,1459,1485,55,null,1756,1788,55,null,1459,1485,55,null,1594,1623,55,null,1643,1672,55,null,1367,1391,55,null,1550,1578,55,null,1261,1283,55,null,1373,1397,55,null,1733,1764,55,null,null,null,null,null,null,null,null,null,1351,1375,55,null,1463,1489,55,null,1918,1953,55]
[1761,1792,56,null,1321,1344,56,null,1624,1652,56,null,1624,1652,56,null,1761,1792,56,null,1899,1932,56,null,1486,1512,56,null,1789,1820,56,null,1486,1512,56,null,1624,1652,56,null,1673,1703,56,null,1392,1416,56,null,1579,1607,56,null,1284,1306,56,null,1398,1423,56,null,1765,1796,56,null,null,null,null,null,null,null,null,null,1376,1400,56,null,1490,1516,56,null,1954,1988,56]
[1793,1824,57,null,1345,1368,57,null,1653,1682,57,null,1653,1682,57,null,1793,1824,57,null,1933,1967,57,null,1513,1539,57,null,1821,1853,57,null,1513,1539,57,null,1653,1682,57,null,1704,1733,57,null,1417,1441,57,null,1608,1636,57,null,1307,1330,57,null,1424,1448,57,null,1797,1828,57,null,null,null,null,null,null,null,null,null,1401,1425,57,null,1517,1543,57,null,1989,2024,57]
[1825,1856,58,null,1369,1392,58,null,1683,1711,58,null,1683,1711,58,null,1825,1856,58,null,1968,2001,58,null,1540,1566,58,null,1854,1885,58,null,1540,1566,58,null,1683,1711,58,null,1734,1764,58,null,1442,1467,58,null,1637,1664,58,null,1331,1353,58,null,1449,1474,58,null,1829,1860,58,null,null,null,null,null,null,null,null,null,1426,1450,58,null,1544,1570,58,null,2025,2059,58]
[1857,1888,59,null,1393,1416,59,null,1712,1741,59,null,1712,1741,59,null,1857,1888,59,null,2002,2036,59,null,1567,1593,59,null,1886,1918,59,null,1567,1593,59,null,1712,1741,59,null,1765,1794,59,null,1468,1492,59,null,1665,1693,59,null,1354,1376,59,null,1475,1499,59,null,1861,1892,59,null,null,null,null,null,null,null,null,null,1451,1475,59,null,1571,1597,59,null,2060,2095,59]
[1889,1920,60,null,1417,1440,60,null,1742,1770,60,null,1742,1770,60,null,1889,1920,60,null,2037,2070,60,null,1594,1620,60,null,1919,1950,60,null,1594,1620,60,null,1742,1770,60,null,1795,1825,60,null,1493,1517,60,null,1694,1722,60,null,1377,1400,60,null,1500,1525,60,null,1893,1925,60,null,null,null,null,null,null,null,null,null,1476,1500,60,null,1598,1625,60,null,2096,2130,60]
[1921,1952,61,null,1441,1464,61,null,1771,1800,61,null,1771,1800,61,null,1921,1952,61,null,2071,2105,61,null,1621,1647,61,null,1951,1983,61,null,1621,1647,61,null,1771,1800,61,null,1826,1855,61,null,1518,1543,61,null,1723,1750,61,null,1401,1423,61,null,1526,1550,61,null,1926,1957,61,null,null,null,null,null,null,null,null,null,1501,1525,61,null,1626,1652,61,null,2131,2166,61]
[1953,1984,62,null,1465,1488,62,null,1801,1829,62,null,1801,1829,62,null,1953,1984,62,null,2106,2139,62,null,1648,1674,62,null,1984,2015,62,null,1648,1674,62,null,1801,1829,62,null,1856,1885,62,null,1544,1568,62,null,1751,1779,62,null,1424,1446,62,null,1551,1575,62,null,1958,1989,62,null,null,null,null,null,null,null,null,null,1526,1550,62,null,1653,1679,62,null,2167,2201,62]
[1985,2016,63,null,1489,1512,63,null,1830,1859,63,null,1830,1859,63,null,1985,2016,63,null,2140,2174,63,null,1675,1701,63,null,2016,2048,63,null,1675,1701,63,null,1830,1859,63,null,1886,1916,63,null,1569,1593,63,null,1780,1808,63,null,1447,1470,63,null,1576,1601,63,null,1990,2021,63,null,null,null,null,null,null,null,null,null,1551,1575,63,null,1680,1706,63,null,2202,2237,63]
[2017,2048,64,null,1513,1536,64,null,1860,1888,64,null,1860,1888,64,null,2017,2048,64,null,2175,2208,64,null,1702,1728,64,null,2049,2080,64,null,1702,1728,64,null,1860,1888,64,null,1917,1946,64,null,1594,1619,64,null,1809,1836,64,null,1471,1493,64,null,1602,1626,64,null,2022,2053,64,null,null,null,null,null,null,null,null,null,1576,1600,64,null,1707,1733,64,null,2238,2272,64]
[2049,2080,65,null,1537,1560,65,null,1889,1918,65,null,1889,1918,65,null,2049,2080,65,null,2209,2243,65,null,1729,1755,65,null,2081,2113,65,null,1729,1755,65,null,1889,1918,65,null,1947,1977,65,null,1620,1644,65,null,1837,1865,65,null,1494,1516,65,null,1627,1652,65,null,2054,2085,65,null,null,null,null,null,null,null,null,null,1601,1625,65,null,1734,1760,65,null,2273,2308,65]
[2081,2112,66,null,1561,1584,66,null,1919,1947,66,null,1919,1947,66,null,2081,2112,66,null,2244,2277,66,null,1756,1782,66,null,2114,2145,66,null,1756,1782,66,null,1919,1947,66,null,1978,2007,66,null,1645,1669,66,null,1866,1894,66,null,1517,1540,66,null,1653,1677,66,null,2086,2117,66,null,null,null,null,null,null,null,null,null,1626,1650,66,null,1761,1787,66,null,2309,2343,66]
[2113,2144,67,null,1585,1608,67,null,1948,1977,67,null,1948,1977,67,null,2113,2144,67,null,2278,2312,67,null,1783,1809,67,null,2146,2178,67,null,1783,1809,67,null,1948,1977,67,null,2008,2037,67,null,1670,1694,67,null,1895,1923,67,null,1541,1563,67,null,1678,1702,67,null,2118,2149,67,null,null,null,null,null,null,null,null,null,1651,1675,67,null,1788,1814,67,null,2344,2379,67]
[2145,2176,68,null,1609,1632,68,null,1983,2006,68,null,1978,2006,68,null,2145,2176,68,null,2313,2346,68,null,1810,1836,68,null,2179,2210,68,null,1810,1836,68,null,1978,2006,68,null,2038,2068,68,null,1695,1720,68,null,1924,1951,68,null,1564,1586,68,null,1703,1728,68,null,2150,2181,68,null,null,null,null,null,null,null,null,null,1676,1700,68,null,1815,1841,68,null,2380,2414,68]
[2177,2208,69,null,1633,1656,69,null,2012,2036,69,null,2007,2036,69,null,2177,2208,69,null,2347,2381,69,null,1837,1863,69,null,2211,2243,69,null,1837,1863,69,null,2007,2036,69,null,2069,2098,69,null,1721,1745,69,null,1952,1980,69,null,1587,1610,69,null,1729,1753,69,null,2182,2213,69,null,null,null,null,null,null,null,null,null,1701,1725,69,null,1842,1868,69,null,2415,2450,69]
[2209,2240,70,null,1657,1680,70,null,2042,2065,70,null,2037,2065,70,null,2209,2240,70,null,2382,2415,70,null,1864,1890,70,null,2244,2275,70,null,1864,1890,70,null,2037,2065,70,null,2099,2129,70,null,1746,1770,70,null,1981,2009,70,null,1611,1633,70,null,1754,1779,70,null,2214,2245,70,null,null,null,null,null,null,null,null,null,1726,1750,70,null,1869,1895,70,null,2451,2485,70]
[2241,2272,71,null,1681,1704,71,null,2071,2095,71,null,2066,2095,71,null,2241,2272,71,null,2416,2450,71,null,1891,1917,71,null,2276,2308,71,null,1891,1917,71,null,2066,2095,71,null,2130,2159,71,null,1771,1796,71,null,2010,2037,71,null,1634,1656,71,null,1780,1804,71,null,2246,2277,71,null,null,null,null,null,null,null,null,null,1751,1775,71,null,1896,1922,71,null,2486,2521,71]
[2273,2304,72,null,1705,1728,72,null,2101,2124,72,null,2096,2124,72,null,2273,2304,72,null,2451,2484,72,null,1918,1944,72,null,2309,2340,72,null,1918,1944,72,null,2096,2124,72,null,2160,2190,72,null,1797,1821,72,null,2038,2066,72,null,1657,1680,72,null,1805,1830,72,null,2278,2310,72,null,null,null,null,null,null,null,null,null,1776,1800,72,null,1923,1950,72,null,2522,2556,72]
[2305,2336,73,null,1729,1752,73,null,2130,2154,73,null,2125,2154,73,null,2305,2336,73,null,2485,2519,73,null,null,null,null,null,null,null,null,null,null,null,null,null,null,null,null,null,2191,2220,73,null,1822,1846,73,null,2067,2095,73,null,1681,1703,73,null,1831,1855,73,null,2311,2342,73,null,null,null,null,null,null,null,null,null,1801,1825,73,null,1951,1977,73,null,2557,2592,73]
[2337,2368,74,null,1753,1776,74,null,2160,2183,74,null,2155,2183,74,null,2337,2368,74,null,2520,2553,74,null,null,null,null,null,null,null,null,null,null,null,null,null,null,null,null,null,2221,2250,74,null,1847,1871,74,null,2096,2124,74,null,1704,1726,74,null,1856,1880,74,null,2343,2374,74,null,null,null,null,null,null,null,null,null,1826,1850,74,null,1978,2004,74,null,2593,2627,74]
[2369,2400,75,null,1777,1800,75,null,2189,2213,75,null,2184,2213,75,null,2369,2400,75,null,2554,2588,75,null,null,null,null,null,null,null,null,null,null,null,null,null,null,null,null,null,2251,2281,75,null,1872,1897,75,null,2125,2152,75,null,1727,1750,75,null,1881,1906,75,null,2375,2406,75,null,null,null,null,null,null,null,null,null,1851,1875,75,null,2005,2031,75,null,2628,2663,75]
[2401,2432,76,null,1801,1824,76,null,2219,2242,76,null,2214,2242,76,null,2401,2432,76,null,2589,2622,76,null,null,null,null,null,null,null,null,null,null,null,null,null,null,null,null,null,2282,2311,76,null,1898,1922,76,null,2153,2181,76,null,1751,1773,76,null,1907,1931,76,null,2407,2438,76,null,null,null,null,null,null,null,null,null,1876,1900,76,null,2032,2058,76,null,2664,2698,76]
[2433,2464,77,null,1825,1848,77,null,2248,2272,77,null,2243,2272,77,null,2433,2464,77,null,2623,2657,77,null,null,null,null,null,null,null,null,null,null,null,null,null,null,null,null,null,2312,2342,77,null,1923,1947,77,null,2182,2210,77,null,1774,1796,77,null,1932,1957,77,null,2439,2470,77,null,null,null,null,null,null,null,null,null,1901,1925,77,null,2059,2085,77,null,2699,2734,77]
[2465,2496,78,null,1849,1872,78,null,2278,2301,78,null,2273,2301,78,null,2465,2496,78,null,2658,2691,78,null,null,null,null,null,null,null,null,null,null,null,null,null,null,null,null,null,2343,2372,78,null,1948,1973,78,null,2211,2238,78,null,1797,1820,78,null,1958,1982,78,null,2471,2502,78,null,null,null,null,null,null,null,null,null,1926,1950,78,null,2086,2112,78,null,2735,2769,78]
[2497,2528,79,null,1873,1896,79,null,2307,2331,79,null,2302,2331,79,null,2497,2528,79,null,2692,2726,79,null,null,null,null,null,null,null,null,null,null,null,null,null,null,null,null,null,2373,2402,79,null,1974,1998,79,null,2239,2267,79,null,1821,1843,79,null,1983,2007,79,null,2503,2534,79,null,null,null,null,null,null,null,null,null,1951,1975,79,null,2113,2139,79,null,2770,2805,79]
[2529,2560,80,null,1897,1920,80,null,2337,2360,80,null,2332,2360,80,null,2529,2560,80,null,2727,2760,80,null,null,null,null,null,null,null,null,null,null,null,null,null,null,null,null,null,2403,2433,80,null,1999,2023,80,null,2268,2296,80,null,1844,1866,80,null,2008,2033,80,null,2535,2566,80,null,null,null,null,null,null,null,null,null,1976,2000,80,null,2140,2166,80,null,2806,2840,80]
[2561,2592,81,null,1921,1944,81,null,2366,2390,81,null,2361,2390,81,null,2561,2592,81,null,2761,2795,81,null,null,null,null,null,null,null,null,null,null,null,null,null,null,null,null,null,2434,2463,81,null,2024,2049,81,null,2297,2324,81,null,1867,1890,81,null,2034,2058,81,null,2567,2598,81,null,null,null,null,null,null,null,null,null,2001,2025,81,null,2167,2193,81,null,2841,2876,81]
[2593,2624,82,null,1945,1968,82,null,2396,2419,82,null,2391,2419,82,null,2593,2624,82,null,2796,2829,82,null,null,null,null,null,null,null,null,null,null,null,null,null,null,null,null,null,2464,2494,82,null,2050,2074,82,null,2325,2353,82,null,1891,1913,82,null,2059,2084,82,null,2599,2630,82,null,null,null,null,null,null,null,null,null,2026,2050,82,null,2194,2220,82,null,2877,2911,82]
[2625,2656,83,null,1969,1992,83,null,2425,2449,83,null,2420,2449,83,null,2625,2656,83,null,2830,2864,83,null,null,null,null,null,null,null,null,null,null,null,null,null,null,null,null,null,2495,2524,83,null,2075,2099,83,null,2354,2382,83,null,1914,1936,83,null,2085,2109,83,null,2631,2662,83,null,null,null,null,null,null,null,null,null,2051,2075,83,null,2221,2247,83,null,2912,2947,83]
[2657,2688,84,null,1993,2016,84,null,2455,2478,84,null,2450,2478,84,null,2657,2688,84,null,2865,2898,84,null,null,null,null,null,null,null,null,null,null,null,null,null,null,null,null,null,2525,2555,84,null,2100,2124,84,null,2383,2411,84,null,1937,1960,84,null,2110,2135,84,null,2663,2695,84,null,null,null,null,null,null,null,null,null,2076,2100,84,null,2248,2275,84,null,2948,2982,84]
[2689,2720,85,null,2017,2040,85,null,2484,2508,85,null,2479,2508,85,null,2689,2720,85,null,2899,2933,85,null,null,null,null,null,null,null,null,null,null,null,null,null,null,null,null,null,2556,2585,85,null,2125,2150,85,null,2412,2439,85,null,1961,1983,85,null,2136,2160,85,null,2696,2727,85,null,null,null,null,null,null,null,null,null,2101,2125,85,null,2276,2302,85,null,2983,3018,85]
[2721,2752,86,null,2041,2064,86,null,2514,2537,86,null,2509,2537,86,null,2721,2752,86,null,2934,2967,86,null,null,null,null,null,null,null,null,null,null,null,null,null,null,null,null,null,2586,2615,86,null,2151,2175,86,null,2440,2468,86,null,1984,2006,86,null,2161,2185,86,null,2728,2759,86,null,null,null,null,null,null,null,null,null,2126,2150,86,null,2303,2329,86,null,3019,3053,86]
[2753,2784,87,null,2065,2088,87,null,2543,2567,87,null,2538,2567,87,null,2753,2784,87,null,2968,3002,87,null,null,null,null,null,null,null,null,null,null,null,null,null,null,null,null,null,2616,2646,87,null,2176,2200,87,null,2469,2497,87,null,2007,2030,87,null,2186,2211,87,null,2760,2791,87,null,null,null,null,null,null,null,null,null,2151,2175,87,null,2330,2356,87,null,3054,3089,87]
[2785,2816,88,null,2089,2112,88,null,2573,2596,88,null,2568,2596,88,null,2785,2816,88,null,3003,3036,88,null,null,null,null,null,null,null,null,null,null,null,null,null,null,null,null,null,2647,2676,88,null,2201,2226,88,null,2498,2525,88,null,2031,2053,88,null,2212,2236,88,null,2792,2823,88,null,null,null,null,null,null,null,null,null,2176,2200,88,null,2357,2383,88,null,3090,3124,88]
[2817,2848,89,null,2113,2136,89,null,2602,2626,89,null,2597,2626,89,null,2817,2848,89,null,3037,3071,89,null,null,null,null,null,null,null,null,null,null,null,null,null,null,null,null,null,2677,2707,89,null,2227,2251,89,null,2526,2554,89,null,2054,2076,89,null,2237,2262,89,null,2824,2855,89,null,null,null,null,null,null,null,null,null,2201,2225,89,null,2384,2410,89,null,3125,3160,89]
[2849,2880,90,null,2137,2160,90,null,2632,2655,90,null,2627,2655,90,null,2849,2880,90,null,3072,3105,90,null,null,null,null,null,null,null,null,null,null,null,null,null,null,null,null,null,2708,2737,90,null,2252,2276,90,null,2555,2583,90,null,2077,2100,90,null,2263,2287,90,null,2856,2887,90,null,null,null,null,null,null,null,null,null,2226,2250,90,null,2411,2437,90,null,3161,3195,90]
[2881,2912,91,null,2161,2184,91,null,2661,2685,91,null,2656,2685,91,null,2881,2912,91,null,3106,3140,91,null,null,null,null,null,null,null,null,null,null,null,null,null,null,null,null,null,2738,2767,91,null,2277,2302,91,null,2584,2611,91,null,2101,2123,91,null,2288,2312,91,null,2888,2919,91,null,null,null,null,null,null,null,null,null,2251,2275,91,null,2438,2464,91,null,3196,3231,91]
[2913,2944,92,null,2185,2208,92,null,2691,2714,92,null,2686,2714,92,null,2913,2944,92,null,3141,3174,92,null,null,null,null,null,null,null,null,null,null,null,null,null,null,null,null,null,2768,2798,92,null,2303,2327,92,null,2612,2640,92,null,2124,2146,92,null,2313,2338,92,null,2920,2951,92,null,null,null,null,null,null,null,null,null,2276,2300,92,null,2465,2491,92,null,3232,3266,92]
[2945,2976,93,null,2209,2232,93,null,2720,2744,93,null,2715,2744,93,null,2945,2976,93,null,3175,3209,93,null,null,null,null,null,null,null,null,null,null,null,null,null,null,null,null,null,2799,2828,93,null,2328,2352,93,null,2641,2669,93,null,2147,2170,93,null,2339,2363,93,null,2952,2983,93,null,null,null,null,null,null,null,null,null,2301,2325,93,null,2492,2518,93,null,3267,3302,93]
[2977,3008,94,null,2233,2256,94,null,2750,2773,94,null,2745,2773,94,null,2977,3008,94,null,3210,3243,94,null,null,null,null,null,null,null,null,null,null,null,null,null,null,null,null,null,2829,2859,94,null,2353,2377,94,null,2670,2698,94,null,2171,2193,94,null,2364,2389,94,null,2984,3015,94,null,null,null,null,null,null,null,null,null,2326,2350,94,null,2519,2545,94,null,3303,3337,94]
[3009,3040,95,null,2257,2280,95,null,2779,2803,95,null,2774,2803,95,null,3009,3040,95,null,3244,3278,95,null,null,null,null,null,null,null,null,null,null,null,null,null,null,null,null,null,2860,2889,95,null,2378,2403,95,null,2699,2726,95,null,2194,2216,95,null,2390,2414,95,null,3016,3047,95,null,null,null,null,null,null,null,null,null,2351,2375,95,null,2546,2572,95,null,3338,3373,95]
[3041,3072,96,null,2281,2304,96,null,2809,2832,96,null,2804,2832,96,null,3041,3072,96,null,3279,3312,96,null,null,null,null,null,null,null,null,null,null,null,null,null,null,null,null,null,2890,2920,96,null,2404,2428,96,null,2727,2755,96,null,2217,2240,96,null,2415,2440,96,null,3048,3080,96,null,null,null,null,null,null,null,null,null,2376,2400,96,null,2573,2600,96,null,3374,3408,96]
[3073,3104,97,null,2305,2328,97,null,2838,2862,97,null,2833,2862,97,null,3073,3104,97,null,3313,3347,97,null,null,null,null,null,null,null,null,null,null,null,null,null,null,null,null,null,2921,2950,97,null,2429,2453,97,null,2756,2784,97,null,2241,2263,97,null,2441,2465,97,null,3081,3112,97,null,null,null,null,null,null,null,null,null,2401,2425,97,null,2601,2627,97,null,3409,3444,97]
[3105,3136,98,null,2329,2352,98,null,2868,2891,98,null,2863,2891,98,null,3105,3136,98,null,3348,3381,98,null,null,null,null,null,null,null,null,null,null,null,null,null,null,null,null,null,2951,2980,98,null,2454,2479,98,null,2785,2812,98,null,2264,2286,98,null,2466,2490,98,null,3113,3144,98,null,null,null,null,null,null,null,null,null,2426,2450,98,null,2628,2654,98,null,3445,3479,98]
[3137,3168,99,null,2353,2376,99,null,2897,2921,99,null,2892,2921,99,null,3137,3168,99,null,3382,3416,99,null,null,null,null,null,null,null,null,null,null,null,null,null,null,null,null,null,2981,3011,99,null,2480,2504,99,null,2813,2841,99,null,2287,2310,99,null,2491,2516,99,null,3145,3176,99,null,null,null,null,null,null,null,null,null,2451,2475,99,null,2655,2681,99,null,3480,3515,99]
[3169,3200,100,null,2377,2400,100,null,2927,2950,100,null,2922,2950,100,null,3169,3200,100,null,3417,3450,100,null,null,null,null,null,null,null,null,null,null,null,null,null,null,null,null,null,3012,3041,100,null,2505,2529,100,null,2842,2870,100,null,2311,2333,100,null,2517,2541,100,null,3177,3208,100,null,null,null,null,null,null,null,null,null,2476,2500,100,null,2682,2708,100,null,3516,3550,100]
[3201,3232,101,null,2401,2424,101,null,2956,2980,101,null,2951,2980,101,null,3201,3232,101,null,3451,3485,101,null,null,null,null,null,null,null,null,null,null,null,null,null,null,null,null,null,3042,3072,101,null,2530,2555,101,null,2871,2899,101,null,2334,2356,101,null,2542,2567,101,null,3209,3240,101,null,null,null,null,null,null,null,null,null,2501,2525,101,null,2709,2735,101,null,3551,3586,101]
[3233,3264,102,null,2425,2448,102,null,2986,3009,102,null,2981,3009,102,null,3233,3264,102,null,3486,3519,102,null,null,null,null,null,null,null,null,null,null,null,null,null,null,null,null,null,3073,3102,102,null,2556,2580,102,null,2900,2927,102,null,2357,2380,102,null,2568,2592,102,null,3241,3272,102,null,null,null,null,null,null,null,null,null,2526,2550,102,null,2736,2762,102,null,3587,3621,102]
[3265,3296,103,null,2449,2472,103,null,3015,3039,103,null,3010,3039,103,null,3265,3296,103,null,3520,3554,103,null,null,null,null,null,null,null,null,null,null,null,null,null,null,null,null,null,3103,3132,103,null,2581,2605,103,null,2928,2956,103,null,2381,2403,103,null,2593,2617,103,null,3273,3304,103,null,null,null,null,null,null,null,null,null,2551,2575,103,null,2763,2789,103,null,3622,3657,103]
[3297,3328,104,null,2473,2496,104,null,3045,3068,104,null,3040,3068,104,null,3297,3328,104,null,3555,3588,104,null,null,null,null,null,null,null,null,null,null,null,null,null,null,null,null,null,3133,3163,104,null,2606,2630,104,null,2957,2985,104,null,2404,2426,104,null,2618,2643,104,null,3305,3336,104,null,null,null,null,null,null,null,null,null,2576,2600,104,null,2790,2816,104,null,3658,3692,104]
[3329,3360,105,null,2497,2520,105,null,3074,3098,105,null,3069,3098,105,null,3329,3360,105,null,3589,3623,105,null,null,null,null,null,null,null,null,null,null,null,null,null,null,null,null,null,3164,3193,105,null,2631,2656,105,null,2986,3013,105,null,2427,2450,105,null,2644,2668,105,null,3337,3368,105,null,null,null,null,null,null,null,null,null,2601,2625,105,null,2817,2843,105,null,3693,3728,105]
[3361,3392,106,null,2521,2544,106,null,3104,3127,106,null,3099,3127,106,null,3361,3392,106,null,3624,3657,106,null,null,null,null,null,null,null,null,null,null,null,null,null,null,null,null,null,3194,3224,106,null,2657,2681,106,null,3014,3042,106,null,2451,2473,106,null,2669,2694,106,null,3369,3400,106,null,null,null,null,null,null,null,null,null,2626,2650,106,null,2844,2870,106,null,3729,3763,106]
[3393,3424,107,null,2545,2568,107,null,3133,3157,107,null,3128,3157,107,null,3393,3424,107,null,3658,3692,107,null,null,null,null,null,null,null,null,null,null,null,null,null,null,null,null,null,3225,3254,107,null,2682,2706,107,null,3043,3071,107,null,2474,2496,107,null,2695,2719,107,null,3401,3432,107,null,null,null,null,null,null,null,null,null,2651,2675,107,null,2871,2897,107,null,3764,3799,107]
[3425,3456,108,null,2569,2592,108,null,3163,3186,108,null,3158,3186,108,null,3425,3456,108,null,3693,3726,108,null,null,null,null,null,null,null,null,null,null,null,null,null,null,null,null,null,3255,3285,108,null,2707,2732,108,null,3072,3099,108,null,2497,2520,108,null,2720,2745,108,null,3433,3465,108,null,null,null,null,null,null,null,null,null,2676,2700,108,null,2898,2925,108,null,3800,3834,108]
[3457,3488,109,null,2593,2616,109,null,3192,3216,109,null,3187,3216,109,null,3457,3488,109,null,3727,3761,109,null,null,null,null,null,null,null,null,null,null,null,null,null,null,null,null,null,3286,3315,109,null,2733,2757,109,null,3100,3128,109,null,2521,2543,109,null,2746,2770,109,null,3466,3497,109,null,null,null,null,null,null,null,null,null,2701,2725,109,null,2926,2952,109,null,3835,3870,109]
[3489,3520,110,null,2617,2640,110,null,3222,3245,110,null,3217,3245,110,null,3489,3520,110,null,3762,3795,110,null,null,null,null,null,null,null,null,null,null,null,null,null,null,null,null,null,3316,3345,110,null,2758,2782,110,null,3129,3157,110,null,2544,2566,110,null,2771,2795,110,null,3498,3529,110,null,null,null,null,null,null,null,null,null,2726,2750,110,null,2953,2979,110,null,3871,3905,110]
[3521,3552,111,null,2641,2664,111,null,3251,3275,111,null,3246,3275,111,null,3521,3552,111,null,3796,3830,111,null,null,null,null,null,null,null,null,null,null,null,null,null,null,null,null,null,3346,3376,111,null,2783,2807,111,null,3158,3186,111,null,2567,2590,111,null,2796,2821,111,null,3530,3561,111,null,null,null,null,null,null,null,null,null,2751,2775,111,null,2980,3006,111,null,3906,3941,111]
[3553,3584,112,null,2665,2688,112,null,3281,3304,112,null,3276,3304,112,null,3553,3584,112,null,3831,3864,112,null,null,null,null,null,null,null,null,null,null,null,null,null,null,null,null,null,3377,3406,112,null,2808,2833,112,null,3187,3214,112,null,2591,2613,112,null,2822,2846,112,null,3562,3593,112,null,null,null,null,null,null,null,null,null,2776,2800,112,null,3007,3033,112,null,3942,3976,112]
[3585,3616,113,null,2689,2712,113,null,3310,3334,113,null,3305,3334,113,null,3585,3616,113,null,3865,3899,113,null,null,null,null,null,null,null,null,null,null,null,null,null,null,null,null,null,3407,3437,113,null,2834,2858,113,null,3215,3243,113,null,2614,2636,113,null,2847,2872,113,null,3594,3625,113,null,null,null,null,null,null,null,null,null,2801,2825,113,null,3034,3060,113,null,3977,4012,113]
[3617,3648,114,null,2713,2736,114,null,3340,3363,114,null,3335,3363,114,null,3617,3648,114,null,3900,3933,114,null,null,null,null,null,null,null,null,null,null,null,null,null,null,null,null,null,3438,3467,114,null,2859,2883,114,null,3244,3272,114,null,2637,2660,114,null,2873,2897,114,null,3626,3657,114,null,null,null,null,null,null,null,null,null,2826,2850,114,null,3061,3087,114,null,4013,4047,114]
[3649,3680,115,null,2737,2760,115,null,3369,3393,115,null,3364,3393,115,null,3649,3680,115,null,3934,3968,115,null,null,null,null,null,null,null,null,null,null,null,null,null,null,null,null,null,3468,3497,115,null,2884,2909,115,null,3273,3300,115,null,2661,2683,115,null,2898,2922,115,null,3658,3689,115,null,null,null,null,null,null,null,null,null,2851,2875,115,null,3088,3114,115,null,4048,4083,115]
[3681,3712,116,null,2761,2784,116,null,3399,3422,116,null,3394,3422,116,null,3681,3712,116,null,3969,4002,116,null,null,null,null,null,null,null,null,null,null,null,null,null,null,null,null,null,3498,3528,116,null,2910,2934,116,null,3301,3329,116,null,2684,2706,116,null,2923,2948,116,null,3690,3721,116,null,null,null,null,null,null,null,null,null,2876,2900,116,null,3115,3141,116,null,4084,4118,116]
[3713,3744,117,null,2785,2808,117,null,3428,3452,117,null,3423,3452,117,null,3713,3744,117,null,4003,4037,117,null,null,null,null,null,null,null,null,null,null,null,null,null,null,null,null,null,3529,3558,117,null,2935,2959,117,null,3330,3358,117,null,2707,2730,117,null,2949,2973,117,null,3722,3753,117,null,null,null,null,null,null,null,null,null,2901,2925,117,null,3142,3168,117,null,4119,4154,117]
[3745,3776,118,null,2809,2832,118,null,3458,3481,118,null,3453,3481,118,null,3745,3776,118,null,4038,4071,118,null,null,null,null,null,null,null,null,null,null,null,null,null,null,null,null,null,3559,3589,118,null,2960,2985,118,null,3359,3386,118,null,2731,2753,118,null,2974,2999,118,null,3754,3785,118,null,null,null,null,null,null,null,null,null,2926,2950,118,null,3169,3195,118,null,4155,4189,118]
[3777,3808,119,null,2833,2856,119,null,3487,3511,119,null,3482,3511,119,null,3777,3808,119,null,4072,4106,119,null,null,null,null,null,null,null,null,null,null,null,null,null,null,null,null,null,3590,3619,119,null,2986,3010,119,null,3387,3415,119,null,2754,2776,119,null,3000,3024,119,null,3786,3817,119,null,null,null,null,null,null,null,null,null,2951,2975,119,null,3196,3222,119,null,4190,4225,119]
[3809,3840,120,null,2857,2880,120,null,3517,3540,120,null,3512,3540,120,null,3809,3840,120,null,4107,4140,120,null,null,null,null,null,null,null,null,null,null,null,null,null,null,null,null,null,3620,3650,120,null,3011,3035,120,null,3416,3444,120,null,2777,2800,120,null,3025,3050,120,null,3818,3850,120,null,null,null,null,null,null,null,null,null,2976,3000,120,null,3223,3250,120,null,4226,4260,120]
[3841,3872,121,null,2881,2904,121,null,3546,3570,121,null,3541,3570,121,null,3841,3872,121,null,4141,4175,121,null,null,null,null,null,null,null,null,null,null,null,null,null,null,null,null,null,3651,3680,121,null,3036,3060,121,null,3445,3473,121,null,2801,2823,121,null,3051,3075,121,null,3851,3882,121,null,null,null,null,null,null,null,null,null,3001,3025,121,null,3251,3277,121,null,4261,4296,121]
[3873,3904,122,null,2905,2928,122,null,3576,3599,122,null,3571,3599,122,null,3873,3904,122,null,4176,4209,122,null,null,null,null,null,null,null,null,null,null,null,null,null,null,null,null,null,3681,3710,122,null,3061,3086,122,null,3474,3501,122,null,2824,2846,122,null,3076,3100,122,null,3883,3914,122,null,null,null,null,null,null,null,null,null,3026,3050,122,null,3278,3304,122,null,4297,4331,122]
[3905,3936,123,null,2929,2952,123,null,3605,3629,123,null,3600,3629,123,null,3905,3936,123,null,4210,4244,123,null,null,null,null,null,null,null,null,null,null,null,null,null,null,null,null,null,3711,3741,123,null,3087,3111,123,null,3502,3530,123,null,2847,2870,123,null,3101,3126,123,null,3915,3946,123,null,null,null,null,null,null,null,null,null,3051,3075,123,null,3305,3331,123,null,4332,4367,123]
[3937,3968,124,null,2953,2976,124,null,3635,3658,124,null,3630,3658,124,null,3937,3968,124,null,4245,4278,124,null,null,null,null,null,null,null,null,null,null,null,null,null,null,null,null,null,3742,3771,124,null,3112,3136,124,null,3531,3559,124,null,2871,2893,124,null,3127,3151,124,null,3947,3978,124,null,null,null,null,null,null,null,null,null,3076,3100,124,null,3332,3358,124,null,4368,4402,124]
[3969,4000,125,null,2977,3000,125,null,3664,3688,125,null,3659,3688,125,null,3969,4000,125,null,4279,4313,125,null,null,null,null,null,null,null,null,null,null,null,null,null,null,null,null,null,3772,3802,125,null,3137,3162,125,null,3560,3587,125,null,2894,2916,125,null,3152,3177,125,null,3979,4010,125,null,null,null,null,null,null,null,null,null,3101,3125,125,null,3359,3385,125,null,4403,4438,125]
[4001,4032,126,null,3001,3024,126,null,3694,3717,126,null,3689,3717,126,null,4001,4032,126,null,4314,4347,126,null,null,null,null,null,null,null,null,null,null,null,null,null,null,null,null,null,3803,3832,126,null,3163,3187,126,null,3588,3616,126,null,2917,2940,126,null,3178,3202,126,null,4011,4042,126,null,null,null,null,null,null,null,null,null,3126,3150,126,null,3386,3412,126,null,4439,4473,126]
[4033,4064,127,null,3025,3048,127,null,3723,3747,127,null,3718,3747,127,null,4033,4064,127,null,4348,4382,127,null,null,null,null,null,null,null,null,null,null,null,null,null,null,null,null,null,3833,3862,127,null,3188,3212,127,null,3617,3645,127,null,2941,2963,127,null,3203,3227,127,null,4043,4074,127,null,null,null,null,null,null,null,null,null,3151,3175,127,null,3413,3439,127,null,4474,4509,127]
[4065,4096,128,null,3049,3072,128,null,3753,3776,128,null,3748,3776,128,null,4065,4096,128,null,4383,4416,128,null,null,null,null,null,null,null,null,null,null,null,null,null,null,null,null,null,3863,3893,128,null,3213,3238,128,null,3646,3673,128,null,2964,2986,128,null,3228,3253,128,null,4075,4106,128,null,null,null,null,null,null,null,null,null,3176,3200,128,null,3440,3466,128,null,4510,4544,128]
[4097,4128,129,null,3073,3096,129,null,3782,3806,129,null,3777,3806,129,null,4097,4128,129,null,4417,4451,129,null,null,null,null,null,null,null,null,null,null,null,null,null,null,null,null,null,3894,3923,129,null,3239,3263,129,null,3674,3702,129,null,2987,3010,129,null,3254,3278,129,null,4107,4138,129,null,null,null,null,null,null,null,null,null,3201,3225,129,null,3467,3493,129,null,4545,4580,129]
[4129,4160,130,null,3097,3120,130,null,3812,3835,130,null,3807,3835,130,null,4129,4160,130,null,4452,4485,130,null,null,null,null,null,null,null,null,null,null,null,null,null,null,null,null,null,3924,3954,130,null,3264,3288,130,null,3703,3731,130,null,3011,3033,130,null,3279,3304,130,null,4139,4170,130,null,null,null,null,null,null,null,null,null,3226,3250,130,null,3494,3520,130,null,4581,4615,130]
[null,null,null,null,null,null,null,null,null,null,null,null,null,null,null,null,null,null,null,null,4486,4520,131,null,null,null,null,null,null,null,null,null,null,null,null,null,null,null,null,null,3955,3984,131,null,3289,3313,131,null,3732,3760,131,null,3034,3056,131,null,3305,3329,131,null,4171,4202,131,null,null,null,null,null,null,null,null,null,3251,3275,131,null,3521,3547,131,null,4616,4651,131]
[null,null,null,null,null,null,null,null,null,null,null,null,null,null,null,null,null,null,null,null,null,null,null,null,null,null,null,null,null,null,null,null,null,null,null,null,null,null,null,null,3985,4015,132,null,3314,3339,132,null,3761,3788,132,null,3057,3080,132,null,3330,3355,132,null,4203,4235,132,null,null,null,null,null,null,null,null,null,3276,3300,132,null,3548,3575,132]
[null,null,null,null,null,null,null,null,null,null,null,null,null,null,null,null,null,null,null,null,null,null,null,null,null,null,null,null,null,null,null,null,null,null,null,null,null,null,null,null,4016,4045,133,null,3340,3364,133,null,3789,3817,133,null,3081,3103,133,null,3356,3380,133,null,4236,4267,133,null,null,null,null,null,null,null,null,null,3301,3325,133,null,3576,3602,133]
[null,null,null,null,null,null,null,null,null,null,null,null,null,null,null,null,null,null,null,null,null,null,null,null,null,null,null,null,null,null,null,null,null,null,null,null,null,null,null,null,4046,4075,134,null,3365,3389,134,null,3818,3846,134,null,3104,3126,134,null,3381,3405,134,null,4268,4299,134,null,null,null,null,null,null,null,null,null,3326,3350,134,null,3603,3629,134]
[null,null,null,null,null,null,null,null,null,null,null,null,null,null,null,null,null,null,null,null,null,null,null,null,null,null,null,null,null,null,null,null,null,null,null,null,null,null,null,null,4076,4106,135,null,3390,3415,135,null,3847,3874,135,null,3127,3150,135,null,3406,3431,135,null,4300,4331,135,null,null,null,null,null,null,null,null,null,3351,3375,135,null,3630,3656,135]
[null,null,null,null,null,null,null,null,null,null,null,null,null,null,null,null,null,null,null,null,null,null,null,null,null,null,null,null,null,null,null,null,null,null,null,null,null,null,null,null,4107,4136,136,null,3416,3440,136,null,3875,3903,136,null,3151,3173,136,null,3432,3456,136,null,4332,4363,136,null,null,null,null,null,null,null,null,null,3376,3400,136,null,3657,3683,136]
[null,null,null,null,null,null,null,null,null,null,null,null,null,null,null,null,null,null,null,null,null,null,null,null,null,null,null,null,null,null,null,null,null,null,null,null,null,null,null,null,4137,4167,137,null,3441,3465,137,null,3904,3932,137,null,3174,3196,137,null,3457,3482,137,null,4364,4395,137,null,null,null,null,null,null,null,null,null,3401,3425,137,null,3684,3710,137]
[null,null,null,null,null,null,null,null,null,null,null,null,null,null,null,null,null,null,null,null,null,null,null,null,null,null,null,null,null,null,null,null,null,null,null,null,null,null,null,null,4168,4197,138,null,3466,3490,138,null,3933,3961,138,null,3197,3220,138,null,3483,3507,138,null,4396,4427,138,null,null,null,null,null,null,null,null,null,3426,3450,138,null,3711,3737,138]
[null,null,null,null,null,null,null,null,null,null,null,null,null,null,null,null,null,null,null,null,null,null,null,null,null,null,null,null,null,null,null,null,null,null,null,null,null,null,null,null,4198,4227,139,null,3491,3516,139,null,3962,3989,139,null,3221,3243,139,null,3508,3532,139,null,4428,4459,139,null,null,null,null,null,null,null,null,null,3451,3475,139,null,3738,3764,139]
[null,null,null,null,null,null,null,null,null,null,null,null,null,null,null,null,null,null,null,null,null,null,null,null,null,null,null,null,null,null,null,null,null,null,null,null,null,null,null,null,4228,4258,140,null,3517,3541,140,null,3990,4018,140,null,3244,3266,140,null,3533,3558,140,null,4460,4491,140,null,null,null,null,null,null,null,null,null,3476,3500,140,null,3765,3791,140]